{"text_format":"1","workbook":"xlsx","n_sheets":7,"sheets":["Simulação","Listas","Simulador","Ev. Contribuições","Ev. Benefícios","Tábua BR-EMS sb. 2015","Tabela de Resgate"],"not_rendered":{"charts":0,"images":41,"macros":1,"external_links":0,"defined_names":1,"comments":0,"pivot_tables":0},"unopened":[],"bounds":{"document_bytes":16777216,"sheet_cells":100000,"rows_first":2000,"rows_last":500,"rows_between":2000,"halvings":0,"cell_chars":16384,"cell_head_chars":4096},"cells_cut":0,"cells_raw":0,"read":"whole","date_system":"1900"}

{"sheet":"Simulação","index":0,"n_rows":100,"n_cols":7,"rows_kept":100,"cut":false,"hidden":false,"merged":[[0,0,20,0],[28,0,61,0],[71,0,105,0],[6,3,6,12],[4,3,4,12],[99,3,99,12]]}
[]
[]
[null,null,null,"Simulador do Plano RS-Municípios CNPB nº 2020.0010-47"]
[]
[null,null,null,"O presente simulador apresenta uma estimativa com base nos dados informados livremente por esse signatário. Trata-se apenas de uma simulação, sem qualquer autenticação por parte da RS-Prev quanto à veracidade dos dados informados. Os resultados apresentados são calculados com base nos dados informados pelo signatário e por premissas do plano que podem não se concretizar ao longo do tempo da projeção, não caracterizando, assim, qualquer garantia ou obrigação por parte dessa Fundação."]
[]
[null,null,null,"Os campos em azul claro devem ser preenchidos para simulação."]
[]
[null,null,null,"DADOS DO PARTICIPANTE"]
[]
[null,null,null,"Sexo"]
[]
[null,null,null,"Idade de Entrada"]
[]
[null,null,null,"Idade Atual"]
[]
[null,null,null,"Idade na Saída"]
[]
[null,null,null,"Idade de Aposentadoria",null,{"$f":"Simulador!$C$10","v":60}]
[]
[null,null,null,"Tipo de Participação"]
[]
[]
[null,null,null,null,null,"Total","De Participação"]
[]
[null,null,null,"Salário",null,null,{"$f":"IF(F26=\"\",\"\",Listas!B4)","v":""}]
[]
[]
[null,null,null,"DETALHAMENTO","Coluna2","Coluna1"]
[]
[null,null,null,"Teto do RGPS 2024",8157.41]
[]
[null,null,null,null,"Em percentual (%)","Em R$ 1,00"]
[]
[null,null,null,"Contribuição Básica",null,{"$f":"IF(E35<>\"\",Listas!B5,\"\")","v":""}]
[]
[null,null,null,"Contribuição de Aposentadoria",{"$f":"IF(E35<>\"\",Listas!B6,\"\")","v":""},{"$f":"IF(E35<>\"\",Listas!B7,\"\")","v":""}]
[]
[null,null,null,"Contribuição Adicional",{"$f":"IF(E35<>\"\",Listas!B9,\"\")","v":""},{"$f":"IF(E35<>\"\",Listas!B10,\"\")","v":""}]
[]
[null,null,null,"Carregamento (6,5%)",{"$f":"IF(E35<>\"\",Listas!B11,\"\")","v":""},{"$f":"IF(E35<>\"\",Listas!B12,\"\")","v":""}]
[]
[]
[null,null,null,null,"Em percentual (%)","Em R$ 1,00","Frequência"]
[]
[null,null,null,"Contribuição Facultativa",null,{"$f":"IF(E46<>\"\",Listas!B13,\"\")","v":""}]
[]
[null,null,null,"Contribuição de Aposentadoria",{"$f":"IF(E46<>\"\",Listas!B14,\"\")","v":""},{"$f":"IF(E46<>\"\",Listas!B15,\"\")","v":""}]
[]
[null,null,null,"Contribuição Adicional",{"$f":"IF(E46<>\"\",Listas!B9,\"\")","v":""},{"$f":"IF(E46<>\"\",Listas!B10,\"\")","v":""}]
[]
[null,null,null,"Carregamento (0,0%)",{"$f":"IF(E46<>\"\",Listas!B19,\"\")","v":""},{"$f":"IF(E46<>\"\",Listas!B20,\"\")","v":""}]
[]
[null,null,null,null,"Em percentual (%)","Em R$ 1,00"]
[]
[null,null,null,"Contribuição Patrocinador",{"$f":"IF(E35=\"\",\"\",Simulador!C28)","v":""},{"$f":"IF(E56<>\"\",Listas!B22,\"\")","v":""}]
[]
[null,null,null,"Contribuição de Aposentadoria",{"$f":"IF(E56<>\"\",Listas!B23,\"\")","v":""},{"$f":"IF(E56<>\"\",Listas!B24,\"\")","v":""}]
[]
[null,null,null,"Contribuição Adicional",{"$f":"IF(E56<>\"\",Listas!B27,\"\")","v":""},{"$f":"IF(E56<>\"\",Listas!B28,\"\")","v":""}]
[]
[null,null,null,"Carregamento (6,5%)",{"$f":"IF(E56<>\"\",Listas!B29,\"\")","v":""},{"$f":"IF(E56<>\"\",Listas!B30,\"\")","v":""}]
[]
[]
[null,null,null,"Taxa de Juros ao ano (%)"]
[]
[null,null,null,"Crescimento Salarial (%)"]
[]
[null,null,null,null,null,"Participante","Patrocinador"]
[null,null,null,"Incluir o valor da sua Reserva atual no Plano"]
[]
[null,null,null,"RESULTADOS","Coluna2","Coluna1"]
[]
[]
[]
[]
[]
[]
[]
[]
[]
[]
[]
[]
[null,0,null,"AJUSTAR OS BENEFÍCIOS"]
[]
[null,null,null,"PRAZO DE RECEBIMENTO (ANOS)"]
[]
[]
[null,null,null,"PERCENTUAL À VISTA (Participante)"]
[]
[]
[null,null,null,"NÚMERO DE PRESTAÇÕES ANUAIS"]
[]
[]
[null,null,null,"ACRESCENTAR APORTE INICIAL"]
[]
[]
[]
[null,null,null,"O presente simulador apresenta uma estimativa com base nos dados informados livremente por esse signatário. Trata-se apenas de uma simulação, sem qualquer autenticação por parte da RS-Prev quanto à veracidade dos dados informados. Os resultados apresentados são calculados com base nos dados informados pelo signatário e por premissas do plano que podem não se concretizar ao longo do tempo da projeção, não caracterizando, assim, qualquer garantia ou obrigação por parte dessa Fundação."]

{"sheet":"Listas","index":1,"n_rows":30,"n_cols":5,"rows_kept":30,"cut":false,"hidden":true,"merged":[]}
[null,null,null,"Contribuição Básica","Longevidade"]
["RGB 40, 67, 122",null,null,0.14000000000000001,0]
[null,null,null,0.13500000000000001,1E-3]
["Salário de Participação da F22",{"$f":"Simulador!$D$16","v":"Verificar Participação"},null,0.13,2E-3]
["Contribuição básica da E33",{"$f":"Simulador!$D$18","v":0},null,0.125,3.0000000000000001E-3]
["Contribuição de aposentadoria D35",{"$f":"Simulador!$C$19","v":0},null,0.12,4.0000000000000001E-3]
["Contribuição de aposentadoria E35",{"$f":"IFERROR(Simulador!$D$19,\"\")","v":""},null,0.115,5.0000000000000001E-3]
["Contribuição de longevidade E38",{"$f":"Simulador!$D$20","v":0},null,0.11]
["Contribuição ADICIONAL D39","-",null,0.105]
["Contribuição adicional E39","-",null,9.9999999999999895E-2]
["Carregamento D41",{"$f":"Simulador!$C$22","v":0},null,9.5000000000000001E-2]
["Carregamento E41",{"$f":"Simulador!$D$22","v":{"$error":"#VALUE!"}},null,0.09]
["Contribuição facultativa E47",{"$f":"Simulador!$D$23","v":0},null,8.5000000000000006E-2]
["Contribuição Facult aposent % D49",{"$f":"Simulador!$C$24","v":0},null,0.08]
["Contribuição Facult aposent $ E49",{"$f":"Simulador!$D$24","v":0},null,7.4999999999999997E-2]
["Contribuição facult longev $ ",{"$f":"Simulador!$D$25","v":0},null,7.0000000000000007E-2]
["Contribuição facult  ADICIONAL D53","-",null,6.5000000000000002E-2]
["Contribuição facult adicional E53","-",null,0.06]
["Contribuição facult carreg D55",0,null,5.5E-2]
["Contribuição facult carreg E55",0,null,0.05]
["Contribuição Patrocinador D59",{"$f":"Simulador!$C$28","v":0},null,4.4999999999999998E-2]
["Contribuição Patrocinador E59",{"$f":"Simulador!$D$28","v":0}]
["Contribuição Patroc Aposent % D61",{"$f":"Simulador!$C$29","v":0}]
["Contribuição Patroc Aposent $ E61",{"$f":"Simulador!$D$29","v":{"$error":"#VALUE!"}}]
["Contribuição Patroc Longev % D63",{"$f":"Simulador!$C$30","v":0}]
["Contribuição Patroc Longev $ E63",{"$f":"Simulador!$D$30","v":0}]
["Contribuição Patroc adicinal % D65","-"]
["Contribuição Patroc adicinal $ E65","-"]
["Contribuição Patroc carreg D67",{"$f":"Simulador!$C$32","v":0}]
["Contribuição Patroc carreg E67",{"$f":"Simulador!$D$32","v":{"$error":"#VALUE!"}}]

{"sheet":"Simulador","index":2,"n_rows":63,"n_cols":14,"rows_kept":63,"cut":false,"hidden":true,"merged":[[36,4,37,4],[38,4,39,4],[6,4,6,5],[59,1,59,2]]}
[null,"As informações contidas neste simulador são projeções hipotéticas, com base nas premissas indicadas e podem apresentar diferença com relação aos resultados reais. "]
[null,"Favor consultar o Regulamento do Plano para mais detalhes dos itens apresentados, Regulamento este que prevalecerá em qualquer divergência verificada com este Simulador. "]
[null,"Instruções: podem ser alterados apenas os campos em laranja, sendo que nos campos com lista automática de valores, o preenchimento deve ser feito selecionando um valor da lista. "]
[]
[null,"Dados do Participante",null,null,"Institutos - Informação"]
[null,"Sexo",{"$f":"PROPER(Simulação!F11)","v":""},null,{"$f":"IF(C9<C10,\"Selecionar instituto\",\"Não Aplicável\")","v":"Selecionar instituto"},{"$f":"IF(AND(E6=\"Não Aplicável\",E7<>\"\"),\"Limpar campo abaixo.\",\"\")","v":""}]
[null,"Idade de Entrada",{"$f":"Simulação!F13","v":0},null,{"$f":"Simulação!K76","v":0}]
[null,"Idade Atual",{"$f":"Simulação!F15","v":0},null,{"$f":"IF(E7=\"Resgate\",\"Valor = Saldo Part. + \"&TEXT(VLOOKUP(C9-C7,'Tabela de Resgate'!$A$3:$C$11,3,TRUE),\"0%\")&\"*Patroc.\",IF(E7=\"Portabilidade\",\"Valor a Ser Portado\",\"\"))","v":""},{"$f":"IF(E7=\"Resgate\",D37+D39+(D38+D40)*VLOOKUP(C9-C7,'Tabela de Resgate'!$A$3:$C$11,3,TRUE),IF(E7=\"Portabilidade\",SUM(D37:D40),\"\"))","v":""}]
[null,"Idade na Saída",{"$f":"Simulação!F17","v":0},null,"A opção por Instituto é aplicável quando não contemplar condições de aposentadoria na saída. "]
[null,"Idade de Aposentadoria",{"$f":"MAX(C7+5,IF(C6=\"Masculino\",65,60),C9)","v":60},null,{"$f":"IFERROR(VLOOKUP(E7,'Tabela de Resgate'!$B$15:$C$18,2,0),\"\")","v":""}]
[null,"Tipo de Participação",{"$f":"PROPER(Simulação!F21)","v":""}]
[null,null,null,null,null,null,null,"Valor Último Ano",{"$f":"ROUND(INDEX(H16:J62,MATCH(LARGE(I16:I62,1),I16:I62,0),2),2)","v":0},{"$f":"ROUND(INDEX(H16:J62,MATCH(LARGE(I16:I62,1),I16:I62,0),3),2)","v":0},null,null,{"$f":"ROUND(INDEX(L16:N62,MATCH(LARGE(M16:M62,1),M16:M62,0),2),2)","v":0},{"$f":"ROUND(INDEX(L16:N62,MATCH(LARGE(M16:M62,1),M16:M62,0),3),2)","v":0}]
[null,"Saldo, Juros, Salário e Contribuições"]
[null,"Teto do RGPS",{"$f":"Simulação!E31","v":8157.41},null,null,null,null,"Valor do Benefício Programado",null,null,null,"Valor do Benefício de Longevidade"]
[null,null,"Total","de Participação","Digitado",null,null,"Tipo do Benefício","Cotas Constantes","Cotas Decrescentes",null,"Tipo do Benefício","Cotas Constantes","Cotas Decrescentes"]
[null,"Salário",{"$f":"Simulação!F26","v":0},{"$f":"IF(C11=\"\",\"Verificar Participação\",IF(C11=\"Patrocinado\",MAX(C16-C14,0),IF(E16=\"\",C16,E16)))","v":"Verificar Participação"},null,null,1,"Valor Inicial",{"$f":"IFERROR(VLOOKUP($G16,'Ev. Benefícios'!$A$5:$E$499,2,0),0)","v":0},{"$f":"IFERROR(VLOOKUP($G16,'Ev. Benefícios'!$A$5:$E$499,4,0),0)","v":0},null,"Valor Inicial",{"$f":"IFERROR(VLOOKUP($G16,'Ev. Benefícios'!$O$5:$S$499,2,0),0)","v":0},{"$f":"IFERROR(VLOOKUP($G16,'Ev. Benefícios'!$O$5:$S$499,4,0),0)","v":0}]
[null,null,"Percentual","em R$1,00",null,null,{"$f":"G16+12","v":13},"Valor 2º ano",{"$f":"IFERROR(VLOOKUP($G17,'Ev. Benefícios'!$A$5:$E$499,2,0),0)","v":0},{"$f":"IFERROR(VLOOKUP($G17,'Ev. Benefícios'!$A$5:$E$499,4,0),0)","v":0},null,"Valor 2º ano",{"$f":"IFERROR(VLOOKUP($G17,'Ev. Benefícios'!$O$5:$S$499,2,0),0)","v":0},{"$f":"IFERROR(VLOOKUP($G17,'Ev. Benefícios'!$O$5:$S$499,4,0),0)","v":0}]
[null,"Contribuição Básica",{"$f":"Simulação!E35","v":0},{"$f":"IFERROR(C18*D$16,0)","v":0},null,null,{"$f":"G17+12","v":25},"Valor 3º ano",{"$f":"IFERROR(VLOOKUP($G18,'Ev. Benefícios'!$A$5:$E$499,2,0),0)","v":0},{"$f":"IFERROR(VLOOKUP($G18,'Ev. Benefícios'!$A$5:$E$499,4,0),0)","v":0},null,"Valor 3º ano",{"$f":"IFERROR(VLOOKUP($G18,'Ev. Benefícios'!$O$5:$S$499,2,0),0)","v":0},{"$f":"IFERROR(VLOOKUP($G18,'Ev. Benefícios'!$O$5:$S$499,4,0),0)","v":0}]
[null,"  Contr. Aposentadoria",{"$f":"C18-(C20+C22)","v":0},{"$f":"D18-(D20+D22)","v":{"$error":"#VALUE!"}},null,null,{"$f":"G18+12","v":37},"Valor 4º ano",{"$f":"IFERROR(VLOOKUP($G19,'Ev. Benefícios'!$A$5:$E$499,2,0),0)","v":0},{"$f":"IFERROR(VLOOKUP($G19,'Ev. Benefícios'!$A$5:$E$499,4,0),0)","v":0},null,"Valor 4º ano",{"$f":"IFERROR(VLOOKUP($G19,'Ev. Benefícios'!$O$5:$S$499,2,0),0)","v":0},{"$f":"IFERROR(VLOOKUP($G19,'Ev. Benefícios'!$O$5:$S$499,4,0),0)","v":0}]
[null,"  Contr. Longevidade",0,{"$f":"IFERROR(IF(C20>C18,\"Verificar Contr. Básica\",C20*D$16),0)","v":0},"Contratação de Seguro indisponível no momento. ",null,{"$f":"G19+12","v":49},"Valor 5º ano",{"$f":"IFERROR(VLOOKUP($G20,'Ev. Benefícios'!$A$5:$E$499,2,0),0)","v":0},{"$f":"IFERROR(VLOOKUP($G20,'Ev. Benefícios'!$A$5:$E$499,4,0),0)","v":0},null,"Valor 5º ano",{"$f":"IFERROR(VLOOKUP($G20,'Ev. Benefícios'!$O$5:$S$499,2,0),0)","v":0},{"$f":"IFERROR(VLOOKUP($G20,'Ev. Benefícios'!$O$5:$S$499,4,0),0)","v":0}]
[null,"  Contr. Adicional","-","-","Contratação de Seguro indisponível no momento. ",null,61,"Valor 6º ano",{"$f":"IFERROR(VLOOKUP($G21,'Ev. Benefícios'!$A$5:$E$499,2,0),0)","v":0},{"$f":"IFERROR(VLOOKUP($G21,'Ev. Benefícios'!$A$5:$E$499,4,0),0)","v":0},null,"Valor 6º ano",{"$f":"IFERROR(VLOOKUP($G21,'Ev. Benefícios'!$O$5:$S$499,2,0),0)","v":0},{"$f":"IFERROR(VLOOKUP($G21,'Ev. Benefícios'!$O$5:$S$499,4,0),0)","v":0}]
[null,"  Carregamento (6,5%)",{"$f":"C18*6.5%","v":0},{"$f":"C22*(D16)","v":{"$error":"#VALUE!"}},null,null,73,"Valor 7º ano",{"$f":"IFERROR(VLOOKUP($G22,'Ev. Benefícios'!$A$5:$E$499,2,0),0)","v":0},{"$f":"IFERROR(VLOOKUP($G22,'Ev. Benefícios'!$A$5:$E$499,4,0),0)","v":0},null,"Valor 7º ano",{"$f":"IFERROR(VLOOKUP($G22,'Ev. Benefícios'!$O$5:$S$499,2,0),0)","v":0},{"$f":"IFERROR(VLOOKUP($G22,'Ev. Benefícios'!$O$5:$S$499,4,0),0)","v":0}]
[null,"Contribuição Facultativa",{"$f":"Simulação!E46","v":0},{"$f":"IFERROR(C23*D$16,0)","v":0},{"$f":"Simulação!G46","v":0},null,85,"Valor 8º ano",{"$f":"IFERROR(VLOOKUP($G23,'Ev. Benefícios'!$A$5:$E$499,2,0),0)","v":0},{"$f":"IFERROR(VLOOKUP($G23,'Ev. Benefícios'!$A$5:$E$499,4,0),0)","v":0},null,"Valor 8º ano",{"$f":"IFERROR(VLOOKUP($G23,'Ev. Benefícios'!$O$5:$S$499,2,0),0)","v":0},{"$f":"IFERROR(VLOOKUP($G23,'Ev. Benefícios'!$O$5:$S$499,4,0),0)","v":0}]
[null,"  Contr. Aposentadoria",{"$f":"C23-(C25+C27)","v":0},{"$f":"D23-(D25+D27)","v":0},null,null,97,"Valor 9º ano",{"$f":"IFERROR(VLOOKUP($G24,'Ev. Benefícios'!$A$5:$E$499,2,0),0)","v":0},{"$f":"IFERROR(VLOOKUP($G24,'Ev. Benefícios'!$A$5:$E$499,4,0),0)","v":0},null,"Valor 9º ano",{"$f":"IFERROR(VLOOKUP($G24,'Ev. Benefícios'!$O$5:$S$499,2,0),0)","v":0},{"$f":"IFERROR(VLOOKUP($G24,'Ev. Benefícios'!$O$5:$S$499,4,0),0)","v":0}]
[null,"  Contr. Longevidade",0,{"$f":"IFERROR(IF(C25>C23,\"Verificar Contr. Facult.\",C25*D$16),0)","v":0},"Contratação de Seguro indisponível no momento. ",null,109,"Valor 10º ano",{"$f":"IFERROR(VLOOKUP($G25,'Ev. Benefícios'!$A$5:$E$499,2,0),0)","v":0},{"$f":"IFERROR(VLOOKUP($G25,'Ev. Benefícios'!$A$5:$E$499,4,0),0)","v":0},null,"Valor 10º ano",{"$f":"IFERROR(VLOOKUP($G25,'Ev. Benefícios'!$O$5:$S$499,2,0),0)","v":0},{"$f":"IFERROR(VLOOKUP($G25,'Ev. Benefícios'!$O$5:$S$499,4,0),0)","v":0}]
[null,"  Contr. Adicional","-","-","Contratação de Seguro indisponível no momento. ",null,121,"Valor 11º ano",{"$f":"IFERROR(VLOOKUP($G26,'Ev. Benefícios'!$A$5:$E$499,2,0),0)","v":0},{"$f":"IFERROR(VLOOKUP($G26,'Ev. Benefícios'!$A$5:$E$499,4,0),0)","v":0},null,"Valor 11º ano",{"$f":"IFERROR(VLOOKUP($G26,'Ev. Benefícios'!$O$5:$S$499,2,0),0)","v":0},{"$f":"IFERROR(VLOOKUP($G26,'Ev. Benefícios'!$O$5:$S$499,4,0),0)","v":0}]
[null,"  Carregamento (6,5%)",0,0,null,null,133,"Valor 12º ano",{"$f":"IFERROR(VLOOKUP($G27,'Ev. Benefícios'!$A$5:$E$499,2,0),0)","v":0},{"$f":"IFERROR(VLOOKUP($G27,'Ev. Benefícios'!$A$5:$E$499,4,0),0)","v":0},null,"Valor 12º ano",{"$f":"IFERROR(VLOOKUP($G27,'Ev. Benefícios'!$O$5:$S$499,2,0),0)","v":0},{"$f":"IFERROR(VLOOKUP($G27,'Ev. Benefícios'!$O$5:$S$499,4,0),0)","v":0}]
[null,"Contribuição Patrocinador",{"$f":"IF($C$11=\"Patrocinado\",C18,0)","v":0},{"$f":"IFERROR(C28*D$16,0)","v":0},{"$f":"IF(E7=\"Autopatrocínio\",\"Em caso de Autopatrocínio, o Participante deverá cobrir as contribuições de Patrocinador.\",\"\")","v":""},null,145,"Valor 13º ano",{"$f":"IFERROR(VLOOKUP($G28,'Ev. Benefícios'!$A$5:$E$499,2,0),0)","v":0},{"$f":"IFERROR(VLOOKUP($G28,'Ev. Benefícios'!$A$5:$E$499,4,0),0)","v":0},null,"Valor 13º ano",{"$f":"IFERROR(VLOOKUP($G28,'Ev. Benefícios'!$O$5:$S$499,2,0),0)","v":0},{"$f":"IFERROR(VLOOKUP($G28,'Ev. Benefícios'!$O$5:$S$499,4,0),0)","v":0}]
[null,"  Contr. Aposentadoria",{"$f":"C28-(C30+C32)","v":0},{"$f":"D28-(D30+D32)","v":{"$error":"#VALUE!"}},null,null,157,"Valor 14º ano",{"$f":"IFERROR(VLOOKUP($G29,'Ev. Benefícios'!$A$5:$E$499,2,0),0)","v":0},{"$f":"IFERROR(VLOOKUP($G29,'Ev. Benefícios'!$A$5:$E$499,4,0),0)","v":0},null,"Valor 14º ano",{"$f":"IFERROR(VLOOKUP($G29,'Ev. Benefícios'!$O$5:$S$499,2,0),0)","v":0},{"$f":"IFERROR(VLOOKUP($G29,'Ev. Benefícios'!$O$5:$S$499,4,0),0)","v":0}]
[null,"  Contr. Longevidade",{"$f":"IF($C$11=\"Patrocinado\",C20,0)","v":0},{"$f":"IFERROR(IF(C30>C28,\"Verificar Contr. Básica\",C30*D$16),0)","v":0},"Contratação de Seguro indisponível no momento. ",null,169,"Valor 15º ano",{"$f":"IFERROR(VLOOKUP($G30,'Ev. Benefícios'!$A$5:$E$499,2,0),0)","v":0},{"$f":"IFERROR(VLOOKUP($G30,'Ev. Benefícios'!$A$5:$E$499,4,0),0)","v":0},null,"Valor 15º ano",{"$f":"IFERROR(VLOOKUP($G30,'Ev. Benefícios'!$O$5:$S$499,2,0),0)","v":0},{"$f":"IFERROR(VLOOKUP($G30,'Ev. Benefícios'!$O$5:$S$499,4,0),0)","v":0}]
[null,"  Contr. Adicional","-","-","Contratação de Seguro indisponível no momento. ",null,181,"Valor 16º ano",{"$f":"IFERROR(VLOOKUP($G31,'Ev. Benefícios'!$A$5:$E$499,2,0),0)","v":0},{"$f":"IFERROR(VLOOKUP($G31,'Ev. Benefícios'!$A$5:$E$499,4,0),0)","v":0},null,"Valor 16º ano",{"$f":"IFERROR(VLOOKUP($G31,'Ev. Benefícios'!$O$5:$S$499,2,0),0)","v":0},{"$f":"IFERROR(VLOOKUP($G31,'Ev. Benefícios'!$O$5:$S$499,4,0),0)","v":0}]
[null,"  Carregamento (6,5%)",{"$f":"C28*6.5%","v":0},{"$f":"C32*(D16)","v":{"$error":"#VALUE!"}},null,null,193,"Valor 17º ano",{"$f":"IFERROR(VLOOKUP($G32,'Ev. Benefícios'!$A$5:$E$499,2,0),0)","v":0},{"$f":"IFERROR(VLOOKUP($G32,'Ev. Benefícios'!$A$5:$E$499,4,0),0)","v":0},null,"Valor 17º ano",{"$f":"IFERROR(VLOOKUP($G32,'Ev. Benefícios'!$O$5:$S$499,2,0),0)","v":0},{"$f":"IFERROR(VLOOKUP($G32,'Ev. Benefícios'!$O$5:$S$499,4,0),0)","v":0}]
[null,null,"Anual","Mensal",null,null,205,"Valor 18º ano",{"$f":"IFERROR(VLOOKUP($G33,'Ev. Benefícios'!$A$5:$E$499,2,0),0)","v":0},{"$f":"IFERROR(VLOOKUP($G33,'Ev. Benefícios'!$A$5:$E$499,4,0),0)","v":0},null,"Valor 18º ano",{"$f":"IFERROR(VLOOKUP($G33,'Ev. Benefícios'!$O$5:$S$499,2,0),0)","v":0},{"$f":"IFERROR(VLOOKUP($G33,'Ev. Benefícios'!$O$5:$S$499,4,0),0)","v":0}]
[null,"Taxa de Juros a.a.",{"$f":"Simulação!F65","v":0},{"$f":"(C34+1)^(1/12)-1","v":0},null,null,217,"Valor 19º ano",{"$f":"IFERROR(VLOOKUP($G34,'Ev. Benefícios'!$A$5:$E$499,2,0),0)","v":0},{"$f":"IFERROR(VLOOKUP($G34,'Ev. Benefícios'!$A$5:$E$499,4,0),0)","v":0},null,"Valor 19º ano",{"$f":"IFERROR(VLOOKUP($G34,'Ev. Benefícios'!$O$5:$S$499,2,0),0)","v":0},{"$f":"IFERROR(VLOOKUP($G34,'Ev. Benefícios'!$O$5:$S$499,4,0),0)","v":0}]
[null,"Crescimento Salarial a.a.",{"$f":"Simulação!F67","v":0},{"$f":"(C35+1)^(1/12)-1","v":0},null,null,229,"Valor 20º ano",{"$f":"IFERROR(VLOOKUP($G35,'Ev. Benefícios'!$A$5:$E$499,2,0),0)","v":0},{"$f":"IFERROR(VLOOKUP($G35,'Ev. Benefícios'!$A$5:$E$499,4,0),0)","v":0},null,"Valor 20º ano",{"$f":"IFERROR(VLOOKUP($G35,'Ev. Benefícios'!$O$5:$S$499,2,0),0)","v":0},{"$f":"IFERROR(VLOOKUP($G35,'Ev. Benefícios'!$O$5:$S$499,4,0),0)","v":0}]
[null,null,"Atual","Final",null,null,241,"Valor 21º ano",{"$f":"IFERROR(VLOOKUP($G36,'Ev. Benefícios'!$A$5:$E$499,2,0),0)","v":0},{"$f":"IFERROR(VLOOKUP($G36,'Ev. Benefícios'!$A$5:$E$499,4,0),0)","v":0},null,"Valor 21º ano",{"$f":"IFERROR(VLOOKUP($G36,'Ev. Benefícios'!$O$5:$S$499,2,0),0)","v":0},{"$f":"IFERROR(VLOOKUP($G36,'Ev. Benefícios'!$O$5:$S$499,4,0),0)","v":0}]
[null,"Saldo Aposent. (Part.)",{"$f":"Simulação!D97+C61","v":0},{"$f":"VLOOKUP(MAX('Ev. Contribuições'!$Y$5:$Y$997),'Ev. Contribuições'!$Y$5:$AA$997,2,0)","v":0},{"$f":"\"Aos \"&IF(AND($C$9<$C$10,OR($E$7=\"Resgate\",$E$7=\"Portabilidade\")),$C$9,$C$10)&\" anos\"","v":"Aos 60 anos"},{"$f":"D37+D38","v":0},253,"Valor 22º ano",{"$f":"IFERROR(VLOOKUP($G37,'Ev. Benefícios'!$A$5:$E$499,2,0),0)","v":0},{"$f":"IFERROR(VLOOKUP($G37,'Ev. Benefícios'!$A$5:$E$499,4,0),0)","v":0},null,"Valor 22º ano",{"$f":"IFERROR(VLOOKUP($G37,'Ev. Benefícios'!$O$5:$S$499,2,0),0)","v":0},{"$f":"IFERROR(VLOOKUP($G37,'Ev. Benefícios'!$O$5:$S$499,4,0),0)","v":0}]
[null,"Saldo Aposent. (Patroc.)",{"$f":"C62","v":0},{"$f":"VLOOKUP(MAX('Ev. Contribuições'!$Y$5:$Y$997),'Ev. Contribuições'!$Y$5:$AA$997,3,0)","v":0},null,null,265,"Valor 23º ano",{"$f":"IFERROR(VLOOKUP($G38,'Ev. Benefícios'!$A$5:$E$499,2,0),0)","v":0},{"$f":"IFERROR(VLOOKUP($G38,'Ev. Benefícios'!$A$5:$E$499,4,0),0)","v":0},null,"Valor 23º ano",{"$f":"IFERROR(VLOOKUP($G38,'Ev. Benefícios'!$O$5:$S$499,2,0),0)","v":0},{"$f":"IFERROR(VLOOKUP($G38,'Ev. Benefícios'!$O$5:$S$499,4,0),0)","v":0}]
[null,"Saldo Longev. (Part.)",0,{"$f":"VLOOKUP(MAX('Ev. Contribuições'!$AB$5:$AB$997),'Ev. Contribuições'!$AB$5:$AD$997,2,0)","v":0},{"$f":"\"Aos \"&IF(AND($C$9<$C$10,OR($E$7=\"Resgate\",$E$7=\"Portabilidade\")),$C$9,$C$50)&\" anos\"","v":"Aos 60 anos"},{"$f":"D39+D40","v":0},277,"Valor 24º ano",{"$f":"IFERROR(VLOOKUP($G39,'Ev. Benefícios'!$A$5:$E$499,2,0),0)","v":0},{"$f":"IFERROR(VLOOKUP($G39,'Ev. Benefícios'!$A$5:$E$499,4,0),0)","v":0},null,"Valor 24º ano",{"$f":"IFERROR(VLOOKUP($G39,'Ev. Benefícios'!$O$5:$S$499,2,0),0)","v":0},{"$f":"IFERROR(VLOOKUP($G39,'Ev. Benefícios'!$O$5:$S$499,4,0),0)","v":0}]
[null,"Saldo Longev. (Patroc.)",0,{"$f":"VLOOKUP(MAX('Ev. Contribuições'!$AB$5:$AB$997),'Ev. Contribuições'!$AB$5:$AD$997,3,0)","v":0},null,null,289,"Valor 25º ano",{"$f":"IFERROR(VLOOKUP($G40,'Ev. Benefícios'!$A$5:$E$499,2,0),0)","v":0},{"$f":"IFERROR(VLOOKUP($G40,'Ev. Benefícios'!$A$5:$E$499,4,0),0)","v":0},null,"Valor 25º ano",{"$f":"IFERROR(VLOOKUP($G40,'Ev. Benefícios'!$O$5:$S$499,2,0),0)","v":0},{"$f":"IFERROR(VLOOKUP($G40,'Ev. Benefícios'!$O$5:$S$499,4,0),0)","v":0}]
[null,null,null,null,null,null,301,"Valor 26º ano",{"$f":"IFERROR(VLOOKUP($G41,'Ev. Benefícios'!$A$5:$E$499,2,0),0)","v":0},{"$f":"IFERROR(VLOOKUP($G41,'Ev. Benefícios'!$A$5:$E$499,4,0),0)","v":0},null,"Valor 26º ano",{"$f":"IFERROR(VLOOKUP($G41,'Ev. Benefícios'!$O$5:$S$499,2,0),0)","v":0},{"$f":"IFERROR(VLOOKUP($G41,'Ev. Benefícios'!$O$5:$S$499,4,0),0)","v":0}]
[null,"Dados do Benefício Programado",null,null,null,null,313,"Valor 27º ano",{"$f":"IFERROR(VLOOKUP($G42,'Ev. Benefícios'!$A$5:$E$499,2,0),0)","v":0},{"$f":"IFERROR(VLOOKUP($G42,'Ev. Benefícios'!$A$5:$E$499,4,0),0)","v":0},null,"Valor 27º ano",{"$f":"IFERROR(VLOOKUP($G42,'Ev. Benefícios'!$O$5:$S$499,2,0),0)","v":0},{"$f":"IFERROR(VLOOKUP($G42,'Ev. Benefícios'!$O$5:$S$499,4,0),0)","v":0}]
[null,"Opção Pag. à Vista",{"$f":"Simulação!D91","v":0},{"$f":"D37*C43","v":0},null,null,325,"Valor 28º ano",{"$f":"IFERROR(VLOOKUP($G43,'Ev. Benefícios'!$A$5:$E$499,2,0),0)","v":0},{"$f":"IFERROR(VLOOKUP($G43,'Ev. Benefícios'!$A$5:$E$499,4,0),0)","v":0},null,"Valor 28º ano",{"$f":"IFERROR(VLOOKUP($G43,'Ev. Benefícios'!$O$5:$S$499,2,0),0)","v":0},{"$f":"IFERROR(VLOOKUP($G43,'Ev. Benefícios'!$O$5:$S$499,4,0),0)","v":0}]
[null,"Tipo do Benefício","Cotas Constantes","Cotas Decrescentes",null,null,337,"Valor 29º ano",{"$f":"IFERROR(VLOOKUP($G44,'Ev. Benefícios'!$A$5:$E$499,2,0),0)","v":0},{"$f":"IFERROR(VLOOKUP($G44,'Ev. Benefícios'!$A$5:$E$499,4,0),0)","v":0},null,"Valor 29º ano",{"$f":"IFERROR(VLOOKUP($G44,'Ev. Benefícios'!$O$5:$S$499,2,0),0)","v":0},{"$f":"IFERROR(VLOOKUP($G44,'Ev. Benefícios'!$O$5:$S$499,4,0),0)","v":0}]
[null,"Expectativa de Vida",{"$f":"VLOOKUP(C10,'Tábua BR-EMS sb. 2015'!$B$4:$D$122,IF(C6=\"Masculino\",2,3),0)*12","v":348},{"$f":"C45","v":348},{"$f":"D45/12","v":29},null,349,"Valor 30º ano",{"$f":"IFERROR(VLOOKUP($G45,'Ev. Benefícios'!$A$5:$E$499,2,0),0)","v":0},{"$f":"IFERROR(VLOOKUP($G45,'Ev. Benefícios'!$A$5:$E$499,4,0),0)","v":0},null,"Valor 30º ano",{"$f":"IFERROR(VLOOKUP($G45,'Ev. Benefícios'!$O$5:$S$499,2,0),0)","v":0},{"$f":"IFERROR(VLOOKUP($G45,'Ev. Benefícios'!$O$5:$S$499,4,0),0)","v":0}]
[null,"Prazo do Benefício",{"$f":"Simulação!D88*12","v":0},{"$f":"C46","v":0},{"$f":"D46/12","v":0},null,361,"Valor 31º ano",{"$f":"IFERROR(VLOOKUP($G46,'Ev. Benefícios'!$A$5:$E$499,2,0),0)","v":0},{"$f":"IFERROR(VLOOKUP($G46,'Ev. Benefícios'!$A$5:$E$499,4,0),0)","v":0},null,"Valor 31º ano",{"$f":"IFERROR(VLOOKUP($G46,'Ev. Benefícios'!$O$5:$S$499,2,0),0)","v":0},{"$f":"IFERROR(VLOOKUP($G46,'Ev. Benefícios'!$O$5:$S$499,4,0),0)","v":0}]
[null,"Prestações Anuais",{"$f":"Simulação!D94","v":0},null,null,null,373,"Valor 32º ano",{"$f":"IFERROR(VLOOKUP($G47,'Ev. Benefícios'!$A$5:$E$499,2,0),0)","v":0},{"$f":"IFERROR(VLOOKUP($G47,'Ev. Benefícios'!$A$5:$E$499,4,0),0)","v":0},null,"Valor 32º ano",{"$f":"IFERROR(VLOOKUP($G47,'Ev. Benefícios'!$O$5:$S$499,2,0),0)","v":0},{"$f":"IFERROR(VLOOKUP($G47,'Ev. Benefícios'!$O$5:$S$499,4,0),0)","v":0}]
[null,null,null,null,null,null,385,"Valor 33º ano",{"$f":"IFERROR(VLOOKUP($G48,'Ev. Benefícios'!$A$5:$E$499,2,0),0)","v":0},{"$f":"IFERROR(VLOOKUP($G48,'Ev. Benefícios'!$A$5:$E$499,4,0),0)","v":0},null,"Valor 33º ano",{"$f":"IFERROR(VLOOKUP($G48,'Ev. Benefícios'!$O$5:$S$499,2,0),0)","v":0},{"$f":"IFERROR(VLOOKUP($G48,'Ev. Benefícios'!$O$5:$S$499,4,0),0)","v":0}]
[null,"Dados do Benefício de Longevidade",null,null,null,null,397,"Valor 34º ano",{"$f":"IFERROR(VLOOKUP($G49,'Ev. Benefícios'!$A$5:$E$499,2,0),0)","v":0},{"$f":"IFERROR(VLOOKUP($G49,'Ev. Benefícios'!$A$5:$E$499,4,0),0)","v":0},null,"Valor 34º ano",{"$f":"IFERROR(VLOOKUP($G49,'Ev. Benefícios'!$O$5:$S$499,2,0),0)","v":0},{"$f":"IFERROR(VLOOKUP($G49,'Ev. Benefícios'!$O$5:$S$499,4,0),0)","v":0}]
[null,"Idade de Início",{"$f":"C10+MIN(INT(C45/12),INT(C46/12))","v":60},{"$f":"C50","v":60},null,null,409,"Valor 35º ano",{"$f":"IFERROR(VLOOKUP($G50,'Ev. Benefícios'!$A$5:$E$499,2,0),0)","v":0},{"$f":"IFERROR(VLOOKUP($G50,'Ev. Benefícios'!$A$5:$E$499,4,0),0)","v":0},null,"Valor 35º ano",{"$f":"IFERROR(VLOOKUP($G50,'Ev. Benefícios'!$O$5:$S$499,2,0),0)","v":0},{"$f":"IFERROR(VLOOKUP($G50,'Ev. Benefícios'!$O$5:$S$499,4,0),0)","v":0}]
[null,"Tipo do Benefício","Cotas Constantes","Cotas Decrescentes",null,null,421,"Valor 36º ano",{"$f":"IFERROR(VLOOKUP($G51,'Ev. Benefícios'!$A$5:$E$499,2,0),0)","v":0},{"$f":"IFERROR(VLOOKUP($G51,'Ev. Benefícios'!$A$5:$E$499,4,0),0)","v":0},null,"Valor 36º ano",{"$f":"IFERROR(VLOOKUP($G51,'Ev. Benefícios'!$O$5:$S$499,2,0),0)","v":0},{"$f":"IFERROR(VLOOKUP($G51,'Ev. Benefícios'!$O$5:$S$499,4,0),0)","v":0}]
[null,"Expectativa de Vida",{"$f":"VLOOKUP(C50,'Tábua BR-EMS sb. 2015'!$B$4:$D$122,IF(C6=\"Masculino\",2,3),0)*12","v":348},{"$f":"C52","v":348},null,null,433,"Valor 37º ano",{"$f":"IFERROR(VLOOKUP($G52,'Ev. Benefícios'!$A$5:$E$499,2,0),0)","v":0},{"$f":"IFERROR(VLOOKUP($G52,'Ev. Benefícios'!$A$5:$E$499,4,0),0)","v":0},null,"Valor 37º ano",{"$f":"IFERROR(VLOOKUP($G52,'Ev. Benefícios'!$O$5:$S$499,2,0),0)","v":0},{"$f":"IFERROR(VLOOKUP($G52,'Ev. Benefícios'!$O$5:$S$499,4,0),0)","v":0}]
[null,"Prazo do Benefício",96,{"$f":"C53","v":96},null,null,445,"Valor 38º ano",{"$f":"IFERROR(VLOOKUP($G53,'Ev. Benefícios'!$A$5:$E$499,2,0),0)","v":0},{"$f":"IFERROR(VLOOKUP($G53,'Ev. Benefícios'!$A$5:$E$499,4,0),0)","v":0},null,"Valor 38º ano",{"$f":"IFERROR(VLOOKUP($G53,'Ev. Benefícios'!$O$5:$S$499,2,0),0)","v":0},{"$f":"IFERROR(VLOOKUP($G53,'Ev. Benefícios'!$O$5:$S$499,4,0),0)","v":0}]
[null,"Prestações Anuais",12,null,null,null,457,"Valor 39º ano",{"$f":"IFERROR(VLOOKUP($G54,'Ev. Benefícios'!$A$5:$E$499,2,0),0)","v":0},{"$f":"IFERROR(VLOOKUP($G54,'Ev. Benefícios'!$A$5:$E$499,4,0),0)","v":0},null,"Valor 39º ano",{"$f":"IFERROR(VLOOKUP($G54,'Ev. Benefícios'!$O$5:$S$499,2,0),0)","v":0},{"$f":"IFERROR(VLOOKUP($G54,'Ev. Benefícios'!$O$5:$S$499,4,0),0)","v":0}]
[null,null,null,null,null,null,469,"Valor 40º ano",{"$f":"IFERROR(VLOOKUP($G55,'Ev. Benefícios'!$A$5:$E$499,2,0),0)","v":0},{"$f":"IFERROR(VLOOKUP($G55,'Ev. Benefícios'!$A$5:$E$499,4,0),0)","v":0},null,"Valor 40º ano",{"$f":"IFERROR(VLOOKUP($G55,'Ev. Benefícios'!$O$5:$S$499,2,0),0)","v":0},{"$f":"IFERROR(VLOOKUP($G55,'Ev. Benefícios'!$O$5:$S$499,4,0),0)","v":0}]
[null,null,null,null,null,null,481,"Valor 41º ano",{"$f":"IFERROR(VLOOKUP($G56,'Ev. Benefícios'!$A$5:$E$499,2,0),0)","v":0},{"$f":"IFERROR(VLOOKUP($G56,'Ev. Benefícios'!$A$5:$E$499,4,0),0)","v":0},null,"Valor 41º ano",{"$f":"IFERROR(VLOOKUP($G56,'Ev. Benefícios'!$O$5:$S$499,2,0),0)","v":0},{"$f":"IFERROR(VLOOKUP($G56,'Ev. Benefícios'!$O$5:$S$499,4,0),0)","v":0}]
[null,null,null,null,null,null,493,"Valor 42º ano",{"$f":"IFERROR(VLOOKUP($G57,'Ev. Benefícios'!$A$5:$E$499,2,0),0)","v":0},{"$f":"IFERROR(VLOOKUP($G57,'Ev. Benefícios'!$A$5:$E$499,4,0),0)","v":0},null,"Valor 42º ano",{"$f":"IFERROR(VLOOKUP($G57,'Ev. Benefícios'!$O$5:$S$499,2,0),0)","v":0},{"$f":"IFERROR(VLOOKUP($G57,'Ev. Benefícios'!$O$5:$S$499,4,0),0)","v":0}]
[null,null,null,null,null,null,505,"Valor 43º ano",{"$f":"IFERROR(VLOOKUP($G58,'Ev. Benefícios'!$A$5:$E$499,2,0),0)","v":0},{"$f":"IFERROR(VLOOKUP($G58,'Ev. Benefícios'!$A$5:$E$499,4,0),0)","v":0},null,"Valor 43º ano",{"$f":"IFERROR(VLOOKUP($G58,'Ev. Benefícios'!$O$5:$S$499,2,0),0)","v":0},{"$f":"IFERROR(VLOOKUP($G58,'Ev. Benefícios'!$O$5:$S$499,4,0),0)","v":0}]
[null,null,null,null,null,null,517,"Valor 44º ano",{"$f":"IFERROR(VLOOKUP($G59,'Ev. Benefícios'!$A$5:$E$499,2,0),0)","v":0},{"$f":"IFERROR(VLOOKUP($G59,'Ev. Benefícios'!$A$5:$E$499,4,0),0)","v":0},null,"Valor 44º ano",{"$f":"IFERROR(VLOOKUP($G59,'Ev. Benefícios'!$O$5:$S$499,2,0),0)","v":0},{"$f":"IFERROR(VLOOKUP($G59,'Ev. Benefícios'!$O$5:$S$499,4,0),0)","v":0}]
[null,"Reserva Atual",null,null,null,null,529,"Valor 45º ano",{"$f":"IFERROR(VLOOKUP($G60,'Ev. Benefícios'!$A$5:$E$499,2,0),0)","v":0},{"$f":"IFERROR(VLOOKUP($G60,'Ev. Benefícios'!$A$5:$E$499,4,0),0)","v":0},null,"Valor 45º ano",{"$f":"IFERROR(VLOOKUP($G60,'Ev. Benefícios'!$O$5:$S$499,2,0),0)","v":0},{"$f":"IFERROR(VLOOKUP($G60,'Ev. Benefícios'!$O$5:$S$499,4,0),0)","v":0}]
[null,"Participante",{"$f":"Simulação!F70","v":0},null,null,null,541,"Valor 46º ano",{"$f":"IFERROR(VLOOKUP($G61,'Ev. Benefícios'!$A$5:$E$499,2,0),0)","v":0},{"$f":"IFERROR(VLOOKUP($G61,'Ev. Benefícios'!$A$5:$E$499,4,0),0)","v":0}]
[null,"Patrocinador",{"$f":"Simulação!G70","v":0},null,null,null,553,"Valor 47º ano",{"$f":"IFERROR(VLOOKUP($G62,'Ev. Benefícios'!$A$5:$E$499,2,0),0)","v":0},{"$f":"IFERROR(VLOOKUP($G62,'Ev. Benefícios'!$A$5:$E$499,4,0),0)","v":0}]
[null,null,null,null,null,null,565,"Valor 48º ano",{"$f":"IFERROR(VLOOKUP($G63,'Ev. Benefícios'!$A$5:$E$499,2,0),0)","v":0},{"$f":"IFERROR(VLOOKUP($G63,'Ev. Benefícios'!$A$5:$E$499,4,0),0)","v":0}]

{"sheet":"Ev. Contribuições","index":3,"n_rows":997,"n_cols":30,"rows_kept":997,"cut":false,"hidden":true,"merged":[[1,28,2,29],[1,11,1,16],[1,4,1,9],[1,1,2,2],[1,0,3,0],[1,18,1,22],[1,24,3,24],[1,27,3,27],[1,25,2,26]]}
[null,"Evolução dos Salários em R$",null,null,"Evolução da Contribuição Básica em R$",null,null,null,null,null,null,"Evolução da Contribuição Facultativa em R$",null,null,null,null,null,null,"Evolução da Contribuição do Patrocinador em R$",null,null,null,null,null,null,"Evolução dos Saldos em R$"]
["Mês","Salário",null,null,"Contribuição Básica",null,null,null,null,null,null,"Contribuição Facultativa",null,null,null,null,null,null,"Contribuição do Patrocinador",null,null,null,null,null,"Mês Aposent.","Saldo Aposentadoria",null,"Mês Longev.","Saldo Longevidade"]
[null,null,null,null,"Aposentadoria","Longevidade","Adicional","Carregamento","Total","Controlador",null,"Aposentadoria","Longevidade","Adicional","Carregamento","Total","Controlador",null,"Aposentadoria","Longevidade","Adicional","Carregamento","Total"]
[null,"Total","de Participação",null,{"$f":"I4-SUM(F4:H4)","v":0},{"$f":"Simulador!$C$20","v":0},0,{"$f":"Simulador!$C$22","v":0},{"$f":"Simulador!$C$18","v":0},"Grat. Natalina",null,{"$f":"P4-SUM(M4:O4)","v":0},{"$f":"Simulador!C25","v":0},0,{"$f":"Simulador!$C$27","v":0},{"$f":"Simulador!C23","v":0},{"$f":"Simulador!E23","v":0},null,{"$f":"W4-SUM(T4:V4)","v":0},{"$f":"Simulador!$C$30","v":0},0,{"$f":"Simulador!$C$32","v":0},{"$f":"Simulador!$C$28","v":0},null,null,"Participante","Patrocinador",null,"Participante","Patrocinador"]
[1,{"$f":"IF(A5=0,0,Simulador!C16)","v":0},{"$f":"MAX(IF(A5=0,0,B5-IF(Simulador!$C$11=\"Individual\",0,Simulador!$C$14)),0)","v":0},null,{"$f":"E$4*$C5*(1+$J5)","v":0},0,0,0,0,{"$f":"IF($A5=0,0,IF(INT($A5/12)-$A5/12=0,1,0))","v":0},null,{"$f":"L$4*$C5*$Q5","v":0},0,0,0,0,{"$f":"IF($A5=0,0,IF($Q$4=\"Mensal\",1,IF($Q$4=\"Semestral\",IF(INT(($A5+5)/6)-($A5+5)/6=0,1,0),IF($Q$4=\"Anual\",IF(INT(($A5+11)/12)-($A5+11)/12=0,1,0)))))","v":false},null,{"$f":"S$4*$C5*(1+$J5)","v":0},0,0,0,0,null,1,{"$f":"Simulador!$C$37+E5+L5","v":0},{"$f":"Simulador!$C$38+S5","v":0},1,{"$f":"Simulador!$C$39+F5+M5","v":0},{"$f":"Simulador!$C$40+T5","v":0}]
[{"$f":"IF(OR(A5+1>(IF(Simulador!$E$7=\"Autopatrocínio\",Simulador!$C$10,Simulador!$C$9)-Simulador!$C$8)*12,A5=0),0,A5+1)","v":0},{"$f":"IF($A6=0,0,IF(INT($A5/12)-$A5/12=0,B5*(1+Simulador!$C$35),B5))","v":0},{"$f":"MAX(IF(A6=0,0,B6-IF(Simulador!$C$11=\"Individual\",0,Simulador!$C$14)),0)","v":0},null,0,0,0,0,0,0,null,0,0,0,0,0,0,null,0,0,0,0,0,null,{"$f":"IF(OR(Y5+1>(IF(AND(Simulador!$C$9<Simulador!$C$10,OR(Simulador!$E$7=\"Resgate\",Simulador!$E$7=\"Portabilidade\")),Simulador!$C$9,Simulador!$C$10)-Simulador!$C$8)*12,Y5=0),0,Y5+1)","v":2},{"$f":"IF($Y6=0,0,Z5*(1+Simulador!$D$34)+E6+L6)","v":0},{"$f":"IF($Y6=0,0,AA5*(1+Simulador!$D$34)+S6)","v":0},{"$f":"IF(OR(AB5+1>(IF(AND(Simulador!$C$9<Simulador!$C$10,OR(Simulador!$E$7=\"Resgate\",Simulador!$E$7=\"Portabilidade\")),Simulador!$C$9,Simulador!$C$50)-Simulador!$C$8)*12,AB5=0),0,AB5+1)","v":2},{"$f":"IF($AB6=0,0,AC5*(1+Simulador!$D$34)+F6+M6)","v":0},{"$f":"IF($AB6=0,0,AD5*(1+Simulador!$D$34)+T6)","v":0}]
[{"$f":"IF(OR(A6+1>(IF(Simulador!$E$7=\"Autopatrocínio\",Simulador!$C$10,Simulador!$C$9)-Simulador!$C$8)*12,A6=0),0,A6+1)","v":0},{"$f":"IF($A7=0,0,IF(INT($A6/12)-$A6/12=0,B6*(1+Simulador!$C$35),B6))","v":0},{"$f":"MAX(IF(A7=0,0,B7-IF(Simulador!$C$11=\"Individual\",0,Simulador!$C$14)),0)","v":0},null,0,0,0,0,0,0,null,0,0,0,0,0,0,null,0,0,0,0,0,null,{"$f":"IF(OR(Y6+1>(IF(AND(Simulador!$C$9<Simulador!$C$10,OR(Simulador!$E$7=\"Resgate\",Simulador!$E$7=\"Portabilidade\")),Simulador!$C$9,Simulador!$C$10)-Simulador!$C$8)*12,Y6=0),0,Y6+1)","v":3},{"$f":"IF($Y7=0,0,Z6*(1+Simulador!$D$34)+E7+L7)","v":0},{"$f":"IF($Y7=0,0,AA6*(1+Simulador!$D$34)+S7)","v":0},{"$f":"IF(OR(AB6+1>(IF(AND(Simulador!$C$9<Simulador!$C$10,OR(Simulador!$E$7=\"Resgate\",Simulador!$E$7=\"Portabilidade\")),Simulador!$C$9,Simulador!$C$50)-Simulador!$C$8)*12,AB6=0),0,AB6+1)","v":3},{"$f":"IF($AB7=0,0,AC6*(1+Simulador!$D$34)+F7+M7)","v":0},{"$f":"IF($AB7=0,0,AD6*(1+Simulador!$D$34)+T7)","v":0}]
[{"$f":"IF(OR(A7+1>(IF(Simulador!$E$7=\"Autopatrocínio\",Simulador!$C$10,Simulador!$C$9)-Simulador!$C$8)*12,A7=0),0,A7+1)","v":0},{"$f":"IF($A8=0,0,IF(INT($A7/12)-$A7/12=0,B7*(1+Simulador!$C$35),B7))","v":0},{"$f":"MAX(IF(A8=0,0,B8-IF(Simulador!$C$11=\"Individual\",0,Simulador!$C$14)),0)","v":0},null,0,0,0,0,0,0,null,0,0,0,0,0,0,null,0,0,0,0,0,null,{"$f":"IF(OR(Y7+1>(IF(AND(Simulador!$C$9<Simulador!$C$10,OR(Simulador!$E$7=\"Resgate\",Simulador!$E$7=\"Portabilidade\")),Simulador!$C$9,Simulador!$C$10)-Simulador!$C$8)*12,Y7=0),0,Y7+1)","v":4},{"$f":"IF($Y8=0,0,Z7*(1+Simulador!$D$34)+E8+L8)","v":0},{"$f":"IF($Y8=0,0,AA7*(1+Simulador!$D$34)+S8)","v":0},{"$f":"IF(OR(AB7+1>(IF(AND(Simulador!$C$9<Simulador!$C$10,OR(Simulador!$E$7=\"Resgate\",Simulador!$E$7=\"Portabilidade\")),Simulador!$C$9,Simulador!$C$50)-Simulador!$C$8)*12,AB7=0),0,AB7+1)","v":4},{"$f":"IF($AB8=0,0,AC7*(1+Simulador!$D$34)+F8+M8)","v":0},{"$f":"IF($AB8=0,0,AD7*(1+Simulador!$D$34)+T8)","v":0}]
[{"$f":"IF(OR(A8+1>(IF(Simulador!$E$7=\"Autopatrocínio\",Simulador!$C$10,Simulador!$C$9)-Simulador!$C$8)*12,A8=0),0,A8+1)","v":0},{"$f":"IF($A9=0,0,IF(INT($A8/12)-$A8/12=0,B8*(1+Simulador!$C$35),B8))","v":0},{"$f":"MAX(IF(A9=0,0,B9-IF(Simulador!$C$11=\"Individual\",0,Simulador!$C$14)),0)","v":0},null,0,0,0,0,0,0,null,0,0,0,0,0,0,null,0,0,0,0,0,null,{"$f":"IF(OR(Y8+1>(IF(AND(Simulador!$C$9<Simulador!$C$10,OR(Simulador!$E$7=\"Resgate\",Simulador!$E$7=\"Portabilidade\")),Simulador!$C$9,Simulador!$C$10)-Simulador!$C$8)*12,Y8=0),0,Y8+1)","v":5},{"$f":"IF($Y9=0,0,Z8*(1+Simulador!$D$34)+E9+L9)","v":0},{"$f":"IF($Y9=0,0,AA8*(1+Simulador!$D$34)+S9)","v":0},{"$f":"IF(OR(AB8+1>(IF(AND(Simulador!$C$9<Simulador!$C$10,OR(Simulador!$E$7=\"Resgate\",Simulador!$E$7=\"Portabilidade\")),Simulador!$C$9,Simulador!$C$50)-Simulador!$C$8)*12,AB8=0),0,AB8+1)","v":5},{"$f":"IF($AB9=0,0,AC8*(1+Simulador!$D$34)+F9+M9)","v":0},{"$f":"IF($AB9=0,0,AD8*(1+Simulador!$D$34)+T9)","v":0}]
[{"$f":"IF(OR(A9+1>(IF(Simulador!$E$7=\"Autopatrocínio\",Simulador!$C$10,Simulador!$C$9)-Simulador!$C$8)*12,A9=0),0,A9+1)","v":0},{"$f":"IF($A10=0,0,IF(INT($A9/12)-$A9/12=0,B9*(1+Simulador!$C$35),B9))","v":0},{"$f":"MAX(IF(A10=0,0,B10-IF(Simulador!$C$11=\"Individual\",0,Simulador!$C$14)),0)","v":0},null,0,0,0,0,0,0,null,0,0,0,0,0,0,null,0,0,0,0,0,null,{"$f":"IF(OR(Y9+1>(IF(AND(Simulador!$C$9<Simulador!$C$10,OR(Simulador!$E$7=\"Resgate\",Simulador!$E$7=\"Portabilidade\")),Simulador!$C$9,Simulador!$C$10)-Simulador!$C$8)*12,Y9=0),0,Y9+1)","v":6},{"$f":"IF($Y10=0,0,Z9*(1+Simulador!$D$34)+E10+L10)","v":0},{"$f":"IF($Y10=0,0,AA9*(1+Simulador!$D$34)+S10)","v":0},{"$f":"IF(OR(AB9+1>(IF(AND(Simulador!$C$9<Simulador!$C$10,OR(Simulador!$E$7=\"Resgate\",Simulador!$E$7=\"Portabilidade\")),Simulador!$C$9,Simulador!$C$50)-Simulador!$C$8)*12,AB9=0),0,AB9+1)","v":6},{"$f":"IF($AB10=0,0,AC9*(1+Simulador!$D$34)+F10+M10)","v":0},{"$f":"IF($AB10=0,0,AD9*(1+Simulador!$D$34)+T10)","v":0}]
[{"$f":"IF(OR(A10+1>(IF(Simulador!$E$7=\"Autopatrocínio\",Simulador!$C$10,Simulador!$C$9)-Simulador!$C$8)*12,A10=0),0,A10+1)","v":0},{"$f":"IF($A11=0,0,IF(INT($A10/12)-$A10/12=0,B10*(1+Simulador!$C$35),B10))","v":0},{"$f":"MAX(IF(A11=0,0,B11-IF(Simulador!$C$11=\"Individual\",0,Simulador!$C$14)),0)","v":0},null,0,0,0,0,0,0,null,0,0,0,0,0,0,null,0,0,0,0,0,null,{"$f":"IF(OR(Y10+1>(IF(AND(Simulador!$C$9<Simulador!$C$10,OR(Simulador!$E$7=\"Resgate\",Simulador!$E$7=\"Portabilidade\")),Simulador!$C$9,Simulador!$C$10)-Simulador!$C$8)*12,Y10=0),0,Y10+1)","v":7},{"$f":"IF($Y11=0,0,Z10*(1+Simulador!$D$34)+E11+L11)","v":0},{"$f":"IF($Y11=0,0,AA10*(1+Simulador!$D$34)+S11)","v":0},{"$f":"IF(OR(AB10+1>(IF(AND(Simulador!$C$9<Simulador!$C$10,OR(Simulador!$E$7=\"Resgate\",Simulador!$E$7=\"Portabilidade\")),Simulador!$C$9,Simulador!$C$50)-Simulador!$C$8)*12,AB10=0),0,AB10+1)","v":7},{"$f":"IF($AB11=0,0,AC10*(1+Simulador!$D$34)+F11+M11)","v":0},{"$f":"IF($AB11=0,0,AD10*(1+Simulador!$D$34)+T11)","v":0}]
[{"$f":"IF(OR(A11+1>(IF(Simulador!$E$7=\"Autopatrocínio\",Simulador!$C$10,Simulador!$C$9)-Simulador!$C$8)*12,A11=0),0,A11+1)","v":0},{"$f":"IF($A12=0,0,IF(INT($A11/12)-$A11/12=0,B11*(1+Simulador!$C$35),B11))","v":0},{"$f":"MAX(IF(A12=0,0,B12-IF(Simulador!$C$11=\"Individual\",0,Simulador!$C$14)),0)","v":0},null,0,0,0,0,0,0,null,0,0,0,0,0,0,null,0,0,0,0,0,null,{"$f":"IF(OR(Y11+1>(IF(AND(Simulador!$C$9<Simulador!$C$10,OR(Simulador!$E$7=\"Resgate\",Simulador!$E$7=\"Portabilidade\")),Simulador!$C$9,Simulador!$C$10)-Simulador!$C$8)*12,Y11=0),0,Y11+1)","v":8},{"$f":"IF($Y12=0,0,Z11*(1+Simulador!$D$34)+E12+L12)","v":0},{"$f":"IF($Y12=0,0,AA11*(1+Simulador!$D$34)+S12)","v":0},{"$f":"IF(OR(AB11+1>(IF(AND(Simulador!$C$9<Simulador!$C$10,OR(Simulador!$E$7=\"Resgate\",Simulador!$E$7=\"Portabilidade\")),Simulador!$C$9,Simulador!$C$50)-Simulador!$C$8)*12,AB11=0),0,AB11+1)","v":8},{"$f":"IF($AB12=0,0,AC11*(1+Simulador!$D$34)+F12+M12)","v":0},{"$f":"IF($AB12=0,0,AD11*(1+Simulador!$D$34)+T12)","v":0}]
[{"$f":"IF(OR(A12+1>(IF(Simulador!$E$7=\"Autopatrocínio\",Simulador!$C$10,Simulador!$C$9)-Simulador!$C$8)*12,A12=0),0,A12+1)","v":0},{"$f":"IF($A13=0,0,IF(INT($A12/12)-$A12/12=0,B12*(1+Simulador!$C$35),B12))","v":0},{"$f":"MAX(IF(A13=0,0,B13-IF(Simulador!$C$11=\"Individual\",0,Simulador!$C$14)),0)","v":0},null,0,0,0,0,0,0,null,0,0,0,0,0,0,null,0,0,0,0,0,null,{"$f":"IF(OR(Y12+1>(IF(AND(Simulador!$C$9<Simulador!$C$10,OR(Simulador!$E$7=\"Resgate\",Simulador!$E$7=\"Portabilidade\")),Simulador!$C$9,Simulador!$C$10)-Simulador!$C$8)*12,Y12=0),0,Y12+1)","v":9},{"$f":"IF($Y13=0,0,Z12*(1+Simulador!$D$34)+E13+L13)","v":0},{"$f":"IF($Y13=0,0,AA12*(1+Simulador!$D$34)+S13)","v":0},{"$f":"IF(OR(AB12+1>(IF(AND(Simulador!$C$9<Simulador!$C$10,OR(Simulador!$E$7=\"Resgate\",Simulador!$E$7=\"Portabilidade\")),Simulador!$C$9,Simulador!$C$50)-Simulador!$C$8)*12,AB12=0),0,AB12+1)","v":9},{"$f":"IF($AB13=0,0,AC12*(1+Simulador!$D$34)+F13+M13)","v":0},{"$f":"IF($AB13=0,0,AD12*(1+Simulador!$D$34)+T13)","v":0}]
[{"$f":"IF(OR(A13+1>(IF(Simulador!$E$7=\"Autopatrocínio\",Simulador!$C$10,Simulador!$C$9)-Simulador!$C$8)*12,A13=0),0,A13+1)","v":0},{"$f":"IF($A14=0,0,IF(INT($A13/12)-$A13/12=0,B13*(1+Simulador!$C$35),B13))","v":0},{"$f":"MAX(IF(A14=0,0,B14-IF(Simulador!$C$11=\"Individual\",0,Simulador!$C$14)),0)","v":0},null,0,0,0,0,0,0,null,0,0,0,0,0,0,null,0,0,0,0,0,null,{"$f":"IF(OR(Y13+1>(IF(AND(Simulador!$C$9<Simulador!$C$10,OR(Simulador!$E$7=\"Resgate\",Simulador!$E$7=\"Portabilidade\")),Simulador!$C$9,Simulador!$C$10)-Simulador!$C$8)*12,Y13=0),0,Y13+1)","v":10},{"$f":"IF($Y14=0,0,Z13*(1+Simulador!$D$34)+E14+L14)","v":0},{"$f":"IF($Y14=0,0,AA13*(1+Simulador!$D$34)+S14)","v":0},{"$f":"IF(OR(AB13+1>(IF(AND(Simulador!$C$9<Simulador!$C$10,OR(Simulador!$E$7=\"Resgate\",Simulador!$E$7=\"Portabilidade\")),Simulador!$C$9,Simulador!$C$50)-Simulador!$C$8)*12,AB13=0),0,AB13+1)","v":10},{"$f":"IF($AB14=0,0,AC13*(1+Simulador!$D$34)+F14+M14)","v":0},{"$f":"IF($AB14=0,0,AD13*(1+Simulador!$D$34)+T14)","v":0}]
[{"$f":"IF(OR(A14+1>(IF(Simulador!$E$7=\"Autopatrocínio\",Simulador!$C$10,Simulador!$C$9)-Simulador!$C$8)*12,A14=0),0,A14+1)","v":0},{"$f":"IF($A15=0,0,IF(INT($A14/12)-$A14/12=0,B14*(1+Simulador!$C$35),B14))","v":0},{"$f":"MAX(IF(A15=0,0,B15-IF(Simulador!$C$11=\"Individual\",0,Simulador!$C$14)),0)","v":0},null,{"$f":"E$4*$C15*(1+$J15)","v":0},0,0,0,0,0,null,{"$f":"L$4*$C15*$Q15","v":0},0,0,0,0,0,null,0,0,0,0,0,null,{"$f":"IF(OR(Y14+1>(IF(AND(Simulador!$C$9<Simulador!$C$10,OR(Simulador!$E$7=\"Resgate\",Simulador!$E$7=\"Portabilidade\")),Simulador!$C$9,Simulador!$C$10)-Simulador!$C$8)*12,Y14=0),0,Y14+1)","v":11},{"$f":"IF($Y15=0,0,Z14*(1+Simulador!$D$34)+E15+L15)","v":0},{"$f":"IF($Y15=0,0,AA14*(1+Simulador!$D$34)+S15)","v":0},{"$f":"IF(OR(AB14+1>(IF(AND(Simulador!$C$9<Simulador!$C$10,OR(Simulador!$E$7=\"Resgate\",Simulador!$E$7=\"Portabilidade\")),Simulador!$C$9,Simulador!$C$50)-Simulador!$C$8)*12,AB14=0),0,AB14+1)","v":11},{"$f":"IF($AB15=0,0,AC14*(1+Simulador!$D$34)+F15+M15)","v":0},{"$f":"IF($AB15=0,0,AD14*(1+Simulador!$D$34)+T15)","v":0}]
[{"$f":"IF(OR(A15+1>(IF(Simulador!$E$7=\"Autopatrocínio\",Simulador!$C$10,Simulador!$C$9)-Simulador!$C$8)*12,A15=0),0,A15+1)","v":0},{"$f":"IF($A16=0,0,IF(INT($A15/12)-$A15/12=0,B15*(1+Simulador!$C$35),B15))","v":0},{"$f":"MAX(IF(A16=0,0,B16-IF(Simulador!$C$11=\"Individual\",0,Simulador!$C$14)),0)","v":0},null,0,0,0,0,0,0,null,0,0,0,0,0,0,null,0,0,0,0,0,null,{"$f":"IF(OR(Y15+1>(IF(AND(Simulador!$C$9<Simulador!$C$10,OR(Simulador!$E$7=\"Resgate\",Simulador!$E$7=\"Portabilidade\")),Simulador!$C$9,Simulador!$C$10)-Simulador!$C$8)*12,Y15=0),0,Y15+1)","v":12},{"$f":"IF($Y16=0,0,Z15*(1+Simulador!$D$34)+E16+L16)","v":0},{"$f":"IF($Y16=0,0,AA15*(1+Simulador!$D$34)+S16)","v":0},{"$f":"IF(OR(AB15+1>(IF(AND(Simulador!$C$9<Simulador!$C$10,OR(Simulador!$E$7=\"Resgate\",Simulador!$E$7=\"Portabilidade\")),Simulador!$C$9,Simulador!$C$50)-Simulador!$C$8)*12,AB15=0),0,AB15+1)","v":12},{"$f":"IF($AB16=0,0,AC15*(1+Simulador!$D$34)+F16+M16)","v":0},{"$f":"IF($AB16=0,0,AD15*(1+Simulador!$D$34)+T16)","v":0}]
[{"$f":"IF(OR(A16+1>(IF(Simulador!$E$7=\"Autopatrocínio\",Simulador!$C$10,Simulador!$C$9)-Simulador!$C$8)*12,A16=0),0,A16+1)","v":0},{"$f":"IF($A17=0,0,IF(INT($A16/12)-$A16/12=0,B16*(1+Simulador!$C$35),B16))","v":0},{"$f":"MAX(IF(A17=0,0,B17-IF(Simulador!$C$11=\"Individual\",0,Simulador!$C$14)),0)","v":0},null,0,0,0,0,0,0,null,0,0,0,0,0,0,null,0,0,0,0,0,null,{"$f":"IF(OR(Y16+1>(IF(AND(Simulador!$C$9<Simulador!$C$10,OR(Simulador!$E$7=\"Resgate\",Simulador!$E$7=\"Portabilidade\")),Simulador!$C$9,Simulador!$C$10)-Simulador!$C$8)*12,Y16=0),0,Y16+1)","v":13},{"$f":"IF($Y17=0,0,Z16*(1+Simulador!$D$34)+E17+L17)","v":0},{"$f":"IF($Y17=0,0,AA16*(1+Simulador!$D$34)+S17)","v":0},{"$f":"IF(OR(AB16+1>(IF(AND(Simulador!$C$9<Simulador!$C$10,OR(Simulador!$E$7=\"Resgate\",Simulador!$E$7=\"Portabilidade\")),Simulador!$C$9,Simulador!$C$50)-Simulador!$C$8)*12,AB16=0),0,AB16+1)","v":13},{"$f":"IF($AB17=0,0,AC16*(1+Simulador!$D$34)+F17+M17)","v":0},{"$f":"IF($AB17=0,0,AD16*(1+Simulador!$D$34)+T17)","v":0}]
[{"$f":"IF(OR(A17+1>(IF(Simulador!$E$7=\"Autopatrocínio\",Simulador!$C$10,Simulador!$C$9)-Simulador!$C$8)*12,A17=0),0,A17+1)","v":0},{"$f":"IF($A18=0,0,IF(INT($A17/12)-$A17/12=0,B17*(1+Simulador!$C$35),B17))","v":0},{"$f":"MAX(IF(A18=0,0,B18-IF(Simulador!$C$11=\"Individual\",0,Simulador!$C$14)),0)","v":0},null,0,0,0,0,0,0,null,0,0,0,0,0,0,null,0,0,0,0,0,null,{"$f":"IF(OR(Y17+1>(IF(AND(Simulador!$C$9<Simulador!$C$10,OR(Simulador!$E$7=\"Resgate\",Simulador!$E$7=\"Portabilidade\")),Simulador!$C$9,Simulador!$C$10)-Simulador!$C$8)*12,Y17=0),0,Y17+1)","v":14},{"$f":"IF($Y18=0,0,Z17*(1+Simulador!$D$34)+E18+L18)","v":0},{"$f":"IF($Y18=0,0,AA17*(1+Simulador!$D$34)+S18)","v":0},{"$f":"IF(OR(AB17+1>(IF(AND(Simulador!$C$9<Simulador!$C$10,OR(Simulador!$E$7=\"Resgate\",Simulador!$E$7=\"Portabilidade\")),Simulador!$C$9,Simulador!$C$50)-Simulador!$C$8)*12,AB17=0),0,AB17+1)","v":14},{"$f":"IF($AB18=0,0,AC17*(1+Simulador!$D$34)+F18+M18)","v":0},{"$f":"IF($AB18=0,0,AD17*(1+Simulador!$D$34)+T18)","v":0}]
[{"$f":"IF(OR(A18+1>(IF(Simulador!$E$7=\"Autopatrocínio\",Simulador!$C$10,Simulador!$C$9)-Simulador!$C$8)*12,A18=0),0,A18+1)","v":0},{"$f":"IF($A19=0,0,IF(INT($A18/12)-$A18/12=0,B18*(1+Simulador!$C$35),B18))","v":0},{"$f":"MAX(IF(A19=0,0,B19-IF(Simulador!$C$11=\"Individual\",0,Simulador!$C$14)),0)","v":0},null,0,0,0,0,0,0,null,0,0,0,0,0,0,null,0,0,0,0,0,null,{"$f":"IF(OR(Y18+1>(IF(AND(Simulador!$C$9<Simulador!$C$10,OR(Simulador!$E$7=\"Resgate\",Simulador!$E$7=\"Portabilidade\")),Simulador!$C$9,Simulador!$C$10)-Simulador!$C$8)*12,Y18=0),0,Y18+1)","v":15},{"$f":"IF($Y19=0,0,Z18*(1+Simulador!$D$34)+E19+L19)","v":0},{"$f":"IF($Y19=0,0,AA18*(1+Simulador!$D$34)+S19)","v":0},{"$f":"IF(OR(AB18+1>(IF(AND(Simulador!$C$9<Simulador!$C$10,OR(Simulador!$E$7=\"Resgate\",Simulador!$E$7=\"Portabilidade\")),Simulador!$C$9,Simulador!$C$50)-Simulador!$C$8)*12,AB18=0),0,AB18+1)","v":15},{"$f":"IF($AB19=0,0,AC18*(1+Simulador!$D$34)+F19+M19)","v":0},{"$f":"IF($AB19=0,0,AD18*(1+Simulador!$D$34)+T19)","v":0}]
[{"$f":"IF(OR(A19+1>(IF(Simulador!$E$7=\"Autopatrocínio\",Simulador!$C$10,Simulador!$C$9)-Simulador!$C$8)*12,A19=0),0,A19+1)","v":0},{"$f":"IF($A20=0,0,IF(INT($A19/12)-$A19/12=0,B19*(1+Simulador!$C$35),B19))","v":0},{"$f":"MAX(IF(A20=0,0,B20-IF(Simulador!$C$11=\"Individual\",0,Simulador!$C$14)),0)","v":0},null,0,0,0,0,0,0,null,0,0,0,0,0,0,null,0,0,0,0,0,null,{"$f":"IF(OR(Y19+1>(IF(AND(Simulador!$C$9<Simulador!$C$10,OR(Simulador!$E$7=\"Resgate\",Simulador!$E$7=\"Portabilidade\")),Simulador!$C$9,Simulador!$C$10)-Simulador!$C$8)*12,Y19=0),0,Y19+1)","v":16},{"$f":"IF($Y20=0,0,Z19*(1+Simulador!$D$34)+E20+L20)","v":0},{"$f":"IF($Y20=0,0,AA19*(1+Simulador!$D$34)+S20)","v":0},{"$f":"IF(OR(AB19+1>(IF(AND(Simulador!$C$9<Simulador!$C$10,OR(Simulador!$E$7=\"Resgate\",Simulador!$E$7=\"Portabilidade\")),Simulador!$C$9,Simulador!$C$50)-Simulador!$C$8)*12,AB19=0),0,AB19+1)","v":16},{"$f":"IF($AB20=0,0,AC19*(1+Simulador!$D$34)+F20+M20)","v":0},{"$f":"IF($AB20=0,0,AD19*(1+Simulador!$D$34)+T20)","v":0}]
[{"$f":"IF(OR(A20+1>(IF(Simulador!$E$7=\"Autopatrocínio\",Simulador!$C$10,Simulador!$C$9)-Simulador!$C$8)*12,A20=0),0,A20+1)","v":0},{"$f":"IF($A21=0,0,IF(INT($A20/12)-$A20/12=0,B20*(1+Simulador!$C$35),B20))","v":0},{"$f":"MAX(IF(A21=0,0,B21-IF(Simulador!$C$11=\"Individual\",0,Simulador!$C$14)),0)","v":0},null,0,0,0,0,0,0,null,0,0,0,0,0,0,null,{"$f":"S$4*$C21*(1+$J21)","v":0},0,0,0,0,null,{"$f":"IF(OR(Y20+1>(IF(AND(Simulador!$C$9<Simulador!$C$10,OR(Simulador!$E$7=\"Resgate\",Simulador!$E$7=\"Portabilidade\")),Simulador!$C$9,Simulador!$C$10)-Simulador!$C$8)*12,Y20=0),0,Y20+1)","v":17},{"$f":"IF($Y21=0,0,Z20*(1+Simulador!$D$34)+E21+L21)","v":0},{"$f":"IF($Y21=0,0,AA20*(1+Simulador!$D$34)+S21)","v":0},{"$f":"IF(OR(AB20+1>(IF(AND(Simulador!$C$9<Simulador!$C$10,OR(Simulador!$E$7=\"Resgate\",Simulador!$E$7=\"Portabilidade\")),Simulador!$C$9,Simulador!$C$50)-Simulador!$C$8)*12,AB20=0),0,AB20+1)","v":17},{"$f":"IF($AB21=0,0,AC20*(1+Simulador!$D$34)+F21+M21)","v":0},{"$f":"IF($AB21=0,0,AD20*(1+Simulador!$D$34)+T21)","v":0}]
[{"$f":"IF(OR(A21+1>(IF(Simulador!$E$7=\"Autopatrocínio\",Simulador!$C$10,Simulador!$C$9)-Simulador!$C$8)*12,A21=0),0,A21+1)","v":0},{"$f":"IF($A22=0,0,IF(INT($A21/12)-$A21/12=0,B21*(1+Simulador!$C$35),B21))","v":0},{"$f":"MAX(IF(A22=0,0,B22-IF(Simulador!$C$11=\"Individual\",0,Simulador!$C$14)),0)","v":0},null,0,0,0,0,0,0,null,0,0,0,0,0,0,null,0,0,0,0,0,null,{"$f":"IF(OR(Y21+1>(IF(AND(Simulador!$C$9<Simulador!$C$10,OR(Simulador!$E$7=\"Resgate\",Simulador!$E$7=\"Portabilidade\")),Simulador!$C$9,Simulador!$C$10)-Simulador!$C$8)*12,Y21=0),0,Y21+1)","v":18},{"$f":"IF($Y22=0,0,Z21*(1+Simulador!$D$34)+E22+L22)","v":0},{"$f":"IF($Y22=0,0,AA21*(1+Simulador!$D$34)+S22)","v":0},{"$f":"IF(OR(AB21+1>(IF(AND(Simulador!$C$9<Simulador!$C$10,OR(Simulador!$E$7=\"Resgate\",Simulador!$E$7=\"Portabilidade\")),Simulador!$C$9,Simulador!$C$50)-Simulador!$C$8)*12,AB21=0),0,AB21+1)","v":18},{"$f":"IF($AB22=0,0,AC21*(1+Simulador!$D$34)+F22+M22)","v":0},{"$f":"IF($AB22=0,0,AD21*(1+Simulador!$D$34)+T22)","v":0}]
[{"$f":"IF(OR(A22+1>(IF(Simulador!$E$7=\"Autopatrocínio\",Simulador!$C$10,Simulador!$C$9)-Simulador!$C$8)*12,A22=0),0,A22+1)","v":0},{"$f":"IF($A23=0,0,IF(INT($A22/12)-$A22/12=0,B22*(1+Simulador!$C$35),B22))","v":0},{"$f":"MAX(IF(A23=0,0,B23-IF(Simulador!$C$11=\"Individual\",0,Simulador!$C$14)),0)","v":0},null,0,0,0,0,0,0,null,0,0,0,0,0,0,null,0,0,0,0,0,null,{"$f":"IF(OR(Y22+1>(IF(AND(Simulador!$C$9<Simulador!$C$10,OR(Simulador!$E$7=\"Resgate\",Simulador!$E$7=\"Portabilidade\")),Simulador!$C$9,Simulador!$C$10)-Simulador!$C$8)*12,Y22=0),0,Y22+1)","v":19},{"$f":"IF($Y23=0,0,Z22*(1+Simulador!$D$34)+E23+L23)","v":0},{"$f":"IF($Y23=0,0,AA22*(1+Simulador!$D$34)+S23)","v":0},{"$f":"IF(OR(AB22+1>(IF(AND(Simulador!$C$9<Simulador!$C$10,OR(Simulador!$E$7=\"Resgate\",Simulador!$E$7=\"Portabilidade\")),Simulador!$C$9,Simulador!$C$50)-Simulador!$C$8)*12,AB22=0),0,AB22+1)","v":19},{"$f":"IF($AB23=0,0,AC22*(1+Simulador!$D$34)+F23+M23)","v":0},{"$f":"IF($AB23=0,0,AD22*(1+Simulador!$D$34)+T23)","v":0}]
[{"$f":"IF(OR(A23+1>(IF(Simulador!$E$7=\"Autopatrocínio\",Simulador!$C$10,Simulador!$C$9)-Simulador!$C$8)*12,A23=0),0,A23+1)","v":0},{"$f":"IF($A24=0,0,IF(INT($A23/12)-$A23/12=0,B23*(1+Simulador!$C$35),B23))","v":0},{"$f":"MAX(IF(A24=0,0,B24-IF(Simulador!$C$11=\"Individual\",0,Simulador!$C$14)),0)","v":0},null,0,0,0,0,0,0,null,0,0,0,0,0,0,null,0,0,0,0,0,null,{"$f":"IF(OR(Y23+1>(IF(AND(Simulador!$C$9<Simulador!$C$10,OR(Simulador!$E$7=\"Resgate\",Simulador!$E$7=\"Portabilidade\")),Simulador!$C$9,Simulador!$C$10)-Simulador!$C$8)*12,Y23=0),0,Y23+1)","v":20},{"$f":"IF($Y24=0,0,Z23*(1+Simulador!$D$34)+E24+L24)","v":0},{"$f":"IF($Y24=0,0,AA23*(1+Simulador!$D$34)+S24)","v":0},{"$f":"IF(OR(AB23+1>(IF(AND(Simulador!$C$9<Simulador!$C$10,OR(Simulador!$E$7=\"Resgate\",Simulador!$E$7=\"Portabilidade\")),Simulador!$C$9,Simulador!$C$50)-Simulador!$C$8)*12,AB23=0),0,AB23+1)","v":20},{"$f":"IF($AB24=0,0,AC23*(1+Simulador!$D$34)+F24+M24)","v":0},{"$f":"IF($AB24=0,0,AD23*(1+Simulador!$D$34)+T24)","v":0}]
[{"$f":"IF(OR(A24+1>(IF(Simulador!$E$7=\"Autopatrocínio\",Simulador!$C$10,Simulador!$C$9)-Simulador!$C$8)*12,A24=0),0,A24+1)","v":0},{"$f":"IF($A25=0,0,IF(INT($A24/12)-$A24/12=0,B24*(1+Simulador!$C$35),B24))","v":0},{"$f":"MAX(IF(A25=0,0,B25-IF(Simulador!$C$11=\"Individual\",0,Simulador!$C$14)),0)","v":0},null,{"$f":"E$4*$C25*(1+$J25)","v":0},0,0,0,0,0,null,{"$f":"L$4*$C25*$Q25","v":0},0,0,0,0,0,null,0,0,0,0,0,null,{"$f":"IF(OR(Y24+1>(IF(AND(Simulador!$C$9<Simulador!$C$10,OR(Simulador!$E$7=\"Resgate\",Simulador!$E$7=\"Portabilidade\")),Simulador!$C$9,Simulador!$C$10)-Simulador!$C$8)*12,Y24=0),0,Y24+1)","v":21},{"$f":"IF($Y25=0,0,Z24*(1+Simulador!$D$34)+E25+L25)","v":0},{"$f":"IF($Y25=0,0,AA24*(1+Simulador!$D$34)+S25)","v":0},{"$f":"IF(OR(AB24+1>(IF(AND(Simulador!$C$9<Simulador!$C$10,OR(Simulador!$E$7=\"Resgate\",Simulador!$E$7=\"Portabilidade\")),Simulador!$C$9,Simulador!$C$50)-Simulador!$C$8)*12,AB24=0),0,AB24+1)","v":21},{"$f":"IF($AB25=0,0,AC24*(1+Simulador!$D$34)+F25+M25)","v":0},{"$f":"IF($AB25=0,0,AD24*(1+Simulador!$D$34)+T25)","v":0}]
[{"$f":"IF(OR(A25+1>(IF(Simulador!$E$7=\"Autopatrocínio\",Simulador!$C$10,Simulador!$C$9)-Simulador!$C$8)*12,A25=0),0,A25+1)","v":0},{"$f":"IF($A26=0,0,IF(INT($A25/12)-$A25/12=0,B25*(1+Simulador!$C$35),B25))","v":0},{"$f":"MAX(IF(A26=0,0,B26-IF(Simulador!$C$11=\"Individual\",0,Simulador!$C$14)),0)","v":0},null,0,0,0,0,0,0,null,0,0,0,0,0,0,null,0,0,0,0,0,null,{"$f":"IF(OR(Y25+1>(IF(AND(Simulador!$C$9<Simulador!$C$10,OR(Simulador!$E$7=\"Resgate\",Simulador!$E$7=\"Portabilidade\")),Simulador!$C$9,Simulador!$C$10)-Simulador!$C$8)*12,Y25=0),0,Y25+1)","v":22},{"$f":"IF($Y26=0,0,Z25*(1+Simulador!$D$34)+E26+L26)","v":0},{"$f":"IF($Y26=0,0,AA25*(1+Simulador!$D$34)+S26)","v":0},{"$f":"IF(OR(AB25+1>(IF(AND(Simulador!$C$9<Simulador!$C$10,OR(Simulador!$E$7=\"Resgate\",Simulador!$E$7=\"Portabilidade\")),Simulador!$C$9,Simulador!$C$50)-Simulador!$C$8)*12,AB25=0),0,AB25+1)","v":22},{"$f":"IF($AB26=0,0,AC25*(1+Simulador!$D$34)+F26+M26)","v":0},{"$f":"IF($AB26=0,0,AD25*(1+Simulador!$D$34)+T26)","v":0}]
[{"$f":"IF(OR(A26+1>(IF(Simulador!$E$7=\"Autopatrocínio\",Simulador!$C$10,Simulador!$C$9)-Simulador!$C$8)*12,A26=0),0,A26+1)","v":0},{"$f":"IF($A27=0,0,IF(INT($A26/12)-$A26/12=0,B26*(1+Simulador!$C$35),B26))","v":0},{"$f":"MAX(IF(A27=0,0,B27-IF(Simulador!$C$11=\"Individual\",0,Simulador!$C$14)),0)","v":0},null,0,0,0,0,0,0,null,0,0,0,0,0,0,null,0,0,0,0,0,null,{"$f":"IF(OR(Y26+1>(IF(AND(Simulador!$C$9<Simulador!$C$10,OR(Simulador!$E$7=\"Resgate\",Simulador!$E$7=\"Portabilidade\")),Simulador!$C$9,Simulador!$C$10)-Simulador!$C$8)*12,Y26=0),0,Y26+1)","v":23},{"$f":"IF($Y27=0,0,Z26*(1+Simulador!$D$34)+E27+L27)","v":0},{"$f":"IF($Y27=0,0,AA26*(1+Simulador!$D$34)+S27)","v":0},{"$f":"IF(OR(AB26+1>(IF(AND(Simulador!$C$9<Simulador!$C$10,OR(Simulador!$E$7=\"Resgate\",Simulador!$E$7=\"Portabilidade\")),Simulador!$C$9,Simulador!$C$50)-Simulador!$C$8)*12,AB26=0),0,AB26+1)","v":23},{"$f":"IF($AB27=0,0,AC26*(1+Simulador!$D$34)+F27+M27)","v":0},{"$f":"IF($AB27=0,0,AD26*(1+Simulador!$D$34)+T27)","v":0}]
[{"$f":"IF(OR(A27+1>(IF(Simulador!$E$7=\"Autopatrocínio\",Simulador!$C$10,Simulador!$C$9)-Simulador!$C$8)*12,A27=0),0,A27+1)","v":0},{"$f":"IF($A28=0,0,IF(INT($A27/12)-$A27/12=0,B27*(1+Simulador!$C$35),B27))","v":0},{"$f":"MAX(IF(A28=0,0,B28-IF(Simulador!$C$11=\"Individual\",0,Simulador!$C$14)),0)","v":0},null,0,0,0,0,0,0,null,0,0,0,0,0,0,null,0,0,0,0,0,null,{"$f":"IF(OR(Y27+1>(IF(AND(Simulador!$C$9<Simulador!$C$10,OR(Simulador!$E$7=\"Resgate\",Simulador!$E$7=\"Portabilidade\")),Simulador!$C$9,Simulador!$C$10)-Simulador!$C$8)*12,Y27=0),0,Y27+1)","v":24},{"$f":"IF($Y28=0,0,Z27*(1+Simulador!$D$34)+E28+L28)","v":0},{"$f":"IF($Y28=0,0,AA27*(1+Simulador!$D$34)+S28)","v":0},{"$f":"IF(OR(AB27+1>(IF(AND(Simulador!$C$9<Simulador!$C$10,OR(Simulador!$E$7=\"Resgate\",Simulador!$E$7=\"Portabilidade\")),Simulador!$C$9,Simulador!$C$50)-Simulador!$C$8)*12,AB27=0),0,AB27+1)","v":24},{"$f":"IF($AB28=0,0,AC27*(1+Simulador!$D$34)+F28+M28)","v":0},{"$f":"IF($AB28=0,0,AD27*(1+Simulador!$D$34)+T28)","v":0}]
[{"$f":"IF(OR(A28+1>(IF(Simulador!$E$7=\"Autopatrocínio\",Simulador!$C$10,Simulador!$C$9)-Simulador!$C$8)*12,A28=0),0,A28+1)","v":0},{"$f":"IF($A29=0,0,IF(INT($A28/12)-$A28/12=0,B28*(1+Simulador!$C$35),B28))","v":0},{"$f":"MAX(IF(A29=0,0,B29-IF(Simulador!$C$11=\"Individual\",0,Simulador!$C$14)),0)","v":0},null,0,0,0,0,0,0,null,0,0,0,0,0,0,null,0,0,0,0,0,null,{"$f":"IF(OR(Y28+1>(IF(AND(Simulador!$C$9<Simulador!$C$10,OR(Simulador!$E$7=\"Resgate\",Simulador!$E$7=\"Portabilidade\")),Simulador!$C$9,Simulador!$C$10)-Simulador!$C$8)*12,Y28=0),0,Y28+1)","v":25},{"$f":"IF($Y29=0,0,Z28*(1+Simulador!$D$34)+E29+L29)","v":0},{"$f":"IF($Y29=0,0,AA28*(1+Simulador!$D$34)+S29)","v":0},{"$f":"IF(OR(AB28+1>(IF(AND(Simulador!$C$9<Simulador!$C$10,OR(Simulador!$E$7=\"Resgate\",Simulador!$E$7=\"Portabilidade\")),Simulador!$C$9,Simulador!$C$50)-Simulador!$C$8)*12,AB28=0),0,AB28+1)","v":25},{"$f":"IF($AB29=0,0,AC28*(1+Simulador!$D$34)+F29+M29)","v":0},{"$f":"IF($AB29=0,0,AD28*(1+Simulador!$D$34)+T29)","v":0}]
[{"$f":"IF(OR(A29+1>(IF(Simulador!$E$7=\"Autopatrocínio\",Simulador!$C$10,Simulador!$C$9)-Simulador!$C$8)*12,A29=0),0,A29+1)","v":0},{"$f":"IF($A30=0,0,IF(INT($A29/12)-$A29/12=0,B29*(1+Simulador!$C$35),B29))","v":0},{"$f":"MAX(IF(A30=0,0,B30-IF(Simulador!$C$11=\"Individual\",0,Simulador!$C$14)),0)","v":0},null,0,0,0,0,0,0,null,0,0,0,0,0,0,null,0,0,0,0,0,null,{"$f":"IF(OR(Y29+1>(IF(AND(Simulador!$C$9<Simulador!$C$10,OR(Simulador!$E$7=\"Resgate\",Simulador!$E$7=\"Portabilidade\")),Simulador!$C$9,Simulador!$C$10)-Simulador!$C$8)*12,Y29=0),0,Y29+1)","v":26},{"$f":"IF($Y30=0,0,Z29*(1+Simulador!$D$34)+E30+L30)","v":0},{"$f":"IF($Y30=0,0,AA29*(1+Simulador!$D$34)+S30)","v":0},{"$f":"IF(OR(AB29+1>(IF(AND(Simulador!$C$9<Simulador!$C$10,OR(Simulador!$E$7=\"Resgate\",Simulador!$E$7=\"Portabilidade\")),Simulador!$C$9,Simulador!$C$50)-Simulador!$C$8)*12,AB29=0),0,AB29+1)","v":26},{"$f":"IF($AB30=0,0,AC29*(1+Simulador!$D$34)+F30+M30)","v":0},{"$f":"IF($AB30=0,0,AD29*(1+Simulador!$D$34)+T30)","v":0}]
[{"$f":"IF(OR(A30+1>(IF(Simulador!$E$7=\"Autopatrocínio\",Simulador!$C$10,Simulador!$C$9)-Simulador!$C$8)*12,A30=0),0,A30+1)","v":0},{"$f":"IF($A31=0,0,IF(INT($A30/12)-$A30/12=0,B30*(1+Simulador!$C$35),B30))","v":0},{"$f":"MAX(IF(A31=0,0,B31-IF(Simulador!$C$11=\"Individual\",0,Simulador!$C$14)),0)","v":0},null,0,0,0,0,0,0,null,0,0,0,0,0,0,null,0,0,0,0,0,null,{"$f":"IF(OR(Y30+1>(IF(AND(Simulador!$C$9<Simulador!$C$10,OR(Simulador!$E$7=\"Resgate\",Simulador!$E$7=\"Portabilidade\")),Simulador!$C$9,Simulador!$C$10)-Simulador!$C$8)*12,Y30=0),0,Y30+1)","v":27},{"$f":"IF($Y31=0,0,Z30*(1+Simulador!$D$34)+E31+L31)","v":0},{"$f":"IF($Y31=0,0,AA30*(1+Simulador!$D$34)+S31)","v":0},{"$f":"IF(OR(AB30+1>(IF(AND(Simulador!$C$9<Simulador!$C$10,OR(Simulador!$E$7=\"Resgate\",Simulador!$E$7=\"Portabilidade\")),Simulador!$C$9,Simulador!$C$50)-Simulador!$C$8)*12,AB30=0),0,AB30+1)","v":27},{"$f":"IF($AB31=0,0,AC30*(1+Simulador!$D$34)+F31+M31)","v":0},{"$f":"IF($AB31=0,0,AD30*(1+Simulador!$D$34)+T31)","v":0}]
[{"$f":"IF(OR(A31+1>(IF(Simulador!$E$7=\"Autopatrocínio\",Simulador!$C$10,Simulador!$C$9)-Simulador!$C$8)*12,A31=0),0,A31+1)","v":0},{"$f":"IF($A32=0,0,IF(INT($A31/12)-$A31/12=0,B31*(1+Simulador!$C$35),B31))","v":0},{"$f":"MAX(IF(A32=0,0,B32-IF(Simulador!$C$11=\"Individual\",0,Simulador!$C$14)),0)","v":0},null,0,0,0,0,0,0,null,0,0,0,0,0,0,null,0,0,0,0,0,null,{"$f":"IF(OR(Y31+1>(IF(AND(Simulador!$C$9<Simulador!$C$10,OR(Simulador!$E$7=\"Resgate\",Simulador!$E$7=\"Portabilidade\")),Simulador!$C$9,Simulador!$C$10)-Simulador!$C$8)*12,Y31=0),0,Y31+1)","v":28},{"$f":"IF($Y32=0,0,Z31*(1+Simulador!$D$34)+E32+L32)","v":0},{"$f":"IF($Y32=0,0,AA31*(1+Simulador!$D$34)+S32)","v":0},{"$f":"IF(OR(AB31+1>(IF(AND(Simulador!$C$9<Simulador!$C$10,OR(Simulador!$E$7=\"Resgate\",Simulador!$E$7=\"Portabilidade\")),Simulador!$C$9,Simulador!$C$50)-Simulador!$C$8)*12,AB31=0),0,AB31+1)","v":28},{"$f":"IF($AB32=0,0,AC31*(1+Simulador!$D$34)+F32+M32)","v":0},{"$f":"IF($AB32=0,0,AD31*(1+Simulador!$D$34)+T32)","v":0}]
[{"$f":"IF(OR(A32+1>(IF(Simulador!$E$7=\"Autopatrocínio\",Simulador!$C$10,Simulador!$C$9)-Simulador!$C$8)*12,A32=0),0,A32+1)","v":0},{"$f":"IF($A33=0,0,IF(INT($A32/12)-$A32/12=0,B32*(1+Simulador!$C$35),B32))","v":0},{"$f":"MAX(IF(A33=0,0,B33-IF(Simulador!$C$11=\"Individual\",0,Simulador!$C$14)),0)","v":0},null,0,0,0,0,0,0,null,0,0,0,0,0,0,null,0,0,0,0,0,null,{"$f":"IF(OR(Y32+1>(IF(AND(Simulador!$C$9<Simulador!$C$10,OR(Simulador!$E$7=\"Resgate\",Simulador!$E$7=\"Portabilidade\")),Simulador!$C$9,Simulador!$C$10)-Simulador!$C$8)*12,Y32=0),0,Y32+1)","v":29},{"$f":"IF($Y33=0,0,Z32*(1+Simulador!$D$34)+E33+L33)","v":0},{"$f":"IF($Y33=0,0,AA32*(1+Simulador!$D$34)+S33)","v":0},{"$f":"IF(OR(AB32+1>(IF(AND(Simulador!$C$9<Simulador!$C$10,OR(Simulador!$E$7=\"Resgate\",Simulador!$E$7=\"Portabilidade\")),Simulador!$C$9,Simulador!$C$50)-Simulador!$C$8)*12,AB32=0),0,AB32+1)","v":29},{"$f":"IF($AB33=0,0,AC32*(1+Simulador!$D$34)+F33+M33)","v":0},{"$f":"IF($AB33=0,0,AD32*(1+Simulador!$D$34)+T33)","v":0}]
[{"$f":"IF(OR(A33+1>(IF(Simulador!$E$7=\"Autopatrocínio\",Simulador!$C$10,Simulador!$C$9)-Simulador!$C$8)*12,A33=0),0,A33+1)","v":0},{"$f":"IF($A34=0,0,IF(INT($A33/12)-$A33/12=0,B33*(1+Simulador!$C$35),B33))","v":0},{"$f":"MAX(IF(A34=0,0,B34-IF(Simulador!$C$11=\"Individual\",0,Simulador!$C$14)),0)","v":0},null,0,0,0,0,0,0,null,0,0,0,0,0,0,null,0,0,0,0,0,null,{"$f":"IF(OR(Y33+1>(IF(AND(Simulador!$C$9<Simulador!$C$10,OR(Simulador!$E$7=\"Resgate\",Simulador!$E$7=\"Portabilidade\")),Simulador!$C$9,Simulador!$C$10)-Simulador!$C$8)*12,Y33=0),0,Y33+1)","v":30},{"$f":"IF($Y34=0,0,Z33*(1+Simulador!$D$34)+E34+L34)","v":0},{"$f":"IF($Y34=0,0,AA33*(1+Simulador!$D$34)+S34)","v":0},{"$f":"IF(OR(AB33+1>(IF(AND(Simulador!$C$9<Simulador!$C$10,OR(Simulador!$E$7=\"Resgate\",Simulador!$E$7=\"Portabilidade\")),Simulador!$C$9,Simulador!$C$50)-Simulador!$C$8)*12,AB33=0),0,AB33+1)","v":30},{"$f":"IF($AB34=0,0,AC33*(1+Simulador!$D$34)+F34+M34)","v":0},{"$f":"IF($AB34=0,0,AD33*(1+Simulador!$D$34)+T34)","v":0}]
[{"$f":"IF(OR(A34+1>(IF(Simulador!$E$7=\"Autopatrocínio\",Simulador!$C$10,Simulador!$C$9)-Simulador!$C$8)*12,A34=0),0,A34+1)","v":0},{"$f":"IF($A35=0,0,IF(INT($A34/12)-$A34/12=0,B34*(1+Simulador!$C$35),B34))","v":0},{"$f":"MAX(IF(A35=0,0,B35-IF(Simulador!$C$11=\"Individual\",0,Simulador!$C$14)),0)","v":0},null,{"$f":"E$4*$C35*(1+$J35)","v":0},0,0,0,0,0,null,{"$f":"L$4*$C35*$Q35","v":0},0,0,0,0,0,null,0,0,0,0,0,null,{"$f":"IF(OR(Y34+1>(IF(AND(Simulador!$C$9<Simulador!$C$10,OR(Simulador!$E$7=\"Resgate\",Simulador!$E$7=\"Portabilidade\")),Simulador!$C$9,Simulador!$C$10)-Simulador!$C$8)*12,Y34=0),0,Y34+1)","v":31},{"$f":"IF($Y35=0,0,Z34*(1+Simulador!$D$34)+E35+L35)","v":0},{"$f":"IF($Y35=0,0,AA34*(1+Simulador!$D$34)+S35)","v":0},{"$f":"IF(OR(AB34+1>(IF(AND(Simulador!$C$9<Simulador!$C$10,OR(Simulador!$E$7=\"Resgate\",Simulador!$E$7=\"Portabilidade\")),Simulador!$C$9,Simulador!$C$50)-Simulador!$C$8)*12,AB34=0),0,AB34+1)","v":31},{"$f":"IF($AB35=0,0,AC34*(1+Simulador!$D$34)+F35+M35)","v":0},{"$f":"IF($AB35=0,0,AD34*(1+Simulador!$D$34)+T35)","v":0}]
[{"$f":"IF(OR(A35+1>(IF(Simulador!$E$7=\"Autopatrocínio\",Simulador!$C$10,Simulador!$C$9)-Simulador!$C$8)*12,A35=0),0,A35+1)","v":0},{"$f":"IF($A36=0,0,IF(INT($A35/12)-$A35/12=0,B35*(1+Simulador!$C$35),B35))","v":0},{"$f":"MAX(IF(A36=0,0,B36-IF(Simulador!$C$11=\"Individual\",0,Simulador!$C$14)),0)","v":0},null,0,0,0,0,0,0,null,0,0,0,0,0,0,null,0,0,0,0,0,null,{"$f":"IF(OR(Y35+1>(IF(AND(Simulador!$C$9<Simulador!$C$10,OR(Simulador!$E$7=\"Resgate\",Simulador!$E$7=\"Portabilidade\")),Simulador!$C$9,Simulador!$C$10)-Simulador!$C$8)*12,Y35=0),0,Y35+1)","v":32},{"$f":"IF($Y36=0,0,Z35*(1+Simulador!$D$34)+E36+L36)","v":0},{"$f":"IF($Y36=0,0,AA35*(1+Simulador!$D$34)+S36)","v":0},{"$f":"IF(OR(AB35+1>(IF(AND(Simulador!$C$9<Simulador!$C$10,OR(Simulador!$E$7=\"Resgate\",Simulador!$E$7=\"Portabilidade\")),Simulador!$C$9,Simulador!$C$50)-Simulador!$C$8)*12,AB35=0),0,AB35+1)","v":32},{"$f":"IF($AB36=0,0,AC35*(1+Simulador!$D$34)+F36+M36)","v":0},{"$f":"IF($AB36=0,0,AD35*(1+Simulador!$D$34)+T36)","v":0}]
[{"$f":"IF(OR(A36+1>(IF(Simulador!$E$7=\"Autopatrocínio\",Simulador!$C$10,Simulador!$C$9)-Simulador!$C$8)*12,A36=0),0,A36+1)","v":0},{"$f":"IF($A37=0,0,IF(INT($A36/12)-$A36/12=0,B36*(1+Simulador!$C$35),B36))","v":0},{"$f":"MAX(IF(A37=0,0,B37-IF(Simulador!$C$11=\"Individual\",0,Simulador!$C$14)),0)","v":0},null,0,0,0,0,0,0,null,0,0,0,0,0,0,null,{"$f":"S$4*$C37*(1+$J37)","v":0},0,0,0,0,null,{"$f":"IF(OR(Y36+1>(IF(AND(Simulador!$C$9<Simulador!$C$10,OR(Simulador!$E$7=\"Resgate\",Simulador!$E$7=\"Portabilidade\")),Simulador!$C$9,Simulador!$C$10)-Simulador!$C$8)*12,Y36=0),0,Y36+1)","v":33},{"$f":"IF($Y37=0,0,Z36*(1+Simulador!$D$34)+E37+L37)","v":0},{"$f":"IF($Y37=0,0,AA36*(1+Simulador!$D$34)+S37)","v":0},{"$f":"IF(OR(AB36+1>(IF(AND(Simulador!$C$9<Simulador!$C$10,OR(Simulador!$E$7=\"Resgate\",Simulador!$E$7=\"Portabilidade\")),Simulador!$C$9,Simulador!$C$50)-Simulador!$C$8)*12,AB36=0),0,AB36+1)","v":33},{"$f":"IF($AB37=0,0,AC36*(1+Simulador!$D$34)+F37+M37)","v":0},{"$f":"IF($AB37=0,0,AD36*(1+Simulador!$D$34)+T37)","v":0}]
[{"$f":"IF(OR(A37+1>(IF(Simulador!$E$7=\"Autopatrocínio\",Simulador!$C$10,Simulador!$C$9)-Simulador!$C$8)*12,A37=0),0,A37+1)","v":0},{"$f":"IF($A38=0,0,IF(INT($A37/12)-$A37/12=0,B37*(1+Simulador!$C$35),B37))","v":0},{"$f":"MAX(IF(A38=0,0,B38-IF(Simulador!$C$11=\"Individual\",0,Simulador!$C$14)),0)","v":0},null,0,0,0,0,0,0,null,0,0,0,0,0,0,null,0,0,0,0,0,null,{"$f":"IF(OR(Y37+1>(IF(AND(Simulador!$C$9<Simulador!$C$10,OR(Simulador!$E$7=\"Resgate\",Simulador!$E$7=\"Portabilidade\")),Simulador!$C$9,Simulador!$C$10)-Simulador!$C$8)*12,Y37=0),0,Y37+1)","v":34},{"$f":"IF($Y38=0,0,Z37*(1+Simulador!$D$34)+E38+L38)","v":0},{"$f":"IF($Y38=0,0,AA37*(1+Simulador!$D$34)+S38)","v":0},{"$f":"IF(OR(AB37+1>(IF(AND(Simulador!$C$9<Simulador!$C$10,OR(Simulador!$E$7=\"Resgate\",Simulador!$E$7=\"Portabilidade\")),Simulador!$C$9,Simulador!$C$50)-Simulador!$C$8)*12,AB37=0),0,AB37+1)","v":34},{"$f":"IF($AB38=0,0,AC37*(1+Simulador!$D$34)+F38+M38)","v":0},{"$f":"IF($AB38=0,0,AD37*(1+Simulador!$D$34)+T38)","v":0}]
[{"$f":"IF(OR(A38+1>(IF(Simulador!$E$7=\"Autopatrocínio\",Simulador!$C$10,Simulador!$C$9)-Simulador!$C$8)*12,A38=0),0,A38+1)","v":0},{"$f":"IF($A39=0,0,IF(INT($A38/12)-$A38/12=0,B38*(1+Simulador!$C$35),B38))","v":0},{"$f":"MAX(IF(A39=0,0,B39-IF(Simulador!$C$11=\"Individual\",0,Simulador!$C$14)),0)","v":0},null,0,0,0,0,0,0,null,0,0,0,0,0,0,null,0,0,0,0,0,null,{"$f":"IF(OR(Y38+1>(IF(AND(Simulador!$C$9<Simulador!$C$10,OR(Simulador!$E$7=\"Resgate\",Simulador!$E$7=\"Portabilidade\")),Simulador!$C$9,Simulador!$C$10)-Simulador!$C$8)*12,Y38=0),0,Y38+1)","v":35},{"$f":"IF($Y39=0,0,Z38*(1+Simulador!$D$34)+E39+L39)","v":0},{"$f":"IF($Y39=0,0,AA38*(1+Simulador!$D$34)+S39)","v":0},{"$f":"IF(OR(AB38+1>(IF(AND(Simulador!$C$9<Simulador!$C$10,OR(Simulador!$E$7=\"Resgate\",Simulador!$E$7=\"Portabilidade\")),Simulador!$C$9,Simulador!$C$50)-Simulador!$C$8)*12,AB38=0),0,AB38+1)","v":35},{"$f":"IF($AB39=0,0,AC38*(1+Simulador!$D$34)+F39+M39)","v":0},{"$f":"IF($AB39=0,0,AD38*(1+Simulador!$D$34)+T39)","v":0}]
[{"$f":"IF(OR(A39+1>(IF(Simulador!$E$7=\"Autopatrocínio\",Simulador!$C$10,Simulador!$C$9)-Simulador!$C$8)*12,A39=0),0,A39+1)","v":0},{"$f":"IF($A40=0,0,IF(INT($A39/12)-$A39/12=0,B39*(1+Simulador!$C$35),B39))","v":0},{"$f":"MAX(IF(A40=0,0,B40-IF(Simulador!$C$11=\"Individual\",0,Simulador!$C$14)),0)","v":0},null,0,0,0,0,0,0,null,0,0,0,0,0,0,null,0,0,0,0,0,null,{"$f":"IF(OR(Y39+1>(IF(AND(Simulador!$C$9<Simulador!$C$10,OR(Simulador!$E$7=\"Resgate\",Simulador!$E$7=\"Portabilidade\")),Simulador!$C$9,Simulador!$C$10)-Simulador!$C$8)*12,Y39=0),0,Y39+1)","v":36},{"$f":"IF($Y40=0,0,Z39*(1+Simulador!$D$34)+E40+L40)","v":0},{"$f":"IF($Y40=0,0,AA39*(1+Simulador!$D$34)+S40)","v":0},{"$f":"IF(OR(AB39+1>(IF(AND(Simulador!$C$9<Simulador!$C$10,OR(Simulador!$E$7=\"Resgate\",Simulador!$E$7=\"Portabilidade\")),Simulador!$C$9,Simulador!$C$50)-Simulador!$C$8)*12,AB39=0),0,AB39+1)","v":36},{"$f":"IF($AB40=0,0,AC39*(1+Simulador!$D$34)+F40+M40)","v":0},{"$f":"IF($AB40=0,0,AD39*(1+Simulador!$D$34)+T40)","v":0}]
[{"$f":"IF(OR(A40+1>(IF(Simulador!$E$7=\"Autopatrocínio\",Simulador!$C$10,Simulador!$C$9)-Simulador!$C$8)*12,A40=0),0,A40+1)","v":0},{"$f":"IF($A41=0,0,IF(INT($A40/12)-$A40/12=0,B40*(1+Simulador!$C$35),B40))","v":0},{"$f":"MAX(IF(A41=0,0,B41-IF(Simulador!$C$11=\"Individual\",0,Simulador!$C$14)),0)","v":0},null,0,0,0,0,0,0,null,0,0,0,0,0,0,null,0,0,0,0,0,null,{"$f":"IF(OR(Y40+1>(IF(AND(Simulador!$C$9<Simulador!$C$10,OR(Simulador!$E$7=\"Resgate\",Simulador!$E$7=\"Portabilidade\")),Simulador!$C$9,Simulador!$C$10)-Simulador!$C$8)*12,Y40=0),0,Y40+1)","v":37},{"$f":"IF($Y41=0,0,Z40*(1+Simulador!$D$34)+E41+L41)","v":0},{"$f":"IF($Y41=0,0,AA40*(1+Simulador!$D$34)+S41)","v":0},{"$f":"IF(OR(AB40+1>(IF(AND(Simulador!$C$9<Simulador!$C$10,OR(Simulador!$E$7=\"Resgate\",Simulador!$E$7=\"Portabilidade\")),Simulador!$C$9,Simulador!$C$50)-Simulador!$C$8)*12,AB40=0),0,AB40+1)","v":37},{"$f":"IF($AB41=0,0,AC40*(1+Simulador!$D$34)+F41+M41)","v":0},{"$f":"IF($AB41=0,0,AD40*(1+Simulador!$D$34)+T41)","v":0}]
[{"$f":"IF(OR(A41+1>(IF(Simulador!$E$7=\"Autopatrocínio\",Simulador!$C$10,Simulador!$C$9)-Simulador!$C$8)*12,A41=0),0,A41+1)","v":0},{"$f":"IF($A42=0,0,IF(INT($A41/12)-$A41/12=0,B41*(1+Simulador!$C$35),B41))","v":0},{"$f":"MAX(IF(A42=0,0,B42-IF(Simulador!$C$11=\"Individual\",0,Simulador!$C$14)),0)","v":0},null,0,0,0,0,0,0,null,0,0,0,0,0,0,null,0,0,0,0,0,null,{"$f":"IF(OR(Y41+1>(IF(AND(Simulador!$C$9<Simulador!$C$10,OR(Simulador!$E$7=\"Resgate\",Simulador!$E$7=\"Portabilidade\")),Simulador!$C$9,Simulador!$C$10)-Simulador!$C$8)*12,Y41=0),0,Y41+1)","v":38},{"$f":"IF($Y42=0,0,Z41*(1+Simulador!$D$34)+E42+L42)","v":0},{"$f":"IF($Y42=0,0,AA41*(1+Simulador!$D$34)+S42)","v":0},{"$f":"IF(OR(AB41+1>(IF(AND(Simulador!$C$9<Simulador!$C$10,OR(Simulador!$E$7=\"Resgate\",Simulador!$E$7=\"Portabilidade\")),Simulador!$C$9,Simulador!$C$50)-Simulador!$C$8)*12,AB41=0),0,AB41+1)","v":38},{"$f":"IF($AB42=0,0,AC41*(1+Simulador!$D$34)+F42+M42)","v":0},{"$f":"IF($AB42=0,0,AD41*(1+Simulador!$D$34)+T42)","v":0}]
[{"$f":"IF(OR(A42+1>(IF(Simulador!$E$7=\"Autopatrocínio\",Simulador!$C$10,Simulador!$C$9)-Simulador!$C$8)*12,A42=0),0,A42+1)","v":0},{"$f":"IF($A43=0,0,IF(INT($A42/12)-$A42/12=0,B42*(1+Simulador!$C$35),B42))","v":0},{"$f":"MAX(IF(A43=0,0,B43-IF(Simulador!$C$11=\"Individual\",0,Simulador!$C$14)),0)","v":0},null,0,0,0,0,0,0,null,0,0,0,0,0,0,null,0,0,0,0,0,null,{"$f":"IF(OR(Y42+1>(IF(AND(Simulador!$C$9<Simulador!$C$10,OR(Simulador!$E$7=\"Resgate\",Simulador!$E$7=\"Portabilidade\")),Simulador!$C$9,Simulador!$C$10)-Simulador!$C$8)*12,Y42=0),0,Y42+1)","v":39},{"$f":"IF($Y43=0,0,Z42*(1+Simulador!$D$34)+E43+L43)","v":0},{"$f":"IF($Y43=0,0,AA42*(1+Simulador!$D$34)+S43)","v":0},{"$f":"IF(OR(AB42+1>(IF(AND(Simulador!$C$9<Simulador!$C$10,OR(Simulador!$E$7=\"Resgate\",Simulador!$E$7=\"Portabilidade\")),Simulador!$C$9,Simulador!$C$50)-Simulador!$C$8)*12,AB42=0),0,AB42+1)","v":39},{"$f":"IF($AB43=0,0,AC42*(1+Simulador!$D$34)+F43+M43)","v":0},{"$f":"IF($AB43=0,0,AD42*(1+Simulador!$D$34)+T43)","v":0}]
[{"$f":"IF(OR(A43+1>(IF(Simulador!$E$7=\"Autopatrocínio\",Simulador!$C$10,Simulador!$C$9)-Simulador!$C$8)*12,A43=0),0,A43+1)","v":0},{"$f":"IF($A44=0,0,IF(INT($A43/12)-$A43/12=0,B43*(1+Simulador!$C$35),B43))","v":0},{"$f":"MAX(IF(A44=0,0,B44-IF(Simulador!$C$11=\"Individual\",0,Simulador!$C$14)),0)","v":0},null,0,0,0,0,0,0,null,0,0,0,0,0,0,null,0,0,0,0,0,null,{"$f":"IF(OR(Y43+1>(IF(AND(Simulador!$C$9<Simulador!$C$10,OR(Simulador!$E$7=\"Resgate\",Simulador!$E$7=\"Portabilidade\")),Simulador!$C$9,Simulador!$C$10)-Simulador!$C$8)*12,Y43=0),0,Y43+1)","v":40},{"$f":"IF($Y44=0,0,Z43*(1+Simulador!$D$34)+E44+L44)","v":0},{"$f":"IF($Y44=0,0,AA43*(1+Simulador!$D$34)+S44)","v":0},{"$f":"IF(OR(AB43+1>(IF(AND(Simulador!$C$9<Simulador!$C$10,OR(Simulador!$E$7=\"Resgate\",Simulador!$E$7=\"Portabilidade\")),Simulador!$C$9,Simulador!$C$50)-Simulador!$C$8)*12,AB43=0),0,AB43+1)","v":40},{"$f":"IF($AB44=0,0,AC43*(1+Simulador!$D$34)+F44+M44)","v":0},{"$f":"IF($AB44=0,0,AD43*(1+Simulador!$D$34)+T44)","v":0}]
[{"$f":"IF(OR(A44+1>(IF(Simulador!$E$7=\"Autopatrocínio\",Simulador!$C$10,Simulador!$C$9)-Simulador!$C$8)*12,A44=0),0,A44+1)","v":0},{"$f":"IF($A45=0,0,IF(INT($A44/12)-$A44/12=0,B44*(1+Simulador!$C$35),B44))","v":0},{"$f":"MAX(IF(A45=0,0,B45-IF(Simulador!$C$11=\"Individual\",0,Simulador!$C$14)),0)","v":0},null,{"$f":"E$4*$C45*(1+$J45)","v":0},0,0,0,0,0,null,{"$f":"L$4*$C45*$Q45","v":0},0,0,0,0,0,null,0,0,0,0,0,null,{"$f":"IF(OR(Y44+1>(IF(AND(Simulador!$C$9<Simulador!$C$10,OR(Simulador!$E$7=\"Resgate\",Simulador!$E$7=\"Portabilidade\")),Simulador!$C$9,Simulador!$C$10)-Simulador!$C$8)*12,Y44=0),0,Y44+1)","v":41},{"$f":"IF($Y45=0,0,Z44*(1+Simulador!$D$34)+E45+L45)","v":0},{"$f":"IF($Y45=0,0,AA44*(1+Simulador!$D$34)+S45)","v":0},{"$f":"IF(OR(AB44+1>(IF(AND(Simulador!$C$9<Simulador!$C$10,OR(Simulador!$E$7=\"Resgate\",Simulador!$E$7=\"Portabilidade\")),Simulador!$C$9,Simulador!$C$50)-Simulador!$C$8)*12,AB44=0),0,AB44+1)","v":41},{"$f":"IF($AB45=0,0,AC44*(1+Simulador!$D$34)+F45+M45)","v":0},{"$f":"IF($AB45=0,0,AD44*(1+Simulador!$D$34)+T45)","v":0}]
[{"$f":"IF(OR(A45+1>(IF(Simulador!$E$7=\"Autopatrocínio\",Simulador!$C$10,Simulador!$C$9)-Simulador!$C$8)*12,A45=0),0,A45+1)","v":0},{"$f":"IF($A46=0,0,IF(INT($A45/12)-$A45/12=0,B45*(1+Simulador!$C$35),B45))","v":0},{"$f":"MAX(IF(A46=0,0,B46-IF(Simulador!$C$11=\"Individual\",0,Simulador!$C$14)),0)","v":0},null,0,0,0,0,0,0,null,0,0,0,0,0,0,null,0,0,0,0,0,null,{"$f":"IF(OR(Y45+1>(IF(AND(Simulador!$C$9<Simulador!$C$10,OR(Simulador!$E$7=\"Resgate\",Simulador!$E$7=\"Portabilidade\")),Simulador!$C$9,Simulador!$C$10)-Simulador!$C$8)*12,Y45=0),0,Y45+1)","v":42},{"$f":"IF($Y46=0,0,Z45*(1+Simulador!$D$34)+E46+L46)","v":0},{"$f":"IF($Y46=0,0,AA45*(1+Simulador!$D$34)+S46)","v":0},{"$f":"IF(OR(AB45+1>(IF(AND(Simulador!$C$9<Simulador!$C$10,OR(Simulador!$E$7=\"Resgate\",Simulador!$E$7=\"Portabilidade\")),Simulador!$C$9,Simulador!$C$50)-Simulador!$C$8)*12,AB45=0),0,AB45+1)","v":42},{"$f":"IF($AB46=0,0,AC45*(1+Simulador!$D$34)+F46+M46)","v":0},{"$f":"IF($AB46=0,0,AD45*(1+Simulador!$D$34)+T46)","v":0}]
[{"$f":"IF(OR(A46+1>(IF(Simulador!$E$7=\"Autopatrocínio\",Simulador!$C$10,Simulador!$C$9)-Simulador!$C$8)*12,A46=0),0,A46+1)","v":0},{"$f":"IF($A47=0,0,IF(INT($A46/12)-$A46/12=0,B46*(1+Simulador!$C$35),B46))","v":0},{"$f":"MAX(IF(A47=0,0,B47-IF(Simulador!$C$11=\"Individual\",0,Simulador!$C$14)),0)","v":0},null,0,0,0,0,0,0,null,0,0,0,0,0,0,null,0,0,0,0,0,null,{"$f":"IF(OR(Y46+1>(IF(AND(Simulador!$C$9<Simulador!$C$10,OR(Simulador!$E$7=\"Resgate\",Simulador!$E$7=\"Portabilidade\")),Simulador!$C$9,Simulador!$C$10)-Simulador!$C$8)*12,Y46=0),0,Y46+1)","v":43},{"$f":"IF($Y47=0,0,Z46*(1+Simulador!$D$34)+E47+L47)","v":0},{"$f":"IF($Y47=0,0,AA46*(1+Simulador!$D$34)+S47)","v":0},{"$f":"IF(OR(AB46+1>(IF(AND(Simulador!$C$9<Simulador!$C$10,OR(Simulador!$E$7=\"Resgate\",Simulador!$E$7=\"Portabilidade\")),Simulador!$C$9,Simulador!$C$50)-Simulador!$C$8)*12,AB46=0),0,AB46+1)","v":43},{"$f":"IF($AB47=0,0,AC46*(1+Simulador!$D$34)+F47+M47)","v":0},{"$f":"IF($AB47=0,0,AD46*(1+Simulador!$D$34)+T47)","v":0}]
[{"$f":"IF(OR(A47+1>(IF(Simulador!$E$7=\"Autopatrocínio\",Simulador!$C$10,Simulador!$C$9)-Simulador!$C$8)*12,A47=0),0,A47+1)","v":0},{"$f":"IF($A48=0,0,IF(INT($A47/12)-$A47/12=0,B47*(1+Simulador!$C$35),B47))","v":0},{"$f":"MAX(IF(A48=0,0,B48-IF(Simulador!$C$11=\"Individual\",0,Simulador!$C$14)),0)","v":0},null,0,0,0,0,0,0,null,0,0,0,0,0,0,null,0,0,0,0,0,null,{"$f":"IF(OR(Y47+1>(IF(AND(Simulador!$C$9<Simulador!$C$10,OR(Simulador!$E$7=\"Resgate\",Simulador!$E$7=\"Portabilidade\")),Simulador!$C$9,Simulador!$C$10)-Simulador!$C$8)*12,Y47=0),0,Y47+1)","v":44},{"$f":"IF($Y48=0,0,Z47*(1+Simulador!$D$34)+E48+L48)","v":0},{"$f":"IF($Y48=0,0,AA47*(1+Simulador!$D$34)+S48)","v":0},{"$f":"IF(OR(AB47+1>(IF(AND(Simulador!$C$9<Simulador!$C$10,OR(Simulador!$E$7=\"Resgate\",Simulador!$E$7=\"Portabilidade\")),Simulador!$C$9,Simulador!$C$50)-Simulador!$C$8)*12,AB47=0),0,AB47+1)","v":44},{"$f":"IF($AB48=0,0,AC47*(1+Simulador!$D$34)+F48+M48)","v":0},{"$f":"IF($AB48=0,0,AD47*(1+Simulador!$D$34)+T48)","v":0}]
[{"$f":"IF(OR(A48+1>(IF(Simulador!$E$7=\"Autopatrocínio\",Simulador!$C$10,Simulador!$C$9)-Simulador!$C$8)*12,A48=0),0,A48+1)","v":0},{"$f":"IF($A49=0,0,IF(INT($A48/12)-$A48/12=0,B48*(1+Simulador!$C$35),B48))","v":0},{"$f":"MAX(IF(A49=0,0,B49-IF(Simulador!$C$11=\"Individual\",0,Simulador!$C$14)),0)","v":0},null,0,0,0,0,0,0,null,0,0,0,0,0,0,null,0,0,0,0,0,null,{"$f":"IF(OR(Y48+1>(IF(AND(Simulador!$C$9<Simulador!$C$10,OR(Simulador!$E$7=\"Resgate\",Simulador!$E$7=\"Portabilidade\")),Simulador!$C$9,Simulador!$C$10)-Simulador!$C$8)*12,Y48=0),0,Y48+1)","v":45},{"$f":"IF($Y49=0,0,Z48*(1+Simulador!$D$34)+E49+L49)","v":0},{"$f":"IF($Y49=0,0,AA48*(1+Simulador!$D$34)+S49)","v":0},{"$f":"IF(OR(AB48+1>(IF(AND(Simulador!$C$9<Simulador!$C$10,OR(Simulador!$E$7=\"Resgate\",Simulador!$E$7=\"Portabilidade\")),Simulador!$C$9,Simulador!$C$50)-Simulador!$C$8)*12,AB48=0),0,AB48+1)","v":45},{"$f":"IF($AB49=0,0,AC48*(1+Simulador!$D$34)+F49+M49)","v":0},{"$f":"IF($AB49=0,0,AD48*(1+Simulador!$D$34)+T49)","v":0}]
[{"$f":"IF(OR(A49+1>(IF(Simulador!$E$7=\"Autopatrocínio\",Simulador!$C$10,Simulador!$C$9)-Simulador!$C$8)*12,A49=0),0,A49+1)","v":0},{"$f":"IF($A50=0,0,IF(INT($A49/12)-$A49/12=0,B49*(1+Simulador!$C$35),B49))","v":0},{"$f":"MAX(IF(A50=0,0,B50-IF(Simulador!$C$11=\"Individual\",0,Simulador!$C$14)),0)","v":0},null,0,0,0,0,0,0,null,0,0,0,0,0,0,null,0,0,0,0,0,null,{"$f":"IF(OR(Y49+1>(IF(AND(Simulador!$C$9<Simulador!$C$10,OR(Simulador!$E$7=\"Resgate\",Simulador!$E$7=\"Portabilidade\")),Simulador!$C$9,Simulador!$C$10)-Simulador!$C$8)*12,Y49=0),0,Y49+1)","v":46},{"$f":"IF($Y50=0,0,Z49*(1+Simulador!$D$34)+E50+L50)","v":0},{"$f":"IF($Y50=0,0,AA49*(1+Simulador!$D$34)+S50)","v":0},{"$f":"IF(OR(AB49+1>(IF(AND(Simulador!$C$9<Simulador!$C$10,OR(Simulador!$E$7=\"Resgate\",Simulador!$E$7=\"Portabilidade\")),Simulador!$C$9,Simulador!$C$50)-Simulador!$C$8)*12,AB49=0),0,AB49+1)","v":46},{"$f":"IF($AB50=0,0,AC49*(1+Simulador!$D$34)+F50+M50)","v":0},{"$f":"IF($AB50=0,0,AD49*(1+Simulador!$D$34)+T50)","v":0}]
[{"$f":"IF(OR(A50+1>(IF(Simulador!$E$7=\"Autopatrocínio\",Simulador!$C$10,Simulador!$C$9)-Simulador!$C$8)*12,A50=0),0,A50+1)","v":0},{"$f":"IF($A51=0,0,IF(INT($A50/12)-$A50/12=0,B50*(1+Simulador!$C$35),B50))","v":0},{"$f":"MAX(IF(A51=0,0,B51-IF(Simulador!$C$11=\"Individual\",0,Simulador!$C$14)),0)","v":0},null,0,0,0,0,0,0,null,0,0,0,0,0,0,null,0,0,0,0,0,null,{"$f":"IF(OR(Y50+1>(IF(AND(Simulador!$C$9<Simulador!$C$10,OR(Simulador!$E$7=\"Resgate\",Simulador!$E$7=\"Portabilidade\")),Simulador!$C$9,Simulador!$C$10)-Simulador!$C$8)*12,Y50=0),0,Y50+1)","v":47},{"$f":"IF($Y51=0,0,Z50*(1+Simulador!$D$34)+E51+L51)","v":0},{"$f":"IF($Y51=0,0,AA50*(1+Simulador!$D$34)+S51)","v":0},{"$f":"IF(OR(AB50+1>(IF(AND(Simulador!$C$9<Simulador!$C$10,OR(Simulador!$E$7=\"Resgate\",Simulador!$E$7=\"Portabilidade\")),Simulador!$C$9,Simulador!$C$50)-Simulador!$C$8)*12,AB50=0),0,AB50+1)","v":47},{"$f":"IF($AB51=0,0,AC50*(1+Simulador!$D$34)+F51+M51)","v":0},{"$f":"IF($AB51=0,0,AD50*(1+Simulador!$D$34)+T51)","v":0}]
[{"$f":"IF(OR(A51+1>(IF(Simulador!$E$7=\"Autopatrocínio\",Simulador!$C$10,Simulador!$C$9)-Simulador!$C$8)*12,A51=0),0,A51+1)","v":0},{"$f":"IF($A52=0,0,IF(INT($A51/12)-$A51/12=0,B51*(1+Simulador!$C$35),B51))","v":0},{"$f":"MAX(IF(A52=0,0,B52-IF(Simulador!$C$11=\"Individual\",0,Simulador!$C$14)),0)","v":0},null,0,0,0,0,0,0,null,0,0,0,0,0,0,null,0,0,0,0,0,null,{"$f":"IF(OR(Y51+1>(IF(AND(Simulador!$C$9<Simulador!$C$10,OR(Simulador!$E$7=\"Resgate\",Simulador!$E$7=\"Portabilidade\")),Simulador!$C$9,Simulador!$C$10)-Simulador!$C$8)*12,Y51=0),0,Y51+1)","v":48},{"$f":"IF($Y52=0,0,Z51*(1+Simulador!$D$34)+E52+L52)","v":0},{"$f":"IF($Y52=0,0,AA51*(1+Simulador!$D$34)+S52)","v":0},{"$f":"IF(OR(AB51+1>(IF(AND(Simulador!$C$9<Simulador!$C$10,OR(Simulador!$E$7=\"Resgate\",Simulador!$E$7=\"Portabilidade\")),Simulador!$C$9,Simulador!$C$50)-Simulador!$C$8)*12,AB51=0),0,AB51+1)","v":48},{"$f":"IF($AB52=0,0,AC51*(1+Simulador!$D$34)+F52+M52)","v":0},{"$f":"IF($AB52=0,0,AD51*(1+Simulador!$D$34)+T52)","v":0}]
[{"$f":"IF(OR(A52+1>(IF(Simulador!$E$7=\"Autopatrocínio\",Simulador!$C$10,Simulador!$C$9)-Simulador!$C$8)*12,A52=0),0,A52+1)","v":0},{"$f":"IF($A53=0,0,IF(INT($A52/12)-$A52/12=0,B52*(1+Simulador!$C$35),B52))","v":0},{"$f":"MAX(IF(A53=0,0,B53-IF(Simulador!$C$11=\"Individual\",0,Simulador!$C$14)),0)","v":0},null,0,0,0,0,0,0,null,0,0,0,0,0,0,null,{"$f":"S$4*$C53*(1+$J53)","v":0},0,0,0,0,null,{"$f":"IF(OR(Y52+1>(IF(AND(Simulador!$C$9<Simulador!$C$10,OR(Simulador!$E$7=\"Resgate\",Simulador!$E$7=\"Portabilidade\")),Simulador!$C$9,Simulador!$C$10)-Simulador!$C$8)*12,Y52=0),0,Y52+1)","v":49},{"$f":"IF($Y53=0,0,Z52*(1+Simulador!$D$34)+E53+L53)","v":0},{"$f":"IF($Y53=0,0,AA52*(1+Simulador!$D$34)+S53)","v":0},{"$f":"IF(OR(AB52+1>(IF(AND(Simulador!$C$9<Simulador!$C$10,OR(Simulador!$E$7=\"Resgate\",Simulador!$E$7=\"Portabilidade\")),Simulador!$C$9,Simulador!$C$50)-Simulador!$C$8)*12,AB52=0),0,AB52+1)","v":49},{"$f":"IF($AB53=0,0,AC52*(1+Simulador!$D$34)+F53+M53)","v":0},{"$f":"IF($AB53=0,0,AD52*(1+Simulador!$D$34)+T53)","v":0}]
[{"$f":"IF(OR(A53+1>(IF(Simulador!$E$7=\"Autopatrocínio\",Simulador!$C$10,Simulador!$C$9)-Simulador!$C$8)*12,A53=0),0,A53+1)","v":0},{"$f":"IF($A54=0,0,IF(INT($A53/12)-$A53/12=0,B53*(1+Simulador!$C$35),B53))","v":0},{"$f":"MAX(IF(A54=0,0,B54-IF(Simulador!$C$11=\"Individual\",0,Simulador!$C$14)),0)","v":0},null,0,0,0,0,0,0,null,0,0,0,0,0,0,null,0,0,0,0,0,null,{"$f":"IF(OR(Y53+1>(IF(AND(Simulador!$C$9<Simulador!$C$10,OR(Simulador!$E$7=\"Resgate\",Simulador!$E$7=\"Portabilidade\")),Simulador!$C$9,Simulador!$C$10)-Simulador!$C$8)*12,Y53=0),0,Y53+1)","v":50},{"$f":"IF($Y54=0,0,Z53*(1+Simulador!$D$34)+E54+L54)","v":0},{"$f":"IF($Y54=0,0,AA53*(1+Simulador!$D$34)+S54)","v":0},{"$f":"IF(OR(AB53+1>(IF(AND(Simulador!$C$9<Simulador!$C$10,OR(Simulador!$E$7=\"Resgate\",Simulador!$E$7=\"Portabilidade\")),Simulador!$C$9,Simulador!$C$50)-Simulador!$C$8)*12,AB53=0),0,AB53+1)","v":50},{"$f":"IF($AB54=0,0,AC53*(1+Simulador!$D$34)+F54+M54)","v":0},{"$f":"IF($AB54=0,0,AD53*(1+Simulador!$D$34)+T54)","v":0}]
[{"$f":"IF(OR(A54+1>(IF(Simulador!$E$7=\"Autopatrocínio\",Simulador!$C$10,Simulador!$C$9)-Simulador!$C$8)*12,A54=0),0,A54+1)","v":0},{"$f":"IF($A55=0,0,IF(INT($A54/12)-$A54/12=0,B54*(1+Simulador!$C$35),B54))","v":0},{"$f":"MAX(IF(A55=0,0,B55-IF(Simulador!$C$11=\"Individual\",0,Simulador!$C$14)),0)","v":0},null,{"$f":"E$4*$C55*(1+$J55)","v":0},0,0,0,0,0,null,{"$f":"L$4*$C55*$Q55","v":0},0,0,0,0,0,null,0,0,0,0,0,null,{"$f":"IF(OR(Y54+1>(IF(AND(Simulador!$C$9<Simulador!$C$10,OR(Simulador!$E$7=\"Resgate\",Simulador!$E$7=\"Portabilidade\")),Simulador!$C$9,Simulador!$C$10)-Simulador!$C$8)*12,Y54=0),0,Y54+1)","v":51},{"$f":"IF($Y55=0,0,Z54*(1+Simulador!$D$34)+E55+L55)","v":0},{"$f":"IF($Y55=0,0,AA54*(1+Simulador!$D$34)+S55)","v":0},{"$f":"IF(OR(AB54+1>(IF(AND(Simulador!$C$9<Simulador!$C$10,OR(Simulador!$E$7=\"Resgate\",Simulador!$E$7=\"Portabilidade\")),Simulador!$C$9,Simulador!$C$50)-Simulador!$C$8)*12,AB54=0),0,AB54+1)","v":51},{"$f":"IF($AB55=0,0,AC54*(1+Simulador!$D$34)+F55+M55)","v":0},{"$f":"IF($AB55=0,0,AD54*(1+Simulador!$D$34)+T55)","v":0}]
[{"$f":"IF(OR(A55+1>(IF(Simulador!$E$7=\"Autopatrocínio\",Simulador!$C$10,Simulador!$C$9)-Simulador!$C$8)*12,A55=0),0,A55+1)","v":0},{"$f":"IF($A56=0,0,IF(INT($A55/12)-$A55/12=0,B55*(1+Simulador!$C$35),B55))","v":0},{"$f":"MAX(IF(A56=0,0,B56-IF(Simulador!$C$11=\"Individual\",0,Simulador!$C$14)),0)","v":0},null,0,0,0,0,0,0,null,0,0,0,0,0,0,null,0,0,0,0,0,null,{"$f":"IF(OR(Y55+1>(IF(AND(Simulador!$C$9<Simulador!$C$10,OR(Simulador!$E$7=\"Resgate\",Simulador!$E$7=\"Portabilidade\")),Simulador!$C$9,Simulador!$C$10)-Simulador!$C$8)*12,Y55=0),0,Y55+1)","v":52},{"$f":"IF($Y56=0,0,Z55*(1+Simulador!$D$34)+E56+L56)","v":0},{"$f":"IF($Y56=0,0,AA55*(1+Simulador!$D$34)+S56)","v":0},{"$f":"IF(OR(AB55+1>(IF(AND(Simulador!$C$9<Simulador!$C$10,OR(Simulador!$E$7=\"Resgate\",Simulador!$E$7=\"Portabilidade\")),Simulador!$C$9,Simulador!$C$50)-Simulador!$C$8)*12,AB55=0),0,AB55+1)","v":52},{"$f":"IF($AB56=0,0,AC55*(1+Simulador!$D$34)+F56+M56)","v":0},{"$f":"IF($AB56=0,0,AD55*(1+Simulador!$D$34)+T56)","v":0}]
[{"$f":"IF(OR(A56+1>(IF(Simulador!$E$7=\"Autopatrocínio\",Simulador!$C$10,Simulador!$C$9)-Simulador!$C$8)*12,A56=0),0,A56+1)","v":0},{"$f":"IF($A57=0,0,IF(INT($A56/12)-$A56/12=0,B56*(1+Simulador!$C$35),B56))","v":0},{"$f":"MAX(IF(A57=0,0,B57-IF(Simulador!$C$11=\"Individual\",0,Simulador!$C$14)),0)","v":0},null,0,0,0,0,0,0,null,0,0,0,0,0,0,null,0,0,0,0,0,null,{"$f":"IF(OR(Y56+1>(IF(AND(Simulador!$C$9<Simulador!$C$10,OR(Simulador!$E$7=\"Resgate\",Simulador!$E$7=\"Portabilidade\")),Simulador!$C$9,Simulador!$C$10)-Simulador!$C$8)*12,Y56=0),0,Y56+1)","v":53},{"$f":"IF($Y57=0,0,Z56*(1+Simulador!$D$34)+E57+L57)","v":0},{"$f":"IF($Y57=0,0,AA56*(1+Simulador!$D$34)+S57)","v":0},{"$f":"IF(OR(AB56+1>(IF(AND(Simulador!$C$9<Simulador!$C$10,OR(Simulador!$E$7=\"Resgate\",Simulador!$E$7=\"Portabilidade\")),Simulador!$C$9,Simulador!$C$50)-Simulador!$C$8)*12,AB56=0),0,AB56+1)","v":53},{"$f":"IF($AB57=0,0,AC56*(1+Simulador!$D$34)+F57+M57)","v":0},{"$f":"IF($AB57=0,0,AD56*(1+Simulador!$D$34)+T57)","v":0}]
[{"$f":"IF(OR(A57+1>(IF(Simulador!$E$7=\"Autopatrocínio\",Simulador!$C$10,Simulador!$C$9)-Simulador!$C$8)*12,A57=0),0,A57+1)","v":0},{"$f":"IF($A58=0,0,IF(INT($A57/12)-$A57/12=0,B57*(1+Simulador!$C$35),B57))","v":0},{"$f":"MAX(IF(A58=0,0,B58-IF(Simulador!$C$11=\"Individual\",0,Simulador!$C$14)),0)","v":0},null,0,0,0,0,0,0,null,0,0,0,0,0,0,null,0,0,0,0,0,null,{"$f":"IF(OR(Y57+1>(IF(AND(Simulador!$C$9<Simulador!$C$10,OR(Simulador!$E$7=\"Resgate\",Simulador!$E$7=\"Portabilidade\")),Simulador!$C$9,Simulador!$C$10)-Simulador!$C$8)*12,Y57=0),0,Y57+1)","v":54},{"$f":"IF($Y58=0,0,Z57*(1+Simulador!$D$34)+E58+L58)","v":0},{"$f":"IF($Y58=0,0,AA57*(1+Simulador!$D$34)+S58)","v":0},{"$f":"IF(OR(AB57+1>(IF(AND(Simulador!$C$9<Simulador!$C$10,OR(Simulador!$E$7=\"Resgate\",Simulador!$E$7=\"Portabilidade\")),Simulador!$C$9,Simulador!$C$50)-Simulador!$C$8)*12,AB57=0),0,AB57+1)","v":54},{"$f":"IF($AB58=0,0,AC57*(1+Simulador!$D$34)+F58+M58)","v":0},{"$f":"IF($AB58=0,0,AD57*(1+Simulador!$D$34)+T58)","v":0}]
[{"$f":"IF(OR(A58+1>(IF(Simulador!$E$7=\"Autopatrocínio\",Simulador!$C$10,Simulador!$C$9)-Simulador!$C$8)*12,A58=0),0,A58+1)","v":0},{"$f":"IF($A59=0,0,IF(INT($A58/12)-$A58/12=0,B58*(1+Simulador!$C$35),B58))","v":0},{"$f":"MAX(IF(A59=0,0,B59-IF(Simulador!$C$11=\"Individual\",0,Simulador!$C$14)),0)","v":0},null,0,0,0,0,0,0,null,0,0,0,0,0,0,null,0,0,0,0,0,null,{"$f":"IF(OR(Y58+1>(IF(AND(Simulador!$C$9<Simulador!$C$10,OR(Simulador!$E$7=\"Resgate\",Simulador!$E$7=\"Portabilidade\")),Simulador!$C$9,Simulador!$C$10)-Simulador!$C$8)*12,Y58=0),0,Y58+1)","v":55},{"$f":"IF($Y59=0,0,Z58*(1+Simulador!$D$34)+E59+L59)","v":0},{"$f":"IF($Y59=0,0,AA58*(1+Simulador!$D$34)+S59)","v":0},{"$f":"IF(OR(AB58+1>(IF(AND(Simulador!$C$9<Simulador!$C$10,OR(Simulador!$E$7=\"Resgate\",Simulador!$E$7=\"Portabilidade\")),Simulador!$C$9,Simulador!$C$50)-Simulador!$C$8)*12,AB58=0),0,AB58+1)","v":55},{"$f":"IF($AB59=0,0,AC58*(1+Simulador!$D$34)+F59+M59)","v":0},{"$f":"IF($AB59=0,0,AD58*(1+Simulador!$D$34)+T59)","v":0}]
[{"$f":"IF(OR(A59+1>(IF(Simulador!$E$7=\"Autopatrocínio\",Simulador!$C$10,Simulador!$C$9)-Simulador!$C$8)*12,A59=0),0,A59+1)","v":0},{"$f":"IF($A60=0,0,IF(INT($A59/12)-$A59/12=0,B59*(1+Simulador!$C$35),B59))","v":0},{"$f":"MAX(IF(A60=0,0,B60-IF(Simulador!$C$11=\"Individual\",0,Simulador!$C$14)),0)","v":0},null,0,0,0,0,0,0,null,0,0,0,0,0,0,null,0,0,0,0,0,null,{"$f":"IF(OR(Y59+1>(IF(AND(Simulador!$C$9<Simulador!$C$10,OR(Simulador!$E$7=\"Resgate\",Simulador!$E$7=\"Portabilidade\")),Simulador!$C$9,Simulador!$C$10)-Simulador!$C$8)*12,Y59=0),0,Y59+1)","v":56},{"$f":"IF($Y60=0,0,Z59*(1+Simulador!$D$34)+E60+L60)","v":0},{"$f":"IF($Y60=0,0,AA59*(1+Simulador!$D$34)+S60)","v":0},{"$f":"IF(OR(AB59+1>(IF(AND(Simulador!$C$9<Simulador!$C$10,OR(Simulador!$E$7=\"Resgate\",Simulador!$E$7=\"Portabilidade\")),Simulador!$C$9,Simulador!$C$50)-Simulador!$C$8)*12,AB59=0),0,AB59+1)","v":56},{"$f":"IF($AB60=0,0,AC59*(1+Simulador!$D$34)+F60+M60)","v":0},{"$f":"IF($AB60=0,0,AD59*(1+Simulador!$D$34)+T60)","v":0}]
[{"$f":"IF(OR(A60+1>(IF(Simulador!$E$7=\"Autopatrocínio\",Simulador!$C$10,Simulador!$C$9)-Simulador!$C$8)*12,A60=0),0,A60+1)","v":0},{"$f":"IF($A61=0,0,IF(INT($A60/12)-$A60/12=0,B60*(1+Simulador!$C$35),B60))","v":0},{"$f":"MAX(IF(A61=0,0,B61-IF(Simulador!$C$11=\"Individual\",0,Simulador!$C$14)),0)","v":0},null,0,0,0,0,0,0,null,0,0,0,0,0,0,null,0,0,0,0,0,null,{"$f":"IF(OR(Y60+1>(IF(AND(Simulador!$C$9<Simulador!$C$10,OR(Simulador!$E$7=\"Resgate\",Simulador!$E$7=\"Portabilidade\")),Simulador!$C$9,Simulador!$C$10)-Simulador!$C$8)*12,Y60=0),0,Y60+1)","v":57},{"$f":"IF($Y61=0,0,Z60*(1+Simulador!$D$34)+E61+L61)","v":0},{"$f":"IF($Y61=0,0,AA60*(1+Simulador!$D$34)+S61)","v":0},{"$f":"IF(OR(AB60+1>(IF(AND(Simulador!$C$9<Simulador!$C$10,OR(Simulador!$E$7=\"Resgate\",Simulador!$E$7=\"Portabilidade\")),Simulador!$C$9,Simulador!$C$50)-Simulador!$C$8)*12,AB60=0),0,AB60+1)","v":57},{"$f":"IF($AB61=0,0,AC60*(1+Simulador!$D$34)+F61+M61)","v":0},{"$f":"IF($AB61=0,0,AD60*(1+Simulador!$D$34)+T61)","v":0}]
[{"$f":"IF(OR(A61+1>(IF(Simulador!$E$7=\"Autopatrocínio\",Simulador!$C$10,Simulador!$C$9)-Simulador!$C$8)*12,A61=0),0,A61+1)","v":0},{"$f":"IF($A62=0,0,IF(INT($A61/12)-$A61/12=0,B61*(1+Simulador!$C$35),B61))","v":0},{"$f":"MAX(IF(A62=0,0,B62-IF(Simulador!$C$11=\"Individual\",0,Simulador!$C$14)),0)","v":0},null,0,0,0,0,0,0,null,0,0,0,0,0,0,null,0,0,0,0,0,null,{"$f":"IF(OR(Y61+1>(IF(AND(Simulador!$C$9<Simulador!$C$10,OR(Simulador!$E$7=\"Resgate\",Simulador!$E$7=\"Portabilidade\")),Simulador!$C$9,Simulador!$C$10)-Simulador!$C$8)*12,Y61=0),0,Y61+1)","v":58},{"$f":"IF($Y62=0,0,Z61*(1+Simulador!$D$34)+E62+L62)","v":0},{"$f":"IF($Y62=0,0,AA61*(1+Simulador!$D$34)+S62)","v":0},{"$f":"IF(OR(AB61+1>(IF(AND(Simulador!$C$9<Simulador!$C$10,OR(Simulador!$E$7=\"Resgate\",Simulador!$E$7=\"Portabilidade\")),Simulador!$C$9,Simulador!$C$50)-Simulador!$C$8)*12,AB61=0),0,AB61+1)","v":58},{"$f":"IF($AB62=0,0,AC61*(1+Simulador!$D$34)+F62+M62)","v":0},{"$f":"IF($AB62=0,0,AD61*(1+Simulador!$D$34)+T62)","v":0}]
[{"$f":"IF(OR(A62+1>(IF(Simulador!$E$7=\"Autopatrocínio\",Simulador!$C$10,Simulador!$C$9)-Simulador!$C$8)*12,A62=0),0,A62+1)","v":0},{"$f":"IF($A63=0,0,IF(INT($A62/12)-$A62/12=0,B62*(1+Simulador!$C$35),B62))","v":0},{"$f":"MAX(IF(A63=0,0,B63-IF(Simulador!$C$11=\"Individual\",0,Simulador!$C$14)),0)","v":0},null,0,0,0,0,0,0,null,0,0,0,0,0,0,null,0,0,0,0,0,null,{"$f":"IF(OR(Y62+1>(IF(AND(Simulador!$C$9<Simulador!$C$10,OR(Simulador!$E$7=\"Resgate\",Simulador!$E$7=\"Portabilidade\")),Simulador!$C$9,Simulador!$C$10)-Simulador!$C$8)*12,Y62=0),0,Y62+1)","v":59},{"$f":"IF($Y63=0,0,Z62*(1+Simulador!$D$34)+E63+L63)","v":0},{"$f":"IF($Y63=0,0,AA62*(1+Simulador!$D$34)+S63)","v":0},{"$f":"IF(OR(AB62+1>(IF(AND(Simulador!$C$9<Simulador!$C$10,OR(Simulador!$E$7=\"Resgate\",Simulador!$E$7=\"Portabilidade\")),Simulador!$C$9,Simulador!$C$50)-Simulador!$C$8)*12,AB62=0),0,AB62+1)","v":59},{"$f":"IF($AB63=0,0,AC62*(1+Simulador!$D$34)+F63+M63)","v":0},{"$f":"IF($AB63=0,0,AD62*(1+Simulador!$D$34)+T63)","v":0}]
[{"$f":"IF(OR(A63+1>(IF(Simulador!$E$7=\"Autopatrocínio\",Simulador!$C$10,Simulador!$C$9)-Simulador!$C$8)*12,A63=0),0,A63+1)","v":0},{"$f":"IF($A64=0,0,IF(INT($A63/12)-$A63/12=0,B63*(1+Simulador!$C$35),B63))","v":0},{"$f":"MAX(IF(A64=0,0,B64-IF(Simulador!$C$11=\"Individual\",0,Simulador!$C$14)),0)","v":0},null,0,0,0,0,0,0,null,0,0,0,0,0,0,null,0,0,0,0,0,null,{"$f":"IF(OR(Y63+1>(IF(AND(Simulador!$C$9<Simulador!$C$10,OR(Simulador!$E$7=\"Resgate\",Simulador!$E$7=\"Portabilidade\")),Simulador!$C$9,Simulador!$C$10)-Simulador!$C$8)*12,Y63=0),0,Y63+1)","v":60},{"$f":"IF($Y64=0,0,Z63*(1+Simulador!$D$34)+E64+L64)","v":0},{"$f":"IF($Y64=0,0,AA63*(1+Simulador!$D$34)+S64)","v":0},{"$f":"IF(OR(AB63+1>(IF(AND(Simulador!$C$9<Simulador!$C$10,OR(Simulador!$E$7=\"Resgate\",Simulador!$E$7=\"Portabilidade\")),Simulador!$C$9,Simulador!$C$50)-Simulador!$C$8)*12,AB63=0),0,AB63+1)","v":60},{"$f":"IF($AB64=0,0,AC63*(1+Simulador!$D$34)+F64+M64)","v":0},{"$f":"IF($AB64=0,0,AD63*(1+Simulador!$D$34)+T64)","v":0}]
[{"$f":"IF(OR(A64+1>(IF(Simulador!$E$7=\"Autopatrocínio\",Simulador!$C$10,Simulador!$C$9)-Simulador!$C$8)*12,A64=0),0,A64+1)","v":0},{"$f":"IF($A65=0,0,IF(INT($A64/12)-$A64/12=0,B64*(1+Simulador!$C$35),B64))","v":0},{"$f":"MAX(IF(A65=0,0,B65-IF(Simulador!$C$11=\"Individual\",0,Simulador!$C$14)),0)","v":0},null,{"$f":"E$4*$C65*(1+$J65)","v":0},0,0,0,0,0,null,{"$f":"L$4*$C65*$Q65","v":0},0,0,0,0,0,null,0,0,0,0,0,null,{"$f":"IF(OR(Y64+1>(IF(AND(Simulador!$C$9<Simulador!$C$10,OR(Simulador!$E$7=\"Resgate\",Simulador!$E$7=\"Portabilidade\")),Simulador!$C$9,Simulador!$C$10)-Simulador!$C$8)*12,Y64=0),0,Y64+1)","v":61},{"$f":"IF($Y65=0,0,Z64*(1+Simulador!$D$34)+E65+L65)","v":0},{"$f":"IF($Y65=0,0,AA64*(1+Simulador!$D$34)+S65)","v":0},{"$f":"IF(OR(AB64+1>(IF(AND(Simulador!$C$9<Simulador!$C$10,OR(Simulador!$E$7=\"Resgate\",Simulador!$E$7=\"Portabilidade\")),Simulador!$C$9,Simulador!$C$50)-Simulador!$C$8)*12,AB64=0),0,AB64+1)","v":61},{"$f":"IF($AB65=0,0,AC64*(1+Simulador!$D$34)+F65+M65)","v":0},{"$f":"IF($AB65=0,0,AD64*(1+Simulador!$D$34)+T65)","v":0}]
[{"$f":"IF(OR(A65+1>(IF(Simulador!$E$7=\"Autopatrocínio\",Simulador!$C$10,Simulador!$C$9)-Simulador!$C$8)*12,A65=0),0,A65+1)","v":0},{"$f":"IF($A66=0,0,IF(INT($A65/12)-$A65/12=0,B65*(1+Simulador!$C$35),B65))","v":0},{"$f":"MAX(IF(A66=0,0,B66-IF(Simulador!$C$11=\"Individual\",0,Simulador!$C$14)),0)","v":0},null,0,0,0,0,0,0,null,0,0,0,0,0,0,null,0,0,0,0,0,null,{"$f":"IF(OR(Y65+1>(IF(AND(Simulador!$C$9<Simulador!$C$10,OR(Simulador!$E$7=\"Resgate\",Simulador!$E$7=\"Portabilidade\")),Simulador!$C$9,Simulador!$C$10)-Simulador!$C$8)*12,Y65=0),0,Y65+1)","v":62},{"$f":"IF($Y66=0,0,Z65*(1+Simulador!$D$34)+E66+L66)","v":0},{"$f":"IF($Y66=0,0,AA65*(1+Simulador!$D$34)+S66)","v":0},{"$f":"IF(OR(AB65+1>(IF(AND(Simulador!$C$9<Simulador!$C$10,OR(Simulador!$E$7=\"Resgate\",Simulador!$E$7=\"Portabilidade\")),Simulador!$C$9,Simulador!$C$50)-Simulador!$C$8)*12,AB65=0),0,AB65+1)","v":62},{"$f":"IF($AB66=0,0,AC65*(1+Simulador!$D$34)+F66+M66)","v":0},{"$f":"IF($AB66=0,0,AD65*(1+Simulador!$D$34)+T66)","v":0}]
[{"$f":"IF(OR(A66+1>(IF(Simulador!$E$7=\"Autopatrocínio\",Simulador!$C$10,Simulador!$C$9)-Simulador!$C$8)*12,A66=0),0,A66+1)","v":0},{"$f":"IF($A67=0,0,IF(INT($A66/12)-$A66/12=0,B66*(1+Simulador!$C$35),B66))","v":0},{"$f":"MAX(IF(A67=0,0,B67-IF(Simulador!$C$11=\"Individual\",0,Simulador!$C$14)),0)","v":0},null,0,0,0,0,0,0,null,0,0,0,0,0,0,null,0,0,0,0,0,null,{"$f":"IF(OR(Y66+1>(IF(AND(Simulador!$C$9<Simulador!$C$10,OR(Simulador!$E$7=\"Resgate\",Simulador!$E$7=\"Portabilidade\")),Simulador!$C$9,Simulador!$C$10)-Simulador!$C$8)*12,Y66=0),0,Y66+1)","v":63},{"$f":"IF($Y67=0,0,Z66*(1+Simulador!$D$34)+E67+L67)","v":0},{"$f":"IF($Y67=0,0,AA66*(1+Simulador!$D$34)+S67)","v":0},{"$f":"IF(OR(AB66+1>(IF(AND(Simulador!$C$9<Simulador!$C$10,OR(Simulador!$E$7=\"Resgate\",Simulador!$E$7=\"Portabilidade\")),Simulador!$C$9,Simulador!$C$50)-Simulador!$C$8)*12,AB66=0),0,AB66+1)","v":63},{"$f":"IF($AB67=0,0,AC66*(1+Simulador!$D$34)+F67+M67)","v":0},{"$f":"IF($AB67=0,0,AD66*(1+Simulador!$D$34)+T67)","v":0}]
[{"$f":"IF(OR(A67+1>(IF(Simulador!$E$7=\"Autopatrocínio\",Simulador!$C$10,Simulador!$C$9)-Simulador!$C$8)*12,A67=0),0,A67+1)","v":0},{"$f":"IF($A68=0,0,IF(INT($A67/12)-$A67/12=0,B67*(1+Simulador!$C$35),B67))","v":0},{"$f":"MAX(IF(A68=0,0,B68-IF(Simulador!$C$11=\"Individual\",0,Simulador!$C$14)),0)","v":0},null,0,0,0,0,0,0,null,0,0,0,0,0,0,null,0,0,0,0,0,null,{"$f":"IF(OR(Y67+1>(IF(AND(Simulador!$C$9<Simulador!$C$10,OR(Simulador!$E$7=\"Resgate\",Simulador!$E$7=\"Portabilidade\")),Simulador!$C$9,Simulador!$C$10)-Simulador!$C$8)*12,Y67=0),0,Y67+1)","v":64},{"$f":"IF($Y68=0,0,Z67*(1+Simulador!$D$34)+E68+L68)","v":0},{"$f":"IF($Y68=0,0,AA67*(1+Simulador!$D$34)+S68)","v":0},{"$f":"IF(OR(AB67+1>(IF(AND(Simulador!$C$9<Simulador!$C$10,OR(Simulador!$E$7=\"Resgate\",Simulador!$E$7=\"Portabilidade\")),Simulador!$C$9,Simulador!$C$50)-Simulador!$C$8)*12,AB67=0),0,AB67+1)","v":64},{"$f":"IF($AB68=0,0,AC67*(1+Simulador!$D$34)+F68+M68)","v":0},{"$f":"IF($AB68=0,0,AD67*(1+Simulador!$D$34)+T68)","v":0}]
[{"$f":"IF(OR(A68+1>(IF(Simulador!$E$7=\"Autopatrocínio\",Simulador!$C$10,Simulador!$C$9)-Simulador!$C$8)*12,A68=0),0,A68+1)","v":0},{"$f":"IF($A69=0,0,IF(INT($A68/12)-$A68/12=0,B68*(1+Simulador!$C$35),B68))","v":0},{"$f":"MAX(IF(A69=0,0,B69-IF(Simulador!$C$11=\"Individual\",0,Simulador!$C$14)),0)","v":0},null,0,0,0,0,0,{"$f":"IF($A69=0,0,IF(INT($A69/12)-$A69/12=0,1,0))","v":0},null,0,0,0,0,0,{"$f":"IF($A69=0,0,IF($Q$4=\"Mensal\",1,IF($Q$4=\"Semestral\",IF(INT(($A69+5)/6)-($A69+5)/6=0,1,0),IF($Q$4=\"Anual\",IF(INT(($A69+11)/12)-($A69+11)/12=0,1,0)))))","v":0},null,{"$f":"S$4*$C69*(1+$J69)","v":0},0,0,0,0,null,{"$f":"IF(OR(Y68+1>(IF(AND(Simulador!$C$9<Simulador!$C$10,OR(Simulador!$E$7=\"Resgate\",Simulador!$E$7=\"Portabilidade\")),Simulador!$C$9,Simulador!$C$10)-Simulador!$C$8)*12,Y68=0),0,Y68+1)","v":65},{"$f":"IF($Y69=0,0,Z68*(1+Simulador!$D$34)+E69+L69)","v":0},{"$f":"IF($Y69=0,0,AA68*(1+Simulador!$D$34)+S69)","v":0},{"$f":"IF(OR(AB68+1>(IF(AND(Simulador!$C$9<Simulador!$C$10,OR(Simulador!$E$7=\"Resgate\",Simulador!$E$7=\"Portabilidade\")),Simulador!$C$9,Simulador!$C$50)-Simulador!$C$8)*12,AB68=0),0,AB68+1)","v":65},{"$f":"IF($AB69=0,0,AC68*(1+Simulador!$D$34)+F69+M69)","v":0},{"$f":"IF($AB69=0,0,AD68*(1+Simulador!$D$34)+T69)","v":0}]
[{"$f":"IF(OR(A69+1>(IF(Simulador!$E$7=\"Autopatrocínio\",Simulador!$C$10,Simulador!$C$9)-Simulador!$C$8)*12,A69=0),0,A69+1)","v":0},{"$f":"IF($A70=0,0,IF(INT($A69/12)-$A69/12=0,B69*(1+Simulador!$C$35),B69))","v":0},{"$f":"MAX(IF(A70=0,0,B70-IF(Simulador!$C$11=\"Individual\",0,Simulador!$C$14)),0)","v":0},null,0,0,0,0,0,0,null,0,0,0,0,0,0,null,0,0,0,0,0,null,{"$f":"IF(OR(Y69+1>(IF(AND(Simulador!$C$9<Simulador!$C$10,OR(Simulador!$E$7=\"Resgate\",Simulador!$E$7=\"Portabilidade\")),Simulador!$C$9,Simulador!$C$10)-Simulador!$C$8)*12,Y69=0),0,Y69+1)","v":66},{"$f":"IF($Y70=0,0,Z69*(1+Simulador!$D$34)+E70+L70)","v":0},{"$f":"IF($Y70=0,0,AA69*(1+Simulador!$D$34)+S70)","v":0},{"$f":"IF(OR(AB69+1>(IF(AND(Simulador!$C$9<Simulador!$C$10,OR(Simulador!$E$7=\"Resgate\",Simulador!$E$7=\"Portabilidade\")),Simulador!$C$9,Simulador!$C$50)-Simulador!$C$8)*12,AB69=0),0,AB69+1)","v":66},{"$f":"IF($AB70=0,0,AC69*(1+Simulador!$D$34)+F70+M70)","v":0},{"$f":"IF($AB70=0,0,AD69*(1+Simulador!$D$34)+T70)","v":0}]
[{"$f":"IF(OR(A70+1>(IF(Simulador!$E$7=\"Autopatrocínio\",Simulador!$C$10,Simulador!$C$9)-Simulador!$C$8)*12,A70=0),0,A70+1)","v":0},{"$f":"IF($A71=0,0,IF(INT($A70/12)-$A70/12=0,B70*(1+Simulador!$C$35),B70))","v":0},{"$f":"MAX(IF(A71=0,0,B71-IF(Simulador!$C$11=\"Individual\",0,Simulador!$C$14)),0)","v":0},null,0,0,0,0,0,0,null,0,0,0,0,0,0,null,0,0,0,0,0,null,{"$f":"IF(OR(Y70+1>(IF(AND(Simulador!$C$9<Simulador!$C$10,OR(Simulador!$E$7=\"Resgate\",Simulador!$E$7=\"Portabilidade\")),Simulador!$C$9,Simulador!$C$10)-Simulador!$C$8)*12,Y70=0),0,Y70+1)","v":67},{"$f":"IF($Y71=0,0,Z70*(1+Simulador!$D$34)+E71+L71)","v":0},{"$f":"IF($Y71=0,0,AA70*(1+Simulador!$D$34)+S71)","v":0},{"$f":"IF(OR(AB70+1>(IF(AND(Simulador!$C$9<Simulador!$C$10,OR(Simulador!$E$7=\"Resgate\",Simulador!$E$7=\"Portabilidade\")),Simulador!$C$9,Simulador!$C$50)-Simulador!$C$8)*12,AB70=0),0,AB70+1)","v":67},{"$f":"IF($AB71=0,0,AC70*(1+Simulador!$D$34)+F71+M71)","v":0},{"$f":"IF($AB71=0,0,AD70*(1+Simulador!$D$34)+T71)","v":0}]
[{"$f":"IF(OR(A71+1>(IF(Simulador!$E$7=\"Autopatrocínio\",Simulador!$C$10,Simulador!$C$9)-Simulador!$C$8)*12,A71=0),0,A71+1)","v":0},{"$f":"IF($A72=0,0,IF(INT($A71/12)-$A71/12=0,B71*(1+Simulador!$C$35),B71))","v":0},{"$f":"MAX(IF(A72=0,0,B72-IF(Simulador!$C$11=\"Individual\",0,Simulador!$C$14)),0)","v":0},null,0,0,0,0,0,0,null,0,0,0,0,0,0,null,0,0,0,0,0,null,{"$f":"IF(OR(Y71+1>(IF(AND(Simulador!$C$9<Simulador!$C$10,OR(Simulador!$E$7=\"Resgate\",Simulador!$E$7=\"Portabilidade\")),Simulador!$C$9,Simulador!$C$10)-Simulador!$C$8)*12,Y71=0),0,Y71+1)","v":68},{"$f":"IF($Y72=0,0,Z71*(1+Simulador!$D$34)+E72+L72)","v":0},{"$f":"IF($Y72=0,0,AA71*(1+Simulador!$D$34)+S72)","v":0},{"$f":"IF(OR(AB71+1>(IF(AND(Simulador!$C$9<Simulador!$C$10,OR(Simulador!$E$7=\"Resgate\",Simulador!$E$7=\"Portabilidade\")),Simulador!$C$9,Simulador!$C$50)-Simulador!$C$8)*12,AB71=0),0,AB71+1)","v":68},{"$f":"IF($AB72=0,0,AC71*(1+Simulador!$D$34)+F72+M72)","v":0},{"$f":"IF($AB72=0,0,AD71*(1+Simulador!$D$34)+T72)","v":0}]
[{"$f":"IF(OR(A72+1>(IF(Simulador!$E$7=\"Autopatrocínio\",Simulador!$C$10,Simulador!$C$9)-Simulador!$C$8)*12,A72=0),0,A72+1)","v":0},{"$f":"IF($A73=0,0,IF(INT($A72/12)-$A72/12=0,B72*(1+Simulador!$C$35),B72))","v":0},{"$f":"MAX(IF(A73=0,0,B73-IF(Simulador!$C$11=\"Individual\",0,Simulador!$C$14)),0)","v":0},null,0,0,0,0,0,0,null,0,0,0,0,0,0,null,0,0,0,0,0,null,{"$f":"IF(OR(Y72+1>(IF(AND(Simulador!$C$9<Simulador!$C$10,OR(Simulador!$E$7=\"Resgate\",Simulador!$E$7=\"Portabilidade\")),Simulador!$C$9,Simulador!$C$10)-Simulador!$C$8)*12,Y72=0),0,Y72+1)","v":69},{"$f":"IF($Y73=0,0,Z72*(1+Simulador!$D$34)+E73+L73)","v":0},{"$f":"IF($Y73=0,0,AA72*(1+Simulador!$D$34)+S73)","v":0},{"$f":"IF(OR(AB72+1>(IF(AND(Simulador!$C$9<Simulador!$C$10,OR(Simulador!$E$7=\"Resgate\",Simulador!$E$7=\"Portabilidade\")),Simulador!$C$9,Simulador!$C$50)-Simulador!$C$8)*12,AB72=0),0,AB72+1)","v":69},{"$f":"IF($AB73=0,0,AC72*(1+Simulador!$D$34)+F73+M73)","v":0},{"$f":"IF($AB73=0,0,AD72*(1+Simulador!$D$34)+T73)","v":0}]
[{"$f":"IF(OR(A73+1>(IF(Simulador!$E$7=\"Autopatrocínio\",Simulador!$C$10,Simulador!$C$9)-Simulador!$C$8)*12,A73=0),0,A73+1)","v":0},{"$f":"IF($A74=0,0,IF(INT($A73/12)-$A73/12=0,B73*(1+Simulador!$C$35),B73))","v":0},{"$f":"MAX(IF(A74=0,0,B74-IF(Simulador!$C$11=\"Individual\",0,Simulador!$C$14)),0)","v":0},null,0,0,0,0,0,0,null,0,0,0,0,0,0,null,0,0,0,0,0,null,{"$f":"IF(OR(Y73+1>(IF(AND(Simulador!$C$9<Simulador!$C$10,OR(Simulador!$E$7=\"Resgate\",Simulador!$E$7=\"Portabilidade\")),Simulador!$C$9,Simulador!$C$10)-Simulador!$C$8)*12,Y73=0),0,Y73+1)","v":70},{"$f":"IF($Y74=0,0,Z73*(1+Simulador!$D$34)+E74+L74)","v":0},{"$f":"IF($Y74=0,0,AA73*(1+Simulador!$D$34)+S74)","v":0},{"$f":"IF(OR(AB73+1>(IF(AND(Simulador!$C$9<Simulador!$C$10,OR(Simulador!$E$7=\"Resgate\",Simulador!$E$7=\"Portabilidade\")),Simulador!$C$9,Simulador!$C$50)-Simulador!$C$8)*12,AB73=0),0,AB73+1)","v":70},{"$f":"IF($AB74=0,0,AC73*(1+Simulador!$D$34)+F74+M74)","v":0},{"$f":"IF($AB74=0,0,AD73*(1+Simulador!$D$34)+T74)","v":0}]
[{"$f":"IF(OR(A74+1>(IF(Simulador!$E$7=\"Autopatrocínio\",Simulador!$C$10,Simulador!$C$9)-Simulador!$C$8)*12,A74=0),0,A74+1)","v":0},{"$f":"IF($A75=0,0,IF(INT($A74/12)-$A74/12=0,B74*(1+Simulador!$C$35),B74))","v":0},{"$f":"MAX(IF(A75=0,0,B75-IF(Simulador!$C$11=\"Individual\",0,Simulador!$C$14)),0)","v":0},null,{"$f":"E$4*$C75*(1+$J75)","v":0},0,0,0,0,0,null,{"$f":"L$4*$C75*$Q75","v":0},0,0,0,0,0,null,0,0,0,0,0,null,{"$f":"IF(OR(Y74+1>(IF(AND(Simulador!$C$9<Simulador!$C$10,OR(Simulador!$E$7=\"Resgate\",Simulador!$E$7=\"Portabilidade\")),Simulador!$C$9,Simulador!$C$10)-Simulador!$C$8)*12,Y74=0),0,Y74+1)","v":71},{"$f":"IF($Y75=0,0,Z74*(1+Simulador!$D$34)+E75+L75)","v":0},{"$f":"IF($Y75=0,0,AA74*(1+Simulador!$D$34)+S75)","v":0},{"$f":"IF(OR(AB74+1>(IF(AND(Simulador!$C$9<Simulador!$C$10,OR(Simulador!$E$7=\"Resgate\",Simulador!$E$7=\"Portabilidade\")),Simulador!$C$9,Simulador!$C$50)-Simulador!$C$8)*12,AB74=0),0,AB74+1)","v":71},{"$f":"IF($AB75=0,0,AC74*(1+Simulador!$D$34)+F75+M75)","v":0},{"$f":"IF($AB75=0,0,AD74*(1+Simulador!$D$34)+T75)","v":0}]
[{"$f":"IF(OR(A75+1>(IF(Simulador!$E$7=\"Autopatrocínio\",Simulador!$C$10,Simulador!$C$9)-Simulador!$C$8)*12,A75=0),0,A75+1)","v":0},{"$f":"IF($A76=0,0,IF(INT($A75/12)-$A75/12=0,B75*(1+Simulador!$C$35),B75))","v":0},{"$f":"MAX(IF(A76=0,0,B76-IF(Simulador!$C$11=\"Individual\",0,Simulador!$C$14)),0)","v":0},null,0,0,0,0,0,0,null,0,0,0,0,0,0,null,0,0,0,0,0,null,{"$f":"IF(OR(Y75+1>(IF(AND(Simulador!$C$9<Simulador!$C$10,OR(Simulador!$E$7=\"Resgate\",Simulador!$E$7=\"Portabilidade\")),Simulador!$C$9,Simulador!$C$10)-Simulador!$C$8)*12,Y75=0),0,Y75+1)","v":72},{"$f":"IF($Y76=0,0,Z75*(1+Simulador!$D$34)+E76+L76)","v":0},{"$f":"IF($Y76=0,0,AA75*(1+Simulador!$D$34)+S76)","v":0},{"$f":"IF(OR(AB75+1>(IF(AND(Simulador!$C$9<Simulador!$C$10,OR(Simulador!$E$7=\"Resgate\",Simulador!$E$7=\"Portabilidade\")),Simulador!$C$9,Simulador!$C$50)-Simulador!$C$8)*12,AB75=0),0,AB75+1)","v":72},{"$f":"IF($AB76=0,0,AC75*(1+Simulador!$D$34)+F76+M76)","v":0},{"$f":"IF($AB76=0,0,AD75*(1+Simulador!$D$34)+T76)","v":0}]
[{"$f":"IF(OR(A76+1>(IF(Simulador!$E$7=\"Autopatrocínio\",Simulador!$C$10,Simulador!$C$9)-Simulador!$C$8)*12,A76=0),0,A76+1)","v":0},{"$f":"IF($A77=0,0,IF(INT($A76/12)-$A76/12=0,B76*(1+Simulador!$C$35),B76))","v":0},{"$f":"MAX(IF(A77=0,0,B77-IF(Simulador!$C$11=\"Individual\",0,Simulador!$C$14)),0)","v":0},null,0,0,0,0,0,0,null,0,0,0,0,0,0,null,0,0,0,0,0,null,{"$f":"IF(OR(Y76+1>(IF(AND(Simulador!$C$9<Simulador!$C$10,OR(Simulador!$E$7=\"Resgate\",Simulador!$E$7=\"Portabilidade\")),Simulador!$C$9,Simulador!$C$10)-Simulador!$C$8)*12,Y76=0),0,Y76+1)","v":73},{"$f":"IF($Y77=0,0,Z76*(1+Simulador!$D$34)+E77+L77)","v":0},{"$f":"IF($Y77=0,0,AA76*(1+Simulador!$D$34)+S77)","v":0},{"$f":"IF(OR(AB76+1>(IF(AND(Simulador!$C$9<Simulador!$C$10,OR(Simulador!$E$7=\"Resgate\",Simulador!$E$7=\"Portabilidade\")),Simulador!$C$9,Simulador!$C$50)-Simulador!$C$8)*12,AB76=0),0,AB76+1)","v":73},{"$f":"IF($AB77=0,0,AC76*(1+Simulador!$D$34)+F77+M77)","v":0},{"$f":"IF($AB77=0,0,AD76*(1+Simulador!$D$34)+T77)","v":0}]
[{"$f":"IF(OR(A77+1>(IF(Simulador!$E$7=\"Autopatrocínio\",Simulador!$C$10,Simulador!$C$9)-Simulador!$C$8)*12,A77=0),0,A77+1)","v":0},{"$f":"IF($A78=0,0,IF(INT($A77/12)-$A77/12=0,B77*(1+Simulador!$C$35),B77))","v":0},{"$f":"MAX(IF(A78=0,0,B78-IF(Simulador!$C$11=\"Individual\",0,Simulador!$C$14)),0)","v":0},null,0,0,0,0,0,0,null,0,0,0,0,0,0,null,0,0,0,0,0,null,{"$f":"IF(OR(Y77+1>(IF(AND(Simulador!$C$9<Simulador!$C$10,OR(Simulador!$E$7=\"Resgate\",Simulador!$E$7=\"Portabilidade\")),Simulador!$C$9,Simulador!$C$10)-Simulador!$C$8)*12,Y77=0),0,Y77+1)","v":74},{"$f":"IF($Y78=0,0,Z77*(1+Simulador!$D$34)+E78+L78)","v":0},{"$f":"IF($Y78=0,0,AA77*(1+Simulador!$D$34)+S78)","v":0},{"$f":"IF(OR(AB77+1>(IF(AND(Simulador!$C$9<Simulador!$C$10,OR(Simulador!$E$7=\"Resgate\",Simulador!$E$7=\"Portabilidade\")),Simulador!$C$9,Simulador!$C$50)-Simulador!$C$8)*12,AB77=0),0,AB77+1)","v":74},{"$f":"IF($AB78=0,0,AC77*(1+Simulador!$D$34)+F78+M78)","v":0},{"$f":"IF($AB78=0,0,AD77*(1+Simulador!$D$34)+T78)","v":0}]
[{"$f":"IF(OR(A78+1>(IF(Simulador!$E$7=\"Autopatrocínio\",Simulador!$C$10,Simulador!$C$9)-Simulador!$C$8)*12,A78=0),0,A78+1)","v":0},{"$f":"IF($A79=0,0,IF(INT($A78/12)-$A78/12=0,B78*(1+Simulador!$C$35),B78))","v":0},{"$f":"MAX(IF(A79=0,0,B79-IF(Simulador!$C$11=\"Individual\",0,Simulador!$C$14)),0)","v":0},null,0,0,0,0,0,0,null,0,0,0,0,0,0,null,0,0,0,0,0,null,{"$f":"IF(OR(Y78+1>(IF(AND(Simulador!$C$9<Simulador!$C$10,OR(Simulador!$E$7=\"Resgate\",Simulador!$E$7=\"Portabilidade\")),Simulador!$C$9,Simulador!$C$10)-Simulador!$C$8)*12,Y78=0),0,Y78+1)","v":75},{"$f":"IF($Y79=0,0,Z78*(1+Simulador!$D$34)+E79+L79)","v":0},{"$f":"IF($Y79=0,0,AA78*(1+Simulador!$D$34)+S79)","v":0},{"$f":"IF(OR(AB78+1>(IF(AND(Simulador!$C$9<Simulador!$C$10,OR(Simulador!$E$7=\"Resgate\",Simulador!$E$7=\"Portabilidade\")),Simulador!$C$9,Simulador!$C$50)-Simulador!$C$8)*12,AB78=0),0,AB78+1)","v":75},{"$f":"IF($AB79=0,0,AC78*(1+Simulador!$D$34)+F79+M79)","v":0},{"$f":"IF($AB79=0,0,AD78*(1+Simulador!$D$34)+T79)","v":0}]
[{"$f":"IF(OR(A79+1>(IF(Simulador!$E$7=\"Autopatrocínio\",Simulador!$C$10,Simulador!$C$9)-Simulador!$C$8)*12,A79=0),0,A79+1)","v":0},{"$f":"IF($A80=0,0,IF(INT($A79/12)-$A79/12=0,B79*(1+Simulador!$C$35),B79))","v":0},{"$f":"MAX(IF(A80=0,0,B80-IF(Simulador!$C$11=\"Individual\",0,Simulador!$C$14)),0)","v":0},null,0,0,0,0,0,0,null,0,0,0,0,0,0,null,0,0,0,0,0,null,{"$f":"IF(OR(Y79+1>(IF(AND(Simulador!$C$9<Simulador!$C$10,OR(Simulador!$E$7=\"Resgate\",Simulador!$E$7=\"Portabilidade\")),Simulador!$C$9,Simulador!$C$10)-Simulador!$C$8)*12,Y79=0),0,Y79+1)","v":76},{"$f":"IF($Y80=0,0,Z79*(1+Simulador!$D$34)+E80+L80)","v":0},{"$f":"IF($Y80=0,0,AA79*(1+Simulador!$D$34)+S80)","v":0},{"$f":"IF(OR(AB79+1>(IF(AND(Simulador!$C$9<Simulador!$C$10,OR(Simulador!$E$7=\"Resgate\",Simulador!$E$7=\"Portabilidade\")),Simulador!$C$9,Simulador!$C$50)-Simulador!$C$8)*12,AB79=0),0,AB79+1)","v":76},{"$f":"IF($AB80=0,0,AC79*(1+Simulador!$D$34)+F80+M80)","v":0},{"$f":"IF($AB80=0,0,AD79*(1+Simulador!$D$34)+T80)","v":0}]
[{"$f":"IF(OR(A80+1>(IF(Simulador!$E$7=\"Autopatrocínio\",Simulador!$C$10,Simulador!$C$9)-Simulador!$C$8)*12,A80=0),0,A80+1)","v":0},{"$f":"IF($A81=0,0,IF(INT($A80/12)-$A80/12=0,B80*(1+Simulador!$C$35),B80))","v":0},{"$f":"MAX(IF(A81=0,0,B81-IF(Simulador!$C$11=\"Individual\",0,Simulador!$C$14)),0)","v":0},null,0,0,0,0,0,0,null,0,0,0,0,0,0,null,0,0,0,0,0,null,{"$f":"IF(OR(Y80+1>(IF(AND(Simulador!$C$9<Simulador!$C$10,OR(Simulador!$E$7=\"Resgate\",Simulador!$E$7=\"Portabilidade\")),Simulador!$C$9,Simulador!$C$10)-Simulador!$C$8)*12,Y80=0),0,Y80+1)","v":77},{"$f":"IF($Y81=0,0,Z80*(1+Simulador!$D$34)+E81+L81)","v":0},{"$f":"IF($Y81=0,0,AA80*(1+Simulador!$D$34)+S81)","v":0},{"$f":"IF(OR(AB80+1>(IF(AND(Simulador!$C$9<Simulador!$C$10,OR(Simulador!$E$7=\"Resgate\",Simulador!$E$7=\"Portabilidade\")),Simulador!$C$9,Simulador!$C$50)-Simulador!$C$8)*12,AB80=0),0,AB80+1)","v":77},{"$f":"IF($AB81=0,0,AC80*(1+Simulador!$D$34)+F81+M81)","v":0},{"$f":"IF($AB81=0,0,AD80*(1+Simulador!$D$34)+T81)","v":0}]
[{"$f":"IF(OR(A81+1>(IF(Simulador!$E$7=\"Autopatrocínio\",Simulador!$C$10,Simulador!$C$9)-Simulador!$C$8)*12,A81=0),0,A81+1)","v":0},{"$f":"IF($A82=0,0,IF(INT($A81/12)-$A81/12=0,B81*(1+Simulador!$C$35),B81))","v":0},{"$f":"MAX(IF(A82=0,0,B82-IF(Simulador!$C$11=\"Individual\",0,Simulador!$C$14)),0)","v":0},null,0,0,0,0,0,0,null,0,0,0,0,0,0,null,0,0,0,0,0,null,{"$f":"IF(OR(Y81+1>(IF(AND(Simulador!$C$9<Simulador!$C$10,OR(Simulador!$E$7=\"Resgate\",Simulador!$E$7=\"Portabilidade\")),Simulador!$C$9,Simulador!$C$10)-Simulador!$C$8)*12,Y81=0),0,Y81+1)","v":78},{"$f":"IF($Y82=0,0,Z81*(1+Simulador!$D$34)+E82+L82)","v":0},{"$f":"IF($Y82=0,0,AA81*(1+Simulador!$D$34)+S82)","v":0},{"$f":"IF(OR(AB81+1>(IF(AND(Simulador!$C$9<Simulador!$C$10,OR(Simulador!$E$7=\"Resgate\",Simulador!$E$7=\"Portabilidade\")),Simulador!$C$9,Simulador!$C$50)-Simulador!$C$8)*12,AB81=0),0,AB81+1)","v":78},{"$f":"IF($AB82=0,0,AC81*(1+Simulador!$D$34)+F82+M82)","v":0},{"$f":"IF($AB82=0,0,AD81*(1+Simulador!$D$34)+T82)","v":0}]
[{"$f":"IF(OR(A82+1>(IF(Simulador!$E$7=\"Autopatrocínio\",Simulador!$C$10,Simulador!$C$9)-Simulador!$C$8)*12,A82=0),0,A82+1)","v":0},{"$f":"IF($A83=0,0,IF(INT($A82/12)-$A82/12=0,B82*(1+Simulador!$C$35),B82))","v":0},{"$f":"MAX(IF(A83=0,0,B83-IF(Simulador!$C$11=\"Individual\",0,Simulador!$C$14)),0)","v":0},null,0,0,0,0,0,0,null,0,0,0,0,0,0,null,0,0,0,0,0,null,{"$f":"IF(OR(Y82+1>(IF(AND(Simulador!$C$9<Simulador!$C$10,OR(Simulador!$E$7=\"Resgate\",Simulador!$E$7=\"Portabilidade\")),Simulador!$C$9,Simulador!$C$10)-Simulador!$C$8)*12,Y82=0),0,Y82+1)","v":79},{"$f":"IF($Y83=0,0,Z82*(1+Simulador!$D$34)+E83+L83)","v":0},{"$f":"IF($Y83=0,0,AA82*(1+Simulador!$D$34)+S83)","v":0},{"$f":"IF(OR(AB82+1>(IF(AND(Simulador!$C$9<Simulador!$C$10,OR(Simulador!$E$7=\"Resgate\",Simulador!$E$7=\"Portabilidade\")),Simulador!$C$9,Simulador!$C$50)-Simulador!$C$8)*12,AB82=0),0,AB82+1)","v":79},{"$f":"IF($AB83=0,0,AC82*(1+Simulador!$D$34)+F83+M83)","v":0},{"$f":"IF($AB83=0,0,AD82*(1+Simulador!$D$34)+T83)","v":0}]
[{"$f":"IF(OR(A83+1>(IF(Simulador!$E$7=\"Autopatrocínio\",Simulador!$C$10,Simulador!$C$9)-Simulador!$C$8)*12,A83=0),0,A83+1)","v":0},{"$f":"IF($A84=0,0,IF(INT($A83/12)-$A83/12=0,B83*(1+Simulador!$C$35),B83))","v":0},{"$f":"MAX(IF(A84=0,0,B84-IF(Simulador!$C$11=\"Individual\",0,Simulador!$C$14)),0)","v":0},null,0,0,0,0,0,0,null,0,0,0,0,0,0,null,0,0,0,0,0,null,{"$f":"IF(OR(Y83+1>(IF(AND(Simulador!$C$9<Simulador!$C$10,OR(Simulador!$E$7=\"Resgate\",Simulador!$E$7=\"Portabilidade\")),Simulador!$C$9,Simulador!$C$10)-Simulador!$C$8)*12,Y83=0),0,Y83+1)","v":80},{"$f":"IF($Y84=0,0,Z83*(1+Simulador!$D$34)+E84+L84)","v":0},{"$f":"IF($Y84=0,0,AA83*(1+Simulador!$D$34)+S84)","v":0},{"$f":"IF(OR(AB83+1>(IF(AND(Simulador!$C$9<Simulador!$C$10,OR(Simulador!$E$7=\"Resgate\",Simulador!$E$7=\"Portabilidade\")),Simulador!$C$9,Simulador!$C$50)-Simulador!$C$8)*12,AB83=0),0,AB83+1)","v":80},{"$f":"IF($AB84=0,0,AC83*(1+Simulador!$D$34)+F84+M84)","v":0},{"$f":"IF($AB84=0,0,AD83*(1+Simulador!$D$34)+T84)","v":0}]
[{"$f":"IF(OR(A84+1>(IF(Simulador!$E$7=\"Autopatrocínio\",Simulador!$C$10,Simulador!$C$9)-Simulador!$C$8)*12,A84=0),0,A84+1)","v":0},{"$f":"IF($A85=0,0,IF(INT($A84/12)-$A84/12=0,B84*(1+Simulador!$C$35),B84))","v":0},{"$f":"MAX(IF(A85=0,0,B85-IF(Simulador!$C$11=\"Individual\",0,Simulador!$C$14)),0)","v":0},null,{"$f":"E$4*$C85*(1+$J85)","v":0},0,0,0,0,0,null,{"$f":"L$4*$C85*$Q85","v":0},0,0,0,0,0,null,{"$f":"S$4*$C85*(1+$J85)","v":0},0,0,0,0,null,{"$f":"IF(OR(Y84+1>(IF(AND(Simulador!$C$9<Simulador!$C$10,OR(Simulador!$E$7=\"Resgate\",Simulador!$E$7=\"Portabilidade\")),Simulador!$C$9,Simulador!$C$10)-Simulador!$C$8)*12,Y84=0),0,Y84+1)","v":81},{"$f":"IF($Y85=0,0,Z84*(1+Simulador!$D$34)+E85+L85)","v":0},{"$f":"IF($Y85=0,0,AA84*(1+Simulador!$D$34)+S85)","v":0},{"$f":"IF(OR(AB84+1>(IF(AND(Simulador!$C$9<Simulador!$C$10,OR(Simulador!$E$7=\"Resgate\",Simulador!$E$7=\"Portabilidade\")),Simulador!$C$9,Simulador!$C$50)-Simulador!$C$8)*12,AB84=0),0,AB84+1)","v":81},{"$f":"IF($AB85=0,0,AC84*(1+Simulador!$D$34)+F85+M85)","v":0},{"$f":"IF($AB85=0,0,AD84*(1+Simulador!$D$34)+T85)","v":0}]
[{"$f":"IF(OR(A85+1>(IF(Simulador!$E$7=\"Autopatrocínio\",Simulador!$C$10,Simulador!$C$9)-Simulador!$C$8)*12,A85=0),0,A85+1)","v":0},{"$f":"IF($A86=0,0,IF(INT($A85/12)-$A85/12=0,B85*(1+Simulador!$C$35),B85))","v":0},{"$f":"MAX(IF(A86=0,0,B86-IF(Simulador!$C$11=\"Individual\",0,Simulador!$C$14)),0)","v":0},null,0,0,0,0,0,0,null,0,0,0,0,0,0,null,0,0,0,0,0,null,{"$f":"IF(OR(Y85+1>(IF(AND(Simulador!$C$9<Simulador!$C$10,OR(Simulador!$E$7=\"Resgate\",Simulador!$E$7=\"Portabilidade\")),Simulador!$C$9,Simulador!$C$10)-Simulador!$C$8)*12,Y85=0),0,Y85+1)","v":82},{"$f":"IF($Y86=0,0,Z85*(1+Simulador!$D$34)+E86+L86)","v":0},{"$f":"IF($Y86=0,0,AA85*(1+Simulador!$D$34)+S86)","v":0},{"$f":"IF(OR(AB85+1>(IF(AND(Simulador!$C$9<Simulador!$C$10,OR(Simulador!$E$7=\"Resgate\",Simulador!$E$7=\"Portabilidade\")),Simulador!$C$9,Simulador!$C$50)-Simulador!$C$8)*12,AB85=0),0,AB85+1)","v":82},{"$f":"IF($AB86=0,0,AC85*(1+Simulador!$D$34)+F86+M86)","v":0},{"$f":"IF($AB86=0,0,AD85*(1+Simulador!$D$34)+T86)","v":0}]
[{"$f":"IF(OR(A86+1>(IF(Simulador!$E$7=\"Autopatrocínio\",Simulador!$C$10,Simulador!$C$9)-Simulador!$C$8)*12,A86=0),0,A86+1)","v":0},{"$f":"IF($A87=0,0,IF(INT($A86/12)-$A86/12=0,B86*(1+Simulador!$C$35),B86))","v":0},{"$f":"MAX(IF(A87=0,0,B87-IF(Simulador!$C$11=\"Individual\",0,Simulador!$C$14)),0)","v":0},null,0,0,0,0,0,0,null,0,0,0,0,0,0,null,0,0,0,0,0,null,{"$f":"IF(OR(Y86+1>(IF(AND(Simulador!$C$9<Simulador!$C$10,OR(Simulador!$E$7=\"Resgate\",Simulador!$E$7=\"Portabilidade\")),Simulador!$C$9,Simulador!$C$10)-Simulador!$C$8)*12,Y86=0),0,Y86+1)","v":83},{"$f":"IF($Y87=0,0,Z86*(1+Simulador!$D$34)+E87+L87)","v":0},{"$f":"IF($Y87=0,0,AA86*(1+Simulador!$D$34)+S87)","v":0},{"$f":"IF(OR(AB86+1>(IF(AND(Simulador!$C$9<Simulador!$C$10,OR(Simulador!$E$7=\"Resgate\",Simulador!$E$7=\"Portabilidade\")),Simulador!$C$9,Simulador!$C$50)-Simulador!$C$8)*12,AB86=0),0,AB86+1)","v":83},{"$f":"IF($AB87=0,0,AC86*(1+Simulador!$D$34)+F87+M87)","v":0},{"$f":"IF($AB87=0,0,AD86*(1+Simulador!$D$34)+T87)","v":0}]
[{"$f":"IF(OR(A87+1>(IF(Simulador!$E$7=\"Autopatrocínio\",Simulador!$C$10,Simulador!$C$9)-Simulador!$C$8)*12,A87=0),0,A87+1)","v":0},{"$f":"IF($A88=0,0,IF(INT($A87/12)-$A87/12=0,B87*(1+Simulador!$C$35),B87))","v":0},{"$f":"MAX(IF(A88=0,0,B88-IF(Simulador!$C$11=\"Individual\",0,Simulador!$C$14)),0)","v":0},null,0,0,0,0,0,0,null,0,0,0,0,0,0,null,0,0,0,0,0,null,{"$f":"IF(OR(Y87+1>(IF(AND(Simulador!$C$9<Simulador!$C$10,OR(Simulador!$E$7=\"Resgate\",Simulador!$E$7=\"Portabilidade\")),Simulador!$C$9,Simulador!$C$10)-Simulador!$C$8)*12,Y87=0),0,Y87+1)","v":84},{"$f":"IF($Y88=0,0,Z87*(1+Simulador!$D$34)+E88+L88)","v":0},{"$f":"IF($Y88=0,0,AA87*(1+Simulador!$D$34)+S88)","v":0},{"$f":"IF(OR(AB87+1>(IF(AND(Simulador!$C$9<Simulador!$C$10,OR(Simulador!$E$7=\"Resgate\",Simulador!$E$7=\"Portabilidade\")),Simulador!$C$9,Simulador!$C$50)-Simulador!$C$8)*12,AB87=0),0,AB87+1)","v":84},{"$f":"IF($AB88=0,0,AC87*(1+Simulador!$D$34)+F88+M88)","v":0},{"$f":"IF($AB88=0,0,AD87*(1+Simulador!$D$34)+T88)","v":0}]
[{"$f":"IF(OR(A88+1>(IF(Simulador!$E$7=\"Autopatrocínio\",Simulador!$C$10,Simulador!$C$9)-Simulador!$C$8)*12,A88=0),0,A88+1)","v":0},{"$f":"IF($A89=0,0,IF(INT($A88/12)-$A88/12=0,B88*(1+Simulador!$C$35),B88))","v":0},{"$f":"MAX(IF(A89=0,0,B89-IF(Simulador!$C$11=\"Individual\",0,Simulador!$C$14)),0)","v":0},null,0,0,0,0,0,0,null,0,0,0,0,0,0,null,0,0,0,0,0,null,{"$f":"IF(OR(Y88+1>(IF(AND(Simulador!$C$9<Simulador!$C$10,OR(Simulador!$E$7=\"Resgate\",Simulador!$E$7=\"Portabilidade\")),Simulador!$C$9,Simulador!$C$10)-Simulador!$C$8)*12,Y88=0),0,Y88+1)","v":85},{"$f":"IF($Y89=0,0,Z88*(1+Simulador!$D$34)+E89+L89)","v":0},{"$f":"IF($Y89=0,0,AA88*(1+Simulador!$D$34)+S89)","v":0},{"$f":"IF(OR(AB88+1>(IF(AND(Simulador!$C$9<Simulador!$C$10,OR(Simulador!$E$7=\"Resgate\",Simulador!$E$7=\"Portabilidade\")),Simulador!$C$9,Simulador!$C$50)-Simulador!$C$8)*12,AB88=0),0,AB88+1)","v":85},{"$f":"IF($AB89=0,0,AC88*(1+Simulador!$D$34)+F89+M89)","v":0},{"$f":"IF($AB89=0,0,AD88*(1+Simulador!$D$34)+T89)","v":0}]
[{"$f":"IF(OR(A89+1>(IF(Simulador!$E$7=\"Autopatrocínio\",Simulador!$C$10,Simulador!$C$9)-Simulador!$C$8)*12,A89=0),0,A89+1)","v":0},{"$f":"IF($A90=0,0,IF(INT($A89/12)-$A89/12=0,B89*(1+Simulador!$C$35),B89))","v":0},{"$f":"MAX(IF(A90=0,0,B90-IF(Simulador!$C$11=\"Individual\",0,Simulador!$C$14)),0)","v":0},null,0,0,0,0,0,0,null,0,0,0,0,0,0,null,0,0,0,0,0,null,{"$f":"IF(OR(Y89+1>(IF(AND(Simulador!$C$9<Simulador!$C$10,OR(Simulador!$E$7=\"Resgate\",Simulador!$E$7=\"Portabilidade\")),Simulador!$C$9,Simulador!$C$10)-Simulador!$C$8)*12,Y89=0),0,Y89+1)","v":86},{"$f":"IF($Y90=0,0,Z89*(1+Simulador!$D$34)+E90+L90)","v":0},{"$f":"IF($Y90=0,0,AA89*(1+Simulador!$D$34)+S90)","v":0},{"$f":"IF(OR(AB89+1>(IF(AND(Simulador!$C$9<Simulador!$C$10,OR(Simulador!$E$7=\"Resgate\",Simulador!$E$7=\"Portabilidade\")),Simulador!$C$9,Simulador!$C$50)-Simulador!$C$8)*12,AB89=0),0,AB89+1)","v":86},{"$f":"IF($AB90=0,0,AC89*(1+Simulador!$D$34)+F90+M90)","v":0},{"$f":"IF($AB90=0,0,AD89*(1+Simulador!$D$34)+T90)","v":0}]
[{"$f":"IF(OR(A90+1>(IF(Simulador!$E$7=\"Autopatrocínio\",Simulador!$C$10,Simulador!$C$9)-Simulador!$C$8)*12,A90=0),0,A90+1)","v":0},{"$f":"IF($A91=0,0,IF(INT($A90/12)-$A90/12=0,B90*(1+Simulador!$C$35),B90))","v":0},{"$f":"MAX(IF(A91=0,0,B91-IF(Simulador!$C$11=\"Individual\",0,Simulador!$C$14)),0)","v":0},null,0,0,0,0,0,0,null,0,0,0,0,0,0,null,0,0,0,0,0,null,{"$f":"IF(OR(Y90+1>(IF(AND(Simulador!$C$9<Simulador!$C$10,OR(Simulador!$E$7=\"Resgate\",Simulador!$E$7=\"Portabilidade\")),Simulador!$C$9,Simulador!$C$10)-Simulador!$C$8)*12,Y90=0),0,Y90+1)","v":87},{"$f":"IF($Y91=0,0,Z90*(1+Simulador!$D$34)+E91+L91)","v":0},{"$f":"IF($Y91=0,0,AA90*(1+Simulador!$D$34)+S91)","v":0},{"$f":"IF(OR(AB90+1>(IF(AND(Simulador!$C$9<Simulador!$C$10,OR(Simulador!$E$7=\"Resgate\",Simulador!$E$7=\"Portabilidade\")),Simulador!$C$9,Simulador!$C$50)-Simulador!$C$8)*12,AB90=0),0,AB90+1)","v":87},{"$f":"IF($AB91=0,0,AC90*(1+Simulador!$D$34)+F91+M91)","v":0},{"$f":"IF($AB91=0,0,AD90*(1+Simulador!$D$34)+T91)","v":0}]
[{"$f":"IF(OR(A91+1>(IF(Simulador!$E$7=\"Autopatrocínio\",Simulador!$C$10,Simulador!$C$9)-Simulador!$C$8)*12,A91=0),0,A91+1)","v":0},{"$f":"IF($A92=0,0,IF(INT($A91/12)-$A91/12=0,B91*(1+Simulador!$C$35),B91))","v":0},{"$f":"MAX(IF(A92=0,0,B92-IF(Simulador!$C$11=\"Individual\",0,Simulador!$C$14)),0)","v":0},null,0,0,0,0,0,0,null,0,0,0,0,0,0,null,0,0,0,0,0,null,{"$f":"IF(OR(Y91+1>(IF(AND(Simulador!$C$9<Simulador!$C$10,OR(Simulador!$E$7=\"Resgate\",Simulador!$E$7=\"Portabilidade\")),Simulador!$C$9,Simulador!$C$10)-Simulador!$C$8)*12,Y91=0),0,Y91+1)","v":88},{"$f":"IF($Y92=0,0,Z91*(1+Simulador!$D$34)+E92+L92)","v":0},{"$f":"IF($Y92=0,0,AA91*(1+Simulador!$D$34)+S92)","v":0},{"$f":"IF(OR(AB91+1>(IF(AND(Simulador!$C$9<Simulador!$C$10,OR(Simulador!$E$7=\"Resgate\",Simulador!$E$7=\"Portabilidade\")),Simulador!$C$9,Simulador!$C$50)-Simulador!$C$8)*12,AB91=0),0,AB91+1)","v":88},{"$f":"IF($AB92=0,0,AC91*(1+Simulador!$D$34)+F92+M92)","v":0},{"$f":"IF($AB92=0,0,AD91*(1+Simulador!$D$34)+T92)","v":0}]
[{"$f":"IF(OR(A92+1>(IF(Simulador!$E$7=\"Autopatrocínio\",Simulador!$C$10,Simulador!$C$9)-Simulador!$C$8)*12,A92=0),0,A92+1)","v":0},{"$f":"IF($A93=0,0,IF(INT($A92/12)-$A92/12=0,B92*(1+Simulador!$C$35),B92))","v":0},{"$f":"MAX(IF(A93=0,0,B93-IF(Simulador!$C$11=\"Individual\",0,Simulador!$C$14)),0)","v":0},null,0,0,0,0,0,0,null,0,0,0,0,0,0,null,0,0,0,0,0,null,{"$f":"IF(OR(Y92+1>(IF(AND(Simulador!$C$9<Simulador!$C$10,OR(Simulador!$E$7=\"Resgate\",Simulador!$E$7=\"Portabilidade\")),Simulador!$C$9,Simulador!$C$10)-Simulador!$C$8)*12,Y92=0),0,Y92+1)","v":89},{"$f":"IF($Y93=0,0,Z92*(1+Simulador!$D$34)+E93+L93)","v":0},{"$f":"IF($Y93=0,0,AA92*(1+Simulador!$D$34)+S93)","v":0},{"$f":"IF(OR(AB92+1>(IF(AND(Simulador!$C$9<Simulador!$C$10,OR(Simulador!$E$7=\"Resgate\",Simulador!$E$7=\"Portabilidade\")),Simulador!$C$9,Simulador!$C$50)-Simulador!$C$8)*12,AB92=0),0,AB92+1)","v":89},{"$f":"IF($AB93=0,0,AC92*(1+Simulador!$D$34)+F93+M93)","v":0},{"$f":"IF($AB93=0,0,AD92*(1+Simulador!$D$34)+T93)","v":0}]
[{"$f":"IF(OR(A93+1>(IF(Simulador!$E$7=\"Autopatrocínio\",Simulador!$C$10,Simulador!$C$9)-Simulador!$C$8)*12,A93=0),0,A93+1)","v":0},{"$f":"IF($A94=0,0,IF(INT($A93/12)-$A93/12=0,B93*(1+Simulador!$C$35),B93))","v":0},{"$f":"MAX(IF(A94=0,0,B94-IF(Simulador!$C$11=\"Individual\",0,Simulador!$C$14)),0)","v":0},null,0,0,0,0,0,0,null,0,0,0,0,0,0,null,0,0,0,0,0,null,{"$f":"IF(OR(Y93+1>(IF(AND(Simulador!$C$9<Simulador!$C$10,OR(Simulador!$E$7=\"Resgate\",Simulador!$E$7=\"Portabilidade\")),Simulador!$C$9,Simulador!$C$10)-Simulador!$C$8)*12,Y93=0),0,Y93+1)","v":90},{"$f":"IF($Y94=0,0,Z93*(1+Simulador!$D$34)+E94+L94)","v":0},{"$f":"IF($Y94=0,0,AA93*(1+Simulador!$D$34)+S94)","v":0},{"$f":"IF(OR(AB93+1>(IF(AND(Simulador!$C$9<Simulador!$C$10,OR(Simulador!$E$7=\"Resgate\",Simulador!$E$7=\"Portabilidade\")),Simulador!$C$9,Simulador!$C$50)-Simulador!$C$8)*12,AB93=0),0,AB93+1)","v":90},{"$f":"IF($AB94=0,0,AC93*(1+Simulador!$D$34)+F94+M94)","v":0},{"$f":"IF($AB94=0,0,AD93*(1+Simulador!$D$34)+T94)","v":0}]
[{"$f":"IF(OR(A94+1>(IF(Simulador!$E$7=\"Autopatrocínio\",Simulador!$C$10,Simulador!$C$9)-Simulador!$C$8)*12,A94=0),0,A94+1)","v":0},{"$f":"IF($A95=0,0,IF(INT($A94/12)-$A94/12=0,B94*(1+Simulador!$C$35),B94))","v":0},{"$f":"MAX(IF(A95=0,0,B95-IF(Simulador!$C$11=\"Individual\",0,Simulador!$C$14)),0)","v":0},null,{"$f":"E$4*$C95*(1+$J95)","v":0},0,0,0,0,0,null,{"$f":"L$4*$C95*$Q95","v":0},0,0,0,0,0,null,0,0,0,0,0,null,{"$f":"IF(OR(Y94+1>(IF(AND(Simulador!$C$9<Simulador!$C$10,OR(Simulador!$E$7=\"Resgate\",Simulador!$E$7=\"Portabilidade\")),Simulador!$C$9,Simulador!$C$10)-Simulador!$C$8)*12,Y94=0),0,Y94+1)","v":91},{"$f":"IF($Y95=0,0,Z94*(1+Simulador!$D$34)+E95+L95)","v":0},{"$f":"IF($Y95=0,0,AA94*(1+Simulador!$D$34)+S95)","v":0},{"$f":"IF(OR(AB94+1>(IF(AND(Simulador!$C$9<Simulador!$C$10,OR(Simulador!$E$7=\"Resgate\",Simulador!$E$7=\"Portabilidade\")),Simulador!$C$9,Simulador!$C$50)-Simulador!$C$8)*12,AB94=0),0,AB94+1)","v":91},{"$f":"IF($AB95=0,0,AC94*(1+Simulador!$D$34)+F95+M95)","v":0},{"$f":"IF($AB95=0,0,AD94*(1+Simulador!$D$34)+T95)","v":0}]
[{"$f":"IF(OR(A95+1>(IF(Simulador!$E$7=\"Autopatrocínio\",Simulador!$C$10,Simulador!$C$9)-Simulador!$C$8)*12,A95=0),0,A95+1)","v":0},{"$f":"IF($A96=0,0,IF(INT($A95/12)-$A95/12=0,B95*(1+Simulador!$C$35),B95))","v":0},{"$f":"MAX(IF(A96=0,0,B96-IF(Simulador!$C$11=\"Individual\",0,Simulador!$C$14)),0)","v":0},null,0,0,0,0,0,0,null,0,0,0,0,0,0,null,0,0,0,0,0,null,{"$f":"IF(OR(Y95+1>(IF(AND(Simulador!$C$9<Simulador!$C$10,OR(Simulador!$E$7=\"Resgate\",Simulador!$E$7=\"Portabilidade\")),Simulador!$C$9,Simulador!$C$10)-Simulador!$C$8)*12,Y95=0),0,Y95+1)","v":92},{"$f":"IF($Y96=0,0,Z95*(1+Simulador!$D$34)+E96+L96)","v":0},{"$f":"IF($Y96=0,0,AA95*(1+Simulador!$D$34)+S96)","v":0},{"$f":"IF(OR(AB95+1>(IF(AND(Simulador!$C$9<Simulador!$C$10,OR(Simulador!$E$7=\"Resgate\",Simulador!$E$7=\"Portabilidade\")),Simulador!$C$9,Simulador!$C$50)-Simulador!$C$8)*12,AB95=0),0,AB95+1)","v":92},{"$f":"IF($AB96=0,0,AC95*(1+Simulador!$D$34)+F96+M96)","v":0},{"$f":"IF($AB96=0,0,AD95*(1+Simulador!$D$34)+T96)","v":0}]
[{"$f":"IF(OR(A96+1>(IF(Simulador!$E$7=\"Autopatrocínio\",Simulador!$C$10,Simulador!$C$9)-Simulador!$C$8)*12,A96=0),0,A96+1)","v":0},{"$f":"IF($A97=0,0,IF(INT($A96/12)-$A96/12=0,B96*(1+Simulador!$C$35),B96))","v":0},{"$f":"MAX(IF(A97=0,0,B97-IF(Simulador!$C$11=\"Individual\",0,Simulador!$C$14)),0)","v":0},null,0,0,0,0,0,0,null,0,0,0,0,0,0,null,0,0,0,0,0,null,{"$f":"IF(OR(Y96+1>(IF(AND(Simulador!$C$9<Simulador!$C$10,OR(Simulador!$E$7=\"Resgate\",Simulador!$E$7=\"Portabilidade\")),Simulador!$C$9,Simulador!$C$10)-Simulador!$C$8)*12,Y96=0),0,Y96+1)","v":93},{"$f":"IF($Y97=0,0,Z96*(1+Simulador!$D$34)+E97+L97)","v":0},{"$f":"IF($Y97=0,0,AA96*(1+Simulador!$D$34)+S97)","v":0},{"$f":"IF(OR(AB96+1>(IF(AND(Simulador!$C$9<Simulador!$C$10,OR(Simulador!$E$7=\"Resgate\",Simulador!$E$7=\"Portabilidade\")),Simulador!$C$9,Simulador!$C$50)-Simulador!$C$8)*12,AB96=0),0,AB96+1)","v":93},{"$f":"IF($AB97=0,0,AC96*(1+Simulador!$D$34)+F97+M97)","v":0},{"$f":"IF($AB97=0,0,AD96*(1+Simulador!$D$34)+T97)","v":0}]
[{"$f":"IF(OR(A97+1>(IF(Simulador!$E$7=\"Autopatrocínio\",Simulador!$C$10,Simulador!$C$9)-Simulador!$C$8)*12,A97=0),0,A97+1)","v":0},{"$f":"IF($A98=0,0,IF(INT($A97/12)-$A97/12=0,B97*(1+Simulador!$C$35),B97))","v":0},{"$f":"MAX(IF(A98=0,0,B98-IF(Simulador!$C$11=\"Individual\",0,Simulador!$C$14)),0)","v":0},null,0,0,0,0,0,0,null,0,0,0,0,0,0,null,0,0,0,0,0,null,{"$f":"IF(OR(Y97+1>(IF(AND(Simulador!$C$9<Simulador!$C$10,OR(Simulador!$E$7=\"Resgate\",Simulador!$E$7=\"Portabilidade\")),Simulador!$C$9,Simulador!$C$10)-Simulador!$C$8)*12,Y97=0),0,Y97+1)","v":94},{"$f":"IF($Y98=0,0,Z97*(1+Simulador!$D$34)+E98+L98)","v":0},{"$f":"IF($Y98=0,0,AA97*(1+Simulador!$D$34)+S98)","v":0},{"$f":"IF(OR(AB97+1>(IF(AND(Simulador!$C$9<Simulador!$C$10,OR(Simulador!$E$7=\"Resgate\",Simulador!$E$7=\"Portabilidade\")),Simulador!$C$9,Simulador!$C$50)-Simulador!$C$8)*12,AB97=0),0,AB97+1)","v":94},{"$f":"IF($AB98=0,0,AC97*(1+Simulador!$D$34)+F98+M98)","v":0},{"$f":"IF($AB98=0,0,AD97*(1+Simulador!$D$34)+T98)","v":0}]
[{"$f":"IF(OR(A98+1>(IF(Simulador!$E$7=\"Autopatrocínio\",Simulador!$C$10,Simulador!$C$9)-Simulador!$C$8)*12,A98=0),0,A98+1)","v":0},{"$f":"IF($A99=0,0,IF(INT($A98/12)-$A98/12=0,B98*(1+Simulador!$C$35),B98))","v":0},{"$f":"MAX(IF(A99=0,0,B99-IF(Simulador!$C$11=\"Individual\",0,Simulador!$C$14)),0)","v":0},null,0,0,0,0,0,0,null,0,0,0,0,0,0,null,0,0,0,0,0,null,{"$f":"IF(OR(Y98+1>(IF(AND(Simulador!$C$9<Simulador!$C$10,OR(Simulador!$E$7=\"Resgate\",Simulador!$E$7=\"Portabilidade\")),Simulador!$C$9,Simulador!$C$10)-Simulador!$C$8)*12,Y98=0),0,Y98+1)","v":95},{"$f":"IF($Y99=0,0,Z98*(1+Simulador!$D$34)+E99+L99)","v":0},{"$f":"IF($Y99=0,0,AA98*(1+Simulador!$D$34)+S99)","v":0},{"$f":"IF(OR(AB98+1>(IF(AND(Simulador!$C$9<Simulador!$C$10,OR(Simulador!$E$7=\"Resgate\",Simulador!$E$7=\"Portabilidade\")),Simulador!$C$9,Simulador!$C$50)-Simulador!$C$8)*12,AB98=0),0,AB98+1)","v":95},{"$f":"IF($AB99=0,0,AC98*(1+Simulador!$D$34)+F99+M99)","v":0},{"$f":"IF($AB99=0,0,AD98*(1+Simulador!$D$34)+T99)","v":0}]
[{"$f":"IF(OR(A99+1>(IF(Simulador!$E$7=\"Autopatrocínio\",Simulador!$C$10,Simulador!$C$9)-Simulador!$C$8)*12,A99=0),0,A99+1)","v":0},{"$f":"IF($A100=0,0,IF(INT($A99/12)-$A99/12=0,B99*(1+Simulador!$C$35),B99))","v":0},{"$f":"MAX(IF(A100=0,0,B100-IF(Simulador!$C$11=\"Individual\",0,Simulador!$C$14)),0)","v":0},null,0,0,0,0,0,0,null,0,0,0,0,0,0,null,0,0,0,0,0,null,{"$f":"IF(OR(Y99+1>(IF(AND(Simulador!$C$9<Simulador!$C$10,OR(Simulador!$E$7=\"Resgate\",Simulador!$E$7=\"Portabilidade\")),Simulador!$C$9,Simulador!$C$10)-Simulador!$C$8)*12,Y99=0),0,Y99+1)","v":96},{"$f":"IF($Y100=0,0,Z99*(1+Simulador!$D$34)+E100+L100)","v":0},{"$f":"IF($Y100=0,0,AA99*(1+Simulador!$D$34)+S100)","v":0},{"$f":"IF(OR(AB99+1>(IF(AND(Simulador!$C$9<Simulador!$C$10,OR(Simulador!$E$7=\"Resgate\",Simulador!$E$7=\"Portabilidade\")),Simulador!$C$9,Simulador!$C$50)-Simulador!$C$8)*12,AB99=0),0,AB99+1)","v":96},{"$f":"IF($AB100=0,0,AC99*(1+Simulador!$D$34)+F100+M100)","v":0},{"$f":"IF($AB100=0,0,AD99*(1+Simulador!$D$34)+T100)","v":0}]
[{"$f":"IF(OR(A100+1>(IF(Simulador!$E$7=\"Autopatrocínio\",Simulador!$C$10,Simulador!$C$9)-Simulador!$C$8)*12,A100=0),0,A100+1)","v":0},{"$f":"IF($A101=0,0,IF(INT($A100/12)-$A100/12=0,B100*(1+Simulador!$C$35),B100))","v":0},{"$f":"MAX(IF(A101=0,0,B101-IF(Simulador!$C$11=\"Individual\",0,Simulador!$C$14)),0)","v":0},null,0,0,0,0,0,0,null,0,0,0,0,0,0,null,{"$f":"S$4*$C101*(1+$J101)","v":0},0,0,0,0,null,{"$f":"IF(OR(Y100+1>(IF(AND(Simulador!$C$9<Simulador!$C$10,OR(Simulador!$E$7=\"Resgate\",Simulador!$E$7=\"Portabilidade\")),Simulador!$C$9,Simulador!$C$10)-Simulador!$C$8)*12,Y100=0),0,Y100+1)","v":97},{"$f":"IF($Y101=0,0,Z100*(1+Simulador!$D$34)+E101+L101)","v":0},{"$f":"IF($Y101=0,0,AA100*(1+Simulador!$D$34)+S101)","v":0},{"$f":"IF(OR(AB100+1>(IF(AND(Simulador!$C$9<Simulador!$C$10,OR(Simulador!$E$7=\"Resgate\",Simulador!$E$7=\"Portabilidade\")),Simulador!$C$9,Simulador!$C$50)-Simulador!$C$8)*12,AB100=0),0,AB100+1)","v":97},{"$f":"IF($AB101=0,0,AC100*(1+Simulador!$D$34)+F101+M101)","v":0},{"$f":"IF($AB101=0,0,AD100*(1+Simulador!$D$34)+T101)","v":0}]
[{"$f":"IF(OR(A101+1>(IF(Simulador!$E$7=\"Autopatrocínio\",Simulador!$C$10,Simulador!$C$9)-Simulador!$C$8)*12,A101=0),0,A101+1)","v":0},{"$f":"IF($A102=0,0,IF(INT($A101/12)-$A101/12=0,B101*(1+Simulador!$C$35),B101))","v":0},{"$f":"MAX(IF(A102=0,0,B102-IF(Simulador!$C$11=\"Individual\",0,Simulador!$C$14)),0)","v":0},null,0,0,0,0,0,0,null,0,0,0,0,0,0,null,0,0,0,0,0,null,{"$f":"IF(OR(Y101+1>(IF(AND(Simulador!$C$9<Simulador!$C$10,OR(Simulador!$E$7=\"Resgate\",Simulador!$E$7=\"Portabilidade\")),Simulador!$C$9,Simulador!$C$10)-Simulador!$C$8)*12,Y101=0),0,Y101+1)","v":98},{"$f":"IF($Y102=0,0,Z101*(1+Simulador!$D$34)+E102+L102)","v":0},{"$f":"IF($Y102=0,0,AA101*(1+Simulador!$D$34)+S102)","v":0},{"$f":"IF(OR(AB101+1>(IF(AND(Simulador!$C$9<Simulador!$C$10,OR(Simulador!$E$7=\"Resgate\",Simulador!$E$7=\"Portabilidade\")),Simulador!$C$9,Simulador!$C$50)-Simulador!$C$8)*12,AB101=0),0,AB101+1)","v":98},{"$f":"IF($AB102=0,0,AC101*(1+Simulador!$D$34)+F102+M102)","v":0},{"$f":"IF($AB102=0,0,AD101*(1+Simulador!$D$34)+T102)","v":0}]
[{"$f":"IF(OR(A102+1>(IF(Simulador!$E$7=\"Autopatrocínio\",Simulador!$C$10,Simulador!$C$9)-Simulador!$C$8)*12,A102=0),0,A102+1)","v":0},{"$f":"IF($A103=0,0,IF(INT($A102/12)-$A102/12=0,B102*(1+Simulador!$C$35),B102))","v":0},{"$f":"MAX(IF(A103=0,0,B103-IF(Simulador!$C$11=\"Individual\",0,Simulador!$C$14)),0)","v":0},null,0,0,0,0,0,0,null,0,0,0,0,0,0,null,0,0,0,0,0,null,{"$f":"IF(OR(Y102+1>(IF(AND(Simulador!$C$9<Simulador!$C$10,OR(Simulador!$E$7=\"Resgate\",Simulador!$E$7=\"Portabilidade\")),Simulador!$C$9,Simulador!$C$10)-Simulador!$C$8)*12,Y102=0),0,Y102+1)","v":99},{"$f":"IF($Y103=0,0,Z102*(1+Simulador!$D$34)+E103+L103)","v":0},{"$f":"IF($Y103=0,0,AA102*(1+Simulador!$D$34)+S103)","v":0},{"$f":"IF(OR(AB102+1>(IF(AND(Simulador!$C$9<Simulador!$C$10,OR(Simulador!$E$7=\"Resgate\",Simulador!$E$7=\"Portabilidade\")),Simulador!$C$9,Simulador!$C$50)-Simulador!$C$8)*12,AB102=0),0,AB102+1)","v":99},{"$f":"IF($AB103=0,0,AC102*(1+Simulador!$D$34)+F103+M103)","v":0},{"$f":"IF($AB103=0,0,AD102*(1+Simulador!$D$34)+T103)","v":0}]
[{"$f":"IF(OR(A103+1>(IF(Simulador!$E$7=\"Autopatrocínio\",Simulador!$C$10,Simulador!$C$9)-Simulador!$C$8)*12,A103=0),0,A103+1)","v":0},{"$f":"IF($A104=0,0,IF(INT($A103/12)-$A103/12=0,B103*(1+Simulador!$C$35),B103))","v":0},{"$f":"MAX(IF(A104=0,0,B104-IF(Simulador!$C$11=\"Individual\",0,Simulador!$C$14)),0)","v":0},null,0,0,0,0,0,0,null,0,0,0,0,0,0,null,0,0,0,0,0,null,{"$f":"IF(OR(Y103+1>(IF(AND(Simulador!$C$9<Simulador!$C$10,OR(Simulador!$E$7=\"Resgate\",Simulador!$E$7=\"Portabilidade\")),Simulador!$C$9,Simulador!$C$10)-Simulador!$C$8)*12,Y103=0),0,Y103+1)","v":100},{"$f":"IF($Y104=0,0,Z103*(1+Simulador!$D$34)+E104+L104)","v":0},{"$f":"IF($Y104=0,0,AA103*(1+Simulador!$D$34)+S104)","v":0},{"$f":"IF(OR(AB103+1>(IF(AND(Simulador!$C$9<Simulador!$C$10,OR(Simulador!$E$7=\"Resgate\",Simulador!$E$7=\"Portabilidade\")),Simulador!$C$9,Simulador!$C$50)-Simulador!$C$8)*12,AB103=0),0,AB103+1)","v":100},{"$f":"IF($AB104=0,0,AC103*(1+Simulador!$D$34)+F104+M104)","v":0},{"$f":"IF($AB104=0,0,AD103*(1+Simulador!$D$34)+T104)","v":0}]
[{"$f":"IF(OR(A104+1>(IF(Simulador!$E$7=\"Autopatrocínio\",Simulador!$C$10,Simulador!$C$9)-Simulador!$C$8)*12,A104=0),0,A104+1)","v":0},{"$f":"IF($A105=0,0,IF(INT($A104/12)-$A104/12=0,B104*(1+Simulador!$C$35),B104))","v":0},{"$f":"MAX(IF(A105=0,0,B105-IF(Simulador!$C$11=\"Individual\",0,Simulador!$C$14)),0)","v":0},null,{"$f":"E$4*$C105*(1+$J105)","v":0},0,0,0,0,0,null,{"$f":"L$4*$C105*$Q105","v":0},0,0,0,0,0,null,0,0,0,0,0,null,{"$f":"IF(OR(Y104+1>(IF(AND(Simulador!$C$9<Simulador!$C$10,OR(Simulador!$E$7=\"Resgate\",Simulador!$E$7=\"Portabilidade\")),Simulador!$C$9,Simulador!$C$10)-Simulador!$C$8)*12,Y104=0),0,Y104+1)","v":101},{"$f":"IF($Y105=0,0,Z104*(1+Simulador!$D$34)+E105+L105)","v":0},{"$f":"IF($Y105=0,0,AA104*(1+Simulador!$D$34)+S105)","v":0},{"$f":"IF(OR(AB104+1>(IF(AND(Simulador!$C$9<Simulador!$C$10,OR(Simulador!$E$7=\"Resgate\",Simulador!$E$7=\"Portabilidade\")),Simulador!$C$9,Simulador!$C$50)-Simulador!$C$8)*12,AB104=0),0,AB104+1)","v":101},{"$f":"IF($AB105=0,0,AC104*(1+Simulador!$D$34)+F105+M105)","v":0},{"$f":"IF($AB105=0,0,AD104*(1+Simulador!$D$34)+T105)","v":0}]
[{"$f":"IF(OR(A105+1>(IF(Simulador!$E$7=\"Autopatrocínio\",Simulador!$C$10,Simulador!$C$9)-Simulador!$C$8)*12,A105=0),0,A105+1)","v":0},{"$f":"IF($A106=0,0,IF(INT($A105/12)-$A105/12=0,B105*(1+Simulador!$C$35),B105))","v":0},{"$f":"MAX(IF(A106=0,0,B106-IF(Simulador!$C$11=\"Individual\",0,Simulador!$C$14)),0)","v":0},null,0,0,0,0,0,0,null,0,0,0,0,0,0,null,0,0,0,0,0,null,{"$f":"IF(OR(Y105+1>(IF(AND(Simulador!$C$9<Simulador!$C$10,OR(Simulador!$E$7=\"Resgate\",Simulador!$E$7=\"Portabilidade\")),Simulador!$C$9,Simulador!$C$10)-Simulador!$C$8)*12,Y105=0),0,Y105+1)","v":102},{"$f":"IF($Y106=0,0,Z105*(1+Simulador!$D$34)+E106+L106)","v":0},{"$f":"IF($Y106=0,0,AA105*(1+Simulador!$D$34)+S106)","v":0},{"$f":"IF(OR(AB105+1>(IF(AND(Simulador!$C$9<Simulador!$C$10,OR(Simulador!$E$7=\"Resgate\",Simulador!$E$7=\"Portabilidade\")),Simulador!$C$9,Simulador!$C$50)-Simulador!$C$8)*12,AB105=0),0,AB105+1)","v":102},{"$f":"IF($AB106=0,0,AC105*(1+Simulador!$D$34)+F106+M106)","v":0},{"$f":"IF($AB106=0,0,AD105*(1+Simulador!$D$34)+T106)","v":0}]
[{"$f":"IF(OR(A106+1>(IF(Simulador!$E$7=\"Autopatrocínio\",Simulador!$C$10,Simulador!$C$9)-Simulador!$C$8)*12,A106=0),0,A106+1)","v":0},{"$f":"IF($A107=0,0,IF(INT($A106/12)-$A106/12=0,B106*(1+Simulador!$C$35),B106))","v":0},{"$f":"MAX(IF(A107=0,0,B107-IF(Simulador!$C$11=\"Individual\",0,Simulador!$C$14)),0)","v":0},null,0,0,0,0,0,0,null,0,0,0,0,0,0,null,0,0,0,0,0,null,{"$f":"IF(OR(Y106+1>(IF(AND(Simulador!$C$9<Simulador!$C$10,OR(Simulador!$E$7=\"Resgate\",Simulador!$E$7=\"Portabilidade\")),Simulador!$C$9,Simulador!$C$10)-Simulador!$C$8)*12,Y106=0),0,Y106+1)","v":103},{"$f":"IF($Y107=0,0,Z106*(1+Simulador!$D$34)+E107+L107)","v":0},{"$f":"IF($Y107=0,0,AA106*(1+Simulador!$D$34)+S107)","v":0},{"$f":"IF(OR(AB106+1>(IF(AND(Simulador!$C$9<Simulador!$C$10,OR(Simulador!$E$7=\"Resgate\",Simulador!$E$7=\"Portabilidade\")),Simulador!$C$9,Simulador!$C$50)-Simulador!$C$8)*12,AB106=0),0,AB106+1)","v":103},{"$f":"IF($AB107=0,0,AC106*(1+Simulador!$D$34)+F107+M107)","v":0},{"$f":"IF($AB107=0,0,AD106*(1+Simulador!$D$34)+T107)","v":0}]
[{"$f":"IF(OR(A107+1>(IF(Simulador!$E$7=\"Autopatrocínio\",Simulador!$C$10,Simulador!$C$9)-Simulador!$C$8)*12,A107=0),0,A107+1)","v":0},{"$f":"IF($A108=0,0,IF(INT($A107/12)-$A107/12=0,B107*(1+Simulador!$C$35),B107))","v":0},{"$f":"MAX(IF(A108=0,0,B108-IF(Simulador!$C$11=\"Individual\",0,Simulador!$C$14)),0)","v":0},null,0,0,0,0,0,0,null,0,0,0,0,0,0,null,0,0,0,0,0,null,{"$f":"IF(OR(Y107+1>(IF(AND(Simulador!$C$9<Simulador!$C$10,OR(Simulador!$E$7=\"Resgate\",Simulador!$E$7=\"Portabilidade\")),Simulador!$C$9,Simulador!$C$10)-Simulador!$C$8)*12,Y107=0),0,Y107+1)","v":104},{"$f":"IF($Y108=0,0,Z107*(1+Simulador!$D$34)+E108+L108)","v":0},{"$f":"IF($Y108=0,0,AA107*(1+Simulador!$D$34)+S108)","v":0},{"$f":"IF(OR(AB107+1>(IF(AND(Simulador!$C$9<Simulador!$C$10,OR(Simulador!$E$7=\"Resgate\",Simulador!$E$7=\"Portabilidade\")),Simulador!$C$9,Simulador!$C$50)-Simulador!$C$8)*12,AB107=0),0,AB107+1)","v":104},{"$f":"IF($AB108=0,0,AC107*(1+Simulador!$D$34)+F108+M108)","v":0},{"$f":"IF($AB108=0,0,AD107*(1+Simulador!$D$34)+T108)","v":0}]
[{"$f":"IF(OR(A108+1>(IF(Simulador!$E$7=\"Autopatrocínio\",Simulador!$C$10,Simulador!$C$9)-Simulador!$C$8)*12,A108=0),0,A108+1)","v":0},{"$f":"IF($A109=0,0,IF(INT($A108/12)-$A108/12=0,B108*(1+Simulador!$C$35),B108))","v":0},{"$f":"MAX(IF(A109=0,0,B109-IF(Simulador!$C$11=\"Individual\",0,Simulador!$C$14)),0)","v":0},null,0,0,0,0,0,0,null,0,0,0,0,0,0,null,0,0,0,0,0,null,{"$f":"IF(OR(Y108+1>(IF(AND(Simulador!$C$9<Simulador!$C$10,OR(Simulador!$E$7=\"Resgate\",Simulador!$E$7=\"Portabilidade\")),Simulador!$C$9,Simulador!$C$10)-Simulador!$C$8)*12,Y108=0),0,Y108+1)","v":105},{"$f":"IF($Y109=0,0,Z108*(1+Simulador!$D$34)+E109+L109)","v":0},{"$f":"IF($Y109=0,0,AA108*(1+Simulador!$D$34)+S109)","v":0},{"$f":"IF(OR(AB108+1>(IF(AND(Simulador!$C$9<Simulador!$C$10,OR(Simulador!$E$7=\"Resgate\",Simulador!$E$7=\"Portabilidade\")),Simulador!$C$9,Simulador!$C$50)-Simulador!$C$8)*12,AB108=0),0,AB108+1)","v":105},{"$f":"IF($AB109=0,0,AC108*(1+Simulador!$D$34)+F109+M109)","v":0},{"$f":"IF($AB109=0,0,AD108*(1+Simulador!$D$34)+T109)","v":0}]
[{"$f":"IF(OR(A109+1>(IF(Simulador!$E$7=\"Autopatrocínio\",Simulador!$C$10,Simulador!$C$9)-Simulador!$C$8)*12,A109=0),0,A109+1)","v":0},{"$f":"IF($A110=0,0,IF(INT($A109/12)-$A109/12=0,B109*(1+Simulador!$C$35),B109))","v":0},{"$f":"MAX(IF(A110=0,0,B110-IF(Simulador!$C$11=\"Individual\",0,Simulador!$C$14)),0)","v":0},null,0,0,0,0,0,0,null,0,0,0,0,0,0,null,0,0,0,0,0,null,{"$f":"IF(OR(Y109+1>(IF(AND(Simulador!$C$9<Simulador!$C$10,OR(Simulador!$E$7=\"Resgate\",Simulador!$E$7=\"Portabilidade\")),Simulador!$C$9,Simulador!$C$10)-Simulador!$C$8)*12,Y109=0),0,Y109+1)","v":106},{"$f":"IF($Y110=0,0,Z109*(1+Simulador!$D$34)+E110+L110)","v":0},{"$f":"IF($Y110=0,0,AA109*(1+Simulador!$D$34)+S110)","v":0},{"$f":"IF(OR(AB109+1>(IF(AND(Simulador!$C$9<Simulador!$C$10,OR(Simulador!$E$7=\"Resgate\",Simulador!$E$7=\"Portabilidade\")),Simulador!$C$9,Simulador!$C$50)-Simulador!$C$8)*12,AB109=0),0,AB109+1)","v":106},{"$f":"IF($AB110=0,0,AC109*(1+Simulador!$D$34)+F110+M110)","v":0},{"$f":"IF($AB110=0,0,AD109*(1+Simulador!$D$34)+T110)","v":0}]
[{"$f":"IF(OR(A110+1>(IF(Simulador!$E$7=\"Autopatrocínio\",Simulador!$C$10,Simulador!$C$9)-Simulador!$C$8)*12,A110=0),0,A110+1)","v":0},{"$f":"IF($A111=0,0,IF(INT($A110/12)-$A110/12=0,B110*(1+Simulador!$C$35),B110))","v":0},{"$f":"MAX(IF(A111=0,0,B111-IF(Simulador!$C$11=\"Individual\",0,Simulador!$C$14)),0)","v":0},null,0,0,0,0,0,0,null,0,0,0,0,0,0,null,0,0,0,0,0,null,{"$f":"IF(OR(Y110+1>(IF(AND(Simulador!$C$9<Simulador!$C$10,OR(Simulador!$E$7=\"Resgate\",Simulador!$E$7=\"Portabilidade\")),Simulador!$C$9,Simulador!$C$10)-Simulador!$C$8)*12,Y110=0),0,Y110+1)","v":107},{"$f":"IF($Y111=0,0,Z110*(1+Simulador!$D$34)+E111+L111)","v":0},{"$f":"IF($Y111=0,0,AA110*(1+Simulador!$D$34)+S111)","v":0},{"$f":"IF(OR(AB110+1>(IF(AND(Simulador!$C$9<Simulador!$C$10,OR(Simulador!$E$7=\"Resgate\",Simulador!$E$7=\"Portabilidade\")),Simulador!$C$9,Simulador!$C$50)-Simulador!$C$8)*12,AB110=0),0,AB110+1)","v":107},{"$f":"IF($AB111=0,0,AC110*(1+Simulador!$D$34)+F111+M111)","v":0},{"$f":"IF($AB111=0,0,AD110*(1+Simulador!$D$34)+T111)","v":0}]
[{"$f":"IF(OR(A111+1>(IF(Simulador!$E$7=\"Autopatrocínio\",Simulador!$C$10,Simulador!$C$9)-Simulador!$C$8)*12,A111=0),0,A111+1)","v":0},{"$f":"IF($A112=0,0,IF(INT($A111/12)-$A111/12=0,B111*(1+Simulador!$C$35),B111))","v":0},{"$f":"MAX(IF(A112=0,0,B112-IF(Simulador!$C$11=\"Individual\",0,Simulador!$C$14)),0)","v":0},null,0,0,0,0,0,0,null,0,0,0,0,0,0,null,0,0,0,0,0,null,{"$f":"IF(OR(Y111+1>(IF(AND(Simulador!$C$9<Simulador!$C$10,OR(Simulador!$E$7=\"Resgate\",Simulador!$E$7=\"Portabilidade\")),Simulador!$C$9,Simulador!$C$10)-Simulador!$C$8)*12,Y111=0),0,Y111+1)","v":108},{"$f":"IF($Y112=0,0,Z111*(1+Simulador!$D$34)+E112+L112)","v":0},{"$f":"IF($Y112=0,0,AA111*(1+Simulador!$D$34)+S112)","v":0},{"$f":"IF(OR(AB111+1>(IF(AND(Simulador!$C$9<Simulador!$C$10,OR(Simulador!$E$7=\"Resgate\",Simulador!$E$7=\"Portabilidade\")),Simulador!$C$9,Simulador!$C$50)-Simulador!$C$8)*12,AB111=0),0,AB111+1)","v":108},{"$f":"IF($AB112=0,0,AC111*(1+Simulador!$D$34)+F112+M112)","v":0},{"$f":"IF($AB112=0,0,AD111*(1+Simulador!$D$34)+T112)","v":0}]
[{"$f":"IF(OR(A112+1>(IF(Simulador!$E$7=\"Autopatrocínio\",Simulador!$C$10,Simulador!$C$9)-Simulador!$C$8)*12,A112=0),0,A112+1)","v":0},{"$f":"IF($A113=0,0,IF(INT($A112/12)-$A112/12=0,B112*(1+Simulador!$C$35),B112))","v":0},{"$f":"MAX(IF(A113=0,0,B113-IF(Simulador!$C$11=\"Individual\",0,Simulador!$C$14)),0)","v":0},null,0,0,0,0,0,0,null,0,0,0,0,0,0,null,0,0,0,0,0,null,{"$f":"IF(OR(Y112+1>(IF(AND(Simulador!$C$9<Simulador!$C$10,OR(Simulador!$E$7=\"Resgate\",Simulador!$E$7=\"Portabilidade\")),Simulador!$C$9,Simulador!$C$10)-Simulador!$C$8)*12,Y112=0),0,Y112+1)","v":109},{"$f":"IF($Y113=0,0,Z112*(1+Simulador!$D$34)+E113+L113)","v":0},{"$f":"IF($Y113=0,0,AA112*(1+Simulador!$D$34)+S113)","v":0},{"$f":"IF(OR(AB112+1>(IF(AND(Simulador!$C$9<Simulador!$C$10,OR(Simulador!$E$7=\"Resgate\",Simulador!$E$7=\"Portabilidade\")),Simulador!$C$9,Simulador!$C$50)-Simulador!$C$8)*12,AB112=0),0,AB112+1)","v":109},{"$f":"IF($AB113=0,0,AC112*(1+Simulador!$D$34)+F113+M113)","v":0},{"$f":"IF($AB113=0,0,AD112*(1+Simulador!$D$34)+T113)","v":0}]
[{"$f":"IF(OR(A113+1>(IF(Simulador!$E$7=\"Autopatrocínio\",Simulador!$C$10,Simulador!$C$9)-Simulador!$C$8)*12,A113=0),0,A113+1)","v":0},{"$f":"IF($A114=0,0,IF(INT($A113/12)-$A113/12=0,B113*(1+Simulador!$C$35),B113))","v":0},{"$f":"MAX(IF(A114=0,0,B114-IF(Simulador!$C$11=\"Individual\",0,Simulador!$C$14)),0)","v":0},null,0,0,0,0,0,0,null,0,0,0,0,0,0,null,0,0,0,0,0,null,{"$f":"IF(OR(Y113+1>(IF(AND(Simulador!$C$9<Simulador!$C$10,OR(Simulador!$E$7=\"Resgate\",Simulador!$E$7=\"Portabilidade\")),Simulador!$C$9,Simulador!$C$10)-Simulador!$C$8)*12,Y113=0),0,Y113+1)","v":110},{"$f":"IF($Y114=0,0,Z113*(1+Simulador!$D$34)+E114+L114)","v":0},{"$f":"IF($Y114=0,0,AA113*(1+Simulador!$D$34)+S114)","v":0},{"$f":"IF(OR(AB113+1>(IF(AND(Simulador!$C$9<Simulador!$C$10,OR(Simulador!$E$7=\"Resgate\",Simulador!$E$7=\"Portabilidade\")),Simulador!$C$9,Simulador!$C$50)-Simulador!$C$8)*12,AB113=0),0,AB113+1)","v":110},{"$f":"IF($AB114=0,0,AC113*(1+Simulador!$D$34)+F114+M114)","v":0},{"$f":"IF($AB114=0,0,AD113*(1+Simulador!$D$34)+T114)","v":0}]
[{"$f":"IF(OR(A114+1>(IF(Simulador!$E$7=\"Autopatrocínio\",Simulador!$C$10,Simulador!$C$9)-Simulador!$C$8)*12,A114=0),0,A114+1)","v":0},{"$f":"IF($A115=0,0,IF(INT($A114/12)-$A114/12=0,B114*(1+Simulador!$C$35),B114))","v":0},{"$f":"MAX(IF(A115=0,0,B115-IF(Simulador!$C$11=\"Individual\",0,Simulador!$C$14)),0)","v":0},null,{"$f":"E$4*$C115*(1+$J115)","v":0},0,0,0,0,0,null,{"$f":"L$4*$C115*$Q115","v":0},0,0,0,0,0,null,0,0,0,0,0,null,{"$f":"IF(OR(Y114+1>(IF(AND(Simulador!$C$9<Simulador!$C$10,OR(Simulador!$E$7=\"Resgate\",Simulador!$E$7=\"Portabilidade\")),Simulador!$C$9,Simulador!$C$10)-Simulador!$C$8)*12,Y114=0),0,Y114+1)","v":111},{"$f":"IF($Y115=0,0,Z114*(1+Simulador!$D$34)+E115+L115)","v":0},{"$f":"IF($Y115=0,0,AA114*(1+Simulador!$D$34)+S115)","v":0},{"$f":"IF(OR(AB114+1>(IF(AND(Simulador!$C$9<Simulador!$C$10,OR(Simulador!$E$7=\"Resgate\",Simulador!$E$7=\"Portabilidade\")),Simulador!$C$9,Simulador!$C$50)-Simulador!$C$8)*12,AB114=0),0,AB114+1)","v":111},{"$f":"IF($AB115=0,0,AC114*(1+Simulador!$D$34)+F115+M115)","v":0},{"$f":"IF($AB115=0,0,AD114*(1+Simulador!$D$34)+T115)","v":0}]
[{"$f":"IF(OR(A115+1>(IF(Simulador!$E$7=\"Autopatrocínio\",Simulador!$C$10,Simulador!$C$9)-Simulador!$C$8)*12,A115=0),0,A115+1)","v":0},{"$f":"IF($A116=0,0,IF(INT($A115/12)-$A115/12=0,B115*(1+Simulador!$C$35),B115))","v":0},{"$f":"MAX(IF(A116=0,0,B116-IF(Simulador!$C$11=\"Individual\",0,Simulador!$C$14)),0)","v":0},null,0,0,0,0,0,0,null,0,0,0,0,0,0,null,0,0,0,0,0,null,{"$f":"IF(OR(Y115+1>(IF(AND(Simulador!$C$9<Simulador!$C$10,OR(Simulador!$E$7=\"Resgate\",Simulador!$E$7=\"Portabilidade\")),Simulador!$C$9,Simulador!$C$10)-Simulador!$C$8)*12,Y115=0),0,Y115+1)","v":112},{"$f":"IF($Y116=0,0,Z115*(1+Simulador!$D$34)+E116+L116)","v":0},{"$f":"IF($Y116=0,0,AA115*(1+Simulador!$D$34)+S116)","v":0},{"$f":"IF(OR(AB115+1>(IF(AND(Simulador!$C$9<Simulador!$C$10,OR(Simulador!$E$7=\"Resgate\",Simulador!$E$7=\"Portabilidade\")),Simulador!$C$9,Simulador!$C$50)-Simulador!$C$8)*12,AB115=0),0,AB115+1)","v":112},{"$f":"IF($AB116=0,0,AC115*(1+Simulador!$D$34)+F116+M116)","v":0},{"$f":"IF($AB116=0,0,AD115*(1+Simulador!$D$34)+T116)","v":0}]
[{"$f":"IF(OR(A116+1>(IF(Simulador!$E$7=\"Autopatrocínio\",Simulador!$C$10,Simulador!$C$9)-Simulador!$C$8)*12,A116=0),0,A116+1)","v":0},{"$f":"IF($A117=0,0,IF(INT($A116/12)-$A116/12=0,B116*(1+Simulador!$C$35),B116))","v":0},{"$f":"MAX(IF(A117=0,0,B117-IF(Simulador!$C$11=\"Individual\",0,Simulador!$C$14)),0)","v":0},null,0,0,0,0,0,0,null,0,0,0,0,0,0,null,{"$f":"S$4*$C117*(1+$J117)","v":0},0,0,0,0,null,{"$f":"IF(OR(Y116+1>(IF(AND(Simulador!$C$9<Simulador!$C$10,OR(Simulador!$E$7=\"Resgate\",Simulador!$E$7=\"Portabilidade\")),Simulador!$C$9,Simulador!$C$10)-Simulador!$C$8)*12,Y116=0),0,Y116+1)","v":113},{"$f":"IF($Y117=0,0,Z116*(1+Simulador!$D$34)+E117+L117)","v":0},{"$f":"IF($Y117=0,0,AA116*(1+Simulador!$D$34)+S117)","v":0},{"$f":"IF(OR(AB116+1>(IF(AND(Simulador!$C$9<Simulador!$C$10,OR(Simulador!$E$7=\"Resgate\",Simulador!$E$7=\"Portabilidade\")),Simulador!$C$9,Simulador!$C$50)-Simulador!$C$8)*12,AB116=0),0,AB116+1)","v":113},{"$f":"IF($AB117=0,0,AC116*(1+Simulador!$D$34)+F117+M117)","v":0},{"$f":"IF($AB117=0,0,AD116*(1+Simulador!$D$34)+T117)","v":0}]
[{"$f":"IF(OR(A117+1>(IF(Simulador!$E$7=\"Autopatrocínio\",Simulador!$C$10,Simulador!$C$9)-Simulador!$C$8)*12,A117=0),0,A117+1)","v":0},{"$f":"IF($A118=0,0,IF(INT($A117/12)-$A117/12=0,B117*(1+Simulador!$C$35),B117))","v":0},{"$f":"MAX(IF(A118=0,0,B118-IF(Simulador!$C$11=\"Individual\",0,Simulador!$C$14)),0)","v":0},null,0,0,0,0,0,0,null,0,0,0,0,0,0,null,0,0,0,0,0,null,{"$f":"IF(OR(Y117+1>(IF(AND(Simulador!$C$9<Simulador!$C$10,OR(Simulador!$E$7=\"Resgate\",Simulador!$E$7=\"Portabilidade\")),Simulador!$C$9,Simulador!$C$10)-Simulador!$C$8)*12,Y117=0),0,Y117+1)","v":114},{"$f":"IF($Y118=0,0,Z117*(1+Simulador!$D$34)+E118+L118)","v":0},{"$f":"IF($Y118=0,0,AA117*(1+Simulador!$D$34)+S118)","v":0},{"$f":"IF(OR(AB117+1>(IF(AND(Simulador!$C$9<Simulador!$C$10,OR(Simulador!$E$7=\"Resgate\",Simulador!$E$7=\"Portabilidade\")),Simulador!$C$9,Simulador!$C$50)-Simulador!$C$8)*12,AB117=0),0,AB117+1)","v":114},{"$f":"IF($AB118=0,0,AC117*(1+Simulador!$D$34)+F118+M118)","v":0},{"$f":"IF($AB118=0,0,AD117*(1+Simulador!$D$34)+T118)","v":0}]
[{"$f":"IF(OR(A118+1>(IF(Simulador!$E$7=\"Autopatrocínio\",Simulador!$C$10,Simulador!$C$9)-Simulador!$C$8)*12,A118=0),0,A118+1)","v":0},{"$f":"IF($A119=0,0,IF(INT($A118/12)-$A118/12=0,B118*(1+Simulador!$C$35),B118))","v":0},{"$f":"MAX(IF(A119=0,0,B119-IF(Simulador!$C$11=\"Individual\",0,Simulador!$C$14)),0)","v":0},null,0,0,0,0,0,0,null,0,0,0,0,0,0,null,0,0,0,0,0,null,{"$f":"IF(OR(Y118+1>(IF(AND(Simulador!$C$9<Simulador!$C$10,OR(Simulador!$E$7=\"Resgate\",Simulador!$E$7=\"Portabilidade\")),Simulador!$C$9,Simulador!$C$10)-Simulador!$C$8)*12,Y118=0),0,Y118+1)","v":115},{"$f":"IF($Y119=0,0,Z118*(1+Simulador!$D$34)+E119+L119)","v":0},{"$f":"IF($Y119=0,0,AA118*(1+Simulador!$D$34)+S119)","v":0},{"$f":"IF(OR(AB118+1>(IF(AND(Simulador!$C$9<Simulador!$C$10,OR(Simulador!$E$7=\"Resgate\",Simulador!$E$7=\"Portabilidade\")),Simulador!$C$9,Simulador!$C$50)-Simulador!$C$8)*12,AB118=0),0,AB118+1)","v":115},{"$f":"IF($AB119=0,0,AC118*(1+Simulador!$D$34)+F119+M119)","v":0},{"$f":"IF($AB119=0,0,AD118*(1+Simulador!$D$34)+T119)","v":0}]
[{"$f":"IF(OR(A119+1>(IF(Simulador!$E$7=\"Autopatrocínio\",Simulador!$C$10,Simulador!$C$9)-Simulador!$C$8)*12,A119=0),0,A119+1)","v":0},{"$f":"IF($A120=0,0,IF(INT($A119/12)-$A119/12=0,B119*(1+Simulador!$C$35),B119))","v":0},{"$f":"MAX(IF(A120=0,0,B120-IF(Simulador!$C$11=\"Individual\",0,Simulador!$C$14)),0)","v":0},null,0,0,0,0,0,0,null,0,0,0,0,0,0,null,0,0,0,0,0,null,{"$f":"IF(OR(Y119+1>(IF(AND(Simulador!$C$9<Simulador!$C$10,OR(Simulador!$E$7=\"Resgate\",Simulador!$E$7=\"Portabilidade\")),Simulador!$C$9,Simulador!$C$10)-Simulador!$C$8)*12,Y119=0),0,Y119+1)","v":116},{"$f":"IF($Y120=0,0,Z119*(1+Simulador!$D$34)+E120+L120)","v":0},{"$f":"IF($Y120=0,0,AA119*(1+Simulador!$D$34)+S120)","v":0},{"$f":"IF(OR(AB119+1>(IF(AND(Simulador!$C$9<Simulador!$C$10,OR(Simulador!$E$7=\"Resgate\",Simulador!$E$7=\"Portabilidade\")),Simulador!$C$9,Simulador!$C$50)-Simulador!$C$8)*12,AB119=0),0,AB119+1)","v":116},{"$f":"IF($AB120=0,0,AC119*(1+Simulador!$D$34)+F120+M120)","v":0},{"$f":"IF($AB120=0,0,AD119*(1+Simulador!$D$34)+T120)","v":0}]
[{"$f":"IF(OR(A120+1>(IF(Simulador!$E$7=\"Autopatrocínio\",Simulador!$C$10,Simulador!$C$9)-Simulador!$C$8)*12,A120=0),0,A120+1)","v":0},{"$f":"IF($A121=0,0,IF(INT($A120/12)-$A120/12=0,B120*(1+Simulador!$C$35),B120))","v":0},{"$f":"MAX(IF(A121=0,0,B121-IF(Simulador!$C$11=\"Individual\",0,Simulador!$C$14)),0)","v":0},null,0,0,0,0,0,0,null,0,0,0,0,0,0,null,0,0,0,0,0,null,{"$f":"IF(OR(Y120+1>(IF(AND(Simulador!$C$9<Simulador!$C$10,OR(Simulador!$E$7=\"Resgate\",Simulador!$E$7=\"Portabilidade\")),Simulador!$C$9,Simulador!$C$10)-Simulador!$C$8)*12,Y120=0),0,Y120+1)","v":117},{"$f":"IF($Y121=0,0,Z120*(1+Simulador!$D$34)+E121+L121)","v":0},{"$f":"IF($Y121=0,0,AA120*(1+Simulador!$D$34)+S121)","v":0},{"$f":"IF(OR(AB120+1>(IF(AND(Simulador!$C$9<Simulador!$C$10,OR(Simulador!$E$7=\"Resgate\",Simulador!$E$7=\"Portabilidade\")),Simulador!$C$9,Simulador!$C$50)-Simulador!$C$8)*12,AB120=0),0,AB120+1)","v":117},{"$f":"IF($AB121=0,0,AC120*(1+Simulador!$D$34)+F121+M121)","v":0},{"$f":"IF($AB121=0,0,AD120*(1+Simulador!$D$34)+T121)","v":0}]
[{"$f":"IF(OR(A121+1>(IF(Simulador!$E$7=\"Autopatrocínio\",Simulador!$C$10,Simulador!$C$9)-Simulador!$C$8)*12,A121=0),0,A121+1)","v":0},{"$f":"IF($A122=0,0,IF(INT($A121/12)-$A121/12=0,B121*(1+Simulador!$C$35),B121))","v":0},{"$f":"MAX(IF(A122=0,0,B122-IF(Simulador!$C$11=\"Individual\",0,Simulador!$C$14)),0)","v":0},null,0,0,0,0,0,0,null,0,0,0,0,0,0,null,0,0,0,0,0,null,{"$f":"IF(OR(Y121+1>(IF(AND(Simulador!$C$9<Simulador!$C$10,OR(Simulador!$E$7=\"Resgate\",Simulador!$E$7=\"Portabilidade\")),Simulador!$C$9,Simulador!$C$10)-Simulador!$C$8)*12,Y121=0),0,Y121+1)","v":118},{"$f":"IF($Y122=0,0,Z121*(1+Simulador!$D$34)+E122+L122)","v":0},{"$f":"IF($Y122=0,0,AA121*(1+Simulador!$D$34)+S122)","v":0},{"$f":"IF(OR(AB121+1>(IF(AND(Simulador!$C$9<Simulador!$C$10,OR(Simulador!$E$7=\"Resgate\",Simulador!$E$7=\"Portabilidade\")),Simulador!$C$9,Simulador!$C$50)-Simulador!$C$8)*12,AB121=0),0,AB121+1)","v":118},{"$f":"IF($AB122=0,0,AC121*(1+Simulador!$D$34)+F122+M122)","v":0},{"$f":"IF($AB122=0,0,AD121*(1+Simulador!$D$34)+T122)","v":0}]
[{"$f":"IF(OR(A122+1>(IF(Simulador!$E$7=\"Autopatrocínio\",Simulador!$C$10,Simulador!$C$9)-Simulador!$C$8)*12,A122=0),0,A122+1)","v":0},{"$f":"IF($A123=0,0,IF(INT($A122/12)-$A122/12=0,B122*(1+Simulador!$C$35),B122))","v":0},{"$f":"MAX(IF(A123=0,0,B123-IF(Simulador!$C$11=\"Individual\",0,Simulador!$C$14)),0)","v":0},null,0,0,0,0,0,0,null,0,0,0,0,0,0,null,0,0,0,0,0,null,{"$f":"IF(OR(Y122+1>(IF(AND(Simulador!$C$9<Simulador!$C$10,OR(Simulador!$E$7=\"Resgate\",Simulador!$E$7=\"Portabilidade\")),Simulador!$C$9,Simulador!$C$10)-Simulador!$C$8)*12,Y122=0),0,Y122+1)","v":119},{"$f":"IF($Y123=0,0,Z122*(1+Simulador!$D$34)+E123+L123)","v":0},{"$f":"IF($Y123=0,0,AA122*(1+Simulador!$D$34)+S123)","v":0},{"$f":"IF(OR(AB122+1>(IF(AND(Simulador!$C$9<Simulador!$C$10,OR(Simulador!$E$7=\"Resgate\",Simulador!$E$7=\"Portabilidade\")),Simulador!$C$9,Simulador!$C$50)-Simulador!$C$8)*12,AB122=0),0,AB122+1)","v":119},{"$f":"IF($AB123=0,0,AC122*(1+Simulador!$D$34)+F123+M123)","v":0},{"$f":"IF($AB123=0,0,AD122*(1+Simulador!$D$34)+T123)","v":0}]
[{"$f":"IF(OR(A123+1>(IF(Simulador!$E$7=\"Autopatrocínio\",Simulador!$C$10,Simulador!$C$9)-Simulador!$C$8)*12,A123=0),0,A123+1)","v":0},{"$f":"IF($A124=0,0,IF(INT($A123/12)-$A123/12=0,B123*(1+Simulador!$C$35),B123))","v":0},{"$f":"MAX(IF(A124=0,0,B124-IF(Simulador!$C$11=\"Individual\",0,Simulador!$C$14)),0)","v":0},null,0,0,0,0,0,0,null,0,0,0,0,0,0,null,0,0,0,0,0,null,{"$f":"IF(OR(Y123+1>(IF(AND(Simulador!$C$9<Simulador!$C$10,OR(Simulador!$E$7=\"Resgate\",Simulador!$E$7=\"Portabilidade\")),Simulador!$C$9,Simulador!$C$10)-Simulador!$C$8)*12,Y123=0),0,Y123+1)","v":120},{"$f":"IF($Y124=0,0,Z123*(1+Simulador!$D$34)+E124+L124)","v":0},{"$f":"IF($Y124=0,0,AA123*(1+Simulador!$D$34)+S124)","v":0},{"$f":"IF(OR(AB123+1>(IF(AND(Simulador!$C$9<Simulador!$C$10,OR(Simulador!$E$7=\"Resgate\",Simulador!$E$7=\"Portabilidade\")),Simulador!$C$9,Simulador!$C$50)-Simulador!$C$8)*12,AB123=0),0,AB123+1)","v":120},{"$f":"IF($AB124=0,0,AC123*(1+Simulador!$D$34)+F124+M124)","v":0},{"$f":"IF($AB124=0,0,AD123*(1+Simulador!$D$34)+T124)","v":0}]
[{"$f":"IF(OR(A124+1>(IF(Simulador!$E$7=\"Autopatrocínio\",Simulador!$C$10,Simulador!$C$9)-Simulador!$C$8)*12,A124=0),0,A124+1)","v":0},{"$f":"IF($A125=0,0,IF(INT($A124/12)-$A124/12=0,B124*(1+Simulador!$C$35),B124))","v":0},{"$f":"MAX(IF(A125=0,0,B125-IF(Simulador!$C$11=\"Individual\",0,Simulador!$C$14)),0)","v":0},null,{"$f":"E$4*$C125*(1+$J125)","v":0},0,0,0,0,0,null,{"$f":"L$4*$C125*$Q125","v":0},0,0,0,0,0,null,0,0,0,0,0,null,{"$f":"IF(OR(Y124+1>(IF(AND(Simulador!$C$9<Simulador!$C$10,OR(Simulador!$E$7=\"Resgate\",Simulador!$E$7=\"Portabilidade\")),Simulador!$C$9,Simulador!$C$10)-Simulador!$C$8)*12,Y124=0),0,Y124+1)","v":121},{"$f":"IF($Y125=0,0,Z124*(1+Simulador!$D$34)+E125+L125)","v":0},{"$f":"IF($Y125=0,0,AA124*(1+Simulador!$D$34)+S125)","v":0},{"$f":"IF(OR(AB124+1>(IF(AND(Simulador!$C$9<Simulador!$C$10,OR(Simulador!$E$7=\"Resgate\",Simulador!$E$7=\"Portabilidade\")),Simulador!$C$9,Simulador!$C$50)-Simulador!$C$8)*12,AB124=0),0,AB124+1)","v":121},{"$f":"IF($AB125=0,0,AC124*(1+Simulador!$D$34)+F125+M125)","v":0},{"$f":"IF($AB125=0,0,AD124*(1+Simulador!$D$34)+T125)","v":0}]
[{"$f":"IF(OR(A125+1>(IF(Simulador!$E$7=\"Autopatrocínio\",Simulador!$C$10,Simulador!$C$9)-Simulador!$C$8)*12,A125=0),0,A125+1)","v":0},{"$f":"IF($A126=0,0,IF(INT($A125/12)-$A125/12=0,B125*(1+Simulador!$C$35),B125))","v":0},{"$f":"MAX(IF(A126=0,0,B126-IF(Simulador!$C$11=\"Individual\",0,Simulador!$C$14)),0)","v":0},null,0,0,0,0,0,0,null,0,0,0,0,0,0,null,0,0,0,0,0,null,{"$f":"IF(OR(Y125+1>(IF(AND(Simulador!$C$9<Simulador!$C$10,OR(Simulador!$E$7=\"Resgate\",Simulador!$E$7=\"Portabilidade\")),Simulador!$C$9,Simulador!$C$10)-Simulador!$C$8)*12,Y125=0),0,Y125+1)","v":122},{"$f":"IF($Y126=0,0,Z125*(1+Simulador!$D$34)+E126+L126)","v":0},{"$f":"IF($Y126=0,0,AA125*(1+Simulador!$D$34)+S126)","v":0},{"$f":"IF(OR(AB125+1>(IF(AND(Simulador!$C$9<Simulador!$C$10,OR(Simulador!$E$7=\"Resgate\",Simulador!$E$7=\"Portabilidade\")),Simulador!$C$9,Simulador!$C$50)-Simulador!$C$8)*12,AB125=0),0,AB125+1)","v":122},{"$f":"IF($AB126=0,0,AC125*(1+Simulador!$D$34)+F126+M126)","v":0},{"$f":"IF($AB126=0,0,AD125*(1+Simulador!$D$34)+T126)","v":0}]
[{"$f":"IF(OR(A126+1>(IF(Simulador!$E$7=\"Autopatrocínio\",Simulador!$C$10,Simulador!$C$9)-Simulador!$C$8)*12,A126=0),0,A126+1)","v":0},{"$f":"IF($A127=0,0,IF(INT($A126/12)-$A126/12=0,B126*(1+Simulador!$C$35),B126))","v":0},{"$f":"MAX(IF(A127=0,0,B127-IF(Simulador!$C$11=\"Individual\",0,Simulador!$C$14)),0)","v":0},null,0,0,0,0,0,0,null,0,0,0,0,0,0,null,0,0,0,0,0,null,{"$f":"IF(OR(Y126+1>(IF(AND(Simulador!$C$9<Simulador!$C$10,OR(Simulador!$E$7=\"Resgate\",Simulador!$E$7=\"Portabilidade\")),Simulador!$C$9,Simulador!$C$10)-Simulador!$C$8)*12,Y126=0),0,Y126+1)","v":123},{"$f":"IF($Y127=0,0,Z126*(1+Simulador!$D$34)+E127+L127)","v":0},{"$f":"IF($Y127=0,0,AA126*(1+Simulador!$D$34)+S127)","v":0},{"$f":"IF(OR(AB126+1>(IF(AND(Simulador!$C$9<Simulador!$C$10,OR(Simulador!$E$7=\"Resgate\",Simulador!$E$7=\"Portabilidade\")),Simulador!$C$9,Simulador!$C$50)-Simulador!$C$8)*12,AB126=0),0,AB126+1)","v":123},{"$f":"IF($AB127=0,0,AC126*(1+Simulador!$D$34)+F127+M127)","v":0},{"$f":"IF($AB127=0,0,AD126*(1+Simulador!$D$34)+T127)","v":0}]
[{"$f":"IF(OR(A127+1>(IF(Simulador!$E$7=\"Autopatrocínio\",Simulador!$C$10,Simulador!$C$9)-Simulador!$C$8)*12,A127=0),0,A127+1)","v":0},{"$f":"IF($A128=0,0,IF(INT($A127/12)-$A127/12=0,B127*(1+Simulador!$C$35),B127))","v":0},{"$f":"MAX(IF(A128=0,0,B128-IF(Simulador!$C$11=\"Individual\",0,Simulador!$C$14)),0)","v":0},null,0,0,0,0,0,0,null,0,0,0,0,0,0,null,0,0,0,0,0,null,{"$f":"IF(OR(Y127+1>(IF(AND(Simulador!$C$9<Simulador!$C$10,OR(Simulador!$E$7=\"Resgate\",Simulador!$E$7=\"Portabilidade\")),Simulador!$C$9,Simulador!$C$10)-Simulador!$C$8)*12,Y127=0),0,Y127+1)","v":124},{"$f":"IF($Y128=0,0,Z127*(1+Simulador!$D$34)+E128+L128)","v":0},{"$f":"IF($Y128=0,0,AA127*(1+Simulador!$D$34)+S128)","v":0},{"$f":"IF(OR(AB127+1>(IF(AND(Simulador!$C$9<Simulador!$C$10,OR(Simulador!$E$7=\"Resgate\",Simulador!$E$7=\"Portabilidade\")),Simulador!$C$9,Simulador!$C$50)-Simulador!$C$8)*12,AB127=0),0,AB127+1)","v":124},{"$f":"IF($AB128=0,0,AC127*(1+Simulador!$D$34)+F128+M128)","v":0},{"$f":"IF($AB128=0,0,AD127*(1+Simulador!$D$34)+T128)","v":0}]
[{"$f":"IF(OR(A128+1>(IF(Simulador!$E$7=\"Autopatrocínio\",Simulador!$C$10,Simulador!$C$9)-Simulador!$C$8)*12,A128=0),0,A128+1)","v":0},{"$f":"IF($A129=0,0,IF(INT($A128/12)-$A128/12=0,B128*(1+Simulador!$C$35),B128))","v":0},{"$f":"MAX(IF(A129=0,0,B129-IF(Simulador!$C$11=\"Individual\",0,Simulador!$C$14)),0)","v":0},null,0,0,0,0,0,0,null,0,0,0,0,0,0,null,0,0,0,0,0,null,{"$f":"IF(OR(Y128+1>(IF(AND(Simulador!$C$9<Simulador!$C$10,OR(Simulador!$E$7=\"Resgate\",Simulador!$E$7=\"Portabilidade\")),Simulador!$C$9,Simulador!$C$10)-Simulador!$C$8)*12,Y128=0),0,Y128+1)","v":125},{"$f":"IF($Y129=0,0,Z128*(1+Simulador!$D$34)+E129+L129)","v":0},{"$f":"IF($Y129=0,0,AA128*(1+Simulador!$D$34)+S129)","v":0},{"$f":"IF(OR(AB128+1>(IF(AND(Simulador!$C$9<Simulador!$C$10,OR(Simulador!$E$7=\"Resgate\",Simulador!$E$7=\"Portabilidade\")),Simulador!$C$9,Simulador!$C$50)-Simulador!$C$8)*12,AB128=0),0,AB128+1)","v":125},{"$f":"IF($AB129=0,0,AC128*(1+Simulador!$D$34)+F129+M129)","v":0},{"$f":"IF($AB129=0,0,AD128*(1+Simulador!$D$34)+T129)","v":0}]
[{"$f":"IF(OR(A129+1>(IF(Simulador!$E$7=\"Autopatrocínio\",Simulador!$C$10,Simulador!$C$9)-Simulador!$C$8)*12,A129=0),0,A129+1)","v":0},{"$f":"IF($A130=0,0,IF(INT($A129/12)-$A129/12=0,B129*(1+Simulador!$C$35),B129))","v":0},{"$f":"MAX(IF(A130=0,0,B130-IF(Simulador!$C$11=\"Individual\",0,Simulador!$C$14)),0)","v":0},null,0,0,0,0,0,0,null,0,0,0,0,0,0,null,0,0,0,0,0,null,{"$f":"IF(OR(Y129+1>(IF(AND(Simulador!$C$9<Simulador!$C$10,OR(Simulador!$E$7=\"Resgate\",Simulador!$E$7=\"Portabilidade\")),Simulador!$C$9,Simulador!$C$10)-Simulador!$C$8)*12,Y129=0),0,Y129+1)","v":126},{"$f":"IF($Y130=0,0,Z129*(1+Simulador!$D$34)+E130+L130)","v":0},{"$f":"IF($Y130=0,0,AA129*(1+Simulador!$D$34)+S130)","v":0},{"$f":"IF(OR(AB129+1>(IF(AND(Simulador!$C$9<Simulador!$C$10,OR(Simulador!$E$7=\"Resgate\",Simulador!$E$7=\"Portabilidade\")),Simulador!$C$9,Simulador!$C$50)-Simulador!$C$8)*12,AB129=0),0,AB129+1)","v":126},{"$f":"IF($AB130=0,0,AC129*(1+Simulador!$D$34)+F130+M130)","v":0},{"$f":"IF($AB130=0,0,AD129*(1+Simulador!$D$34)+T130)","v":0}]
[{"$f":"IF(OR(A130+1>(IF(Simulador!$E$7=\"Autopatrocínio\",Simulador!$C$10,Simulador!$C$9)-Simulador!$C$8)*12,A130=0),0,A130+1)","v":0},{"$f":"IF($A131=0,0,IF(INT($A130/12)-$A130/12=0,B130*(1+Simulador!$C$35),B130))","v":0},{"$f":"MAX(IF(A131=0,0,B131-IF(Simulador!$C$11=\"Individual\",0,Simulador!$C$14)),0)","v":0},null,0,0,0,0,0,0,null,0,0,0,0,0,0,null,0,0,0,0,0,null,{"$f":"IF(OR(Y130+1>(IF(AND(Simulador!$C$9<Simulador!$C$10,OR(Simulador!$E$7=\"Resgate\",Simulador!$E$7=\"Portabilidade\")),Simulador!$C$9,Simulador!$C$10)-Simulador!$C$8)*12,Y130=0),0,Y130+1)","v":127},{"$f":"IF($Y131=0,0,Z130*(1+Simulador!$D$34)+E131+L131)","v":0},{"$f":"IF($Y131=0,0,AA130*(1+Simulador!$D$34)+S131)","v":0},{"$f":"IF(OR(AB130+1>(IF(AND(Simulador!$C$9<Simulador!$C$10,OR(Simulador!$E$7=\"Resgate\",Simulador!$E$7=\"Portabilidade\")),Simulador!$C$9,Simulador!$C$50)-Simulador!$C$8)*12,AB130=0),0,AB130+1)","v":127},{"$f":"IF($AB131=0,0,AC130*(1+Simulador!$D$34)+F131+M131)","v":0},{"$f":"IF($AB131=0,0,AD130*(1+Simulador!$D$34)+T131)","v":0}]
[{"$f":"IF(OR(A131+1>(IF(Simulador!$E$7=\"Autopatrocínio\",Simulador!$C$10,Simulador!$C$9)-Simulador!$C$8)*12,A131=0),0,A131+1)","v":0},{"$f":"IF($A132=0,0,IF(INT($A131/12)-$A131/12=0,B131*(1+Simulador!$C$35),B131))","v":0},{"$f":"MAX(IF(A132=0,0,B132-IF(Simulador!$C$11=\"Individual\",0,Simulador!$C$14)),0)","v":0},null,0,0,0,0,0,0,null,0,0,0,0,0,0,null,0,0,0,0,0,null,{"$f":"IF(OR(Y131+1>(IF(AND(Simulador!$C$9<Simulador!$C$10,OR(Simulador!$E$7=\"Resgate\",Simulador!$E$7=\"Portabilidade\")),Simulador!$C$9,Simulador!$C$10)-Simulador!$C$8)*12,Y131=0),0,Y131+1)","v":128},{"$f":"IF($Y132=0,0,Z131*(1+Simulador!$D$34)+E132+L132)","v":0},{"$f":"IF($Y132=0,0,AA131*(1+Simulador!$D$34)+S132)","v":0},{"$f":"IF(OR(AB131+1>(IF(AND(Simulador!$C$9<Simulador!$C$10,OR(Simulador!$E$7=\"Resgate\",Simulador!$E$7=\"Portabilidade\")),Simulador!$C$9,Simulador!$C$50)-Simulador!$C$8)*12,AB131=0),0,AB131+1)","v":128},{"$f":"IF($AB132=0,0,AC131*(1+Simulador!$D$34)+F132+M132)","v":0},{"$f":"IF($AB132=0,0,AD131*(1+Simulador!$D$34)+T132)","v":0}]
[{"$f":"IF(OR(A132+1>(IF(Simulador!$E$7=\"Autopatrocínio\",Simulador!$C$10,Simulador!$C$9)-Simulador!$C$8)*12,A132=0),0,A132+1)","v":0},{"$f":"IF($A133=0,0,IF(INT($A132/12)-$A132/12=0,B132*(1+Simulador!$C$35),B132))","v":0},{"$f":"MAX(IF(A133=0,0,B133-IF(Simulador!$C$11=\"Individual\",0,Simulador!$C$14)),0)","v":0},null,0,0,0,0,0,{"$f":"IF($A133=0,0,IF(INT($A133/12)-$A133/12=0,1,0))","v":0},null,0,0,0,0,0,{"$f":"IF($A133=0,0,IF($Q$4=\"Mensal\",1,IF($Q$4=\"Semestral\",IF(INT(($A133+5)/6)-($A133+5)/6=0,1,0),IF($Q$4=\"Anual\",IF(INT(($A133+11)/12)-($A133+11)/12=0,1,0)))))","v":0},null,{"$f":"S$4*$C133*(1+$J133)","v":0},0,0,0,0,null,{"$f":"IF(OR(Y132+1>(IF(AND(Simulador!$C$9<Simulador!$C$10,OR(Simulador!$E$7=\"Resgate\",Simulador!$E$7=\"Portabilidade\")),Simulador!$C$9,Simulador!$C$10)-Simulador!$C$8)*12,Y132=0),0,Y132+1)","v":129},{"$f":"IF($Y133=0,0,Z132*(1+Simulador!$D$34)+E133+L133)","v":0},{"$f":"IF($Y133=0,0,AA132*(1+Simulador!$D$34)+S133)","v":0},{"$f":"IF(OR(AB132+1>(IF(AND(Simulador!$C$9<Simulador!$C$10,OR(Simulador!$E$7=\"Resgate\",Simulador!$E$7=\"Portabilidade\")),Simulador!$C$9,Simulador!$C$50)-Simulador!$C$8)*12,AB132=0),0,AB132+1)","v":129},{"$f":"IF($AB133=0,0,AC132*(1+Simulador!$D$34)+F133+M133)","v":0},{"$f":"IF($AB133=0,0,AD132*(1+Simulador!$D$34)+T133)","v":0}]
[{"$f":"IF(OR(A133+1>(IF(Simulador!$E$7=\"Autopatrocínio\",Simulador!$C$10,Simulador!$C$9)-Simulador!$C$8)*12,A133=0),0,A133+1)","v":0},{"$f":"IF($A134=0,0,IF(INT($A133/12)-$A133/12=0,B133*(1+Simulador!$C$35),B133))","v":0},{"$f":"MAX(IF(A134=0,0,B134-IF(Simulador!$C$11=\"Individual\",0,Simulador!$C$14)),0)","v":0},null,0,0,0,0,0,0,null,0,0,0,0,0,0,null,0,0,0,0,0,null,{"$f":"IF(OR(Y133+1>(IF(AND(Simulador!$C$9<Simulador!$C$10,OR(Simulador!$E$7=\"Resgate\",Simulador!$E$7=\"Portabilidade\")),Simulador!$C$9,Simulador!$C$10)-Simulador!$C$8)*12,Y133=0),0,Y133+1)","v":130},{"$f":"IF($Y134=0,0,Z133*(1+Simulador!$D$34)+E134+L134)","v":0},{"$f":"IF($Y134=0,0,AA133*(1+Simulador!$D$34)+S134)","v":0},{"$f":"IF(OR(AB133+1>(IF(AND(Simulador!$C$9<Simulador!$C$10,OR(Simulador!$E$7=\"Resgate\",Simulador!$E$7=\"Portabilidade\")),Simulador!$C$9,Simulador!$C$50)-Simulador!$C$8)*12,AB133=0),0,AB133+1)","v":130},{"$f":"IF($AB134=0,0,AC133*(1+Simulador!$D$34)+F134+M134)","v":0},{"$f":"IF($AB134=0,0,AD133*(1+Simulador!$D$34)+T134)","v":0}]
[{"$f":"IF(OR(A134+1>(IF(Simulador!$E$7=\"Autopatrocínio\",Simulador!$C$10,Simulador!$C$9)-Simulador!$C$8)*12,A134=0),0,A134+1)","v":0},{"$f":"IF($A135=0,0,IF(INT($A134/12)-$A134/12=0,B134*(1+Simulador!$C$35),B134))","v":0},{"$f":"MAX(IF(A135=0,0,B135-IF(Simulador!$C$11=\"Individual\",0,Simulador!$C$14)),0)","v":0},null,{"$f":"E$4*$C135*(1+$J135)","v":0},0,0,0,0,0,null,{"$f":"L$4*$C135*$Q135","v":0},0,0,0,0,0,null,0,0,0,0,0,null,{"$f":"IF(OR(Y134+1>(IF(AND(Simulador!$C$9<Simulador!$C$10,OR(Simulador!$E$7=\"Resgate\",Simulador!$E$7=\"Portabilidade\")),Simulador!$C$9,Simulador!$C$10)-Simulador!$C$8)*12,Y134=0),0,Y134+1)","v":131},{"$f":"IF($Y135=0,0,Z134*(1+Simulador!$D$34)+E135+L135)","v":0},{"$f":"IF($Y135=0,0,AA134*(1+Simulador!$D$34)+S135)","v":0},{"$f":"IF(OR(AB134+1>(IF(AND(Simulador!$C$9<Simulador!$C$10,OR(Simulador!$E$7=\"Resgate\",Simulador!$E$7=\"Portabilidade\")),Simulador!$C$9,Simulador!$C$50)-Simulador!$C$8)*12,AB134=0),0,AB134+1)","v":131},{"$f":"IF($AB135=0,0,AC134*(1+Simulador!$D$34)+F135+M135)","v":0},{"$f":"IF($AB135=0,0,AD134*(1+Simulador!$D$34)+T135)","v":0}]
[{"$f":"IF(OR(A135+1>(IF(Simulador!$E$7=\"Autopatrocínio\",Simulador!$C$10,Simulador!$C$9)-Simulador!$C$8)*12,A135=0),0,A135+1)","v":0},{"$f":"IF($A136=0,0,IF(INT($A135/12)-$A135/12=0,B135*(1+Simulador!$C$35),B135))","v":0},{"$f":"MAX(IF(A136=0,0,B136-IF(Simulador!$C$11=\"Individual\",0,Simulador!$C$14)),0)","v":0},null,0,0,0,0,0,0,null,0,0,0,0,0,0,null,0,0,0,0,0,null,{"$f":"IF(OR(Y135+1>(IF(AND(Simulador!$C$9<Simulador!$C$10,OR(Simulador!$E$7=\"Resgate\",Simulador!$E$7=\"Portabilidade\")),Simulador!$C$9,Simulador!$C$10)-Simulador!$C$8)*12,Y135=0),0,Y135+1)","v":132},{"$f":"IF($Y136=0,0,Z135*(1+Simulador!$D$34)+E136+L136)","v":0},{"$f":"IF($Y136=0,0,AA135*(1+Simulador!$D$34)+S136)","v":0},{"$f":"IF(OR(AB135+1>(IF(AND(Simulador!$C$9<Simulador!$C$10,OR(Simulador!$E$7=\"Resgate\",Simulador!$E$7=\"Portabilidade\")),Simulador!$C$9,Simulador!$C$50)-Simulador!$C$8)*12,AB135=0),0,AB135+1)","v":132},{"$f":"IF($AB136=0,0,AC135*(1+Simulador!$D$34)+F136+M136)","v":0},{"$f":"IF($AB136=0,0,AD135*(1+Simulador!$D$34)+T136)","v":0}]
[{"$f":"IF(OR(A136+1>(IF(Simulador!$E$7=\"Autopatrocínio\",Simulador!$C$10,Simulador!$C$9)-Simulador!$C$8)*12,A136=0),0,A136+1)","v":0},{"$f":"IF($A137=0,0,IF(INT($A136/12)-$A136/12=0,B136*(1+Simulador!$C$35),B136))","v":0},{"$f":"MAX(IF(A137=0,0,B137-IF(Simulador!$C$11=\"Individual\",0,Simulador!$C$14)),0)","v":0},null,0,0,0,0,0,0,null,0,0,0,0,0,0,null,0,0,0,0,0,null,{"$f":"IF(OR(Y136+1>(IF(AND(Simulador!$C$9<Simulador!$C$10,OR(Simulador!$E$7=\"Resgate\",Simulador!$E$7=\"Portabilidade\")),Simulador!$C$9,Simulador!$C$10)-Simulador!$C$8)*12,Y136=0),0,Y136+1)","v":133},{"$f":"IF($Y137=0,0,Z136*(1+Simulador!$D$34)+E137+L137)","v":0},{"$f":"IF($Y137=0,0,AA136*(1+Simulador!$D$34)+S137)","v":0},{"$f":"IF(OR(AB136+1>(IF(AND(Simulador!$C$9<Simulador!$C$10,OR(Simulador!$E$7=\"Resgate\",Simulador!$E$7=\"Portabilidade\")),Simulador!$C$9,Simulador!$C$50)-Simulador!$C$8)*12,AB136=0),0,AB136+1)","v":133},{"$f":"IF($AB137=0,0,AC136*(1+Simulador!$D$34)+F137+M137)","v":0},{"$f":"IF($AB137=0,0,AD136*(1+Simulador!$D$34)+T137)","v":0}]
[{"$f":"IF(OR(A137+1>(IF(Simulador!$E$7=\"Autopatrocínio\",Simulador!$C$10,Simulador!$C$9)-Simulador!$C$8)*12,A137=0),0,A137+1)","v":0},{"$f":"IF($A138=0,0,IF(INT($A137/12)-$A137/12=0,B137*(1+Simulador!$C$35),B137))","v":0},{"$f":"MAX(IF(A138=0,0,B138-IF(Simulador!$C$11=\"Individual\",0,Simulador!$C$14)),0)","v":0},null,0,0,0,0,0,0,null,0,0,0,0,0,0,null,0,0,0,0,0,null,{"$f":"IF(OR(Y137+1>(IF(AND(Simulador!$C$9<Simulador!$C$10,OR(Simulador!$E$7=\"Resgate\",Simulador!$E$7=\"Portabilidade\")),Simulador!$C$9,Simulador!$C$10)-Simulador!$C$8)*12,Y137=0),0,Y137+1)","v":134},{"$f":"IF($Y138=0,0,Z137*(1+Simulador!$D$34)+E138+L138)","v":0},{"$f":"IF($Y138=0,0,AA137*(1+Simulador!$D$34)+S138)","v":0},{"$f":"IF(OR(AB137+1>(IF(AND(Simulador!$C$9<Simulador!$C$10,OR(Simulador!$E$7=\"Resgate\",Simulador!$E$7=\"Portabilidade\")),Simulador!$C$9,Simulador!$C$50)-Simulador!$C$8)*12,AB137=0),0,AB137+1)","v":134},{"$f":"IF($AB138=0,0,AC137*(1+Simulador!$D$34)+F138+M138)","v":0},{"$f":"IF($AB138=0,0,AD137*(1+Simulador!$D$34)+T138)","v":0}]
[{"$f":"IF(OR(A138+1>(IF(Simulador!$E$7=\"Autopatrocínio\",Simulador!$C$10,Simulador!$C$9)-Simulador!$C$8)*12,A138=0),0,A138+1)","v":0},{"$f":"IF($A139=0,0,IF(INT($A138/12)-$A138/12=0,B138*(1+Simulador!$C$35),B138))","v":0},{"$f":"MAX(IF(A139=0,0,B139-IF(Simulador!$C$11=\"Individual\",0,Simulador!$C$14)),0)","v":0},null,0,0,0,0,0,0,null,0,0,0,0,0,0,null,0,0,0,0,0,null,{"$f":"IF(OR(Y138+1>(IF(AND(Simulador!$C$9<Simulador!$C$10,OR(Simulador!$E$7=\"Resgate\",Simulador!$E$7=\"Portabilidade\")),Simulador!$C$9,Simulador!$C$10)-Simulador!$C$8)*12,Y138=0),0,Y138+1)","v":135},{"$f":"IF($Y139=0,0,Z138*(1+Simulador!$D$34)+E139+L139)","v":0},{"$f":"IF($Y139=0,0,AA138*(1+Simulador!$D$34)+S139)","v":0},{"$f":"IF(OR(AB138+1>(IF(AND(Simulador!$C$9<Simulador!$C$10,OR(Simulador!$E$7=\"Resgate\",Simulador!$E$7=\"Portabilidade\")),Simulador!$C$9,Simulador!$C$50)-Simulador!$C$8)*12,AB138=0),0,AB138+1)","v":135},{"$f":"IF($AB139=0,0,AC138*(1+Simulador!$D$34)+F139+M139)","v":0},{"$f":"IF($AB139=0,0,AD138*(1+Simulador!$D$34)+T139)","v":0}]
[{"$f":"IF(OR(A139+1>(IF(Simulador!$E$7=\"Autopatrocínio\",Simulador!$C$10,Simulador!$C$9)-Simulador!$C$8)*12,A139=0),0,A139+1)","v":0},{"$f":"IF($A140=0,0,IF(INT($A139/12)-$A139/12=0,B139*(1+Simulador!$C$35),B139))","v":0},{"$f":"MAX(IF(A140=0,0,B140-IF(Simulador!$C$11=\"Individual\",0,Simulador!$C$14)),0)","v":0},null,0,0,0,0,0,0,null,0,0,0,0,0,0,null,0,0,0,0,0,null,{"$f":"IF(OR(Y139+1>(IF(AND(Simulador!$C$9<Simulador!$C$10,OR(Simulador!$E$7=\"Resgate\",Simulador!$E$7=\"Portabilidade\")),Simulador!$C$9,Simulador!$C$10)-Simulador!$C$8)*12,Y139=0),0,Y139+1)","v":136},{"$f":"IF($Y140=0,0,Z139*(1+Simulador!$D$34)+E140+L140)","v":0},{"$f":"IF($Y140=0,0,AA139*(1+Simulador!$D$34)+S140)","v":0},{"$f":"IF(OR(AB139+1>(IF(AND(Simulador!$C$9<Simulador!$C$10,OR(Simulador!$E$7=\"Resgate\",Simulador!$E$7=\"Portabilidade\")),Simulador!$C$9,Simulador!$C$50)-Simulador!$C$8)*12,AB139=0),0,AB139+1)","v":136},{"$f":"IF($AB140=0,0,AC139*(1+Simulador!$D$34)+F140+M140)","v":0},{"$f":"IF($AB140=0,0,AD139*(1+Simulador!$D$34)+T140)","v":0}]
[{"$f":"IF(OR(A140+1>(IF(Simulador!$E$7=\"Autopatrocínio\",Simulador!$C$10,Simulador!$C$9)-Simulador!$C$8)*12,A140=0),0,A140+1)","v":0},{"$f":"IF($A141=0,0,IF(INT($A140/12)-$A140/12=0,B140*(1+Simulador!$C$35),B140))","v":0},{"$f":"MAX(IF(A141=0,0,B141-IF(Simulador!$C$11=\"Individual\",0,Simulador!$C$14)),0)","v":0},null,0,0,0,0,0,0,null,0,0,0,0,0,0,null,0,0,0,0,0,null,{"$f":"IF(OR(Y140+1>(IF(AND(Simulador!$C$9<Simulador!$C$10,OR(Simulador!$E$7=\"Resgate\",Simulador!$E$7=\"Portabilidade\")),Simulador!$C$9,Simulador!$C$10)-Simulador!$C$8)*12,Y140=0),0,Y140+1)","v":137},{"$f":"IF($Y141=0,0,Z140*(1+Simulador!$D$34)+E141+L141)","v":0},{"$f":"IF($Y141=0,0,AA140*(1+Simulador!$D$34)+S141)","v":0},{"$f":"IF(OR(AB140+1>(IF(AND(Simulador!$C$9<Simulador!$C$10,OR(Simulador!$E$7=\"Resgate\",Simulador!$E$7=\"Portabilidade\")),Simulador!$C$9,Simulador!$C$50)-Simulador!$C$8)*12,AB140=0),0,AB140+1)","v":137},{"$f":"IF($AB141=0,0,AC140*(1+Simulador!$D$34)+F141+M141)","v":0},{"$f":"IF($AB141=0,0,AD140*(1+Simulador!$D$34)+T141)","v":0}]
[{"$f":"IF(OR(A141+1>(IF(Simulador!$E$7=\"Autopatrocínio\",Simulador!$C$10,Simulador!$C$9)-Simulador!$C$8)*12,A141=0),0,A141+1)","v":0},{"$f":"IF($A142=0,0,IF(INT($A141/12)-$A141/12=0,B141*(1+Simulador!$C$35),B141))","v":0},{"$f":"MAX(IF(A142=0,0,B142-IF(Simulador!$C$11=\"Individual\",0,Simulador!$C$14)),0)","v":0},null,0,0,0,0,0,0,null,0,0,0,0,0,0,null,0,0,0,0,0,null,{"$f":"IF(OR(Y141+1>(IF(AND(Simulador!$C$9<Simulador!$C$10,OR(Simulador!$E$7=\"Resgate\",Simulador!$E$7=\"Portabilidade\")),Simulador!$C$9,Simulador!$C$10)-Simulador!$C$8)*12,Y141=0),0,Y141+1)","v":138},{"$f":"IF($Y142=0,0,Z141*(1+Simulador!$D$34)+E142+L142)","v":0},{"$f":"IF($Y142=0,0,AA141*(1+Simulador!$D$34)+S142)","v":0},{"$f":"IF(OR(AB141+1>(IF(AND(Simulador!$C$9<Simulador!$C$10,OR(Simulador!$E$7=\"Resgate\",Simulador!$E$7=\"Portabilidade\")),Simulador!$C$9,Simulador!$C$50)-Simulador!$C$8)*12,AB141=0),0,AB141+1)","v":138},{"$f":"IF($AB142=0,0,AC141*(1+Simulador!$D$34)+F142+M142)","v":0},{"$f":"IF($AB142=0,0,AD141*(1+Simulador!$D$34)+T142)","v":0}]
[{"$f":"IF(OR(A142+1>(IF(Simulador!$E$7=\"Autopatrocínio\",Simulador!$C$10,Simulador!$C$9)-Simulador!$C$8)*12,A142=0),0,A142+1)","v":0},{"$f":"IF($A143=0,0,IF(INT($A142/12)-$A142/12=0,B142*(1+Simulador!$C$35),B142))","v":0},{"$f":"MAX(IF(A143=0,0,B143-IF(Simulador!$C$11=\"Individual\",0,Simulador!$C$14)),0)","v":0},null,0,0,0,0,0,0,null,0,0,0,0,0,0,null,0,0,0,0,0,null,{"$f":"IF(OR(Y142+1>(IF(AND(Simulador!$C$9<Simulador!$C$10,OR(Simulador!$E$7=\"Resgate\",Simulador!$E$7=\"Portabilidade\")),Simulador!$C$9,Simulador!$C$10)-Simulador!$C$8)*12,Y142=0),0,Y142+1)","v":139},{"$f":"IF($Y143=0,0,Z142*(1+Simulador!$D$34)+E143+L143)","v":0},{"$f":"IF($Y143=0,0,AA142*(1+Simulador!$D$34)+S143)","v":0},{"$f":"IF(OR(AB142+1>(IF(AND(Simulador!$C$9<Simulador!$C$10,OR(Simulador!$E$7=\"Resgate\",Simulador!$E$7=\"Portabilidade\")),Simulador!$C$9,Simulador!$C$50)-Simulador!$C$8)*12,AB142=0),0,AB142+1)","v":139},{"$f":"IF($AB143=0,0,AC142*(1+Simulador!$D$34)+F143+M143)","v":0},{"$f":"IF($AB143=0,0,AD142*(1+Simulador!$D$34)+T143)","v":0}]
[{"$f":"IF(OR(A143+1>(IF(Simulador!$E$7=\"Autopatrocínio\",Simulador!$C$10,Simulador!$C$9)-Simulador!$C$8)*12,A143=0),0,A143+1)","v":0},{"$f":"IF($A144=0,0,IF(INT($A143/12)-$A143/12=0,B143*(1+Simulador!$C$35),B143))","v":0},{"$f":"MAX(IF(A144=0,0,B144-IF(Simulador!$C$11=\"Individual\",0,Simulador!$C$14)),0)","v":0},null,0,0,0,0,0,0,null,0,0,0,0,0,0,null,0,0,0,0,0,null,{"$f":"IF(OR(Y143+1>(IF(AND(Simulador!$C$9<Simulador!$C$10,OR(Simulador!$E$7=\"Resgate\",Simulador!$E$7=\"Portabilidade\")),Simulador!$C$9,Simulador!$C$10)-Simulador!$C$8)*12,Y143=0),0,Y143+1)","v":140},{"$f":"IF($Y144=0,0,Z143*(1+Simulador!$D$34)+E144+L144)","v":0},{"$f":"IF($Y144=0,0,AA143*(1+Simulador!$D$34)+S144)","v":0},{"$f":"IF(OR(AB143+1>(IF(AND(Simulador!$C$9<Simulador!$C$10,OR(Simulador!$E$7=\"Resgate\",Simulador!$E$7=\"Portabilidade\")),Simulador!$C$9,Simulador!$C$50)-Simulador!$C$8)*12,AB143=0),0,AB143+1)","v":140},{"$f":"IF($AB144=0,0,AC143*(1+Simulador!$D$34)+F144+M144)","v":0},{"$f":"IF($AB144=0,0,AD143*(1+Simulador!$D$34)+T144)","v":0}]
[{"$f":"IF(OR(A144+1>(IF(Simulador!$E$7=\"Autopatrocínio\",Simulador!$C$10,Simulador!$C$9)-Simulador!$C$8)*12,A144=0),0,A144+1)","v":0},{"$f":"IF($A145=0,0,IF(INT($A144/12)-$A144/12=0,B144*(1+Simulador!$C$35),B144))","v":0},{"$f":"MAX(IF(A145=0,0,B145-IF(Simulador!$C$11=\"Individual\",0,Simulador!$C$14)),0)","v":0},null,{"$f":"E$4*$C145*(1+$J145)","v":0},0,0,0,0,0,null,{"$f":"L$4*$C145*$Q145","v":0},0,0,0,0,0,null,0,0,0,0,0,null,{"$f":"IF(OR(Y144+1>(IF(AND(Simulador!$C$9<Simulador!$C$10,OR(Simulador!$E$7=\"Resgate\",Simulador!$E$7=\"Portabilidade\")),Simulador!$C$9,Simulador!$C$10)-Simulador!$C$8)*12,Y144=0),0,Y144+1)","v":141},{"$f":"IF($Y145=0,0,Z144*(1+Simulador!$D$34)+E145+L145)","v":0},{"$f":"IF($Y145=0,0,AA144*(1+Simulador!$D$34)+S145)","v":0},{"$f":"IF(OR(AB144+1>(IF(AND(Simulador!$C$9<Simulador!$C$10,OR(Simulador!$E$7=\"Resgate\",Simulador!$E$7=\"Portabilidade\")),Simulador!$C$9,Simulador!$C$50)-Simulador!$C$8)*12,AB144=0),0,AB144+1)","v":141},{"$f":"IF($AB145=0,0,AC144*(1+Simulador!$D$34)+F145+M145)","v":0},{"$f":"IF($AB145=0,0,AD144*(1+Simulador!$D$34)+T145)","v":0}]
[{"$f":"IF(OR(A145+1>(IF(Simulador!$E$7=\"Autopatrocínio\",Simulador!$C$10,Simulador!$C$9)-Simulador!$C$8)*12,A145=0),0,A145+1)","v":0},{"$f":"IF($A146=0,0,IF(INT($A145/12)-$A145/12=0,B145*(1+Simulador!$C$35),B145))","v":0},{"$f":"MAX(IF(A146=0,0,B146-IF(Simulador!$C$11=\"Individual\",0,Simulador!$C$14)),0)","v":0},null,0,0,0,0,0,0,null,0,0,0,0,0,0,null,0,0,0,0,0,null,{"$f":"IF(OR(Y145+1>(IF(AND(Simulador!$C$9<Simulador!$C$10,OR(Simulador!$E$7=\"Resgate\",Simulador!$E$7=\"Portabilidade\")),Simulador!$C$9,Simulador!$C$10)-Simulador!$C$8)*12,Y145=0),0,Y145+1)","v":142},{"$f":"IF($Y146=0,0,Z145*(1+Simulador!$D$34)+E146+L146)","v":0},{"$f":"IF($Y146=0,0,AA145*(1+Simulador!$D$34)+S146)","v":0},{"$f":"IF(OR(AB145+1>(IF(AND(Simulador!$C$9<Simulador!$C$10,OR(Simulador!$E$7=\"Resgate\",Simulador!$E$7=\"Portabilidade\")),Simulador!$C$9,Simulador!$C$50)-Simulador!$C$8)*12,AB145=0),0,AB145+1)","v":142},{"$f":"IF($AB146=0,0,AC145*(1+Simulador!$D$34)+F146+M146)","v":0},{"$f":"IF($AB146=0,0,AD145*(1+Simulador!$D$34)+T146)","v":0}]
[{"$f":"IF(OR(A146+1>(IF(Simulador!$E$7=\"Autopatrocínio\",Simulador!$C$10,Simulador!$C$9)-Simulador!$C$8)*12,A146=0),0,A146+1)","v":0},{"$f":"IF($A147=0,0,IF(INT($A146/12)-$A146/12=0,B146*(1+Simulador!$C$35),B146))","v":0},{"$f":"MAX(IF(A147=0,0,B147-IF(Simulador!$C$11=\"Individual\",0,Simulador!$C$14)),0)","v":0},null,0,0,0,0,0,0,null,0,0,0,0,0,0,null,0,0,0,0,0,null,{"$f":"IF(OR(Y146+1>(IF(AND(Simulador!$C$9<Simulador!$C$10,OR(Simulador!$E$7=\"Resgate\",Simulador!$E$7=\"Portabilidade\")),Simulador!$C$9,Simulador!$C$10)-Simulador!$C$8)*12,Y146=0),0,Y146+1)","v":143},{"$f":"IF($Y147=0,0,Z146*(1+Simulador!$D$34)+E147+L147)","v":0},{"$f":"IF($Y147=0,0,AA146*(1+Simulador!$D$34)+S147)","v":0},{"$f":"IF(OR(AB146+1>(IF(AND(Simulador!$C$9<Simulador!$C$10,OR(Simulador!$E$7=\"Resgate\",Simulador!$E$7=\"Portabilidade\")),Simulador!$C$9,Simulador!$C$50)-Simulador!$C$8)*12,AB146=0),0,AB146+1)","v":143},{"$f":"IF($AB147=0,0,AC146*(1+Simulador!$D$34)+F147+M147)","v":0},{"$f":"IF($AB147=0,0,AD146*(1+Simulador!$D$34)+T147)","v":0}]
[{"$f":"IF(OR(A147+1>(IF(Simulador!$E$7=\"Autopatrocínio\",Simulador!$C$10,Simulador!$C$9)-Simulador!$C$8)*12,A147=0),0,A147+1)","v":0},{"$f":"IF($A148=0,0,IF(INT($A147/12)-$A147/12=0,B147*(1+Simulador!$C$35),B147))","v":0},{"$f":"MAX(IF(A148=0,0,B148-IF(Simulador!$C$11=\"Individual\",0,Simulador!$C$14)),0)","v":0},null,0,0,0,0,0,0,null,0,0,0,0,0,0,null,0,0,0,0,0,null,{"$f":"IF(OR(Y147+1>(IF(AND(Simulador!$C$9<Simulador!$C$10,OR(Simulador!$E$7=\"Resgate\",Simulador!$E$7=\"Portabilidade\")),Simulador!$C$9,Simulador!$C$10)-Simulador!$C$8)*12,Y147=0),0,Y147+1)","v":144},{"$f":"IF($Y148=0,0,Z147*(1+Simulador!$D$34)+E148+L148)","v":0},{"$f":"IF($Y148=0,0,AA147*(1+Simulador!$D$34)+S148)","v":0},{"$f":"IF(OR(AB147+1>(IF(AND(Simulador!$C$9<Simulador!$C$10,OR(Simulador!$E$7=\"Resgate\",Simulador!$E$7=\"Portabilidade\")),Simulador!$C$9,Simulador!$C$50)-Simulador!$C$8)*12,AB147=0),0,AB147+1)","v":144},{"$f":"IF($AB148=0,0,AC147*(1+Simulador!$D$34)+F148+M148)","v":0},{"$f":"IF($AB148=0,0,AD147*(1+Simulador!$D$34)+T148)","v":0}]
[{"$f":"IF(OR(A148+1>(IF(Simulador!$E$7=\"Autopatrocínio\",Simulador!$C$10,Simulador!$C$9)-Simulador!$C$8)*12,A148=0),0,A148+1)","v":0},{"$f":"IF($A149=0,0,IF(INT($A148/12)-$A148/12=0,B148*(1+Simulador!$C$35),B148))","v":0},{"$f":"MAX(IF(A149=0,0,B149-IF(Simulador!$C$11=\"Individual\",0,Simulador!$C$14)),0)","v":0},null,0,0,0,0,0,0,null,0,0,0,0,0,0,null,{"$f":"S$4*$C149*(1+$J149)","v":0},0,0,0,0,null,{"$f":"IF(OR(Y148+1>(IF(AND(Simulador!$C$9<Simulador!$C$10,OR(Simulador!$E$7=\"Resgate\",Simulador!$E$7=\"Portabilidade\")),Simulador!$C$9,Simulador!$C$10)-Simulador!$C$8)*12,Y148=0),0,Y148+1)","v":145},{"$f":"IF($Y149=0,0,Z148*(1+Simulador!$D$34)+E149+L149)","v":0},{"$f":"IF($Y149=0,0,AA148*(1+Simulador!$D$34)+S149)","v":0},{"$f":"IF(OR(AB148+1>(IF(AND(Simulador!$C$9<Simulador!$C$10,OR(Simulador!$E$7=\"Resgate\",Simulador!$E$7=\"Portabilidade\")),Simulador!$C$9,Simulador!$C$50)-Simulador!$C$8)*12,AB148=0),0,AB148+1)","v":145},{"$f":"IF($AB149=0,0,AC148*(1+Simulador!$D$34)+F149+M149)","v":0},{"$f":"IF($AB149=0,0,AD148*(1+Simulador!$D$34)+T149)","v":0}]
[{"$f":"IF(OR(A149+1>(IF(Simulador!$E$7=\"Autopatrocínio\",Simulador!$C$10,Simulador!$C$9)-Simulador!$C$8)*12,A149=0),0,A149+1)","v":0},{"$f":"IF($A150=0,0,IF(INT($A149/12)-$A149/12=0,B149*(1+Simulador!$C$35),B149))","v":0},{"$f":"MAX(IF(A150=0,0,B150-IF(Simulador!$C$11=\"Individual\",0,Simulador!$C$14)),0)","v":0},null,0,0,0,0,0,0,null,0,0,0,0,0,0,null,0,0,0,0,0,null,{"$f":"IF(OR(Y149+1>(IF(AND(Simulador!$C$9<Simulador!$C$10,OR(Simulador!$E$7=\"Resgate\",Simulador!$E$7=\"Portabilidade\")),Simulador!$C$9,Simulador!$C$10)-Simulador!$C$8)*12,Y149=0),0,Y149+1)","v":146},{"$f":"IF($Y150=0,0,Z149*(1+Simulador!$D$34)+E150+L150)","v":0},{"$f":"IF($Y150=0,0,AA149*(1+Simulador!$D$34)+S150)","v":0},{"$f":"IF(OR(AB149+1>(IF(AND(Simulador!$C$9<Simulador!$C$10,OR(Simulador!$E$7=\"Resgate\",Simulador!$E$7=\"Portabilidade\")),Simulador!$C$9,Simulador!$C$50)-Simulador!$C$8)*12,AB149=0),0,AB149+1)","v":146},{"$f":"IF($AB150=0,0,AC149*(1+Simulador!$D$34)+F150+M150)","v":0},{"$f":"IF($AB150=0,0,AD149*(1+Simulador!$D$34)+T150)","v":0}]
[{"$f":"IF(OR(A150+1>(IF(Simulador!$E$7=\"Autopatrocínio\",Simulador!$C$10,Simulador!$C$9)-Simulador!$C$8)*12,A150=0),0,A150+1)","v":0},{"$f":"IF($A151=0,0,IF(INT($A150/12)-$A150/12=0,B150*(1+Simulador!$C$35),B150))","v":0},{"$f":"MAX(IF(A151=0,0,B151-IF(Simulador!$C$11=\"Individual\",0,Simulador!$C$14)),0)","v":0},null,0,0,0,0,0,0,null,0,0,0,0,0,0,null,0,0,0,0,0,null,{"$f":"IF(OR(Y150+1>(IF(AND(Simulador!$C$9<Simulador!$C$10,OR(Simulador!$E$7=\"Resgate\",Simulador!$E$7=\"Portabilidade\")),Simulador!$C$9,Simulador!$C$10)-Simulador!$C$8)*12,Y150=0),0,Y150+1)","v":147},{"$f":"IF($Y151=0,0,Z150*(1+Simulador!$D$34)+E151+L151)","v":0},{"$f":"IF($Y151=0,0,AA150*(1+Simulador!$D$34)+S151)","v":0},{"$f":"IF(OR(AB150+1>(IF(AND(Simulador!$C$9<Simulador!$C$10,OR(Simulador!$E$7=\"Resgate\",Simulador!$E$7=\"Portabilidade\")),Simulador!$C$9,Simulador!$C$50)-Simulador!$C$8)*12,AB150=0),0,AB150+1)","v":147},{"$f":"IF($AB151=0,0,AC150*(1+Simulador!$D$34)+F151+M151)","v":0},{"$f":"IF($AB151=0,0,AD150*(1+Simulador!$D$34)+T151)","v":0}]
[{"$f":"IF(OR(A151+1>(IF(Simulador!$E$7=\"Autopatrocínio\",Simulador!$C$10,Simulador!$C$9)-Simulador!$C$8)*12,A151=0),0,A151+1)","v":0},{"$f":"IF($A152=0,0,IF(INT($A151/12)-$A151/12=0,B151*(1+Simulador!$C$35),B151))","v":0},{"$f":"MAX(IF(A152=0,0,B152-IF(Simulador!$C$11=\"Individual\",0,Simulador!$C$14)),0)","v":0},null,0,0,0,0,0,0,null,0,0,0,0,0,0,null,0,0,0,0,0,null,{"$f":"IF(OR(Y151+1>(IF(AND(Simulador!$C$9<Simulador!$C$10,OR(Simulador!$E$7=\"Resgate\",Simulador!$E$7=\"Portabilidade\")),Simulador!$C$9,Simulador!$C$10)-Simulador!$C$8)*12,Y151=0),0,Y151+1)","v":148},{"$f":"IF($Y152=0,0,Z151*(1+Simulador!$D$34)+E152+L152)","v":0},{"$f":"IF($Y152=0,0,AA151*(1+Simulador!$D$34)+S152)","v":0},{"$f":"IF(OR(AB151+1>(IF(AND(Simulador!$C$9<Simulador!$C$10,OR(Simulador!$E$7=\"Resgate\",Simulador!$E$7=\"Portabilidade\")),Simulador!$C$9,Simulador!$C$50)-Simulador!$C$8)*12,AB151=0),0,AB151+1)","v":148},{"$f":"IF($AB152=0,0,AC151*(1+Simulador!$D$34)+F152+M152)","v":0},{"$f":"IF($AB152=0,0,AD151*(1+Simulador!$D$34)+T152)","v":0}]
[{"$f":"IF(OR(A152+1>(IF(Simulador!$E$7=\"Autopatrocínio\",Simulador!$C$10,Simulador!$C$9)-Simulador!$C$8)*12,A152=0),0,A152+1)","v":0},{"$f":"IF($A153=0,0,IF(INT($A152/12)-$A152/12=0,B152*(1+Simulador!$C$35),B152))","v":0},{"$f":"MAX(IF(A153=0,0,B153-IF(Simulador!$C$11=\"Individual\",0,Simulador!$C$14)),0)","v":0},null,0,0,0,0,0,0,null,0,0,0,0,0,0,null,0,0,0,0,0,null,{"$f":"IF(OR(Y152+1>(IF(AND(Simulador!$C$9<Simulador!$C$10,OR(Simulador!$E$7=\"Resgate\",Simulador!$E$7=\"Portabilidade\")),Simulador!$C$9,Simulador!$C$10)-Simulador!$C$8)*12,Y152=0),0,Y152+1)","v":149},{"$f":"IF($Y153=0,0,Z152*(1+Simulador!$D$34)+E153+L153)","v":0},{"$f":"IF($Y153=0,0,AA152*(1+Simulador!$D$34)+S153)","v":0},{"$f":"IF(OR(AB152+1>(IF(AND(Simulador!$C$9<Simulador!$C$10,OR(Simulador!$E$7=\"Resgate\",Simulador!$E$7=\"Portabilidade\")),Simulador!$C$9,Simulador!$C$50)-Simulador!$C$8)*12,AB152=0),0,AB152+1)","v":149},{"$f":"IF($AB153=0,0,AC152*(1+Simulador!$D$34)+F153+M153)","v":0},{"$f":"IF($AB153=0,0,AD152*(1+Simulador!$D$34)+T153)","v":0}]
[{"$f":"IF(OR(A153+1>(IF(Simulador!$E$7=\"Autopatrocínio\",Simulador!$C$10,Simulador!$C$9)-Simulador!$C$8)*12,A153=0),0,A153+1)","v":0},{"$f":"IF($A154=0,0,IF(INT($A153/12)-$A153/12=0,B153*(1+Simulador!$C$35),B153))","v":0},{"$f":"MAX(IF(A154=0,0,B154-IF(Simulador!$C$11=\"Individual\",0,Simulador!$C$14)),0)","v":0},null,0,0,0,0,0,0,null,0,0,0,0,0,0,null,0,0,0,0,0,null,{"$f":"IF(OR(Y153+1>(IF(AND(Simulador!$C$9<Simulador!$C$10,OR(Simulador!$E$7=\"Resgate\",Simulador!$E$7=\"Portabilidade\")),Simulador!$C$9,Simulador!$C$10)-Simulador!$C$8)*12,Y153=0),0,Y153+1)","v":150},{"$f":"IF($Y154=0,0,Z153*(1+Simulador!$D$34)+E154+L154)","v":0},{"$f":"IF($Y154=0,0,AA153*(1+Simulador!$D$34)+S154)","v":0},{"$f":"IF(OR(AB153+1>(IF(AND(Simulador!$C$9<Simulador!$C$10,OR(Simulador!$E$7=\"Resgate\",Simulador!$E$7=\"Portabilidade\")),Simulador!$C$9,Simulador!$C$50)-Simulador!$C$8)*12,AB153=0),0,AB153+1)","v":150},{"$f":"IF($AB154=0,0,AC153*(1+Simulador!$D$34)+F154+M154)","v":0},{"$f":"IF($AB154=0,0,AD153*(1+Simulador!$D$34)+T154)","v":0}]
[{"$f":"IF(OR(A154+1>(IF(Simulador!$E$7=\"Autopatrocínio\",Simulador!$C$10,Simulador!$C$9)-Simulador!$C$8)*12,A154=0),0,A154+1)","v":0},{"$f":"IF($A155=0,0,IF(INT($A154/12)-$A154/12=0,B154*(1+Simulador!$C$35),B154))","v":0},{"$f":"MAX(IF(A155=0,0,B155-IF(Simulador!$C$11=\"Individual\",0,Simulador!$C$14)),0)","v":0},null,{"$f":"E$4*$C155*(1+$J155)","v":0},0,0,0,0,0,null,{"$f":"L$4*$C155*$Q155","v":0},0,0,0,0,0,null,0,0,0,0,0,null,{"$f":"IF(OR(Y154+1>(IF(AND(Simulador!$C$9<Simulador!$C$10,OR(Simulador!$E$7=\"Resgate\",Simulador!$E$7=\"Portabilidade\")),Simulador!$C$9,Simulador!$C$10)-Simulador!$C$8)*12,Y154=0),0,Y154+1)","v":151},{"$f":"IF($Y155=0,0,Z154*(1+Simulador!$D$34)+E155+L155)","v":0},{"$f":"IF($Y155=0,0,AA154*(1+Simulador!$D$34)+S155)","v":0},{"$f":"IF(OR(AB154+1>(IF(AND(Simulador!$C$9<Simulador!$C$10,OR(Simulador!$E$7=\"Resgate\",Simulador!$E$7=\"Portabilidade\")),Simulador!$C$9,Simulador!$C$50)-Simulador!$C$8)*12,AB154=0),0,AB154+1)","v":151},{"$f":"IF($AB155=0,0,AC154*(1+Simulador!$D$34)+F155+M155)","v":0},{"$f":"IF($AB155=0,0,AD154*(1+Simulador!$D$34)+T155)","v":0}]
[{"$f":"IF(OR(A155+1>(IF(Simulador!$E$7=\"Autopatrocínio\",Simulador!$C$10,Simulador!$C$9)-Simulador!$C$8)*12,A155=0),0,A155+1)","v":0},{"$f":"IF($A156=0,0,IF(INT($A155/12)-$A155/12=0,B155*(1+Simulador!$C$35),B155))","v":0},{"$f":"MAX(IF(A156=0,0,B156-IF(Simulador!$C$11=\"Individual\",0,Simulador!$C$14)),0)","v":0},null,0,0,0,0,0,0,null,0,0,0,0,0,0,null,0,0,0,0,0,null,{"$f":"IF(OR(Y155+1>(IF(AND(Simulador!$C$9<Simulador!$C$10,OR(Simulador!$E$7=\"Resgate\",Simulador!$E$7=\"Portabilidade\")),Simulador!$C$9,Simulador!$C$10)-Simulador!$C$8)*12,Y155=0),0,Y155+1)","v":152},{"$f":"IF($Y156=0,0,Z155*(1+Simulador!$D$34)+E156+L156)","v":0},{"$f":"IF($Y156=0,0,AA155*(1+Simulador!$D$34)+S156)","v":0},{"$f":"IF(OR(AB155+1>(IF(AND(Simulador!$C$9<Simulador!$C$10,OR(Simulador!$E$7=\"Resgate\",Simulador!$E$7=\"Portabilidade\")),Simulador!$C$9,Simulador!$C$50)-Simulador!$C$8)*12,AB155=0),0,AB155+1)","v":152},{"$f":"IF($AB156=0,0,AC155*(1+Simulador!$D$34)+F156+M156)","v":0},{"$f":"IF($AB156=0,0,AD155*(1+Simulador!$D$34)+T156)","v":0}]
[{"$f":"IF(OR(A156+1>(IF(Simulador!$E$7=\"Autopatrocínio\",Simulador!$C$10,Simulador!$C$9)-Simulador!$C$8)*12,A156=0),0,A156+1)","v":0},{"$f":"IF($A157=0,0,IF(INT($A156/12)-$A156/12=0,B156*(1+Simulador!$C$35),B156))","v":0},{"$f":"MAX(IF(A157=0,0,B157-IF(Simulador!$C$11=\"Individual\",0,Simulador!$C$14)),0)","v":0},null,0,0,0,0,0,0,null,0,0,0,0,0,0,null,0,0,0,0,0,null,{"$f":"IF(OR(Y156+1>(IF(AND(Simulador!$C$9<Simulador!$C$10,OR(Simulador!$E$7=\"Resgate\",Simulador!$E$7=\"Portabilidade\")),Simulador!$C$9,Simulador!$C$10)-Simulador!$C$8)*12,Y156=0),0,Y156+1)","v":153},{"$f":"IF($Y157=0,0,Z156*(1+Simulador!$D$34)+E157+L157)","v":0},{"$f":"IF($Y157=0,0,AA156*(1+Simulador!$D$34)+S157)","v":0},{"$f":"IF(OR(AB156+1>(IF(AND(Simulador!$C$9<Simulador!$C$10,OR(Simulador!$E$7=\"Resgate\",Simulador!$E$7=\"Portabilidade\")),Simulador!$C$9,Simulador!$C$50)-Simulador!$C$8)*12,AB156=0),0,AB156+1)","v":153},{"$f":"IF($AB157=0,0,AC156*(1+Simulador!$D$34)+F157+M157)","v":0},{"$f":"IF($AB157=0,0,AD156*(1+Simulador!$D$34)+T157)","v":0}]
[{"$f":"IF(OR(A157+1>(IF(Simulador!$E$7=\"Autopatrocínio\",Simulador!$C$10,Simulador!$C$9)-Simulador!$C$8)*12,A157=0),0,A157+1)","v":0},{"$f":"IF($A158=0,0,IF(INT($A157/12)-$A157/12=0,B157*(1+Simulador!$C$35),B157))","v":0},{"$f":"MAX(IF(A158=0,0,B158-IF(Simulador!$C$11=\"Individual\",0,Simulador!$C$14)),0)","v":0},null,0,0,0,0,0,0,null,0,0,0,0,0,0,null,0,0,0,0,0,null,{"$f":"IF(OR(Y157+1>(IF(AND(Simulador!$C$9<Simulador!$C$10,OR(Simulador!$E$7=\"Resgate\",Simulador!$E$7=\"Portabilidade\")),Simulador!$C$9,Simulador!$C$10)-Simulador!$C$8)*12,Y157=0),0,Y157+1)","v":154},{"$f":"IF($Y158=0,0,Z157*(1+Simulador!$D$34)+E158+L158)","v":0},{"$f":"IF($Y158=0,0,AA157*(1+Simulador!$D$34)+S158)","v":0},{"$f":"IF(OR(AB157+1>(IF(AND(Simulador!$C$9<Simulador!$C$10,OR(Simulador!$E$7=\"Resgate\",Simulador!$E$7=\"Portabilidade\")),Simulador!$C$9,Simulador!$C$50)-Simulador!$C$8)*12,AB157=0),0,AB157+1)","v":154},{"$f":"IF($AB158=0,0,AC157*(1+Simulador!$D$34)+F158+M158)","v":0},{"$f":"IF($AB158=0,0,AD157*(1+Simulador!$D$34)+T158)","v":0}]
[{"$f":"IF(OR(A158+1>(IF(Simulador!$E$7=\"Autopatrocínio\",Simulador!$C$10,Simulador!$C$9)-Simulador!$C$8)*12,A158=0),0,A158+1)","v":0},{"$f":"IF($A159=0,0,IF(INT($A158/12)-$A158/12=0,B158*(1+Simulador!$C$35),B158))","v":0},{"$f":"MAX(IF(A159=0,0,B159-IF(Simulador!$C$11=\"Individual\",0,Simulador!$C$14)),0)","v":0},null,0,0,0,0,0,0,null,0,0,0,0,0,0,null,0,0,0,0,0,null,{"$f":"IF(OR(Y158+1>(IF(AND(Simulador!$C$9<Simulador!$C$10,OR(Simulador!$E$7=\"Resgate\",Simulador!$E$7=\"Portabilidade\")),Simulador!$C$9,Simulador!$C$10)-Simulador!$C$8)*12,Y158=0),0,Y158+1)","v":155},{"$f":"IF($Y159=0,0,Z158*(1+Simulador!$D$34)+E159+L159)","v":0},{"$f":"IF($Y159=0,0,AA158*(1+Simulador!$D$34)+S159)","v":0},{"$f":"IF(OR(AB158+1>(IF(AND(Simulador!$C$9<Simulador!$C$10,OR(Simulador!$E$7=\"Resgate\",Simulador!$E$7=\"Portabilidade\")),Simulador!$C$9,Simulador!$C$50)-Simulador!$C$8)*12,AB158=0),0,AB158+1)","v":155},{"$f":"IF($AB159=0,0,AC158*(1+Simulador!$D$34)+F159+M159)","v":0},{"$f":"IF($AB159=0,0,AD158*(1+Simulador!$D$34)+T159)","v":0}]
[{"$f":"IF(OR(A159+1>(IF(Simulador!$E$7=\"Autopatrocínio\",Simulador!$C$10,Simulador!$C$9)-Simulador!$C$8)*12,A159=0),0,A159+1)","v":0},{"$f":"IF($A160=0,0,IF(INT($A159/12)-$A159/12=0,B159*(1+Simulador!$C$35),B159))","v":0},{"$f":"MAX(IF(A160=0,0,B160-IF(Simulador!$C$11=\"Individual\",0,Simulador!$C$14)),0)","v":0},null,0,0,0,0,0,0,null,0,0,0,0,0,0,null,0,0,0,0,0,null,{"$f":"IF(OR(Y159+1>(IF(AND(Simulador!$C$9<Simulador!$C$10,OR(Simulador!$E$7=\"Resgate\",Simulador!$E$7=\"Portabilidade\")),Simulador!$C$9,Simulador!$C$10)-Simulador!$C$8)*12,Y159=0),0,Y159+1)","v":156},{"$f":"IF($Y160=0,0,Z159*(1+Simulador!$D$34)+E160+L160)","v":0},{"$f":"IF($Y160=0,0,AA159*(1+Simulador!$D$34)+S160)","v":0},{"$f":"IF(OR(AB159+1>(IF(AND(Simulador!$C$9<Simulador!$C$10,OR(Simulador!$E$7=\"Resgate\",Simulador!$E$7=\"Portabilidade\")),Simulador!$C$9,Simulador!$C$50)-Simulador!$C$8)*12,AB159=0),0,AB159+1)","v":156},{"$f":"IF($AB160=0,0,AC159*(1+Simulador!$D$34)+F160+M160)","v":0},{"$f":"IF($AB160=0,0,AD159*(1+Simulador!$D$34)+T160)","v":0}]
[{"$f":"IF(OR(A160+1>(IF(Simulador!$E$7=\"Autopatrocínio\",Simulador!$C$10,Simulador!$C$9)-Simulador!$C$8)*12,A160=0),0,A160+1)","v":0},{"$f":"IF($A161=0,0,IF(INT($A160/12)-$A160/12=0,B160*(1+Simulador!$C$35),B160))","v":0},{"$f":"MAX(IF(A161=0,0,B161-IF(Simulador!$C$11=\"Individual\",0,Simulador!$C$14)),0)","v":0},null,0,0,0,0,0,0,null,0,0,0,0,0,0,null,0,0,0,0,0,null,{"$f":"IF(OR(Y160+1>(IF(AND(Simulador!$C$9<Simulador!$C$10,OR(Simulador!$E$7=\"Resgate\",Simulador!$E$7=\"Portabilidade\")),Simulador!$C$9,Simulador!$C$10)-Simulador!$C$8)*12,Y160=0),0,Y160+1)","v":157},{"$f":"IF($Y161=0,0,Z160*(1+Simulador!$D$34)+E161+L161)","v":0},{"$f":"IF($Y161=0,0,AA160*(1+Simulador!$D$34)+S161)","v":0},{"$f":"IF(OR(AB160+1>(IF(AND(Simulador!$C$9<Simulador!$C$10,OR(Simulador!$E$7=\"Resgate\",Simulador!$E$7=\"Portabilidade\")),Simulador!$C$9,Simulador!$C$50)-Simulador!$C$8)*12,AB160=0),0,AB160+1)","v":157},{"$f":"IF($AB161=0,0,AC160*(1+Simulador!$D$34)+F161+M161)","v":0},{"$f":"IF($AB161=0,0,AD160*(1+Simulador!$D$34)+T161)","v":0}]
[{"$f":"IF(OR(A161+1>(IF(Simulador!$E$7=\"Autopatrocínio\",Simulador!$C$10,Simulador!$C$9)-Simulador!$C$8)*12,A161=0),0,A161+1)","v":0},{"$f":"IF($A162=0,0,IF(INT($A161/12)-$A161/12=0,B161*(1+Simulador!$C$35),B161))","v":0},{"$f":"MAX(IF(A162=0,0,B162-IF(Simulador!$C$11=\"Individual\",0,Simulador!$C$14)),0)","v":0},null,0,0,0,0,0,0,null,0,0,0,0,0,0,null,0,0,0,0,0,null,{"$f":"IF(OR(Y161+1>(IF(AND(Simulador!$C$9<Simulador!$C$10,OR(Simulador!$E$7=\"Resgate\",Simulador!$E$7=\"Portabilidade\")),Simulador!$C$9,Simulador!$C$10)-Simulador!$C$8)*12,Y161=0),0,Y161+1)","v":158},{"$f":"IF($Y162=0,0,Z161*(1+Simulador!$D$34)+E162+L162)","v":0},{"$f":"IF($Y162=0,0,AA161*(1+Simulador!$D$34)+S162)","v":0},{"$f":"IF(OR(AB161+1>(IF(AND(Simulador!$C$9<Simulador!$C$10,OR(Simulador!$E$7=\"Resgate\",Simulador!$E$7=\"Portabilidade\")),Simulador!$C$9,Simulador!$C$50)-Simulador!$C$8)*12,AB161=0),0,AB161+1)","v":158},{"$f":"IF($AB162=0,0,AC161*(1+Simulador!$D$34)+F162+M162)","v":0},{"$f":"IF($AB162=0,0,AD161*(1+Simulador!$D$34)+T162)","v":0}]
[{"$f":"IF(OR(A162+1>(IF(Simulador!$E$7=\"Autopatrocínio\",Simulador!$C$10,Simulador!$C$9)-Simulador!$C$8)*12,A162=0),0,A162+1)","v":0},{"$f":"IF($A163=0,0,IF(INT($A162/12)-$A162/12=0,B162*(1+Simulador!$C$35),B162))","v":0},{"$f":"MAX(IF(A163=0,0,B163-IF(Simulador!$C$11=\"Individual\",0,Simulador!$C$14)),0)","v":0},null,0,0,0,0,0,0,null,0,0,0,0,0,0,null,0,0,0,0,0,null,{"$f":"IF(OR(Y162+1>(IF(AND(Simulador!$C$9<Simulador!$C$10,OR(Simulador!$E$7=\"Resgate\",Simulador!$E$7=\"Portabilidade\")),Simulador!$C$9,Simulador!$C$10)-Simulador!$C$8)*12,Y162=0),0,Y162+1)","v":159},{"$f":"IF($Y163=0,0,Z162*(1+Simulador!$D$34)+E163+L163)","v":0},{"$f":"IF($Y163=0,0,AA162*(1+Simulador!$D$34)+S163)","v":0},{"$f":"IF(OR(AB162+1>(IF(AND(Simulador!$C$9<Simulador!$C$10,OR(Simulador!$E$7=\"Resgate\",Simulador!$E$7=\"Portabilidade\")),Simulador!$C$9,Simulador!$C$50)-Simulador!$C$8)*12,AB162=0),0,AB162+1)","v":159},{"$f":"IF($AB163=0,0,AC162*(1+Simulador!$D$34)+F163+M163)","v":0},{"$f":"IF($AB163=0,0,AD162*(1+Simulador!$D$34)+T163)","v":0}]
[{"$f":"IF(OR(A163+1>(IF(Simulador!$E$7=\"Autopatrocínio\",Simulador!$C$10,Simulador!$C$9)-Simulador!$C$8)*12,A163=0),0,A163+1)","v":0},{"$f":"IF($A164=0,0,IF(INT($A163/12)-$A163/12=0,B163*(1+Simulador!$C$35),B163))","v":0},{"$f":"MAX(IF(A164=0,0,B164-IF(Simulador!$C$11=\"Individual\",0,Simulador!$C$14)),0)","v":0},null,0,0,0,0,0,0,null,0,0,0,0,0,0,null,0,0,0,0,0,null,{"$f":"IF(OR(Y163+1>(IF(AND(Simulador!$C$9<Simulador!$C$10,OR(Simulador!$E$7=\"Resgate\",Simulador!$E$7=\"Portabilidade\")),Simulador!$C$9,Simulador!$C$10)-Simulador!$C$8)*12,Y163=0),0,Y163+1)","v":160},{"$f":"IF($Y164=0,0,Z163*(1+Simulador!$D$34)+E164+L164)","v":0},{"$f":"IF($Y164=0,0,AA163*(1+Simulador!$D$34)+S164)","v":0},{"$f":"IF(OR(AB163+1>(IF(AND(Simulador!$C$9<Simulador!$C$10,OR(Simulador!$E$7=\"Resgate\",Simulador!$E$7=\"Portabilidade\")),Simulador!$C$9,Simulador!$C$50)-Simulador!$C$8)*12,AB163=0),0,AB163+1)","v":160},{"$f":"IF($AB164=0,0,AC163*(1+Simulador!$D$34)+F164+M164)","v":0},{"$f":"IF($AB164=0,0,AD163*(1+Simulador!$D$34)+T164)","v":0}]
[{"$f":"IF(OR(A164+1>(IF(Simulador!$E$7=\"Autopatrocínio\",Simulador!$C$10,Simulador!$C$9)-Simulador!$C$8)*12,A164=0),0,A164+1)","v":0},{"$f":"IF($A165=0,0,IF(INT($A164/12)-$A164/12=0,B164*(1+Simulador!$C$35),B164))","v":0},{"$f":"MAX(IF(A165=0,0,B165-IF(Simulador!$C$11=\"Individual\",0,Simulador!$C$14)),0)","v":0},null,{"$f":"E$4*$C165*(1+$J165)","v":0},0,0,0,0,0,null,{"$f":"L$4*$C165*$Q165","v":0},0,0,0,0,0,null,{"$f":"S$4*$C165*(1+$J165)","v":0},0,0,0,0,null,{"$f":"IF(OR(Y164+1>(IF(AND(Simulador!$C$9<Simulador!$C$10,OR(Simulador!$E$7=\"Resgate\",Simulador!$E$7=\"Portabilidade\")),Simulador!$C$9,Simulador!$C$10)-Simulador!$C$8)*12,Y164=0),0,Y164+1)","v":161},{"$f":"IF($Y165=0,0,Z164*(1+Simulador!$D$34)+E165+L165)","v":0},{"$f":"IF($Y165=0,0,AA164*(1+Simulador!$D$34)+S165)","v":0},{"$f":"IF(OR(AB164+1>(IF(AND(Simulador!$C$9<Simulador!$C$10,OR(Simulador!$E$7=\"Resgate\",Simulador!$E$7=\"Portabilidade\")),Simulador!$C$9,Simulador!$C$50)-Simulador!$C$8)*12,AB164=0),0,AB164+1)","v":161},{"$f":"IF($AB165=0,0,AC164*(1+Simulador!$D$34)+F165+M165)","v":0},{"$f":"IF($AB165=0,0,AD164*(1+Simulador!$D$34)+T165)","v":0}]
[{"$f":"IF(OR(A165+1>(IF(Simulador!$E$7=\"Autopatrocínio\",Simulador!$C$10,Simulador!$C$9)-Simulador!$C$8)*12,A165=0),0,A165+1)","v":0},{"$f":"IF($A166=0,0,IF(INT($A165/12)-$A165/12=0,B165*(1+Simulador!$C$35),B165))","v":0},{"$f":"MAX(IF(A166=0,0,B166-IF(Simulador!$C$11=\"Individual\",0,Simulador!$C$14)),0)","v":0},null,0,0,0,0,0,0,null,0,0,0,0,0,0,null,0,0,0,0,0,null,{"$f":"IF(OR(Y165+1>(IF(AND(Simulador!$C$9<Simulador!$C$10,OR(Simulador!$E$7=\"Resgate\",Simulador!$E$7=\"Portabilidade\")),Simulador!$C$9,Simulador!$C$10)-Simulador!$C$8)*12,Y165=0),0,Y165+1)","v":162},{"$f":"IF($Y166=0,0,Z165*(1+Simulador!$D$34)+E166+L166)","v":0},{"$f":"IF($Y166=0,0,AA165*(1+Simulador!$D$34)+S166)","v":0},{"$f":"IF(OR(AB165+1>(IF(AND(Simulador!$C$9<Simulador!$C$10,OR(Simulador!$E$7=\"Resgate\",Simulador!$E$7=\"Portabilidade\")),Simulador!$C$9,Simulador!$C$50)-Simulador!$C$8)*12,AB165=0),0,AB165+1)","v":162},{"$f":"IF($AB166=0,0,AC165*(1+Simulador!$D$34)+F166+M166)","v":0},{"$f":"IF($AB166=0,0,AD165*(1+Simulador!$D$34)+T166)","v":0}]
[{"$f":"IF(OR(A166+1>(IF(Simulador!$E$7=\"Autopatrocínio\",Simulador!$C$10,Simulador!$C$9)-Simulador!$C$8)*12,A166=0),0,A166+1)","v":0},{"$f":"IF($A167=0,0,IF(INT($A166/12)-$A166/12=0,B166*(1+Simulador!$C$35),B166))","v":0},{"$f":"MAX(IF(A167=0,0,B167-IF(Simulador!$C$11=\"Individual\",0,Simulador!$C$14)),0)","v":0},null,0,0,0,0,0,0,null,0,0,0,0,0,0,null,0,0,0,0,0,null,{"$f":"IF(OR(Y166+1>(IF(AND(Simulador!$C$9<Simulador!$C$10,OR(Simulador!$E$7=\"Resgate\",Simulador!$E$7=\"Portabilidade\")),Simulador!$C$9,Simulador!$C$10)-Simulador!$C$8)*12,Y166=0),0,Y166+1)","v":163},{"$f":"IF($Y167=0,0,Z166*(1+Simulador!$D$34)+E167+L167)","v":0},{"$f":"IF($Y167=0,0,AA166*(1+Simulador!$D$34)+S167)","v":0},{"$f":"IF(OR(AB166+1>(IF(AND(Simulador!$C$9<Simulador!$C$10,OR(Simulador!$E$7=\"Resgate\",Simulador!$E$7=\"Portabilidade\")),Simulador!$C$9,Simulador!$C$50)-Simulador!$C$8)*12,AB166=0),0,AB166+1)","v":163},{"$f":"IF($AB167=0,0,AC166*(1+Simulador!$D$34)+F167+M167)","v":0},{"$f":"IF($AB167=0,0,AD166*(1+Simulador!$D$34)+T167)","v":0}]
[{"$f":"IF(OR(A167+1>(IF(Simulador!$E$7=\"Autopatrocínio\",Simulador!$C$10,Simulador!$C$9)-Simulador!$C$8)*12,A167=0),0,A167+1)","v":0},{"$f":"IF($A168=0,0,IF(INT($A167/12)-$A167/12=0,B167*(1+Simulador!$C$35),B167))","v":0},{"$f":"MAX(IF(A168=0,0,B168-IF(Simulador!$C$11=\"Individual\",0,Simulador!$C$14)),0)","v":0},null,0,0,0,0,0,0,null,0,0,0,0,0,0,null,0,0,0,0,0,null,{"$f":"IF(OR(Y167+1>(IF(AND(Simulador!$C$9<Simulador!$C$10,OR(Simulador!$E$7=\"Resgate\",Simulador!$E$7=\"Portabilidade\")),Simulador!$C$9,Simulador!$C$10)-Simulador!$C$8)*12,Y167=0),0,Y167+1)","v":164},{"$f":"IF($Y168=0,0,Z167*(1+Simulador!$D$34)+E168+L168)","v":0},{"$f":"IF($Y168=0,0,AA167*(1+Simulador!$D$34)+S168)","v":0},{"$f":"IF(OR(AB167+1>(IF(AND(Simulador!$C$9<Simulador!$C$10,OR(Simulador!$E$7=\"Resgate\",Simulador!$E$7=\"Portabilidade\")),Simulador!$C$9,Simulador!$C$50)-Simulador!$C$8)*12,AB167=0),0,AB167+1)","v":164},{"$f":"IF($AB168=0,0,AC167*(1+Simulador!$D$34)+F168+M168)","v":0},{"$f":"IF($AB168=0,0,AD167*(1+Simulador!$D$34)+T168)","v":0}]
[{"$f":"IF(OR(A168+1>(IF(Simulador!$E$7=\"Autopatrocínio\",Simulador!$C$10,Simulador!$C$9)-Simulador!$C$8)*12,A168=0),0,A168+1)","v":0},{"$f":"IF($A169=0,0,IF(INT($A168/12)-$A168/12=0,B168*(1+Simulador!$C$35),B168))","v":0},{"$f":"MAX(IF(A169=0,0,B169-IF(Simulador!$C$11=\"Individual\",0,Simulador!$C$14)),0)","v":0},null,0,0,0,0,0,0,null,0,0,0,0,0,0,null,0,0,0,0,0,null,{"$f":"IF(OR(Y168+1>(IF(AND(Simulador!$C$9<Simulador!$C$10,OR(Simulador!$E$7=\"Resgate\",Simulador!$E$7=\"Portabilidade\")),Simulador!$C$9,Simulador!$C$10)-Simulador!$C$8)*12,Y168=0),0,Y168+1)","v":165},{"$f":"IF($Y169=0,0,Z168*(1+Simulador!$D$34)+E169+L169)","v":0},{"$f":"IF($Y169=0,0,AA168*(1+Simulador!$D$34)+S169)","v":0},{"$f":"IF(OR(AB168+1>(IF(AND(Simulador!$C$9<Simulador!$C$10,OR(Simulador!$E$7=\"Resgate\",Simulador!$E$7=\"Portabilidade\")),Simulador!$C$9,Simulador!$C$50)-Simulador!$C$8)*12,AB168=0),0,AB168+1)","v":165},{"$f":"IF($AB169=0,0,AC168*(1+Simulador!$D$34)+F169+M169)","v":0},{"$f":"IF($AB169=0,0,AD168*(1+Simulador!$D$34)+T169)","v":0}]
[{"$f":"IF(OR(A169+1>(IF(Simulador!$E$7=\"Autopatrocínio\",Simulador!$C$10,Simulador!$C$9)-Simulador!$C$8)*12,A169=0),0,A169+1)","v":0},{"$f":"IF($A170=0,0,IF(INT($A169/12)-$A169/12=0,B169*(1+Simulador!$C$35),B169))","v":0},{"$f":"MAX(IF(A170=0,0,B170-IF(Simulador!$C$11=\"Individual\",0,Simulador!$C$14)),0)","v":0},null,0,0,0,0,0,0,null,0,0,0,0,0,0,null,0,0,0,0,0,null,{"$f":"IF(OR(Y169+1>(IF(AND(Simulador!$C$9<Simulador!$C$10,OR(Simulador!$E$7=\"Resgate\",Simulador!$E$7=\"Portabilidade\")),Simulador!$C$9,Simulador!$C$10)-Simulador!$C$8)*12,Y169=0),0,Y169+1)","v":166},{"$f":"IF($Y170=0,0,Z169*(1+Simulador!$D$34)+E170+L170)","v":0},{"$f":"IF($Y170=0,0,AA169*(1+Simulador!$D$34)+S170)","v":0},{"$f":"IF(OR(AB169+1>(IF(AND(Simulador!$C$9<Simulador!$C$10,OR(Simulador!$E$7=\"Resgate\",Simulador!$E$7=\"Portabilidade\")),Simulador!$C$9,Simulador!$C$50)-Simulador!$C$8)*12,AB169=0),0,AB169+1)","v":166},{"$f":"IF($AB170=0,0,AC169*(1+Simulador!$D$34)+F170+M170)","v":0},{"$f":"IF($AB170=0,0,AD169*(1+Simulador!$D$34)+T170)","v":0}]
[{"$f":"IF(OR(A170+1>(IF(Simulador!$E$7=\"Autopatrocínio\",Simulador!$C$10,Simulador!$C$9)-Simulador!$C$8)*12,A170=0),0,A170+1)","v":0},{"$f":"IF($A171=0,0,IF(INT($A170/12)-$A170/12=0,B170*(1+Simulador!$C$35),B170))","v":0},{"$f":"MAX(IF(A171=0,0,B171-IF(Simulador!$C$11=\"Individual\",0,Simulador!$C$14)),0)","v":0},null,0,0,0,0,0,0,null,0,0,0,0,0,0,null,0,0,0,0,0,null,{"$f":"IF(OR(Y170+1>(IF(AND(Simulador!$C$9<Simulador!$C$10,OR(Simulador!$E$7=\"Resgate\",Simulador!$E$7=\"Portabilidade\")),Simulador!$C$9,Simulador!$C$10)-Simulador!$C$8)*12,Y170=0),0,Y170+1)","v":167},{"$f":"IF($Y171=0,0,Z170*(1+Simulador!$D$34)+E171+L171)","v":0},{"$f":"IF($Y171=0,0,AA170*(1+Simulador!$D$34)+S171)","v":0},{"$f":"IF(OR(AB170+1>(IF(AND(Simulador!$C$9<Simulador!$C$10,OR(Simulador!$E$7=\"Resgate\",Simulador!$E$7=\"Portabilidade\")),Simulador!$C$9,Simulador!$C$50)-Simulador!$C$8)*12,AB170=0),0,AB170+1)","v":167},{"$f":"IF($AB171=0,0,AC170*(1+Simulador!$D$34)+F171+M171)","v":0},{"$f":"IF($AB171=0,0,AD170*(1+Simulador!$D$34)+T171)","v":0}]
[{"$f":"IF(OR(A171+1>(IF(Simulador!$E$7=\"Autopatrocínio\",Simulador!$C$10,Simulador!$C$9)-Simulador!$C$8)*12,A171=0),0,A171+1)","v":0},{"$f":"IF($A172=0,0,IF(INT($A171/12)-$A171/12=0,B171*(1+Simulador!$C$35),B171))","v":0},{"$f":"MAX(IF(A172=0,0,B172-IF(Simulador!$C$11=\"Individual\",0,Simulador!$C$14)),0)","v":0},null,0,0,0,0,0,0,null,0,0,0,0,0,0,null,0,0,0,0,0,null,{"$f":"IF(OR(Y171+1>(IF(AND(Simulador!$C$9<Simulador!$C$10,OR(Simulador!$E$7=\"Resgate\",Simulador!$E$7=\"Portabilidade\")),Simulador!$C$9,Simulador!$C$10)-Simulador!$C$8)*12,Y171=0),0,Y171+1)","v":168},{"$f":"IF($Y172=0,0,Z171*(1+Simulador!$D$34)+E172+L172)","v":0},{"$f":"IF($Y172=0,0,AA171*(1+Simulador!$D$34)+S172)","v":0},{"$f":"IF(OR(AB171+1>(IF(AND(Simulador!$C$9<Simulador!$C$10,OR(Simulador!$E$7=\"Resgate\",Simulador!$E$7=\"Portabilidade\")),Simulador!$C$9,Simulador!$C$50)-Simulador!$C$8)*12,AB171=0),0,AB171+1)","v":168},{"$f":"IF($AB172=0,0,AC171*(1+Simulador!$D$34)+F172+M172)","v":0},{"$f":"IF($AB172=0,0,AD171*(1+Simulador!$D$34)+T172)","v":0}]
[{"$f":"IF(OR(A172+1>(IF(Simulador!$E$7=\"Autopatrocínio\",Simulador!$C$10,Simulador!$C$9)-Simulador!$C$8)*12,A172=0),0,A172+1)","v":0},{"$f":"IF($A173=0,0,IF(INT($A172/12)-$A172/12=0,B172*(1+Simulador!$C$35),B172))","v":0},{"$f":"MAX(IF(A173=0,0,B173-IF(Simulador!$C$11=\"Individual\",0,Simulador!$C$14)),0)","v":0},null,0,0,0,0,0,0,null,0,0,0,0,0,0,null,0,0,0,0,0,null,{"$f":"IF(OR(Y172+1>(IF(AND(Simulador!$C$9<Simulador!$C$10,OR(Simulador!$E$7=\"Resgate\",Simulador!$E$7=\"Portabilidade\")),Simulador!$C$9,Simulador!$C$10)-Simulador!$C$8)*12,Y172=0),0,Y172+1)","v":169},{"$f":"IF($Y173=0,0,Z172*(1+Simulador!$D$34)+E173+L173)","v":0},{"$f":"IF($Y173=0,0,AA172*(1+Simulador!$D$34)+S173)","v":0},{"$f":"IF(OR(AB172+1>(IF(AND(Simulador!$C$9<Simulador!$C$10,OR(Simulador!$E$7=\"Resgate\",Simulador!$E$7=\"Portabilidade\")),Simulador!$C$9,Simulador!$C$50)-Simulador!$C$8)*12,AB172=0),0,AB172+1)","v":169},{"$f":"IF($AB173=0,0,AC172*(1+Simulador!$D$34)+F173+M173)","v":0},{"$f":"IF($AB173=0,0,AD172*(1+Simulador!$D$34)+T173)","v":0}]
[{"$f":"IF(OR(A173+1>(IF(Simulador!$E$7=\"Autopatrocínio\",Simulador!$C$10,Simulador!$C$9)-Simulador!$C$8)*12,A173=0),0,A173+1)","v":0},{"$f":"IF($A174=0,0,IF(INT($A173/12)-$A173/12=0,B173*(1+Simulador!$C$35),B173))","v":0},{"$f":"MAX(IF(A174=0,0,B174-IF(Simulador!$C$11=\"Individual\",0,Simulador!$C$14)),0)","v":0},null,0,0,0,0,0,0,null,0,0,0,0,0,0,null,0,0,0,0,0,null,{"$f":"IF(OR(Y173+1>(IF(AND(Simulador!$C$9<Simulador!$C$10,OR(Simulador!$E$7=\"Resgate\",Simulador!$E$7=\"Portabilidade\")),Simulador!$C$9,Simulador!$C$10)-Simulador!$C$8)*12,Y173=0),0,Y173+1)","v":170},{"$f":"IF($Y174=0,0,Z173*(1+Simulador!$D$34)+E174+L174)","v":0},{"$f":"IF($Y174=0,0,AA173*(1+Simulador!$D$34)+S174)","v":0},{"$f":"IF(OR(AB173+1>(IF(AND(Simulador!$C$9<Simulador!$C$10,OR(Simulador!$E$7=\"Resgate\",Simulador!$E$7=\"Portabilidade\")),Simulador!$C$9,Simulador!$C$50)-Simulador!$C$8)*12,AB173=0),0,AB173+1)","v":170},{"$f":"IF($AB174=0,0,AC173*(1+Simulador!$D$34)+F174+M174)","v":0},{"$f":"IF($AB174=0,0,AD173*(1+Simulador!$D$34)+T174)","v":0}]
[{"$f":"IF(OR(A174+1>(IF(Simulador!$E$7=\"Autopatrocínio\",Simulador!$C$10,Simulador!$C$9)-Simulador!$C$8)*12,A174=0),0,A174+1)","v":0},{"$f":"IF($A175=0,0,IF(INT($A174/12)-$A174/12=0,B174*(1+Simulador!$C$35),B174))","v":0},{"$f":"MAX(IF(A175=0,0,B175-IF(Simulador!$C$11=\"Individual\",0,Simulador!$C$14)),0)","v":0},null,{"$f":"E$4*$C175*(1+$J175)","v":0},0,0,0,0,0,null,{"$f":"L$4*$C175*$Q175","v":0},0,0,0,0,0,null,0,0,0,0,0,null,{"$f":"IF(OR(Y174+1>(IF(AND(Simulador!$C$9<Simulador!$C$10,OR(Simulador!$E$7=\"Resgate\",Simulador!$E$7=\"Portabilidade\")),Simulador!$C$9,Simulador!$C$10)-Simulador!$C$8)*12,Y174=0),0,Y174+1)","v":171},{"$f":"IF($Y175=0,0,Z174*(1+Simulador!$D$34)+E175+L175)","v":0},{"$f":"IF($Y175=0,0,AA174*(1+Simulador!$D$34)+S175)","v":0},{"$f":"IF(OR(AB174+1>(IF(AND(Simulador!$C$9<Simulador!$C$10,OR(Simulador!$E$7=\"Resgate\",Simulador!$E$7=\"Portabilidade\")),Simulador!$C$9,Simulador!$C$50)-Simulador!$C$8)*12,AB174=0),0,AB174+1)","v":171},{"$f":"IF($AB175=0,0,AC174*(1+Simulador!$D$34)+F175+M175)","v":0},{"$f":"IF($AB175=0,0,AD174*(1+Simulador!$D$34)+T175)","v":0}]
[{"$f":"IF(OR(A175+1>(IF(Simulador!$E$7=\"Autopatrocínio\",Simulador!$C$10,Simulador!$C$9)-Simulador!$C$8)*12,A175=0),0,A175+1)","v":0},{"$f":"IF($A176=0,0,IF(INT($A175/12)-$A175/12=0,B175*(1+Simulador!$C$35),B175))","v":0},{"$f":"MAX(IF(A176=0,0,B176-IF(Simulador!$C$11=\"Individual\",0,Simulador!$C$14)),0)","v":0},null,0,0,0,0,0,0,null,0,0,0,0,0,0,null,0,0,0,0,0,null,{"$f":"IF(OR(Y175+1>(IF(AND(Simulador!$C$9<Simulador!$C$10,OR(Simulador!$E$7=\"Resgate\",Simulador!$E$7=\"Portabilidade\")),Simulador!$C$9,Simulador!$C$10)-Simulador!$C$8)*12,Y175=0),0,Y175+1)","v":172},{"$f":"IF($Y176=0,0,Z175*(1+Simulador!$D$34)+E176+L176)","v":0},{"$f":"IF($Y176=0,0,AA175*(1+Simulador!$D$34)+S176)","v":0},{"$f":"IF(OR(AB175+1>(IF(AND(Simulador!$C$9<Simulador!$C$10,OR(Simulador!$E$7=\"Resgate\",Simulador!$E$7=\"Portabilidade\")),Simulador!$C$9,Simulador!$C$50)-Simulador!$C$8)*12,AB175=0),0,AB175+1)","v":172},{"$f":"IF($AB176=0,0,AC175*(1+Simulador!$D$34)+F176+M176)","v":0},{"$f":"IF($AB176=0,0,AD175*(1+Simulador!$D$34)+T176)","v":0}]
[{"$f":"IF(OR(A176+1>(IF(Simulador!$E$7=\"Autopatrocínio\",Simulador!$C$10,Simulador!$C$9)-Simulador!$C$8)*12,A176=0),0,A176+1)","v":0},{"$f":"IF($A177=0,0,IF(INT($A176/12)-$A176/12=0,B176*(1+Simulador!$C$35),B176))","v":0},{"$f":"MAX(IF(A177=0,0,B177-IF(Simulador!$C$11=\"Individual\",0,Simulador!$C$14)),0)","v":0},null,0,0,0,0,0,0,null,0,0,0,0,0,0,null,0,0,0,0,0,null,{"$f":"IF(OR(Y176+1>(IF(AND(Simulador!$C$9<Simulador!$C$10,OR(Simulador!$E$7=\"Resgate\",Simulador!$E$7=\"Portabilidade\")),Simulador!$C$9,Simulador!$C$10)-Simulador!$C$8)*12,Y176=0),0,Y176+1)","v":173},{"$f":"IF($Y177=0,0,Z176*(1+Simulador!$D$34)+E177+L177)","v":0},{"$f":"IF($Y177=0,0,AA176*(1+Simulador!$D$34)+S177)","v":0},{"$f":"IF(OR(AB176+1>(IF(AND(Simulador!$C$9<Simulador!$C$10,OR(Simulador!$E$7=\"Resgate\",Simulador!$E$7=\"Portabilidade\")),Simulador!$C$9,Simulador!$C$50)-Simulador!$C$8)*12,AB176=0),0,AB176+1)","v":173},{"$f":"IF($AB177=0,0,AC176*(1+Simulador!$D$34)+F177+M177)","v":0},{"$f":"IF($AB177=0,0,AD176*(1+Simulador!$D$34)+T177)","v":0}]
[{"$f":"IF(OR(A177+1>(IF(Simulador!$E$7=\"Autopatrocínio\",Simulador!$C$10,Simulador!$C$9)-Simulador!$C$8)*12,A177=0),0,A177+1)","v":0},{"$f":"IF($A178=0,0,IF(INT($A177/12)-$A177/12=0,B177*(1+Simulador!$C$35),B177))","v":0},{"$f":"MAX(IF(A178=0,0,B178-IF(Simulador!$C$11=\"Individual\",0,Simulador!$C$14)),0)","v":0},null,0,0,0,0,0,0,null,0,0,0,0,0,0,null,0,0,0,0,0,null,{"$f":"IF(OR(Y177+1>(IF(AND(Simulador!$C$9<Simulador!$C$10,OR(Simulador!$E$7=\"Resgate\",Simulador!$E$7=\"Portabilidade\")),Simulador!$C$9,Simulador!$C$10)-Simulador!$C$8)*12,Y177=0),0,Y177+1)","v":174},{"$f":"IF($Y178=0,0,Z177*(1+Simulador!$D$34)+E178+L178)","v":0},{"$f":"IF($Y178=0,0,AA177*(1+Simulador!$D$34)+S178)","v":0},{"$f":"IF(OR(AB177+1>(IF(AND(Simulador!$C$9<Simulador!$C$10,OR(Simulador!$E$7=\"Resgate\",Simulador!$E$7=\"Portabilidade\")),Simulador!$C$9,Simulador!$C$50)-Simulador!$C$8)*12,AB177=0),0,AB177+1)","v":174},{"$f":"IF($AB178=0,0,AC177*(1+Simulador!$D$34)+F178+M178)","v":0},{"$f":"IF($AB178=0,0,AD177*(1+Simulador!$D$34)+T178)","v":0}]
[{"$f":"IF(OR(A178+1>(IF(Simulador!$E$7=\"Autopatrocínio\",Simulador!$C$10,Simulador!$C$9)-Simulador!$C$8)*12,A178=0),0,A178+1)","v":0},{"$f":"IF($A179=0,0,IF(INT($A178/12)-$A178/12=0,B178*(1+Simulador!$C$35),B178))","v":0},{"$f":"MAX(IF(A179=0,0,B179-IF(Simulador!$C$11=\"Individual\",0,Simulador!$C$14)),0)","v":0},null,0,0,0,0,0,0,null,0,0,0,0,0,0,null,0,0,0,0,0,null,{"$f":"IF(OR(Y178+1>(IF(AND(Simulador!$C$9<Simulador!$C$10,OR(Simulador!$E$7=\"Resgate\",Simulador!$E$7=\"Portabilidade\")),Simulador!$C$9,Simulador!$C$10)-Simulador!$C$8)*12,Y178=0),0,Y178+1)","v":175},{"$f":"IF($Y179=0,0,Z178*(1+Simulador!$D$34)+E179+L179)","v":0},{"$f":"IF($Y179=0,0,AA178*(1+Simulador!$D$34)+S179)","v":0},{"$f":"IF(OR(AB178+1>(IF(AND(Simulador!$C$9<Simulador!$C$10,OR(Simulador!$E$7=\"Resgate\",Simulador!$E$7=\"Portabilidade\")),Simulador!$C$9,Simulador!$C$50)-Simulador!$C$8)*12,AB178=0),0,AB178+1)","v":175},{"$f":"IF($AB179=0,0,AC178*(1+Simulador!$D$34)+F179+M179)","v":0},{"$f":"IF($AB179=0,0,AD178*(1+Simulador!$D$34)+T179)","v":0}]
[{"$f":"IF(OR(A179+1>(IF(Simulador!$E$7=\"Autopatrocínio\",Simulador!$C$10,Simulador!$C$9)-Simulador!$C$8)*12,A179=0),0,A179+1)","v":0},{"$f":"IF($A180=0,0,IF(INT($A179/12)-$A179/12=0,B179*(1+Simulador!$C$35),B179))","v":0},{"$f":"MAX(IF(A180=0,0,B180-IF(Simulador!$C$11=\"Individual\",0,Simulador!$C$14)),0)","v":0},null,0,0,0,0,0,0,null,0,0,0,0,0,0,null,0,0,0,0,0,null,{"$f":"IF(OR(Y179+1>(IF(AND(Simulador!$C$9<Simulador!$C$10,OR(Simulador!$E$7=\"Resgate\",Simulador!$E$7=\"Portabilidade\")),Simulador!$C$9,Simulador!$C$10)-Simulador!$C$8)*12,Y179=0),0,Y179+1)","v":176},{"$f":"IF($Y180=0,0,Z179*(1+Simulador!$D$34)+E180+L180)","v":0},{"$f":"IF($Y180=0,0,AA179*(1+Simulador!$D$34)+S180)","v":0},{"$f":"IF(OR(AB179+1>(IF(AND(Simulador!$C$9<Simulador!$C$10,OR(Simulador!$E$7=\"Resgate\",Simulador!$E$7=\"Portabilidade\")),Simulador!$C$9,Simulador!$C$50)-Simulador!$C$8)*12,AB179=0),0,AB179+1)","v":176},{"$f":"IF($AB180=0,0,AC179*(1+Simulador!$D$34)+F180+M180)","v":0},{"$f":"IF($AB180=0,0,AD179*(1+Simulador!$D$34)+T180)","v":0}]
[{"$f":"IF(OR(A180+1>(IF(Simulador!$E$7=\"Autopatrocínio\",Simulador!$C$10,Simulador!$C$9)-Simulador!$C$8)*12,A180=0),0,A180+1)","v":0},{"$f":"IF($A181=0,0,IF(INT($A180/12)-$A180/12=0,B180*(1+Simulador!$C$35),B180))","v":0},{"$f":"MAX(IF(A181=0,0,B181-IF(Simulador!$C$11=\"Individual\",0,Simulador!$C$14)),0)","v":0},null,0,0,0,0,0,0,null,0,0,0,0,0,0,null,{"$f":"S$4*$C181*(1+$J181)","v":0},0,0,0,0,null,{"$f":"IF(OR(Y180+1>(IF(AND(Simulador!$C$9<Simulador!$C$10,OR(Simulador!$E$7=\"Resgate\",Simulador!$E$7=\"Portabilidade\")),Simulador!$C$9,Simulador!$C$10)-Simulador!$C$8)*12,Y180=0),0,Y180+1)","v":177},{"$f":"IF($Y181=0,0,Z180*(1+Simulador!$D$34)+E181+L181)","v":0},{"$f":"IF($Y181=0,0,AA180*(1+Simulador!$D$34)+S181)","v":0},{"$f":"IF(OR(AB180+1>(IF(AND(Simulador!$C$9<Simulador!$C$10,OR(Simulador!$E$7=\"Resgate\",Simulador!$E$7=\"Portabilidade\")),Simulador!$C$9,Simulador!$C$50)-Simulador!$C$8)*12,AB180=0),0,AB180+1)","v":177},{"$f":"IF($AB181=0,0,AC180*(1+Simulador!$D$34)+F181+M181)","v":0},{"$f":"IF($AB181=0,0,AD180*(1+Simulador!$D$34)+T181)","v":0}]
[{"$f":"IF(OR(A181+1>(IF(Simulador!$E$7=\"Autopatrocínio\",Simulador!$C$10,Simulador!$C$9)-Simulador!$C$8)*12,A181=0),0,A181+1)","v":0},{"$f":"IF($A182=0,0,IF(INT($A181/12)-$A181/12=0,B181*(1+Simulador!$C$35),B181))","v":0},{"$f":"MAX(IF(A182=0,0,B182-IF(Simulador!$C$11=\"Individual\",0,Simulador!$C$14)),0)","v":0},null,0,0,0,0,0,0,null,0,0,0,0,0,0,null,0,0,0,0,0,null,{"$f":"IF(OR(Y181+1>(IF(AND(Simulador!$C$9<Simulador!$C$10,OR(Simulador!$E$7=\"Resgate\",Simulador!$E$7=\"Portabilidade\")),Simulador!$C$9,Simulador!$C$10)-Simulador!$C$8)*12,Y181=0),0,Y181+1)","v":178},{"$f":"IF($Y182=0,0,Z181*(1+Simulador!$D$34)+E182+L182)","v":0},{"$f":"IF($Y182=0,0,AA181*(1+Simulador!$D$34)+S182)","v":0},{"$f":"IF(OR(AB181+1>(IF(AND(Simulador!$C$9<Simulador!$C$10,OR(Simulador!$E$7=\"Resgate\",Simulador!$E$7=\"Portabilidade\")),Simulador!$C$9,Simulador!$C$50)-Simulador!$C$8)*12,AB181=0),0,AB181+1)","v":178},{"$f":"IF($AB182=0,0,AC181*(1+Simulador!$D$34)+F182+M182)","v":0},{"$f":"IF($AB182=0,0,AD181*(1+Simulador!$D$34)+T182)","v":0}]
[{"$f":"IF(OR(A182+1>(IF(Simulador!$E$7=\"Autopatrocínio\",Simulador!$C$10,Simulador!$C$9)-Simulador!$C$8)*12,A182=0),0,A182+1)","v":0},{"$f":"IF($A183=0,0,IF(INT($A182/12)-$A182/12=0,B182*(1+Simulador!$C$35),B182))","v":0},{"$f":"MAX(IF(A183=0,0,B183-IF(Simulador!$C$11=\"Individual\",0,Simulador!$C$14)),0)","v":0},null,0,0,0,0,0,0,null,0,0,0,0,0,0,null,0,0,0,0,0,null,{"$f":"IF(OR(Y182+1>(IF(AND(Simulador!$C$9<Simulador!$C$10,OR(Simulador!$E$7=\"Resgate\",Simulador!$E$7=\"Portabilidade\")),Simulador!$C$9,Simulador!$C$10)-Simulador!$C$8)*12,Y182=0),0,Y182+1)","v":179},{"$f":"IF($Y183=0,0,Z182*(1+Simulador!$D$34)+E183+L183)","v":0},{"$f":"IF($Y183=0,0,AA182*(1+Simulador!$D$34)+S183)","v":0},{"$f":"IF(OR(AB182+1>(IF(AND(Simulador!$C$9<Simulador!$C$10,OR(Simulador!$E$7=\"Resgate\",Simulador!$E$7=\"Portabilidade\")),Simulador!$C$9,Simulador!$C$50)-Simulador!$C$8)*12,AB182=0),0,AB182+1)","v":179},{"$f":"IF($AB183=0,0,AC182*(1+Simulador!$D$34)+F183+M183)","v":0},{"$f":"IF($AB183=0,0,AD182*(1+Simulador!$D$34)+T183)","v":0}]
[{"$f":"IF(OR(A183+1>(IF(Simulador!$E$7=\"Autopatrocínio\",Simulador!$C$10,Simulador!$C$9)-Simulador!$C$8)*12,A183=0),0,A183+1)","v":0},{"$f":"IF($A184=0,0,IF(INT($A183/12)-$A183/12=0,B183*(1+Simulador!$C$35),B183))","v":0},{"$f":"MAX(IF(A184=0,0,B184-IF(Simulador!$C$11=\"Individual\",0,Simulador!$C$14)),0)","v":0},null,0,0,0,0,0,0,null,0,0,0,0,0,0,null,0,0,0,0,0,null,{"$f":"IF(OR(Y183+1>(IF(AND(Simulador!$C$9<Simulador!$C$10,OR(Simulador!$E$7=\"Resgate\",Simulador!$E$7=\"Portabilidade\")),Simulador!$C$9,Simulador!$C$10)-Simulador!$C$8)*12,Y183=0),0,Y183+1)","v":180},{"$f":"IF($Y184=0,0,Z183*(1+Simulador!$D$34)+E184+L184)","v":0},{"$f":"IF($Y184=0,0,AA183*(1+Simulador!$D$34)+S184)","v":0},{"$f":"IF(OR(AB183+1>(IF(AND(Simulador!$C$9<Simulador!$C$10,OR(Simulador!$E$7=\"Resgate\",Simulador!$E$7=\"Portabilidade\")),Simulador!$C$9,Simulador!$C$50)-Simulador!$C$8)*12,AB183=0),0,AB183+1)","v":180},{"$f":"IF($AB184=0,0,AC183*(1+Simulador!$D$34)+F184+M184)","v":0},{"$f":"IF($AB184=0,0,AD183*(1+Simulador!$D$34)+T184)","v":0}]
[{"$f":"IF(OR(A184+1>(IF(Simulador!$E$7=\"Autopatrocínio\",Simulador!$C$10,Simulador!$C$9)-Simulador!$C$8)*12,A184=0),0,A184+1)","v":0},{"$f":"IF($A185=0,0,IF(INT($A184/12)-$A184/12=0,B184*(1+Simulador!$C$35),B184))","v":0},{"$f":"MAX(IF(A185=0,0,B185-IF(Simulador!$C$11=\"Individual\",0,Simulador!$C$14)),0)","v":0},null,{"$f":"E$4*$C185*(1+$J185)","v":0},0,0,0,0,0,null,{"$f":"L$4*$C185*$Q185","v":0},0,0,0,0,0,null,0,0,0,0,0,null,{"$f":"IF(OR(Y184+1>(IF(AND(Simulador!$C$9<Simulador!$C$10,OR(Simulador!$E$7=\"Resgate\",Simulador!$E$7=\"Portabilidade\")),Simulador!$C$9,Simulador!$C$10)-Simulador!$C$8)*12,Y184=0),0,Y184+1)","v":181},{"$f":"IF($Y185=0,0,Z184*(1+Simulador!$D$34)+E185+L185)","v":0},{"$f":"IF($Y185=0,0,AA184*(1+Simulador!$D$34)+S185)","v":0},{"$f":"IF(OR(AB184+1>(IF(AND(Simulador!$C$9<Simulador!$C$10,OR(Simulador!$E$7=\"Resgate\",Simulador!$E$7=\"Portabilidade\")),Simulador!$C$9,Simulador!$C$50)-Simulador!$C$8)*12,AB184=0),0,AB184+1)","v":181},{"$f":"IF($AB185=0,0,AC184*(1+Simulador!$D$34)+F185+M185)","v":0},{"$f":"IF($AB185=0,0,AD184*(1+Simulador!$D$34)+T185)","v":0}]
[{"$f":"IF(OR(A185+1>(IF(Simulador!$E$7=\"Autopatrocínio\",Simulador!$C$10,Simulador!$C$9)-Simulador!$C$8)*12,A185=0),0,A185+1)","v":0},{"$f":"IF($A186=0,0,IF(INT($A185/12)-$A185/12=0,B185*(1+Simulador!$C$35),B185))","v":0},{"$f":"MAX(IF(A186=0,0,B186-IF(Simulador!$C$11=\"Individual\",0,Simulador!$C$14)),0)","v":0},null,0,0,0,0,0,0,null,0,0,0,0,0,0,null,0,0,0,0,0,null,{"$f":"IF(OR(Y185+1>(IF(AND(Simulador!$C$9<Simulador!$C$10,OR(Simulador!$E$7=\"Resgate\",Simulador!$E$7=\"Portabilidade\")),Simulador!$C$9,Simulador!$C$10)-Simulador!$C$8)*12,Y185=0),0,Y185+1)","v":182},{"$f":"IF($Y186=0,0,Z185*(1+Simulador!$D$34)+E186+L186)","v":0},{"$f":"IF($Y186=0,0,AA185*(1+Simulador!$D$34)+S186)","v":0},{"$f":"IF(OR(AB185+1>(IF(AND(Simulador!$C$9<Simulador!$C$10,OR(Simulador!$E$7=\"Resgate\",Simulador!$E$7=\"Portabilidade\")),Simulador!$C$9,Simulador!$C$50)-Simulador!$C$8)*12,AB185=0),0,AB185+1)","v":182},{"$f":"IF($AB186=0,0,AC185*(1+Simulador!$D$34)+F186+M186)","v":0},{"$f":"IF($AB186=0,0,AD185*(1+Simulador!$D$34)+T186)","v":0}]
[{"$f":"IF(OR(A186+1>(IF(Simulador!$E$7=\"Autopatrocínio\",Simulador!$C$10,Simulador!$C$9)-Simulador!$C$8)*12,A186=0),0,A186+1)","v":0},{"$f":"IF($A187=0,0,IF(INT($A186/12)-$A186/12=0,B186*(1+Simulador!$C$35),B186))","v":0},{"$f":"MAX(IF(A187=0,0,B187-IF(Simulador!$C$11=\"Individual\",0,Simulador!$C$14)),0)","v":0},null,0,0,0,0,0,0,null,0,0,0,0,0,0,null,0,0,0,0,0,null,{"$f":"IF(OR(Y186+1>(IF(AND(Simulador!$C$9<Simulador!$C$10,OR(Simulador!$E$7=\"Resgate\",Simulador!$E$7=\"Portabilidade\")),Simulador!$C$9,Simulador!$C$10)-Simulador!$C$8)*12,Y186=0),0,Y186+1)","v":183},{"$f":"IF($Y187=0,0,Z186*(1+Simulador!$D$34)+E187+L187)","v":0},{"$f":"IF($Y187=0,0,AA186*(1+Simulador!$D$34)+S187)","v":0},{"$f":"IF(OR(AB186+1>(IF(AND(Simulador!$C$9<Simulador!$C$10,OR(Simulador!$E$7=\"Resgate\",Simulador!$E$7=\"Portabilidade\")),Simulador!$C$9,Simulador!$C$50)-Simulador!$C$8)*12,AB186=0),0,AB186+1)","v":183},{"$f":"IF($AB187=0,0,AC186*(1+Simulador!$D$34)+F187+M187)","v":0},{"$f":"IF($AB187=0,0,AD186*(1+Simulador!$D$34)+T187)","v":0}]
[{"$f":"IF(OR(A187+1>(IF(Simulador!$E$7=\"Autopatrocínio\",Simulador!$C$10,Simulador!$C$9)-Simulador!$C$8)*12,A187=0),0,A187+1)","v":0},{"$f":"IF($A188=0,0,IF(INT($A187/12)-$A187/12=0,B187*(1+Simulador!$C$35),B187))","v":0},{"$f":"MAX(IF(A188=0,0,B188-IF(Simulador!$C$11=\"Individual\",0,Simulador!$C$14)),0)","v":0},null,0,0,0,0,0,0,null,0,0,0,0,0,0,null,0,0,0,0,0,null,{"$f":"IF(OR(Y187+1>(IF(AND(Simulador!$C$9<Simulador!$C$10,OR(Simulador!$E$7=\"Resgate\",Simulador!$E$7=\"Portabilidade\")),Simulador!$C$9,Simulador!$C$10)-Simulador!$C$8)*12,Y187=0),0,Y187+1)","v":184},{"$f":"IF($Y188=0,0,Z187*(1+Simulador!$D$34)+E188+L188)","v":0},{"$f":"IF($Y188=0,0,AA187*(1+Simulador!$D$34)+S188)","v":0},{"$f":"IF(OR(AB187+1>(IF(AND(Simulador!$C$9<Simulador!$C$10,OR(Simulador!$E$7=\"Resgate\",Simulador!$E$7=\"Portabilidade\")),Simulador!$C$9,Simulador!$C$50)-Simulador!$C$8)*12,AB187=0),0,AB187+1)","v":184},{"$f":"IF($AB188=0,0,AC187*(1+Simulador!$D$34)+F188+M188)","v":0},{"$f":"IF($AB188=0,0,AD187*(1+Simulador!$D$34)+T188)","v":0}]
[{"$f":"IF(OR(A188+1>(IF(Simulador!$E$7=\"Autopatrocínio\",Simulador!$C$10,Simulador!$C$9)-Simulador!$C$8)*12,A188=0),0,A188+1)","v":0},{"$f":"IF($A189=0,0,IF(INT($A188/12)-$A188/12=0,B188*(1+Simulador!$C$35),B188))","v":0},{"$f":"MAX(IF(A189=0,0,B189-IF(Simulador!$C$11=\"Individual\",0,Simulador!$C$14)),0)","v":0},null,0,0,0,0,0,0,null,0,0,0,0,0,0,null,0,0,0,0,0,null,{"$f":"IF(OR(Y188+1>(IF(AND(Simulador!$C$9<Simulador!$C$10,OR(Simulador!$E$7=\"Resgate\",Simulador!$E$7=\"Portabilidade\")),Simulador!$C$9,Simulador!$C$10)-Simulador!$C$8)*12,Y188=0),0,Y188+1)","v":185},{"$f":"IF($Y189=0,0,Z188*(1+Simulador!$D$34)+E189+L189)","v":0},{"$f":"IF($Y189=0,0,AA188*(1+Simulador!$D$34)+S189)","v":0},{"$f":"IF(OR(AB188+1>(IF(AND(Simulador!$C$9<Simulador!$C$10,OR(Simulador!$E$7=\"Resgate\",Simulador!$E$7=\"Portabilidade\")),Simulador!$C$9,Simulador!$C$50)-Simulador!$C$8)*12,AB188=0),0,AB188+1)","v":185},{"$f":"IF($AB189=0,0,AC188*(1+Simulador!$D$34)+F189+M189)","v":0},{"$f":"IF($AB189=0,0,AD188*(1+Simulador!$D$34)+T189)","v":0}]
[{"$f":"IF(OR(A189+1>(IF(Simulador!$E$7=\"Autopatrocínio\",Simulador!$C$10,Simulador!$C$9)-Simulador!$C$8)*12,A189=0),0,A189+1)","v":0},{"$f":"IF($A190=0,0,IF(INT($A189/12)-$A189/12=0,B189*(1+Simulador!$C$35),B189))","v":0},{"$f":"MAX(IF(A190=0,0,B190-IF(Simulador!$C$11=\"Individual\",0,Simulador!$C$14)),0)","v":0},null,0,0,0,0,0,0,null,0,0,0,0,0,0,null,0,0,0,0,0,null,{"$f":"IF(OR(Y189+1>(IF(AND(Simulador!$C$9<Simulador!$C$10,OR(Simulador!$E$7=\"Resgate\",Simulador!$E$7=\"Portabilidade\")),Simulador!$C$9,Simulador!$C$10)-Simulador!$C$8)*12,Y189=0),0,Y189+1)","v":186},{"$f":"IF($Y190=0,0,Z189*(1+Simulador!$D$34)+E190+L190)","v":0},{"$f":"IF($Y190=0,0,AA189*(1+Simulador!$D$34)+S190)","v":0},{"$f":"IF(OR(AB189+1>(IF(AND(Simulador!$C$9<Simulador!$C$10,OR(Simulador!$E$7=\"Resgate\",Simulador!$E$7=\"Portabilidade\")),Simulador!$C$9,Simulador!$C$50)-Simulador!$C$8)*12,AB189=0),0,AB189+1)","v":186},{"$f":"IF($AB190=0,0,AC189*(1+Simulador!$D$34)+F190+M190)","v":0},{"$f":"IF($AB190=0,0,AD189*(1+Simulador!$D$34)+T190)","v":0}]
[{"$f":"IF(OR(A190+1>(IF(Simulador!$E$7=\"Autopatrocínio\",Simulador!$C$10,Simulador!$C$9)-Simulador!$C$8)*12,A190=0),0,A190+1)","v":0},{"$f":"IF($A191=0,0,IF(INT($A190/12)-$A190/12=0,B190*(1+Simulador!$C$35),B190))","v":0},{"$f":"MAX(IF(A191=0,0,B191-IF(Simulador!$C$11=\"Individual\",0,Simulador!$C$14)),0)","v":0},null,0,0,0,0,0,0,null,0,0,0,0,0,0,null,0,0,0,0,0,null,{"$f":"IF(OR(Y190+1>(IF(AND(Simulador!$C$9<Simulador!$C$10,OR(Simulador!$E$7=\"Resgate\",Simulador!$E$7=\"Portabilidade\")),Simulador!$C$9,Simulador!$C$10)-Simulador!$C$8)*12,Y190=0),0,Y190+1)","v":187},{"$f":"IF($Y191=0,0,Z190*(1+Simulador!$D$34)+E191+L191)","v":0},{"$f":"IF($Y191=0,0,AA190*(1+Simulador!$D$34)+S191)","v":0},{"$f":"IF(OR(AB190+1>(IF(AND(Simulador!$C$9<Simulador!$C$10,OR(Simulador!$E$7=\"Resgate\",Simulador!$E$7=\"Portabilidade\")),Simulador!$C$9,Simulador!$C$50)-Simulador!$C$8)*12,AB190=0),0,AB190+1)","v":187},{"$f":"IF($AB191=0,0,AC190*(1+Simulador!$D$34)+F191+M191)","v":0},{"$f":"IF($AB191=0,0,AD190*(1+Simulador!$D$34)+T191)","v":0}]
[{"$f":"IF(OR(A191+1>(IF(Simulador!$E$7=\"Autopatrocínio\",Simulador!$C$10,Simulador!$C$9)-Simulador!$C$8)*12,A191=0),0,A191+1)","v":0},{"$f":"IF($A192=0,0,IF(INT($A191/12)-$A191/12=0,B191*(1+Simulador!$C$35),B191))","v":0},{"$f":"MAX(IF(A192=0,0,B192-IF(Simulador!$C$11=\"Individual\",0,Simulador!$C$14)),0)","v":0},null,0,0,0,0,0,0,null,0,0,0,0,0,0,null,0,0,0,0,0,null,{"$f":"IF(OR(Y191+1>(IF(AND(Simulador!$C$9<Simulador!$C$10,OR(Simulador!$E$7=\"Resgate\",Simulador!$E$7=\"Portabilidade\")),Simulador!$C$9,Simulador!$C$10)-Simulador!$C$8)*12,Y191=0),0,Y191+1)","v":188},{"$f":"IF($Y192=0,0,Z191*(1+Simulador!$D$34)+E192+L192)","v":0},{"$f":"IF($Y192=0,0,AA191*(1+Simulador!$D$34)+S192)","v":0},{"$f":"IF(OR(AB191+1>(IF(AND(Simulador!$C$9<Simulador!$C$10,OR(Simulador!$E$7=\"Resgate\",Simulador!$E$7=\"Portabilidade\")),Simulador!$C$9,Simulador!$C$50)-Simulador!$C$8)*12,AB191=0),0,AB191+1)","v":188},{"$f":"IF($AB192=0,0,AC191*(1+Simulador!$D$34)+F192+M192)","v":0},{"$f":"IF($AB192=0,0,AD191*(1+Simulador!$D$34)+T192)","v":0}]
[{"$f":"IF(OR(A192+1>(IF(Simulador!$E$7=\"Autopatrocínio\",Simulador!$C$10,Simulador!$C$9)-Simulador!$C$8)*12,A192=0),0,A192+1)","v":0},{"$f":"IF($A193=0,0,IF(INT($A192/12)-$A192/12=0,B192*(1+Simulador!$C$35),B192))","v":0},{"$f":"MAX(IF(A193=0,0,B193-IF(Simulador!$C$11=\"Individual\",0,Simulador!$C$14)),0)","v":0},null,0,0,0,0,0,0,null,0,0,0,0,0,0,null,0,0,0,0,0,null,{"$f":"IF(OR(Y192+1>(IF(AND(Simulador!$C$9<Simulador!$C$10,OR(Simulador!$E$7=\"Resgate\",Simulador!$E$7=\"Portabilidade\")),Simulador!$C$9,Simulador!$C$10)-Simulador!$C$8)*12,Y192=0),0,Y192+1)","v":189},{"$f":"IF($Y193=0,0,Z192*(1+Simulador!$D$34)+E193+L193)","v":0},{"$f":"IF($Y193=0,0,AA192*(1+Simulador!$D$34)+S193)","v":0},{"$f":"IF(OR(AB192+1>(IF(AND(Simulador!$C$9<Simulador!$C$10,OR(Simulador!$E$7=\"Resgate\",Simulador!$E$7=\"Portabilidade\")),Simulador!$C$9,Simulador!$C$50)-Simulador!$C$8)*12,AB192=0),0,AB192+1)","v":189},{"$f":"IF($AB193=0,0,AC192*(1+Simulador!$D$34)+F193+M193)","v":0},{"$f":"IF($AB193=0,0,AD192*(1+Simulador!$D$34)+T193)","v":0}]
[{"$f":"IF(OR(A193+1>(IF(Simulador!$E$7=\"Autopatrocínio\",Simulador!$C$10,Simulador!$C$9)-Simulador!$C$8)*12,A193=0),0,A193+1)","v":0},{"$f":"IF($A194=0,0,IF(INT($A193/12)-$A193/12=0,B193*(1+Simulador!$C$35),B193))","v":0},{"$f":"MAX(IF(A194=0,0,B194-IF(Simulador!$C$11=\"Individual\",0,Simulador!$C$14)),0)","v":0},null,0,0,0,0,0,0,null,0,0,0,0,0,0,null,0,0,0,0,0,null,{"$f":"IF(OR(Y193+1>(IF(AND(Simulador!$C$9<Simulador!$C$10,OR(Simulador!$E$7=\"Resgate\",Simulador!$E$7=\"Portabilidade\")),Simulador!$C$9,Simulador!$C$10)-Simulador!$C$8)*12,Y193=0),0,Y193+1)","v":190},{"$f":"IF($Y194=0,0,Z193*(1+Simulador!$D$34)+E194+L194)","v":0},{"$f":"IF($Y194=0,0,AA193*(1+Simulador!$D$34)+S194)","v":0},{"$f":"IF(OR(AB193+1>(IF(AND(Simulador!$C$9<Simulador!$C$10,OR(Simulador!$E$7=\"Resgate\",Simulador!$E$7=\"Portabilidade\")),Simulador!$C$9,Simulador!$C$50)-Simulador!$C$8)*12,AB193=0),0,AB193+1)","v":190},{"$f":"IF($AB194=0,0,AC193*(1+Simulador!$D$34)+F194+M194)","v":0},{"$f":"IF($AB194=0,0,AD193*(1+Simulador!$D$34)+T194)","v":0}]
[{"$f":"IF(OR(A194+1>(IF(Simulador!$E$7=\"Autopatrocínio\",Simulador!$C$10,Simulador!$C$9)-Simulador!$C$8)*12,A194=0),0,A194+1)","v":0},{"$f":"IF($A195=0,0,IF(INT($A194/12)-$A194/12=0,B194*(1+Simulador!$C$35),B194))","v":0},{"$f":"MAX(IF(A195=0,0,B195-IF(Simulador!$C$11=\"Individual\",0,Simulador!$C$14)),0)","v":0},null,{"$f":"E$4*$C195*(1+$J195)","v":0},0,0,0,0,0,null,{"$f":"L$4*$C195*$Q195","v":0},0,0,0,0,0,null,0,0,0,0,0,null,{"$f":"IF(OR(Y194+1>(IF(AND(Simulador!$C$9<Simulador!$C$10,OR(Simulador!$E$7=\"Resgate\",Simulador!$E$7=\"Portabilidade\")),Simulador!$C$9,Simulador!$C$10)-Simulador!$C$8)*12,Y194=0),0,Y194+1)","v":191},{"$f":"IF($Y195=0,0,Z194*(1+Simulador!$D$34)+E195+L195)","v":0},{"$f":"IF($Y195=0,0,AA194*(1+Simulador!$D$34)+S195)","v":0},{"$f":"IF(OR(AB194+1>(IF(AND(Simulador!$C$9<Simulador!$C$10,OR(Simulador!$E$7=\"Resgate\",Simulador!$E$7=\"Portabilidade\")),Simulador!$C$9,Simulador!$C$50)-Simulador!$C$8)*12,AB194=0),0,AB194+1)","v":191},{"$f":"IF($AB195=0,0,AC194*(1+Simulador!$D$34)+F195+M195)","v":0},{"$f":"IF($AB195=0,0,AD194*(1+Simulador!$D$34)+T195)","v":0}]
[{"$f":"IF(OR(A195+1>(IF(Simulador!$E$7=\"Autopatrocínio\",Simulador!$C$10,Simulador!$C$9)-Simulador!$C$8)*12,A195=0),0,A195+1)","v":0},{"$f":"IF($A196=0,0,IF(INT($A195/12)-$A195/12=0,B195*(1+Simulador!$C$35),B195))","v":0},{"$f":"MAX(IF(A196=0,0,B196-IF(Simulador!$C$11=\"Individual\",0,Simulador!$C$14)),0)","v":0},null,0,0,0,0,0,0,null,0,0,0,0,0,0,null,0,0,0,0,0,null,{"$f":"IF(OR(Y195+1>(IF(AND(Simulador!$C$9<Simulador!$C$10,OR(Simulador!$E$7=\"Resgate\",Simulador!$E$7=\"Portabilidade\")),Simulador!$C$9,Simulador!$C$10)-Simulador!$C$8)*12,Y195=0),0,Y195+1)","v":192},{"$f":"IF($Y196=0,0,Z195*(1+Simulador!$D$34)+E196+L196)","v":0},{"$f":"IF($Y196=0,0,AA195*(1+Simulador!$D$34)+S196)","v":0},{"$f":"IF(OR(AB195+1>(IF(AND(Simulador!$C$9<Simulador!$C$10,OR(Simulador!$E$7=\"Resgate\",Simulador!$E$7=\"Portabilidade\")),Simulador!$C$9,Simulador!$C$50)-Simulador!$C$8)*12,AB195=0),0,AB195+1)","v":192},{"$f":"IF($AB196=0,0,AC195*(1+Simulador!$D$34)+F196+M196)","v":0},{"$f":"IF($AB196=0,0,AD195*(1+Simulador!$D$34)+T196)","v":0}]
[{"$f":"IF(OR(A196+1>(IF(Simulador!$E$7=\"Autopatrocínio\",Simulador!$C$10,Simulador!$C$9)-Simulador!$C$8)*12,A196=0),0,A196+1)","v":0},{"$f":"IF($A197=0,0,IF(INT($A196/12)-$A196/12=0,B196*(1+Simulador!$C$35),B196))","v":0},{"$f":"MAX(IF(A197=0,0,B197-IF(Simulador!$C$11=\"Individual\",0,Simulador!$C$14)),0)","v":0},null,0,0,0,0,0,{"$f":"IF($A197=0,0,IF(INT($A197/12)-$A197/12=0,1,0))","v":0},null,0,0,0,0,0,{"$f":"IF($A197=0,0,IF($Q$4=\"Mensal\",1,IF($Q$4=\"Semestral\",IF(INT(($A197+5)/6)-($A197+5)/6=0,1,0),IF($Q$4=\"Anual\",IF(INT(($A197+11)/12)-($A197+11)/12=0,1,0)))))","v":0},null,{"$f":"S$4*$C197*(1+$J197)","v":0},0,0,0,0,null,{"$f":"IF(OR(Y196+1>(IF(AND(Simulador!$C$9<Simulador!$C$10,OR(Simulador!$E$7=\"Resgate\",Simulador!$E$7=\"Portabilidade\")),Simulador!$C$9,Simulador!$C$10)-Simulador!$C$8)*12,Y196=0),0,Y196+1)","v":193},{"$f":"IF($Y197=0,0,Z196*(1+Simulador!$D$34)+E197+L197)","v":0},{"$f":"IF($Y197=0,0,AA196*(1+Simulador!$D$34)+S197)","v":0},{"$f":"IF(OR(AB196+1>(IF(AND(Simulador!$C$9<Simulador!$C$10,OR(Simulador!$E$7=\"Resgate\",Simulador!$E$7=\"Portabilidade\")),Simulador!$C$9,Simulador!$C$50)-Simulador!$C$8)*12,AB196=0),0,AB196+1)","v":193},{"$f":"IF($AB197=0,0,AC196*(1+Simulador!$D$34)+F197+M197)","v":0},{"$f":"IF($AB197=0,0,AD196*(1+Simulador!$D$34)+T197)","v":0}]
[{"$f":"IF(OR(A197+1>(IF(Simulador!$E$7=\"Autopatrocínio\",Simulador!$C$10,Simulador!$C$9)-Simulador!$C$8)*12,A197=0),0,A197+1)","v":0},{"$f":"IF($A198=0,0,IF(INT($A197/12)-$A197/12=0,B197*(1+Simulador!$C$35),B197))","v":0},{"$f":"MAX(IF(A198=0,0,B198-IF(Simulador!$C$11=\"Individual\",0,Simulador!$C$14)),0)","v":0},null,0,0,0,0,0,0,null,0,0,0,0,0,0,null,0,0,0,0,0,null,{"$f":"IF(OR(Y197+1>(IF(AND(Simulador!$C$9<Simulador!$C$10,OR(Simulador!$E$7=\"Resgate\",Simulador!$E$7=\"Portabilidade\")),Simulador!$C$9,Simulador!$C$10)-Simulador!$C$8)*12,Y197=0),0,Y197+1)","v":194},{"$f":"IF($Y198=0,0,Z197*(1+Simulador!$D$34)+E198+L198)","v":0},{"$f":"IF($Y198=0,0,AA197*(1+Simulador!$D$34)+S198)","v":0},{"$f":"IF(OR(AB197+1>(IF(AND(Simulador!$C$9<Simulador!$C$10,OR(Simulador!$E$7=\"Resgate\",Simulador!$E$7=\"Portabilidade\")),Simulador!$C$9,Simulador!$C$50)-Simulador!$C$8)*12,AB197=0),0,AB197+1)","v":194},{"$f":"IF($AB198=0,0,AC197*(1+Simulador!$D$34)+F198+M198)","v":0},{"$f":"IF($AB198=0,0,AD197*(1+Simulador!$D$34)+T198)","v":0}]
[{"$f":"IF(OR(A198+1>(IF(Simulador!$E$7=\"Autopatrocínio\",Simulador!$C$10,Simulador!$C$9)-Simulador!$C$8)*12,A198=0),0,A198+1)","v":0},{"$f":"IF($A199=0,0,IF(INT($A198/12)-$A198/12=0,B198*(1+Simulador!$C$35),B198))","v":0},{"$f":"MAX(IF(A199=0,0,B199-IF(Simulador!$C$11=\"Individual\",0,Simulador!$C$14)),0)","v":0},null,0,0,0,0,0,0,null,0,0,0,0,0,0,null,0,0,0,0,0,null,{"$f":"IF(OR(Y198+1>(IF(AND(Simulador!$C$9<Simulador!$C$10,OR(Simulador!$E$7=\"Resgate\",Simulador!$E$7=\"Portabilidade\")),Simulador!$C$9,Simulador!$C$10)-Simulador!$C$8)*12,Y198=0),0,Y198+1)","v":195},{"$f":"IF($Y199=0,0,Z198*(1+Simulador!$D$34)+E199+L199)","v":0},{"$f":"IF($Y199=0,0,AA198*(1+Simulador!$D$34)+S199)","v":0},{"$f":"IF(OR(AB198+1>(IF(AND(Simulador!$C$9<Simulador!$C$10,OR(Simulador!$E$7=\"Resgate\",Simulador!$E$7=\"Portabilidade\")),Simulador!$C$9,Simulador!$C$50)-Simulador!$C$8)*12,AB198=0),0,AB198+1)","v":195},{"$f":"IF($AB199=0,0,AC198*(1+Simulador!$D$34)+F199+M199)","v":0},{"$f":"IF($AB199=0,0,AD198*(1+Simulador!$D$34)+T199)","v":0}]
[{"$f":"IF(OR(A199+1>(IF(Simulador!$E$7=\"Autopatrocínio\",Simulador!$C$10,Simulador!$C$9)-Simulador!$C$8)*12,A199=0),0,A199+1)","v":0},{"$f":"IF($A200=0,0,IF(INT($A199/12)-$A199/12=0,B199*(1+Simulador!$C$35),B199))","v":0},{"$f":"MAX(IF(A200=0,0,B200-IF(Simulador!$C$11=\"Individual\",0,Simulador!$C$14)),0)","v":0},null,0,0,0,0,0,0,null,0,0,0,0,0,0,null,0,0,0,0,0,null,{"$f":"IF(OR(Y199+1>(IF(AND(Simulador!$C$9<Simulador!$C$10,OR(Simulador!$E$7=\"Resgate\",Simulador!$E$7=\"Portabilidade\")),Simulador!$C$9,Simulador!$C$10)-Simulador!$C$8)*12,Y199=0),0,Y199+1)","v":196},{"$f":"IF($Y200=0,0,Z199*(1+Simulador!$D$34)+E200+L200)","v":0},{"$f":"IF($Y200=0,0,AA199*(1+Simulador!$D$34)+S200)","v":0},{"$f":"IF(OR(AB199+1>(IF(AND(Simulador!$C$9<Simulador!$C$10,OR(Simulador!$E$7=\"Resgate\",Simulador!$E$7=\"Portabilidade\")),Simulador!$C$9,Simulador!$C$50)-Simulador!$C$8)*12,AB199=0),0,AB199+1)","v":196},{"$f":"IF($AB200=0,0,AC199*(1+Simulador!$D$34)+F200+M200)","v":0},{"$f":"IF($AB200=0,0,AD199*(1+Simulador!$D$34)+T200)","v":0}]
[{"$f":"IF(OR(A200+1>(IF(Simulador!$E$7=\"Autopatrocínio\",Simulador!$C$10,Simulador!$C$9)-Simulador!$C$8)*12,A200=0),0,A200+1)","v":0},{"$f":"IF($A201=0,0,IF(INT($A200/12)-$A200/12=0,B200*(1+Simulador!$C$35),B200))","v":0},{"$f":"MAX(IF(A201=0,0,B201-IF(Simulador!$C$11=\"Individual\",0,Simulador!$C$14)),0)","v":0},null,0,0,0,0,0,0,null,0,0,0,0,0,0,null,0,0,0,0,0,null,{"$f":"IF(OR(Y200+1>(IF(AND(Simulador!$C$9<Simulador!$C$10,OR(Simulador!$E$7=\"Resgate\",Simulador!$E$7=\"Portabilidade\")),Simulador!$C$9,Simulador!$C$10)-Simulador!$C$8)*12,Y200=0),0,Y200+1)","v":197},{"$f":"IF($Y201=0,0,Z200*(1+Simulador!$D$34)+E201+L201)","v":0},{"$f":"IF($Y201=0,0,AA200*(1+Simulador!$D$34)+S201)","v":0},{"$f":"IF(OR(AB200+1>(IF(AND(Simulador!$C$9<Simulador!$C$10,OR(Simulador!$E$7=\"Resgate\",Simulador!$E$7=\"Portabilidade\")),Simulador!$C$9,Simulador!$C$50)-Simulador!$C$8)*12,AB200=0),0,AB200+1)","v":197},{"$f":"IF($AB201=0,0,AC200*(1+Simulador!$D$34)+F201+M201)","v":0},{"$f":"IF($AB201=0,0,AD200*(1+Simulador!$D$34)+T201)","v":0}]
[{"$f":"IF(OR(A201+1>(IF(Simulador!$E$7=\"Autopatrocínio\",Simulador!$C$10,Simulador!$C$9)-Simulador!$C$8)*12,A201=0),0,A201+1)","v":0},{"$f":"IF($A202=0,0,IF(INT($A201/12)-$A201/12=0,B201*(1+Simulador!$C$35),B201))","v":0},{"$f":"MAX(IF(A202=0,0,B202-IF(Simulador!$C$11=\"Individual\",0,Simulador!$C$14)),0)","v":0},null,0,0,0,0,0,0,null,0,0,0,0,0,0,null,0,0,0,0,0,null,{"$f":"IF(OR(Y201+1>(IF(AND(Simulador!$C$9<Simulador!$C$10,OR(Simulador!$E$7=\"Resgate\",Simulador!$E$7=\"Portabilidade\")),Simulador!$C$9,Simulador!$C$10)-Simulador!$C$8)*12,Y201=0),0,Y201+1)","v":198},{"$f":"IF($Y202=0,0,Z201*(1+Simulador!$D$34)+E202+L202)","v":0},{"$f":"IF($Y202=0,0,AA201*(1+Simulador!$D$34)+S202)","v":0},{"$f":"IF(OR(AB201+1>(IF(AND(Simulador!$C$9<Simulador!$C$10,OR(Simulador!$E$7=\"Resgate\",Simulador!$E$7=\"Portabilidade\")),Simulador!$C$9,Simulador!$C$50)-Simulador!$C$8)*12,AB201=0),0,AB201+1)","v":198},{"$f":"IF($AB202=0,0,AC201*(1+Simulador!$D$34)+F202+M202)","v":0},{"$f":"IF($AB202=0,0,AD201*(1+Simulador!$D$34)+T202)","v":0}]
[{"$f":"IF(OR(A202+1>(IF(Simulador!$E$7=\"Autopatrocínio\",Simulador!$C$10,Simulador!$C$9)-Simulador!$C$8)*12,A202=0),0,A202+1)","v":0},{"$f":"IF($A203=0,0,IF(INT($A202/12)-$A202/12=0,B202*(1+Simulador!$C$35),B202))","v":0},{"$f":"MAX(IF(A203=0,0,B203-IF(Simulador!$C$11=\"Individual\",0,Simulador!$C$14)),0)","v":0},null,0,0,0,0,0,0,null,0,0,0,0,0,0,null,0,0,0,0,0,null,{"$f":"IF(OR(Y202+1>(IF(AND(Simulador!$C$9<Simulador!$C$10,OR(Simulador!$E$7=\"Resgate\",Simulador!$E$7=\"Portabilidade\")),Simulador!$C$9,Simulador!$C$10)-Simulador!$C$8)*12,Y202=0),0,Y202+1)","v":199},{"$f":"IF($Y203=0,0,Z202*(1+Simulador!$D$34)+E203+L203)","v":0},{"$f":"IF($Y203=0,0,AA202*(1+Simulador!$D$34)+S203)","v":0},{"$f":"IF(OR(AB202+1>(IF(AND(Simulador!$C$9<Simulador!$C$10,OR(Simulador!$E$7=\"Resgate\",Simulador!$E$7=\"Portabilidade\")),Simulador!$C$9,Simulador!$C$50)-Simulador!$C$8)*12,AB202=0),0,AB202+1)","v":199},{"$f":"IF($AB203=0,0,AC202*(1+Simulador!$D$34)+F203+M203)","v":0},{"$f":"IF($AB203=0,0,AD202*(1+Simulador!$D$34)+T203)","v":0}]
[{"$f":"IF(OR(A203+1>(IF(Simulador!$E$7=\"Autopatrocínio\",Simulador!$C$10,Simulador!$C$9)-Simulador!$C$8)*12,A203=0),0,A203+1)","v":0},{"$f":"IF($A204=0,0,IF(INT($A203/12)-$A203/12=0,B203*(1+Simulador!$C$35),B203))","v":0},{"$f":"MAX(IF(A204=0,0,B204-IF(Simulador!$C$11=\"Individual\",0,Simulador!$C$14)),0)","v":0},null,0,0,0,0,0,0,null,0,0,0,0,0,0,null,0,0,0,0,0,null,{"$f":"IF(OR(Y203+1>(IF(AND(Simulador!$C$9<Simulador!$C$10,OR(Simulador!$E$7=\"Resgate\",Simulador!$E$7=\"Portabilidade\")),Simulador!$C$9,Simulador!$C$10)-Simulador!$C$8)*12,Y203=0),0,Y203+1)","v":200},{"$f":"IF($Y204=0,0,Z203*(1+Simulador!$D$34)+E204+L204)","v":0},{"$f":"IF($Y204=0,0,AA203*(1+Simulador!$D$34)+S204)","v":0},{"$f":"IF(OR(AB203+1>(IF(AND(Simulador!$C$9<Simulador!$C$10,OR(Simulador!$E$7=\"Resgate\",Simulador!$E$7=\"Portabilidade\")),Simulador!$C$9,Simulador!$C$50)-Simulador!$C$8)*12,AB203=0),0,AB203+1)","v":200},{"$f":"IF($AB204=0,0,AC203*(1+Simulador!$D$34)+F204+M204)","v":0},{"$f":"IF($AB204=0,0,AD203*(1+Simulador!$D$34)+T204)","v":0}]
[{"$f":"IF(OR(A204+1>(IF(Simulador!$E$7=\"Autopatrocínio\",Simulador!$C$10,Simulador!$C$9)-Simulador!$C$8)*12,A204=0),0,A204+1)","v":0},{"$f":"IF($A205=0,0,IF(INT($A204/12)-$A204/12=0,B204*(1+Simulador!$C$35),B204))","v":0},{"$f":"MAX(IF(A205=0,0,B205-IF(Simulador!$C$11=\"Individual\",0,Simulador!$C$14)),0)","v":0},null,{"$f":"E$4*$C205*(1+$J205)","v":0},0,0,0,0,0,null,{"$f":"L$4*$C205*$Q205","v":0},0,0,0,0,0,null,0,0,0,0,0,null,{"$f":"IF(OR(Y204+1>(IF(AND(Simulador!$C$9<Simulador!$C$10,OR(Simulador!$E$7=\"Resgate\",Simulador!$E$7=\"Portabilidade\")),Simulador!$C$9,Simulador!$C$10)-Simulador!$C$8)*12,Y204=0),0,Y204+1)","v":201},{"$f":"IF($Y205=0,0,Z204*(1+Simulador!$D$34)+E205+L205)","v":0},{"$f":"IF($Y205=0,0,AA204*(1+Simulador!$D$34)+S205)","v":0},{"$f":"IF(OR(AB204+1>(IF(AND(Simulador!$C$9<Simulador!$C$10,OR(Simulador!$E$7=\"Resgate\",Simulador!$E$7=\"Portabilidade\")),Simulador!$C$9,Simulador!$C$50)-Simulador!$C$8)*12,AB204=0),0,AB204+1)","v":201},{"$f":"IF($AB205=0,0,AC204*(1+Simulador!$D$34)+F205+M205)","v":0},{"$f":"IF($AB205=0,0,AD204*(1+Simulador!$D$34)+T205)","v":0}]
[{"$f":"IF(OR(A205+1>(IF(Simulador!$E$7=\"Autopatrocínio\",Simulador!$C$10,Simulador!$C$9)-Simulador!$C$8)*12,A205=0),0,A205+1)","v":0},{"$f":"IF($A206=0,0,IF(INT($A205/12)-$A205/12=0,B205*(1+Simulador!$C$35),B205))","v":0},{"$f":"MAX(IF(A206=0,0,B206-IF(Simulador!$C$11=\"Individual\",0,Simulador!$C$14)),0)","v":0},null,0,0,0,0,0,0,null,0,0,0,0,0,0,null,0,0,0,0,0,null,{"$f":"IF(OR(Y205+1>(IF(AND(Simulador!$C$9<Simulador!$C$10,OR(Simulador!$E$7=\"Resgate\",Simulador!$E$7=\"Portabilidade\")),Simulador!$C$9,Simulador!$C$10)-Simulador!$C$8)*12,Y205=0),0,Y205+1)","v":202},{"$f":"IF($Y206=0,0,Z205*(1+Simulador!$D$34)+E206+L206)","v":0},{"$f":"IF($Y206=0,0,AA205*(1+Simulador!$D$34)+S206)","v":0},{"$f":"IF(OR(AB205+1>(IF(AND(Simulador!$C$9<Simulador!$C$10,OR(Simulador!$E$7=\"Resgate\",Simulador!$E$7=\"Portabilidade\")),Simulador!$C$9,Simulador!$C$50)-Simulador!$C$8)*12,AB205=0),0,AB205+1)","v":202},{"$f":"IF($AB206=0,0,AC205*(1+Simulador!$D$34)+F206+M206)","v":0},{"$f":"IF($AB206=0,0,AD205*(1+Simulador!$D$34)+T206)","v":0}]
[{"$f":"IF(OR(A206+1>(IF(Simulador!$E$7=\"Autopatrocínio\",Simulador!$C$10,Simulador!$C$9)-Simulador!$C$8)*12,A206=0),0,A206+1)","v":0},{"$f":"IF($A207=0,0,IF(INT($A206/12)-$A206/12=0,B206*(1+Simulador!$C$35),B206))","v":0},{"$f":"MAX(IF(A207=0,0,B207-IF(Simulador!$C$11=\"Individual\",0,Simulador!$C$14)),0)","v":0},null,0,0,0,0,0,0,null,0,0,0,0,0,0,null,0,0,0,0,0,null,{"$f":"IF(OR(Y206+1>(IF(AND(Simulador!$C$9<Simulador!$C$10,OR(Simulador!$E$7=\"Resgate\",Simulador!$E$7=\"Portabilidade\")),Simulador!$C$9,Simulador!$C$10)-Simulador!$C$8)*12,Y206=0),0,Y206+1)","v":203},{"$f":"IF($Y207=0,0,Z206*(1+Simulador!$D$34)+E207+L207)","v":0},{"$f":"IF($Y207=0,0,AA206*(1+Simulador!$D$34)+S207)","v":0},{"$f":"IF(OR(AB206+1>(IF(AND(Simulador!$C$9<Simulador!$C$10,OR(Simulador!$E$7=\"Resgate\",Simulador!$E$7=\"Portabilidade\")),Simulador!$C$9,Simulador!$C$50)-Simulador!$C$8)*12,AB206=0),0,AB206+1)","v":203},{"$f":"IF($AB207=0,0,AC206*(1+Simulador!$D$34)+F207+M207)","v":0},{"$f":"IF($AB207=0,0,AD206*(1+Simulador!$D$34)+T207)","v":0}]
[{"$f":"IF(OR(A207+1>(IF(Simulador!$E$7=\"Autopatrocínio\",Simulador!$C$10,Simulador!$C$9)-Simulador!$C$8)*12,A207=0),0,A207+1)","v":0},{"$f":"IF($A208=0,0,IF(INT($A207/12)-$A207/12=0,B207*(1+Simulador!$C$35),B207))","v":0},{"$f":"MAX(IF(A208=0,0,B208-IF(Simulador!$C$11=\"Individual\",0,Simulador!$C$14)),0)","v":0},null,0,0,0,0,0,0,null,0,0,0,0,0,0,null,0,0,0,0,0,null,{"$f":"IF(OR(Y207+1>(IF(AND(Simulador!$C$9<Simulador!$C$10,OR(Simulador!$E$7=\"Resgate\",Simulador!$E$7=\"Portabilidade\")),Simulador!$C$9,Simulador!$C$10)-Simulador!$C$8)*12,Y207=0),0,Y207+1)","v":204},{"$f":"IF($Y208=0,0,Z207*(1+Simulador!$D$34)+E208+L208)","v":0},{"$f":"IF($Y208=0,0,AA207*(1+Simulador!$D$34)+S208)","v":0},{"$f":"IF(OR(AB207+1>(IF(AND(Simulador!$C$9<Simulador!$C$10,OR(Simulador!$E$7=\"Resgate\",Simulador!$E$7=\"Portabilidade\")),Simulador!$C$9,Simulador!$C$50)-Simulador!$C$8)*12,AB207=0),0,AB207+1)","v":204},{"$f":"IF($AB208=0,0,AC207*(1+Simulador!$D$34)+F208+M208)","v":0},{"$f":"IF($AB208=0,0,AD207*(1+Simulador!$D$34)+T208)","v":0}]
[{"$f":"IF(OR(A208+1>(IF(Simulador!$E$7=\"Autopatrocínio\",Simulador!$C$10,Simulador!$C$9)-Simulador!$C$8)*12,A208=0),0,A208+1)","v":0},{"$f":"IF($A209=0,0,IF(INT($A208/12)-$A208/12=0,B208*(1+Simulador!$C$35),B208))","v":0},{"$f":"MAX(IF(A209=0,0,B209-IF(Simulador!$C$11=\"Individual\",0,Simulador!$C$14)),0)","v":0},null,0,0,0,0,0,0,null,0,0,0,0,0,0,null,0,0,0,0,0,null,{"$f":"IF(OR(Y208+1>(IF(AND(Simulador!$C$9<Simulador!$C$10,OR(Simulador!$E$7=\"Resgate\",Simulador!$E$7=\"Portabilidade\")),Simulador!$C$9,Simulador!$C$10)-Simulador!$C$8)*12,Y208=0),0,Y208+1)","v":205},{"$f":"IF($Y209=0,0,Z208*(1+Simulador!$D$34)+E209+L209)","v":0},{"$f":"IF($Y209=0,0,AA208*(1+Simulador!$D$34)+S209)","v":0},{"$f":"IF(OR(AB208+1>(IF(AND(Simulador!$C$9<Simulador!$C$10,OR(Simulador!$E$7=\"Resgate\",Simulador!$E$7=\"Portabilidade\")),Simulador!$C$9,Simulador!$C$50)-Simulador!$C$8)*12,AB208=0),0,AB208+1)","v":205},{"$f":"IF($AB209=0,0,AC208*(1+Simulador!$D$34)+F209+M209)","v":0},{"$f":"IF($AB209=0,0,AD208*(1+Simulador!$D$34)+T209)","v":0}]
[{"$f":"IF(OR(A209+1>(IF(Simulador!$E$7=\"Autopatrocínio\",Simulador!$C$10,Simulador!$C$9)-Simulador!$C$8)*12,A209=0),0,A209+1)","v":0},{"$f":"IF($A210=0,0,IF(INT($A209/12)-$A209/12=0,B209*(1+Simulador!$C$35),B209))","v":0},{"$f":"MAX(IF(A210=0,0,B210-IF(Simulador!$C$11=\"Individual\",0,Simulador!$C$14)),0)","v":0},null,0,0,0,0,0,0,null,0,0,0,0,0,0,null,0,0,0,0,0,null,{"$f":"IF(OR(Y209+1>(IF(AND(Simulador!$C$9<Simulador!$C$10,OR(Simulador!$E$7=\"Resgate\",Simulador!$E$7=\"Portabilidade\")),Simulador!$C$9,Simulador!$C$10)-Simulador!$C$8)*12,Y209=0),0,Y209+1)","v":206},{"$f":"IF($Y210=0,0,Z209*(1+Simulador!$D$34)+E210+L210)","v":0},{"$f":"IF($Y210=0,0,AA209*(1+Simulador!$D$34)+S210)","v":0},{"$f":"IF(OR(AB209+1>(IF(AND(Simulador!$C$9<Simulador!$C$10,OR(Simulador!$E$7=\"Resgate\",Simulador!$E$7=\"Portabilidade\")),Simulador!$C$9,Simulador!$C$50)-Simulador!$C$8)*12,AB209=0),0,AB209+1)","v":206},{"$f":"IF($AB210=0,0,AC209*(1+Simulador!$D$34)+F210+M210)","v":0},{"$f":"IF($AB210=0,0,AD209*(1+Simulador!$D$34)+T210)","v":0}]
[{"$f":"IF(OR(A210+1>(IF(Simulador!$E$7=\"Autopatrocínio\",Simulador!$C$10,Simulador!$C$9)-Simulador!$C$8)*12,A210=0),0,A210+1)","v":0},{"$f":"IF($A211=0,0,IF(INT($A210/12)-$A210/12=0,B210*(1+Simulador!$C$35),B210))","v":0},{"$f":"MAX(IF(A211=0,0,B211-IF(Simulador!$C$11=\"Individual\",0,Simulador!$C$14)),0)","v":0},null,0,0,0,0,0,0,null,0,0,0,0,0,0,null,0,0,0,0,0,null,{"$f":"IF(OR(Y210+1>(IF(AND(Simulador!$C$9<Simulador!$C$10,OR(Simulador!$E$7=\"Resgate\",Simulador!$E$7=\"Portabilidade\")),Simulador!$C$9,Simulador!$C$10)-Simulador!$C$8)*12,Y210=0),0,Y210+1)","v":207},{"$f":"IF($Y211=0,0,Z210*(1+Simulador!$D$34)+E211+L211)","v":0},{"$f":"IF($Y211=0,0,AA210*(1+Simulador!$D$34)+S211)","v":0},{"$f":"IF(OR(AB210+1>(IF(AND(Simulador!$C$9<Simulador!$C$10,OR(Simulador!$E$7=\"Resgate\",Simulador!$E$7=\"Portabilidade\")),Simulador!$C$9,Simulador!$C$50)-Simulador!$C$8)*12,AB210=0),0,AB210+1)","v":207},{"$f":"IF($AB211=0,0,AC210*(1+Simulador!$D$34)+F211+M211)","v":0},{"$f":"IF($AB211=0,0,AD210*(1+Simulador!$D$34)+T211)","v":0}]
[{"$f":"IF(OR(A211+1>(IF(Simulador!$E$7=\"Autopatrocínio\",Simulador!$C$10,Simulador!$C$9)-Simulador!$C$8)*12,A211=0),0,A211+1)","v":0},{"$f":"IF($A212=0,0,IF(INT($A211/12)-$A211/12=0,B211*(1+Simulador!$C$35),B211))","v":0},{"$f":"MAX(IF(A212=0,0,B212-IF(Simulador!$C$11=\"Individual\",0,Simulador!$C$14)),0)","v":0},null,0,0,0,0,0,0,null,0,0,0,0,0,0,null,0,0,0,0,0,null,{"$f":"IF(OR(Y211+1>(IF(AND(Simulador!$C$9<Simulador!$C$10,OR(Simulador!$E$7=\"Resgate\",Simulador!$E$7=\"Portabilidade\")),Simulador!$C$9,Simulador!$C$10)-Simulador!$C$8)*12,Y211=0),0,Y211+1)","v":208},{"$f":"IF($Y212=0,0,Z211*(1+Simulador!$D$34)+E212+L212)","v":0},{"$f":"IF($Y212=0,0,AA211*(1+Simulador!$D$34)+S212)","v":0},{"$f":"IF(OR(AB211+1>(IF(AND(Simulador!$C$9<Simulador!$C$10,OR(Simulador!$E$7=\"Resgate\",Simulador!$E$7=\"Portabilidade\")),Simulador!$C$9,Simulador!$C$50)-Simulador!$C$8)*12,AB211=0),0,AB211+1)","v":208},{"$f":"IF($AB212=0,0,AC211*(1+Simulador!$D$34)+F212+M212)","v":0},{"$f":"IF($AB212=0,0,AD211*(1+Simulador!$D$34)+T212)","v":0}]
[{"$f":"IF(OR(A212+1>(IF(Simulador!$E$7=\"Autopatrocínio\",Simulador!$C$10,Simulador!$C$9)-Simulador!$C$8)*12,A212=0),0,A212+1)","v":0},{"$f":"IF($A213=0,0,IF(INT($A212/12)-$A212/12=0,B212*(1+Simulador!$C$35),B212))","v":0},{"$f":"MAX(IF(A213=0,0,B213-IF(Simulador!$C$11=\"Individual\",0,Simulador!$C$14)),0)","v":0},null,0,0,0,0,0,0,null,0,0,0,0,0,0,null,{"$f":"S$4*$C213*(1+$J213)","v":0},0,0,0,0,null,{"$f":"IF(OR(Y212+1>(IF(AND(Simulador!$C$9<Simulador!$C$10,OR(Simulador!$E$7=\"Resgate\",Simulador!$E$7=\"Portabilidade\")),Simulador!$C$9,Simulador!$C$10)-Simulador!$C$8)*12,Y212=0),0,Y212+1)","v":209},{"$f":"IF($Y213=0,0,Z212*(1+Simulador!$D$34)+E213+L213)","v":0},{"$f":"IF($Y213=0,0,AA212*(1+Simulador!$D$34)+S213)","v":0},{"$f":"IF(OR(AB212+1>(IF(AND(Simulador!$C$9<Simulador!$C$10,OR(Simulador!$E$7=\"Resgate\",Simulador!$E$7=\"Portabilidade\")),Simulador!$C$9,Simulador!$C$50)-Simulador!$C$8)*12,AB212=0),0,AB212+1)","v":209},{"$f":"IF($AB213=0,0,AC212*(1+Simulador!$D$34)+F213+M213)","v":0},{"$f":"IF($AB213=0,0,AD212*(1+Simulador!$D$34)+T213)","v":0}]
[{"$f":"IF(OR(A213+1>(IF(Simulador!$E$7=\"Autopatrocínio\",Simulador!$C$10,Simulador!$C$9)-Simulador!$C$8)*12,A213=0),0,A213+1)","v":0},{"$f":"IF($A214=0,0,IF(INT($A213/12)-$A213/12=0,B213*(1+Simulador!$C$35),B213))","v":0},{"$f":"MAX(IF(A214=0,0,B214-IF(Simulador!$C$11=\"Individual\",0,Simulador!$C$14)),0)","v":0},null,0,0,0,0,0,0,null,0,0,0,0,0,0,null,0,0,0,0,0,null,{"$f":"IF(OR(Y213+1>(IF(AND(Simulador!$C$9<Simulador!$C$10,OR(Simulador!$E$7=\"Resgate\",Simulador!$E$7=\"Portabilidade\")),Simulador!$C$9,Simulador!$C$10)-Simulador!$C$8)*12,Y213=0),0,Y213+1)","v":210},{"$f":"IF($Y214=0,0,Z213*(1+Simulador!$D$34)+E214+L214)","v":0},{"$f":"IF($Y214=0,0,AA213*(1+Simulador!$D$34)+S214)","v":0},{"$f":"IF(OR(AB213+1>(IF(AND(Simulador!$C$9<Simulador!$C$10,OR(Simulador!$E$7=\"Resgate\",Simulador!$E$7=\"Portabilidade\")),Simulador!$C$9,Simulador!$C$50)-Simulador!$C$8)*12,AB213=0),0,AB213+1)","v":210},{"$f":"IF($AB214=0,0,AC213*(1+Simulador!$D$34)+F214+M214)","v":0},{"$f":"IF($AB214=0,0,AD213*(1+Simulador!$D$34)+T214)","v":0}]
[{"$f":"IF(OR(A214+1>(IF(Simulador!$E$7=\"Autopatrocínio\",Simulador!$C$10,Simulador!$C$9)-Simulador!$C$8)*12,A214=0),0,A214+1)","v":0},{"$f":"IF($A215=0,0,IF(INT($A214/12)-$A214/12=0,B214*(1+Simulador!$C$35),B214))","v":0},{"$f":"MAX(IF(A215=0,0,B215-IF(Simulador!$C$11=\"Individual\",0,Simulador!$C$14)),0)","v":0},null,{"$f":"E$4*$C215*(1+$J215)","v":0},0,0,0,0,0,null,{"$f":"L$4*$C215*$Q215","v":0},0,0,0,0,0,null,0,0,0,0,0,null,{"$f":"IF(OR(Y214+1>(IF(AND(Simulador!$C$9<Simulador!$C$10,OR(Simulador!$E$7=\"Resgate\",Simulador!$E$7=\"Portabilidade\")),Simulador!$C$9,Simulador!$C$10)-Simulador!$C$8)*12,Y214=0),0,Y214+1)","v":211},{"$f":"IF($Y215=0,0,Z214*(1+Simulador!$D$34)+E215+L215)","v":0},{"$f":"IF($Y215=0,0,AA214*(1+Simulador!$D$34)+S215)","v":0},{"$f":"IF(OR(AB214+1>(IF(AND(Simulador!$C$9<Simulador!$C$10,OR(Simulador!$E$7=\"Resgate\",Simulador!$E$7=\"Portabilidade\")),Simulador!$C$9,Simulador!$C$50)-Simulador!$C$8)*12,AB214=0),0,AB214+1)","v":211},{"$f":"IF($AB215=0,0,AC214*(1+Simulador!$D$34)+F215+M215)","v":0},{"$f":"IF($AB215=0,0,AD214*(1+Simulador!$D$34)+T215)","v":0}]
[{"$f":"IF(OR(A215+1>(IF(Simulador!$E$7=\"Autopatrocínio\",Simulador!$C$10,Simulador!$C$9)-Simulador!$C$8)*12,A215=0),0,A215+1)","v":0},{"$f":"IF($A216=0,0,IF(INT($A215/12)-$A215/12=0,B215*(1+Simulador!$C$35),B215))","v":0},{"$f":"MAX(IF(A216=0,0,B216-IF(Simulador!$C$11=\"Individual\",0,Simulador!$C$14)),0)","v":0},null,0,0,0,0,0,0,null,0,0,0,0,0,0,null,0,0,0,0,0,null,{"$f":"IF(OR(Y215+1>(IF(AND(Simulador!$C$9<Simulador!$C$10,OR(Simulador!$E$7=\"Resgate\",Simulador!$E$7=\"Portabilidade\")),Simulador!$C$9,Simulador!$C$10)-Simulador!$C$8)*12,Y215=0),0,Y215+1)","v":212},{"$f":"IF($Y216=0,0,Z215*(1+Simulador!$D$34)+E216+L216)","v":0},{"$f":"IF($Y216=0,0,AA215*(1+Simulador!$D$34)+S216)","v":0},{"$f":"IF(OR(AB215+1>(IF(AND(Simulador!$C$9<Simulador!$C$10,OR(Simulador!$E$7=\"Resgate\",Simulador!$E$7=\"Portabilidade\")),Simulador!$C$9,Simulador!$C$50)-Simulador!$C$8)*12,AB215=0),0,AB215+1)","v":212},{"$f":"IF($AB216=0,0,AC215*(1+Simulador!$D$34)+F216+M216)","v":0},{"$f":"IF($AB216=0,0,AD215*(1+Simulador!$D$34)+T216)","v":0}]
[{"$f":"IF(OR(A216+1>(IF(Simulador!$E$7=\"Autopatrocínio\",Simulador!$C$10,Simulador!$C$9)-Simulador!$C$8)*12,A216=0),0,A216+1)","v":0},{"$f":"IF($A217=0,0,IF(INT($A216/12)-$A216/12=0,B216*(1+Simulador!$C$35),B216))","v":0},{"$f":"MAX(IF(A217=0,0,B217-IF(Simulador!$C$11=\"Individual\",0,Simulador!$C$14)),0)","v":0},null,0,0,0,0,0,0,null,0,0,0,0,0,0,null,0,0,0,0,0,null,{"$f":"IF(OR(Y216+1>(IF(AND(Simulador!$C$9<Simulador!$C$10,OR(Simulador!$E$7=\"Resgate\",Simulador!$E$7=\"Portabilidade\")),Simulador!$C$9,Simulador!$C$10)-Simulador!$C$8)*12,Y216=0),0,Y216+1)","v":213},{"$f":"IF($Y217=0,0,Z216*(1+Simulador!$D$34)+E217+L217)","v":0},{"$f":"IF($Y217=0,0,AA216*(1+Simulador!$D$34)+S217)","v":0},{"$f":"IF(OR(AB216+1>(IF(AND(Simulador!$C$9<Simulador!$C$10,OR(Simulador!$E$7=\"Resgate\",Simulador!$E$7=\"Portabilidade\")),Simulador!$C$9,Simulador!$C$50)-Simulador!$C$8)*12,AB216=0),0,AB216+1)","v":213},{"$f":"IF($AB217=0,0,AC216*(1+Simulador!$D$34)+F217+M217)","v":0},{"$f":"IF($AB217=0,0,AD216*(1+Simulador!$D$34)+T217)","v":0}]
[{"$f":"IF(OR(A217+1>(IF(Simulador!$E$7=\"Autopatrocínio\",Simulador!$C$10,Simulador!$C$9)-Simulador!$C$8)*12,A217=0),0,A217+1)","v":0},{"$f":"IF($A218=0,0,IF(INT($A217/12)-$A217/12=0,B217*(1+Simulador!$C$35),B217))","v":0},{"$f":"MAX(IF(A218=0,0,B218-IF(Simulador!$C$11=\"Individual\",0,Simulador!$C$14)),0)","v":0},null,0,0,0,0,0,0,null,0,0,0,0,0,0,null,0,0,0,0,0,null,{"$f":"IF(OR(Y217+1>(IF(AND(Simulador!$C$9<Simulador!$C$10,OR(Simulador!$E$7=\"Resgate\",Simulador!$E$7=\"Portabilidade\")),Simulador!$C$9,Simulador!$C$10)-Simulador!$C$8)*12,Y217=0),0,Y217+1)","v":214},{"$f":"IF($Y218=0,0,Z217*(1+Simulador!$D$34)+E218+L218)","v":0},{"$f":"IF($Y218=0,0,AA217*(1+Simulador!$D$34)+S218)","v":0},{"$f":"IF(OR(AB217+1>(IF(AND(Simulador!$C$9<Simulador!$C$10,OR(Simulador!$E$7=\"Resgate\",Simulador!$E$7=\"Portabilidade\")),Simulador!$C$9,Simulador!$C$50)-Simulador!$C$8)*12,AB217=0),0,AB217+1)","v":214},{"$f":"IF($AB218=0,0,AC217*(1+Simulador!$D$34)+F218+M218)","v":0},{"$f":"IF($AB218=0,0,AD217*(1+Simulador!$D$34)+T218)","v":0}]
[{"$f":"IF(OR(A218+1>(IF(Simulador!$E$7=\"Autopatrocínio\",Simulador!$C$10,Simulador!$C$9)-Simulador!$C$8)*12,A218=0),0,A218+1)","v":0},{"$f":"IF($A219=0,0,IF(INT($A218/12)-$A218/12=0,B218*(1+Simulador!$C$35),B218))","v":0},{"$f":"MAX(IF(A219=0,0,B219-IF(Simulador!$C$11=\"Individual\",0,Simulador!$C$14)),0)","v":0},null,0,0,0,0,0,0,null,0,0,0,0,0,0,null,0,0,0,0,0,null,{"$f":"IF(OR(Y218+1>(IF(AND(Simulador!$C$9<Simulador!$C$10,OR(Simulador!$E$7=\"Resgate\",Simulador!$E$7=\"Portabilidade\")),Simulador!$C$9,Simulador!$C$10)-Simulador!$C$8)*12,Y218=0),0,Y218+1)","v":215},{"$f":"IF($Y219=0,0,Z218*(1+Simulador!$D$34)+E219+L219)","v":0},{"$f":"IF($Y219=0,0,AA218*(1+Simulador!$D$34)+S219)","v":0},{"$f":"IF(OR(AB218+1>(IF(AND(Simulador!$C$9<Simulador!$C$10,OR(Simulador!$E$7=\"Resgate\",Simulador!$E$7=\"Portabilidade\")),Simulador!$C$9,Simulador!$C$50)-Simulador!$C$8)*12,AB218=0),0,AB218+1)","v":215},{"$f":"IF($AB219=0,0,AC218*(1+Simulador!$D$34)+F219+M219)","v":0},{"$f":"IF($AB219=0,0,AD218*(1+Simulador!$D$34)+T219)","v":0}]
[{"$f":"IF(OR(A219+1>(IF(Simulador!$E$7=\"Autopatrocínio\",Simulador!$C$10,Simulador!$C$9)-Simulador!$C$8)*12,A219=0),0,A219+1)","v":0},{"$f":"IF($A220=0,0,IF(INT($A219/12)-$A219/12=0,B219*(1+Simulador!$C$35),B219))","v":0},{"$f":"MAX(IF(A220=0,0,B220-IF(Simulador!$C$11=\"Individual\",0,Simulador!$C$14)),0)","v":0},null,0,0,0,0,0,0,null,0,0,0,0,0,0,null,0,0,0,0,0,null,{"$f":"IF(OR(Y219+1>(IF(AND(Simulador!$C$9<Simulador!$C$10,OR(Simulador!$E$7=\"Resgate\",Simulador!$E$7=\"Portabilidade\")),Simulador!$C$9,Simulador!$C$10)-Simulador!$C$8)*12,Y219=0),0,Y219+1)","v":216},{"$f":"IF($Y220=0,0,Z219*(1+Simulador!$D$34)+E220+L220)","v":0},{"$f":"IF($Y220=0,0,AA219*(1+Simulador!$D$34)+S220)","v":0},{"$f":"IF(OR(AB219+1>(IF(AND(Simulador!$C$9<Simulador!$C$10,OR(Simulador!$E$7=\"Resgate\",Simulador!$E$7=\"Portabilidade\")),Simulador!$C$9,Simulador!$C$50)-Simulador!$C$8)*12,AB219=0),0,AB219+1)","v":216},{"$f":"IF($AB220=0,0,AC219*(1+Simulador!$D$34)+F220+M220)","v":0},{"$f":"IF($AB220=0,0,AD219*(1+Simulador!$D$34)+T220)","v":0}]
[{"$f":"IF(OR(A220+1>(IF(Simulador!$E$7=\"Autopatrocínio\",Simulador!$C$10,Simulador!$C$9)-Simulador!$C$8)*12,A220=0),0,A220+1)","v":0},{"$f":"IF($A221=0,0,IF(INT($A220/12)-$A220/12=0,B220*(1+Simulador!$C$35),B220))","v":0},{"$f":"MAX(IF(A221=0,0,B221-IF(Simulador!$C$11=\"Individual\",0,Simulador!$C$14)),0)","v":0},null,0,0,0,0,0,0,null,0,0,0,0,0,0,null,0,0,0,0,0,null,{"$f":"IF(OR(Y220+1>(IF(AND(Simulador!$C$9<Simulador!$C$10,OR(Simulador!$E$7=\"Resgate\",Simulador!$E$7=\"Portabilidade\")),Simulador!$C$9,Simulador!$C$10)-Simulador!$C$8)*12,Y220=0),0,Y220+1)","v":217},{"$f":"IF($Y221=0,0,Z220*(1+Simulador!$D$34)+E221+L221)","v":0},{"$f":"IF($Y221=0,0,AA220*(1+Simulador!$D$34)+S221)","v":0},{"$f":"IF(OR(AB220+1>(IF(AND(Simulador!$C$9<Simulador!$C$10,OR(Simulador!$E$7=\"Resgate\",Simulador!$E$7=\"Portabilidade\")),Simulador!$C$9,Simulador!$C$50)-Simulador!$C$8)*12,AB220=0),0,AB220+1)","v":217},{"$f":"IF($AB221=0,0,AC220*(1+Simulador!$D$34)+F221+M221)","v":0},{"$f":"IF($AB221=0,0,AD220*(1+Simulador!$D$34)+T221)","v":0}]
[{"$f":"IF(OR(A221+1>(IF(Simulador!$E$7=\"Autopatrocínio\",Simulador!$C$10,Simulador!$C$9)-Simulador!$C$8)*12,A221=0),0,A221+1)","v":0},{"$f":"IF($A222=0,0,IF(INT($A221/12)-$A221/12=0,B221*(1+Simulador!$C$35),B221))","v":0},{"$f":"MAX(IF(A222=0,0,B222-IF(Simulador!$C$11=\"Individual\",0,Simulador!$C$14)),0)","v":0},null,0,0,0,0,0,0,null,0,0,0,0,0,0,null,0,0,0,0,0,null,{"$f":"IF(OR(Y221+1>(IF(AND(Simulador!$C$9<Simulador!$C$10,OR(Simulador!$E$7=\"Resgate\",Simulador!$E$7=\"Portabilidade\")),Simulador!$C$9,Simulador!$C$10)-Simulador!$C$8)*12,Y221=0),0,Y221+1)","v":218},{"$f":"IF($Y222=0,0,Z221*(1+Simulador!$D$34)+E222+L222)","v":0},{"$f":"IF($Y222=0,0,AA221*(1+Simulador!$D$34)+S222)","v":0},{"$f":"IF(OR(AB221+1>(IF(AND(Simulador!$C$9<Simulador!$C$10,OR(Simulador!$E$7=\"Resgate\",Simulador!$E$7=\"Portabilidade\")),Simulador!$C$9,Simulador!$C$50)-Simulador!$C$8)*12,AB221=0),0,AB221+1)","v":218},{"$f":"IF($AB222=0,0,AC221*(1+Simulador!$D$34)+F222+M222)","v":0},{"$f":"IF($AB222=0,0,AD221*(1+Simulador!$D$34)+T222)","v":0}]
[{"$f":"IF(OR(A222+1>(IF(Simulador!$E$7=\"Autopatrocínio\",Simulador!$C$10,Simulador!$C$9)-Simulador!$C$8)*12,A222=0),0,A222+1)","v":0},{"$f":"IF($A223=0,0,IF(INT($A222/12)-$A222/12=0,B222*(1+Simulador!$C$35),B222))","v":0},{"$f":"MAX(IF(A223=0,0,B223-IF(Simulador!$C$11=\"Individual\",0,Simulador!$C$14)),0)","v":0},null,0,0,0,0,0,0,null,0,0,0,0,0,0,null,0,0,0,0,0,null,{"$f":"IF(OR(Y222+1>(IF(AND(Simulador!$C$9<Simulador!$C$10,OR(Simulador!$E$7=\"Resgate\",Simulador!$E$7=\"Portabilidade\")),Simulador!$C$9,Simulador!$C$10)-Simulador!$C$8)*12,Y222=0),0,Y222+1)","v":219},{"$f":"IF($Y223=0,0,Z222*(1+Simulador!$D$34)+E223+L223)","v":0},{"$f":"IF($Y223=0,0,AA222*(1+Simulador!$D$34)+S223)","v":0},{"$f":"IF(OR(AB222+1>(IF(AND(Simulador!$C$9<Simulador!$C$10,OR(Simulador!$E$7=\"Resgate\",Simulador!$E$7=\"Portabilidade\")),Simulador!$C$9,Simulador!$C$50)-Simulador!$C$8)*12,AB222=0),0,AB222+1)","v":219},{"$f":"IF($AB223=0,0,AC222*(1+Simulador!$D$34)+F223+M223)","v":0},{"$f":"IF($AB223=0,0,AD222*(1+Simulador!$D$34)+T223)","v":0}]
[{"$f":"IF(OR(A223+1>(IF(Simulador!$E$7=\"Autopatrocínio\",Simulador!$C$10,Simulador!$C$9)-Simulador!$C$8)*12,A223=0),0,A223+1)","v":0},{"$f":"IF($A224=0,0,IF(INT($A223/12)-$A223/12=0,B223*(1+Simulador!$C$35),B223))","v":0},{"$f":"MAX(IF(A224=0,0,B224-IF(Simulador!$C$11=\"Individual\",0,Simulador!$C$14)),0)","v":0},null,0,0,0,0,0,0,null,0,0,0,0,0,0,null,0,0,0,0,0,null,{"$f":"IF(OR(Y223+1>(IF(AND(Simulador!$C$9<Simulador!$C$10,OR(Simulador!$E$7=\"Resgate\",Simulador!$E$7=\"Portabilidade\")),Simulador!$C$9,Simulador!$C$10)-Simulador!$C$8)*12,Y223=0),0,Y223+1)","v":220},{"$f":"IF($Y224=0,0,Z223*(1+Simulador!$D$34)+E224+L224)","v":0},{"$f":"IF($Y224=0,0,AA223*(1+Simulador!$D$34)+S224)","v":0},{"$f":"IF(OR(AB223+1>(IF(AND(Simulador!$C$9<Simulador!$C$10,OR(Simulador!$E$7=\"Resgate\",Simulador!$E$7=\"Portabilidade\")),Simulador!$C$9,Simulador!$C$50)-Simulador!$C$8)*12,AB223=0),0,AB223+1)","v":220},{"$f":"IF($AB224=0,0,AC223*(1+Simulador!$D$34)+F224+M224)","v":0},{"$f":"IF($AB224=0,0,AD223*(1+Simulador!$D$34)+T224)","v":0}]
[{"$f":"IF(OR(A224+1>(IF(Simulador!$E$7=\"Autopatrocínio\",Simulador!$C$10,Simulador!$C$9)-Simulador!$C$8)*12,A224=0),0,A224+1)","v":0},{"$f":"IF($A225=0,0,IF(INT($A224/12)-$A224/12=0,B224*(1+Simulador!$C$35),B224))","v":0},{"$f":"MAX(IF(A225=0,0,B225-IF(Simulador!$C$11=\"Individual\",0,Simulador!$C$14)),0)","v":0},null,{"$f":"E$4*$C225*(1+$J225)","v":0},0,0,0,0,0,null,{"$f":"L$4*$C225*$Q225","v":0},0,0,0,0,0,null,0,0,0,0,0,null,{"$f":"IF(OR(Y224+1>(IF(AND(Simulador!$C$9<Simulador!$C$10,OR(Simulador!$E$7=\"Resgate\",Simulador!$E$7=\"Portabilidade\")),Simulador!$C$9,Simulador!$C$10)-Simulador!$C$8)*12,Y224=0),0,Y224+1)","v":221},{"$f":"IF($Y225=0,0,Z224*(1+Simulador!$D$34)+E225+L225)","v":0},{"$f":"IF($Y225=0,0,AA224*(1+Simulador!$D$34)+S225)","v":0},{"$f":"IF(OR(AB224+1>(IF(AND(Simulador!$C$9<Simulador!$C$10,OR(Simulador!$E$7=\"Resgate\",Simulador!$E$7=\"Portabilidade\")),Simulador!$C$9,Simulador!$C$50)-Simulador!$C$8)*12,AB224=0),0,AB224+1)","v":221},{"$f":"IF($AB225=0,0,AC224*(1+Simulador!$D$34)+F225+M225)","v":0},{"$f":"IF($AB225=0,0,AD224*(1+Simulador!$D$34)+T225)","v":0}]
[{"$f":"IF(OR(A225+1>(IF(Simulador!$E$7=\"Autopatrocínio\",Simulador!$C$10,Simulador!$C$9)-Simulador!$C$8)*12,A225=0),0,A225+1)","v":0},{"$f":"IF($A226=0,0,IF(INT($A225/12)-$A225/12=0,B225*(1+Simulador!$C$35),B225))","v":0},{"$f":"MAX(IF(A226=0,0,B226-IF(Simulador!$C$11=\"Individual\",0,Simulador!$C$14)),0)","v":0},null,0,0,0,0,0,0,null,0,0,0,0,0,0,null,0,0,0,0,0,null,{"$f":"IF(OR(Y225+1>(IF(AND(Simulador!$C$9<Simulador!$C$10,OR(Simulador!$E$7=\"Resgate\",Simulador!$E$7=\"Portabilidade\")),Simulador!$C$9,Simulador!$C$10)-Simulador!$C$8)*12,Y225=0),0,Y225+1)","v":222},{"$f":"IF($Y226=0,0,Z225*(1+Simulador!$D$34)+E226+L226)","v":0},{"$f":"IF($Y226=0,0,AA225*(1+Simulador!$D$34)+S226)","v":0},{"$f":"IF(OR(AB225+1>(IF(AND(Simulador!$C$9<Simulador!$C$10,OR(Simulador!$E$7=\"Resgate\",Simulador!$E$7=\"Portabilidade\")),Simulador!$C$9,Simulador!$C$50)-Simulador!$C$8)*12,AB225=0),0,AB225+1)","v":222},{"$f":"IF($AB226=0,0,AC225*(1+Simulador!$D$34)+F226+M226)","v":0},{"$f":"IF($AB226=0,0,AD225*(1+Simulador!$D$34)+T226)","v":0}]
[{"$f":"IF(OR(A226+1>(IF(Simulador!$E$7=\"Autopatrocínio\",Simulador!$C$10,Simulador!$C$9)-Simulador!$C$8)*12,A226=0),0,A226+1)","v":0},{"$f":"IF($A227=0,0,IF(INT($A226/12)-$A226/12=0,B226*(1+Simulador!$C$35),B226))","v":0},{"$f":"MAX(IF(A227=0,0,B227-IF(Simulador!$C$11=\"Individual\",0,Simulador!$C$14)),0)","v":0},null,0,0,0,0,0,0,null,0,0,0,0,0,0,null,0,0,0,0,0,null,{"$f":"IF(OR(Y226+1>(IF(AND(Simulador!$C$9<Simulador!$C$10,OR(Simulador!$E$7=\"Resgate\",Simulador!$E$7=\"Portabilidade\")),Simulador!$C$9,Simulador!$C$10)-Simulador!$C$8)*12,Y226=0),0,Y226+1)","v":223},{"$f":"IF($Y227=0,0,Z226*(1+Simulador!$D$34)+E227+L227)","v":0},{"$f":"IF($Y227=0,0,AA226*(1+Simulador!$D$34)+S227)","v":0},{"$f":"IF(OR(AB226+1>(IF(AND(Simulador!$C$9<Simulador!$C$10,OR(Simulador!$E$7=\"Resgate\",Simulador!$E$7=\"Portabilidade\")),Simulador!$C$9,Simulador!$C$50)-Simulador!$C$8)*12,AB226=0),0,AB226+1)","v":223},{"$f":"IF($AB227=0,0,AC226*(1+Simulador!$D$34)+F227+M227)","v":0},{"$f":"IF($AB227=0,0,AD226*(1+Simulador!$D$34)+T227)","v":0}]
[{"$f":"IF(OR(A227+1>(IF(Simulador!$E$7=\"Autopatrocínio\",Simulador!$C$10,Simulador!$C$9)-Simulador!$C$8)*12,A227=0),0,A227+1)","v":0},{"$f":"IF($A228=0,0,IF(INT($A227/12)-$A227/12=0,B227*(1+Simulador!$C$35),B227))","v":0},{"$f":"MAX(IF(A228=0,0,B228-IF(Simulador!$C$11=\"Individual\",0,Simulador!$C$14)),0)","v":0},null,0,0,0,0,0,0,null,0,0,0,0,0,0,null,0,0,0,0,0,null,{"$f":"IF(OR(Y227+1>(IF(AND(Simulador!$C$9<Simulador!$C$10,OR(Simulador!$E$7=\"Resgate\",Simulador!$E$7=\"Portabilidade\")),Simulador!$C$9,Simulador!$C$10)-Simulador!$C$8)*12,Y227=0),0,Y227+1)","v":224},{"$f":"IF($Y228=0,0,Z227*(1+Simulador!$D$34)+E228+L228)","v":0},{"$f":"IF($Y228=0,0,AA227*(1+Simulador!$D$34)+S228)","v":0},{"$f":"IF(OR(AB227+1>(IF(AND(Simulador!$C$9<Simulador!$C$10,OR(Simulador!$E$7=\"Resgate\",Simulador!$E$7=\"Portabilidade\")),Simulador!$C$9,Simulador!$C$50)-Simulador!$C$8)*12,AB227=0),0,AB227+1)","v":224},{"$f":"IF($AB228=0,0,AC227*(1+Simulador!$D$34)+F228+M228)","v":0},{"$f":"IF($AB228=0,0,AD227*(1+Simulador!$D$34)+T228)","v":0}]
[{"$f":"IF(OR(A228+1>(IF(Simulador!$E$7=\"Autopatrocínio\",Simulador!$C$10,Simulador!$C$9)-Simulador!$C$8)*12,A228=0),0,A228+1)","v":0},{"$f":"IF($A229=0,0,IF(INT($A228/12)-$A228/12=0,B228*(1+Simulador!$C$35),B228))","v":0},{"$f":"MAX(IF(A229=0,0,B229-IF(Simulador!$C$11=\"Individual\",0,Simulador!$C$14)),0)","v":0},null,0,0,0,0,0,0,null,0,0,0,0,0,0,null,{"$f":"S$4*$C229*(1+$J229)","v":0},0,0,0,0,null,{"$f":"IF(OR(Y228+1>(IF(AND(Simulador!$C$9<Simulador!$C$10,OR(Simulador!$E$7=\"Resgate\",Simulador!$E$7=\"Portabilidade\")),Simulador!$C$9,Simulador!$C$10)-Simulador!$C$8)*12,Y228=0),0,Y228+1)","v":225},{"$f":"IF($Y229=0,0,Z228*(1+Simulador!$D$34)+E229+L229)","v":0},{"$f":"IF($Y229=0,0,AA228*(1+Simulador!$D$34)+S229)","v":0},{"$f":"IF(OR(AB228+1>(IF(AND(Simulador!$C$9<Simulador!$C$10,OR(Simulador!$E$7=\"Resgate\",Simulador!$E$7=\"Portabilidade\")),Simulador!$C$9,Simulador!$C$50)-Simulador!$C$8)*12,AB228=0),0,AB228+1)","v":225},{"$f":"IF($AB229=0,0,AC228*(1+Simulador!$D$34)+F229+M229)","v":0},{"$f":"IF($AB229=0,0,AD228*(1+Simulador!$D$34)+T229)","v":0}]
[{"$f":"IF(OR(A229+1>(IF(Simulador!$E$7=\"Autopatrocínio\",Simulador!$C$10,Simulador!$C$9)-Simulador!$C$8)*12,A229=0),0,A229+1)","v":0},{"$f":"IF($A230=0,0,IF(INT($A229/12)-$A229/12=0,B229*(1+Simulador!$C$35),B229))","v":0},{"$f":"MAX(IF(A230=0,0,B230-IF(Simulador!$C$11=\"Individual\",0,Simulador!$C$14)),0)","v":0},null,0,0,0,0,0,0,null,0,0,0,0,0,0,null,0,0,0,0,0,null,{"$f":"IF(OR(Y229+1>(IF(AND(Simulador!$C$9<Simulador!$C$10,OR(Simulador!$E$7=\"Resgate\",Simulador!$E$7=\"Portabilidade\")),Simulador!$C$9,Simulador!$C$10)-Simulador!$C$8)*12,Y229=0),0,Y229+1)","v":226},{"$f":"IF($Y230=0,0,Z229*(1+Simulador!$D$34)+E230+L230)","v":0},{"$f":"IF($Y230=0,0,AA229*(1+Simulador!$D$34)+S230)","v":0},{"$f":"IF(OR(AB229+1>(IF(AND(Simulador!$C$9<Simulador!$C$10,OR(Simulador!$E$7=\"Resgate\",Simulador!$E$7=\"Portabilidade\")),Simulador!$C$9,Simulador!$C$50)-Simulador!$C$8)*12,AB229=0),0,AB229+1)","v":226},{"$f":"IF($AB230=0,0,AC229*(1+Simulador!$D$34)+F230+M230)","v":0},{"$f":"IF($AB230=0,0,AD229*(1+Simulador!$D$34)+T230)","v":0}]
[{"$f":"IF(OR(A230+1>(IF(Simulador!$E$7=\"Autopatrocínio\",Simulador!$C$10,Simulador!$C$9)-Simulador!$C$8)*12,A230=0),0,A230+1)","v":0},{"$f":"IF($A231=0,0,IF(INT($A230/12)-$A230/12=0,B230*(1+Simulador!$C$35),B230))","v":0},{"$f":"MAX(IF(A231=0,0,B231-IF(Simulador!$C$11=\"Individual\",0,Simulador!$C$14)),0)","v":0},null,0,0,0,0,0,0,null,0,0,0,0,0,0,null,0,0,0,0,0,null,{"$f":"IF(OR(Y230+1>(IF(AND(Simulador!$C$9<Simulador!$C$10,OR(Simulador!$E$7=\"Resgate\",Simulador!$E$7=\"Portabilidade\")),Simulador!$C$9,Simulador!$C$10)-Simulador!$C$8)*12,Y230=0),0,Y230+1)","v":227},{"$f":"IF($Y231=0,0,Z230*(1+Simulador!$D$34)+E231+L231)","v":0},{"$f":"IF($Y231=0,0,AA230*(1+Simulador!$D$34)+S231)","v":0},{"$f":"IF(OR(AB230+1>(IF(AND(Simulador!$C$9<Simulador!$C$10,OR(Simulador!$E$7=\"Resgate\",Simulador!$E$7=\"Portabilidade\")),Simulador!$C$9,Simulador!$C$50)-Simulador!$C$8)*12,AB230=0),0,AB230+1)","v":227},{"$f":"IF($AB231=0,0,AC230*(1+Simulador!$D$34)+F231+M231)","v":0},{"$f":"IF($AB231=0,0,AD230*(1+Simulador!$D$34)+T231)","v":0}]
[{"$f":"IF(OR(A231+1>(IF(Simulador!$E$7=\"Autopatrocínio\",Simulador!$C$10,Simulador!$C$9)-Simulador!$C$8)*12,A231=0),0,A231+1)","v":0},{"$f":"IF($A232=0,0,IF(INT($A231/12)-$A231/12=0,B231*(1+Simulador!$C$35),B231))","v":0},{"$f":"MAX(IF(A232=0,0,B232-IF(Simulador!$C$11=\"Individual\",0,Simulador!$C$14)),0)","v":0},null,0,0,0,0,0,0,null,0,0,0,0,0,0,null,0,0,0,0,0,null,{"$f":"IF(OR(Y231+1>(IF(AND(Simulador!$C$9<Simulador!$C$10,OR(Simulador!$E$7=\"Resgate\",Simulador!$E$7=\"Portabilidade\")),Simulador!$C$9,Simulador!$C$10)-Simulador!$C$8)*12,Y231=0),0,Y231+1)","v":228},{"$f":"IF($Y232=0,0,Z231*(1+Simulador!$D$34)+E232+L232)","v":0},{"$f":"IF($Y232=0,0,AA231*(1+Simulador!$D$34)+S232)","v":0},{"$f":"IF(OR(AB231+1>(IF(AND(Simulador!$C$9<Simulador!$C$10,OR(Simulador!$E$7=\"Resgate\",Simulador!$E$7=\"Portabilidade\")),Simulador!$C$9,Simulador!$C$50)-Simulador!$C$8)*12,AB231=0),0,AB231+1)","v":228},{"$f":"IF($AB232=0,0,AC231*(1+Simulador!$D$34)+F232+M232)","v":0},{"$f":"IF($AB232=0,0,AD231*(1+Simulador!$D$34)+T232)","v":0}]
[{"$f":"IF(OR(A232+1>(IF(Simulador!$E$7=\"Autopatrocínio\",Simulador!$C$10,Simulador!$C$9)-Simulador!$C$8)*12,A232=0),0,A232+1)","v":0},{"$f":"IF($A233=0,0,IF(INT($A232/12)-$A232/12=0,B232*(1+Simulador!$C$35),B232))","v":0},{"$f":"MAX(IF(A233=0,0,B233-IF(Simulador!$C$11=\"Individual\",0,Simulador!$C$14)),0)","v":0},null,0,0,0,0,0,0,null,0,0,0,0,0,0,null,0,0,0,0,0,null,{"$f":"IF(OR(Y232+1>(IF(AND(Simulador!$C$9<Simulador!$C$10,OR(Simulador!$E$7=\"Resgate\",Simulador!$E$7=\"Portabilidade\")),Simulador!$C$9,Simulador!$C$10)-Simulador!$C$8)*12,Y232=0),0,Y232+1)","v":229},{"$f":"IF($Y233=0,0,Z232*(1+Simulador!$D$34)+E233+L233)","v":0},{"$f":"IF($Y233=0,0,AA232*(1+Simulador!$D$34)+S233)","v":0},{"$f":"IF(OR(AB232+1>(IF(AND(Simulador!$C$9<Simulador!$C$10,OR(Simulador!$E$7=\"Resgate\",Simulador!$E$7=\"Portabilidade\")),Simulador!$C$9,Simulador!$C$50)-Simulador!$C$8)*12,AB232=0),0,AB232+1)","v":229},{"$f":"IF($AB233=0,0,AC232*(1+Simulador!$D$34)+F233+M233)","v":0},{"$f":"IF($AB233=0,0,AD232*(1+Simulador!$D$34)+T233)","v":0}]
[{"$f":"IF(OR(A233+1>(IF(Simulador!$E$7=\"Autopatrocínio\",Simulador!$C$10,Simulador!$C$9)-Simulador!$C$8)*12,A233=0),0,A233+1)","v":0},{"$f":"IF($A234=0,0,IF(INT($A233/12)-$A233/12=0,B233*(1+Simulador!$C$35),B233))","v":0},{"$f":"MAX(IF(A234=0,0,B234-IF(Simulador!$C$11=\"Individual\",0,Simulador!$C$14)),0)","v":0},null,0,0,0,0,0,0,null,0,0,0,0,0,0,null,0,0,0,0,0,null,{"$f":"IF(OR(Y233+1>(IF(AND(Simulador!$C$9<Simulador!$C$10,OR(Simulador!$E$7=\"Resgate\",Simulador!$E$7=\"Portabilidade\")),Simulador!$C$9,Simulador!$C$10)-Simulador!$C$8)*12,Y233=0),0,Y233+1)","v":230},{"$f":"IF($Y234=0,0,Z233*(1+Simulador!$D$34)+E234+L234)","v":0},{"$f":"IF($Y234=0,0,AA233*(1+Simulador!$D$34)+S234)","v":0},{"$f":"IF(OR(AB233+1>(IF(AND(Simulador!$C$9<Simulador!$C$10,OR(Simulador!$E$7=\"Resgate\",Simulador!$E$7=\"Portabilidade\")),Simulador!$C$9,Simulador!$C$50)-Simulador!$C$8)*12,AB233=0),0,AB233+1)","v":230},{"$f":"IF($AB234=0,0,AC233*(1+Simulador!$D$34)+F234+M234)","v":0},{"$f":"IF($AB234=0,0,AD233*(1+Simulador!$D$34)+T234)","v":0}]
[{"$f":"IF(OR(A234+1>(IF(Simulador!$E$7=\"Autopatrocínio\",Simulador!$C$10,Simulador!$C$9)-Simulador!$C$8)*12,A234=0),0,A234+1)","v":0},{"$f":"IF($A235=0,0,IF(INT($A234/12)-$A234/12=0,B234*(1+Simulador!$C$35),B234))","v":0},{"$f":"MAX(IF(A235=0,0,B235-IF(Simulador!$C$11=\"Individual\",0,Simulador!$C$14)),0)","v":0},null,{"$f":"E$4*$C235*(1+$J235)","v":0},0,0,0,0,0,null,{"$f":"L$4*$C235*$Q235","v":0},0,0,0,0,0,null,0,0,0,0,0,null,{"$f":"IF(OR(Y234+1>(IF(AND(Simulador!$C$9<Simulador!$C$10,OR(Simulador!$E$7=\"Resgate\",Simulador!$E$7=\"Portabilidade\")),Simulador!$C$9,Simulador!$C$10)-Simulador!$C$8)*12,Y234=0),0,Y234+1)","v":231},{"$f":"IF($Y235=0,0,Z234*(1+Simulador!$D$34)+E235+L235)","v":0},{"$f":"IF($Y235=0,0,AA234*(1+Simulador!$D$34)+S235)","v":0},{"$f":"IF(OR(AB234+1>(IF(AND(Simulador!$C$9<Simulador!$C$10,OR(Simulador!$E$7=\"Resgate\",Simulador!$E$7=\"Portabilidade\")),Simulador!$C$9,Simulador!$C$50)-Simulador!$C$8)*12,AB234=0),0,AB234+1)","v":231},{"$f":"IF($AB235=0,0,AC234*(1+Simulador!$D$34)+F235+M235)","v":0},{"$f":"IF($AB235=0,0,AD234*(1+Simulador!$D$34)+T235)","v":0}]
[{"$f":"IF(OR(A235+1>(IF(Simulador!$E$7=\"Autopatrocínio\",Simulador!$C$10,Simulador!$C$9)-Simulador!$C$8)*12,A235=0),0,A235+1)","v":0},{"$f":"IF($A236=0,0,IF(INT($A235/12)-$A235/12=0,B235*(1+Simulador!$C$35),B235))","v":0},{"$f":"MAX(IF(A236=0,0,B236-IF(Simulador!$C$11=\"Individual\",0,Simulador!$C$14)),0)","v":0},null,0,0,0,0,0,0,null,0,0,0,0,0,0,null,0,0,0,0,0,null,{"$f":"IF(OR(Y235+1>(IF(AND(Simulador!$C$9<Simulador!$C$10,OR(Simulador!$E$7=\"Resgate\",Simulador!$E$7=\"Portabilidade\")),Simulador!$C$9,Simulador!$C$10)-Simulador!$C$8)*12,Y235=0),0,Y235+1)","v":232},{"$f":"IF($Y236=0,0,Z235*(1+Simulador!$D$34)+E236+L236)","v":0},{"$f":"IF($Y236=0,0,AA235*(1+Simulador!$D$34)+S236)","v":0},{"$f":"IF(OR(AB235+1>(IF(AND(Simulador!$C$9<Simulador!$C$10,OR(Simulador!$E$7=\"Resgate\",Simulador!$E$7=\"Portabilidade\")),Simulador!$C$9,Simulador!$C$50)-Simulador!$C$8)*12,AB235=0),0,AB235+1)","v":232},{"$f":"IF($AB236=0,0,AC235*(1+Simulador!$D$34)+F236+M236)","v":0},{"$f":"IF($AB236=0,0,AD235*(1+Simulador!$D$34)+T236)","v":0}]
[{"$f":"IF(OR(A236+1>(IF(Simulador!$E$7=\"Autopatrocínio\",Simulador!$C$10,Simulador!$C$9)-Simulador!$C$8)*12,A236=0),0,A236+1)","v":0},{"$f":"IF($A237=0,0,IF(INT($A236/12)-$A236/12=0,B236*(1+Simulador!$C$35),B236))","v":0},{"$f":"MAX(IF(A237=0,0,B237-IF(Simulador!$C$11=\"Individual\",0,Simulador!$C$14)),0)","v":0},null,0,0,0,0,0,0,null,0,0,0,0,0,0,null,0,0,0,0,0,null,{"$f":"IF(OR(Y236+1>(IF(AND(Simulador!$C$9<Simulador!$C$10,OR(Simulador!$E$7=\"Resgate\",Simulador!$E$7=\"Portabilidade\")),Simulador!$C$9,Simulador!$C$10)-Simulador!$C$8)*12,Y236=0),0,Y236+1)","v":233},{"$f":"IF($Y237=0,0,Z236*(1+Simulador!$D$34)+E237+L237)","v":0},{"$f":"IF($Y237=0,0,AA236*(1+Simulador!$D$34)+S237)","v":0},{"$f":"IF(OR(AB236+1>(IF(AND(Simulador!$C$9<Simulador!$C$10,OR(Simulador!$E$7=\"Resgate\",Simulador!$E$7=\"Portabilidade\")),Simulador!$C$9,Simulador!$C$50)-Simulador!$C$8)*12,AB236=0),0,AB236+1)","v":233},{"$f":"IF($AB237=0,0,AC236*(1+Simulador!$D$34)+F237+M237)","v":0},{"$f":"IF($AB237=0,0,AD236*(1+Simulador!$D$34)+T237)","v":0}]
[{"$f":"IF(OR(A237+1>(IF(Simulador!$E$7=\"Autopatrocínio\",Simulador!$C$10,Simulador!$C$9)-Simulador!$C$8)*12,A237=0),0,A237+1)","v":0},{"$f":"IF($A238=0,0,IF(INT($A237/12)-$A237/12=0,B237*(1+Simulador!$C$35),B237))","v":0},{"$f":"MAX(IF(A238=0,0,B238-IF(Simulador!$C$11=\"Individual\",0,Simulador!$C$14)),0)","v":0},null,0,0,0,0,0,0,null,0,0,0,0,0,0,null,0,0,0,0,0,null,{"$f":"IF(OR(Y237+1>(IF(AND(Simulador!$C$9<Simulador!$C$10,OR(Simulador!$E$7=\"Resgate\",Simulador!$E$7=\"Portabilidade\")),Simulador!$C$9,Simulador!$C$10)-Simulador!$C$8)*12,Y237=0),0,Y237+1)","v":234},{"$f":"IF($Y238=0,0,Z237*(1+Simulador!$D$34)+E238+L238)","v":0},{"$f":"IF($Y238=0,0,AA237*(1+Simulador!$D$34)+S238)","v":0},{"$f":"IF(OR(AB237+1>(IF(AND(Simulador!$C$9<Simulador!$C$10,OR(Simulador!$E$7=\"Resgate\",Simulador!$E$7=\"Portabilidade\")),Simulador!$C$9,Simulador!$C$50)-Simulador!$C$8)*12,AB237=0),0,AB237+1)","v":234},{"$f":"IF($AB238=0,0,AC237*(1+Simulador!$D$34)+F238+M238)","v":0},{"$f":"IF($AB238=0,0,AD237*(1+Simulador!$D$34)+T238)","v":0}]
[{"$f":"IF(OR(A238+1>(IF(Simulador!$E$7=\"Autopatrocínio\",Simulador!$C$10,Simulador!$C$9)-Simulador!$C$8)*12,A238=0),0,A238+1)","v":0},{"$f":"IF($A239=0,0,IF(INT($A238/12)-$A238/12=0,B238*(1+Simulador!$C$35),B238))","v":0},{"$f":"MAX(IF(A239=0,0,B239-IF(Simulador!$C$11=\"Individual\",0,Simulador!$C$14)),0)","v":0},null,0,0,0,0,0,0,null,0,0,0,0,0,0,null,0,0,0,0,0,null,{"$f":"IF(OR(Y238+1>(IF(AND(Simulador!$C$9<Simulador!$C$10,OR(Simulador!$E$7=\"Resgate\",Simulador!$E$7=\"Portabilidade\")),Simulador!$C$9,Simulador!$C$10)-Simulador!$C$8)*12,Y238=0),0,Y238+1)","v":235},{"$f":"IF($Y239=0,0,Z238*(1+Simulador!$D$34)+E239+L239)","v":0},{"$f":"IF($Y239=0,0,AA238*(1+Simulador!$D$34)+S239)","v":0},{"$f":"IF(OR(AB238+1>(IF(AND(Simulador!$C$9<Simulador!$C$10,OR(Simulador!$E$7=\"Resgate\",Simulador!$E$7=\"Portabilidade\")),Simulador!$C$9,Simulador!$C$50)-Simulador!$C$8)*12,AB238=0),0,AB238+1)","v":235},{"$f":"IF($AB239=0,0,AC238*(1+Simulador!$D$34)+F239+M239)","v":0},{"$f":"IF($AB239=0,0,AD238*(1+Simulador!$D$34)+T239)","v":0}]
[{"$f":"IF(OR(A239+1>(IF(Simulador!$E$7=\"Autopatrocínio\",Simulador!$C$10,Simulador!$C$9)-Simulador!$C$8)*12,A239=0),0,A239+1)","v":0},{"$f":"IF($A240=0,0,IF(INT($A239/12)-$A239/12=0,B239*(1+Simulador!$C$35),B239))","v":0},{"$f":"MAX(IF(A240=0,0,B240-IF(Simulador!$C$11=\"Individual\",0,Simulador!$C$14)),0)","v":0},null,0,0,0,0,0,0,null,0,0,0,0,0,0,null,0,0,0,0,0,null,{"$f":"IF(OR(Y239+1>(IF(AND(Simulador!$C$9<Simulador!$C$10,OR(Simulador!$E$7=\"Resgate\",Simulador!$E$7=\"Portabilidade\")),Simulador!$C$9,Simulador!$C$10)-Simulador!$C$8)*12,Y239=0),0,Y239+1)","v":236},{"$f":"IF($Y240=0,0,Z239*(1+Simulador!$D$34)+E240+L240)","v":0},{"$f":"IF($Y240=0,0,AA239*(1+Simulador!$D$34)+S240)","v":0},{"$f":"IF(OR(AB239+1>(IF(AND(Simulador!$C$9<Simulador!$C$10,OR(Simulador!$E$7=\"Resgate\",Simulador!$E$7=\"Portabilidade\")),Simulador!$C$9,Simulador!$C$50)-Simulador!$C$8)*12,AB239=0),0,AB239+1)","v":236},{"$f":"IF($AB240=0,0,AC239*(1+Simulador!$D$34)+F240+M240)","v":0},{"$f":"IF($AB240=0,0,AD239*(1+Simulador!$D$34)+T240)","v":0}]
[{"$f":"IF(OR(A240+1>(IF(Simulador!$E$7=\"Autopatrocínio\",Simulador!$C$10,Simulador!$C$9)-Simulador!$C$8)*12,A240=0),0,A240+1)","v":0},{"$f":"IF($A241=0,0,IF(INT($A240/12)-$A240/12=0,B240*(1+Simulador!$C$35),B240))","v":0},{"$f":"MAX(IF(A241=0,0,B241-IF(Simulador!$C$11=\"Individual\",0,Simulador!$C$14)),0)","v":0},null,0,0,0,0,0,0,null,0,0,0,0,0,0,null,0,0,0,0,0,null,{"$f":"IF(OR(Y240+1>(IF(AND(Simulador!$C$9<Simulador!$C$10,OR(Simulador!$E$7=\"Resgate\",Simulador!$E$7=\"Portabilidade\")),Simulador!$C$9,Simulador!$C$10)-Simulador!$C$8)*12,Y240=0),0,Y240+1)","v":237},{"$f":"IF($Y241=0,0,Z240*(1+Simulador!$D$34)+E241+L241)","v":0},{"$f":"IF($Y241=0,0,AA240*(1+Simulador!$D$34)+S241)","v":0},{"$f":"IF(OR(AB240+1>(IF(AND(Simulador!$C$9<Simulador!$C$10,OR(Simulador!$E$7=\"Resgate\",Simulador!$E$7=\"Portabilidade\")),Simulador!$C$9,Simulador!$C$50)-Simulador!$C$8)*12,AB240=0),0,AB240+1)","v":237},{"$f":"IF($AB241=0,0,AC240*(1+Simulador!$D$34)+F241+M241)","v":0},{"$f":"IF($AB241=0,0,AD240*(1+Simulador!$D$34)+T241)","v":0}]
[{"$f":"IF(OR(A241+1>(IF(Simulador!$E$7=\"Autopatrocínio\",Simulador!$C$10,Simulador!$C$9)-Simulador!$C$8)*12,A241=0),0,A241+1)","v":0},{"$f":"IF($A242=0,0,IF(INT($A241/12)-$A241/12=0,B241*(1+Simulador!$C$35),B241))","v":0},{"$f":"MAX(IF(A242=0,0,B242-IF(Simulador!$C$11=\"Individual\",0,Simulador!$C$14)),0)","v":0},null,0,0,0,0,0,0,null,0,0,0,0,0,0,null,0,0,0,0,0,null,{"$f":"IF(OR(Y241+1>(IF(AND(Simulador!$C$9<Simulador!$C$10,OR(Simulador!$E$7=\"Resgate\",Simulador!$E$7=\"Portabilidade\")),Simulador!$C$9,Simulador!$C$10)-Simulador!$C$8)*12,Y241=0),0,Y241+1)","v":238},{"$f":"IF($Y242=0,0,Z241*(1+Simulador!$D$34)+E242+L242)","v":0},{"$f":"IF($Y242=0,0,AA241*(1+Simulador!$D$34)+S242)","v":0},{"$f":"IF(OR(AB241+1>(IF(AND(Simulador!$C$9<Simulador!$C$10,OR(Simulador!$E$7=\"Resgate\",Simulador!$E$7=\"Portabilidade\")),Simulador!$C$9,Simulador!$C$50)-Simulador!$C$8)*12,AB241=0),0,AB241+1)","v":238},{"$f":"IF($AB242=0,0,AC241*(1+Simulador!$D$34)+F242+M242)","v":0},{"$f":"IF($AB242=0,0,AD241*(1+Simulador!$D$34)+T242)","v":0}]
[{"$f":"IF(OR(A242+1>(IF(Simulador!$E$7=\"Autopatrocínio\",Simulador!$C$10,Simulador!$C$9)-Simulador!$C$8)*12,A242=0),0,A242+1)","v":0},{"$f":"IF($A243=0,0,IF(INT($A242/12)-$A242/12=0,B242*(1+Simulador!$C$35),B242))","v":0},{"$f":"MAX(IF(A243=0,0,B243-IF(Simulador!$C$11=\"Individual\",0,Simulador!$C$14)),0)","v":0},null,0,0,0,0,0,0,null,0,0,0,0,0,0,null,0,0,0,0,0,null,{"$f":"IF(OR(Y242+1>(IF(AND(Simulador!$C$9<Simulador!$C$10,OR(Simulador!$E$7=\"Resgate\",Simulador!$E$7=\"Portabilidade\")),Simulador!$C$9,Simulador!$C$10)-Simulador!$C$8)*12,Y242=0),0,Y242+1)","v":239},{"$f":"IF($Y243=0,0,Z242*(1+Simulador!$D$34)+E243+L243)","v":0},{"$f":"IF($Y243=0,0,AA242*(1+Simulador!$D$34)+S243)","v":0},{"$f":"IF(OR(AB242+1>(IF(AND(Simulador!$C$9<Simulador!$C$10,OR(Simulador!$E$7=\"Resgate\",Simulador!$E$7=\"Portabilidade\")),Simulador!$C$9,Simulador!$C$50)-Simulador!$C$8)*12,AB242=0),0,AB242+1)","v":239},{"$f":"IF($AB243=0,0,AC242*(1+Simulador!$D$34)+F243+M243)","v":0},{"$f":"IF($AB243=0,0,AD242*(1+Simulador!$D$34)+T243)","v":0}]
[{"$f":"IF(OR(A243+1>(IF(Simulador!$E$7=\"Autopatrocínio\",Simulador!$C$10,Simulador!$C$9)-Simulador!$C$8)*12,A243=0),0,A243+1)","v":0},{"$f":"IF($A244=0,0,IF(INT($A243/12)-$A243/12=0,B243*(1+Simulador!$C$35),B243))","v":0},{"$f":"MAX(IF(A244=0,0,B244-IF(Simulador!$C$11=\"Individual\",0,Simulador!$C$14)),0)","v":0},null,0,0,0,0,0,0,null,0,0,0,0,0,0,null,0,0,0,0,0,null,{"$f":"IF(OR(Y243+1>(IF(AND(Simulador!$C$9<Simulador!$C$10,OR(Simulador!$E$7=\"Resgate\",Simulador!$E$7=\"Portabilidade\")),Simulador!$C$9,Simulador!$C$10)-Simulador!$C$8)*12,Y243=0),0,Y243+1)","v":240},{"$f":"IF($Y244=0,0,Z243*(1+Simulador!$D$34)+E244+L244)","v":0},{"$f":"IF($Y244=0,0,AA243*(1+Simulador!$D$34)+S244)","v":0},{"$f":"IF(OR(AB243+1>(IF(AND(Simulador!$C$9<Simulador!$C$10,OR(Simulador!$E$7=\"Resgate\",Simulador!$E$7=\"Portabilidade\")),Simulador!$C$9,Simulador!$C$50)-Simulador!$C$8)*12,AB243=0),0,AB243+1)","v":240},{"$f":"IF($AB244=0,0,AC243*(1+Simulador!$D$34)+F244+M244)","v":0},{"$f":"IF($AB244=0,0,AD243*(1+Simulador!$D$34)+T244)","v":0}]
[{"$f":"IF(OR(A244+1>(IF(Simulador!$E$7=\"Autopatrocínio\",Simulador!$C$10,Simulador!$C$9)-Simulador!$C$8)*12,A244=0),0,A244+1)","v":0},{"$f":"IF($A245=0,0,IF(INT($A244/12)-$A244/12=0,B244*(1+Simulador!$C$35),B244))","v":0},{"$f":"MAX(IF(A245=0,0,B245-IF(Simulador!$C$11=\"Individual\",0,Simulador!$C$14)),0)","v":0},null,{"$f":"E$4*$C245*(1+$J245)","v":0},0,0,0,0,0,null,{"$f":"L$4*$C245*$Q245","v":0},0,0,0,0,0,null,{"$f":"S$4*$C245*(1+$J245)","v":0},0,0,0,0,null,{"$f":"IF(OR(Y244+1>(IF(AND(Simulador!$C$9<Simulador!$C$10,OR(Simulador!$E$7=\"Resgate\",Simulador!$E$7=\"Portabilidade\")),Simulador!$C$9,Simulador!$C$10)-Simulador!$C$8)*12,Y244=0),0,Y244+1)","v":241},{"$f":"IF($Y245=0,0,Z244*(1+Simulador!$D$34)+E245+L245)","v":0},{"$f":"IF($Y245=0,0,AA244*(1+Simulador!$D$34)+S245)","v":0},{"$f":"IF(OR(AB244+1>(IF(AND(Simulador!$C$9<Simulador!$C$10,OR(Simulador!$E$7=\"Resgate\",Simulador!$E$7=\"Portabilidade\")),Simulador!$C$9,Simulador!$C$50)-Simulador!$C$8)*12,AB244=0),0,AB244+1)","v":241},{"$f":"IF($AB245=0,0,AC244*(1+Simulador!$D$34)+F245+M245)","v":0},{"$f":"IF($AB245=0,0,AD244*(1+Simulador!$D$34)+T245)","v":0}]
[{"$f":"IF(OR(A245+1>(IF(Simulador!$E$7=\"Autopatrocínio\",Simulador!$C$10,Simulador!$C$9)-Simulador!$C$8)*12,A245=0),0,A245+1)","v":0},{"$f":"IF($A246=0,0,IF(INT($A245/12)-$A245/12=0,B245*(1+Simulador!$C$35),B245))","v":0},{"$f":"MAX(IF(A246=0,0,B246-IF(Simulador!$C$11=\"Individual\",0,Simulador!$C$14)),0)","v":0},null,0,0,0,0,0,0,null,0,0,0,0,0,0,null,0,0,0,0,0,null,{"$f":"IF(OR(Y245+1>(IF(AND(Simulador!$C$9<Simulador!$C$10,OR(Simulador!$E$7=\"Resgate\",Simulador!$E$7=\"Portabilidade\")),Simulador!$C$9,Simulador!$C$10)-Simulador!$C$8)*12,Y245=0),0,Y245+1)","v":242},{"$f":"IF($Y246=0,0,Z245*(1+Simulador!$D$34)+E246+L246)","v":0},{"$f":"IF($Y246=0,0,AA245*(1+Simulador!$D$34)+S246)","v":0},{"$f":"IF(OR(AB245+1>(IF(AND(Simulador!$C$9<Simulador!$C$10,OR(Simulador!$E$7=\"Resgate\",Simulador!$E$7=\"Portabilidade\")),Simulador!$C$9,Simulador!$C$50)-Simulador!$C$8)*12,AB245=0),0,AB245+1)","v":242},{"$f":"IF($AB246=0,0,AC245*(1+Simulador!$D$34)+F246+M246)","v":0},{"$f":"IF($AB246=0,0,AD245*(1+Simulador!$D$34)+T246)","v":0}]
[{"$f":"IF(OR(A246+1>(IF(Simulador!$E$7=\"Autopatrocínio\",Simulador!$C$10,Simulador!$C$9)-Simulador!$C$8)*12,A246=0),0,A246+1)","v":0},{"$f":"IF($A247=0,0,IF(INT($A246/12)-$A246/12=0,B246*(1+Simulador!$C$35),B246))","v":0},{"$f":"MAX(IF(A247=0,0,B247-IF(Simulador!$C$11=\"Individual\",0,Simulador!$C$14)),0)","v":0},null,0,0,0,0,0,0,null,0,0,0,0,0,0,null,0,0,0,0,0,null,{"$f":"IF(OR(Y246+1>(IF(AND(Simulador!$C$9<Simulador!$C$10,OR(Simulador!$E$7=\"Resgate\",Simulador!$E$7=\"Portabilidade\")),Simulador!$C$9,Simulador!$C$10)-Simulador!$C$8)*12,Y246=0),0,Y246+1)","v":243},{"$f":"IF($Y247=0,0,Z246*(1+Simulador!$D$34)+E247+L247)","v":0},{"$f":"IF($Y247=0,0,AA246*(1+Simulador!$D$34)+S247)","v":0},{"$f":"IF(OR(AB246+1>(IF(AND(Simulador!$C$9<Simulador!$C$10,OR(Simulador!$E$7=\"Resgate\",Simulador!$E$7=\"Portabilidade\")),Simulador!$C$9,Simulador!$C$50)-Simulador!$C$8)*12,AB246=0),0,AB246+1)","v":243},{"$f":"IF($AB247=0,0,AC246*(1+Simulador!$D$34)+F247+M247)","v":0},{"$f":"IF($AB247=0,0,AD246*(1+Simulador!$D$34)+T247)","v":0}]
[{"$f":"IF(OR(A247+1>(IF(Simulador!$E$7=\"Autopatrocínio\",Simulador!$C$10,Simulador!$C$9)-Simulador!$C$8)*12,A247=0),0,A247+1)","v":0},{"$f":"IF($A248=0,0,IF(INT($A247/12)-$A247/12=0,B247*(1+Simulador!$C$35),B247))","v":0},{"$f":"MAX(IF(A248=0,0,B248-IF(Simulador!$C$11=\"Individual\",0,Simulador!$C$14)),0)","v":0},null,0,0,0,0,0,0,null,0,0,0,0,0,0,null,0,0,0,0,0,null,{"$f":"IF(OR(Y247+1>(IF(AND(Simulador!$C$9<Simulador!$C$10,OR(Simulador!$E$7=\"Resgate\",Simulador!$E$7=\"Portabilidade\")),Simulador!$C$9,Simulador!$C$10)-Simulador!$C$8)*12,Y247=0),0,Y247+1)","v":244},{"$f":"IF($Y248=0,0,Z247*(1+Simulador!$D$34)+E248+L248)","v":0},{"$f":"IF($Y248=0,0,AA247*(1+Simulador!$D$34)+S248)","v":0},{"$f":"IF(OR(AB247+1>(IF(AND(Simulador!$C$9<Simulador!$C$10,OR(Simulador!$E$7=\"Resgate\",Simulador!$E$7=\"Portabilidade\")),Simulador!$C$9,Simulador!$C$50)-Simulador!$C$8)*12,AB247=0),0,AB247+1)","v":244},{"$f":"IF($AB248=0,0,AC247*(1+Simulador!$D$34)+F248+M248)","v":0},{"$f":"IF($AB248=0,0,AD247*(1+Simulador!$D$34)+T248)","v":0}]
[{"$f":"IF(OR(A248+1>(IF(Simulador!$E$7=\"Autopatrocínio\",Simulador!$C$10,Simulador!$C$9)-Simulador!$C$8)*12,A248=0),0,A248+1)","v":0},{"$f":"IF($A249=0,0,IF(INT($A248/12)-$A248/12=0,B248*(1+Simulador!$C$35),B248))","v":0},{"$f":"MAX(IF(A249=0,0,B249-IF(Simulador!$C$11=\"Individual\",0,Simulador!$C$14)),0)","v":0},null,0,0,0,0,0,0,null,0,0,0,0,0,0,null,0,0,0,0,0,null,{"$f":"IF(OR(Y248+1>(IF(AND(Simulador!$C$9<Simulador!$C$10,OR(Simulador!$E$7=\"Resgate\",Simulador!$E$7=\"Portabilidade\")),Simulador!$C$9,Simulador!$C$10)-Simulador!$C$8)*12,Y248=0),0,Y248+1)","v":245},{"$f":"IF($Y249=0,0,Z248*(1+Simulador!$D$34)+E249+L249)","v":0},{"$f":"IF($Y249=0,0,AA248*(1+Simulador!$D$34)+S249)","v":0},{"$f":"IF(OR(AB248+1>(IF(AND(Simulador!$C$9<Simulador!$C$10,OR(Simulador!$E$7=\"Resgate\",Simulador!$E$7=\"Portabilidade\")),Simulador!$C$9,Simulador!$C$50)-Simulador!$C$8)*12,AB248=0),0,AB248+1)","v":245},{"$f":"IF($AB249=0,0,AC248*(1+Simulador!$D$34)+F249+M249)","v":0},{"$f":"IF($AB249=0,0,AD248*(1+Simulador!$D$34)+T249)","v":0}]
[{"$f":"IF(OR(A249+1>(IF(Simulador!$E$7=\"Autopatrocínio\",Simulador!$C$10,Simulador!$C$9)-Simulador!$C$8)*12,A249=0),0,A249+1)","v":0},{"$f":"IF($A250=0,0,IF(INT($A249/12)-$A249/12=0,B249*(1+Simulador!$C$35),B249))","v":0},{"$f":"MAX(IF(A250=0,0,B250-IF(Simulador!$C$11=\"Individual\",0,Simulador!$C$14)),0)","v":0},null,0,0,0,0,0,0,null,0,0,0,0,0,0,null,0,0,0,0,0,null,{"$f":"IF(OR(Y249+1>(IF(AND(Simulador!$C$9<Simulador!$C$10,OR(Simulador!$E$7=\"Resgate\",Simulador!$E$7=\"Portabilidade\")),Simulador!$C$9,Simulador!$C$10)-Simulador!$C$8)*12,Y249=0),0,Y249+1)","v":246},{"$f":"IF($Y250=0,0,Z249*(1+Simulador!$D$34)+E250+L250)","v":0},{"$f":"IF($Y250=0,0,AA249*(1+Simulador!$D$34)+S250)","v":0},{"$f":"IF(OR(AB249+1>(IF(AND(Simulador!$C$9<Simulador!$C$10,OR(Simulador!$E$7=\"Resgate\",Simulador!$E$7=\"Portabilidade\")),Simulador!$C$9,Simulador!$C$50)-Simulador!$C$8)*12,AB249=0),0,AB249+1)","v":246},{"$f":"IF($AB250=0,0,AC249*(1+Simulador!$D$34)+F250+M250)","v":0},{"$f":"IF($AB250=0,0,AD249*(1+Simulador!$D$34)+T250)","v":0}]
[{"$f":"IF(OR(A250+1>(IF(Simulador!$E$7=\"Autopatrocínio\",Simulador!$C$10,Simulador!$C$9)-Simulador!$C$8)*12,A250=0),0,A250+1)","v":0},{"$f":"IF($A251=0,0,IF(INT($A250/12)-$A250/12=0,B250*(1+Simulador!$C$35),B250))","v":0},{"$f":"MAX(IF(A251=0,0,B251-IF(Simulador!$C$11=\"Individual\",0,Simulador!$C$14)),0)","v":0},null,0,0,0,0,0,0,null,0,0,0,0,0,0,null,0,0,0,0,0,null,{"$f":"IF(OR(Y250+1>(IF(AND(Simulador!$C$9<Simulador!$C$10,OR(Simulador!$E$7=\"Resgate\",Simulador!$E$7=\"Portabilidade\")),Simulador!$C$9,Simulador!$C$10)-Simulador!$C$8)*12,Y250=0),0,Y250+1)","v":247},{"$f":"IF($Y251=0,0,Z250*(1+Simulador!$D$34)+E251+L251)","v":0},{"$f":"IF($Y251=0,0,AA250*(1+Simulador!$D$34)+S251)","v":0},{"$f":"IF(OR(AB250+1>(IF(AND(Simulador!$C$9<Simulador!$C$10,OR(Simulador!$E$7=\"Resgate\",Simulador!$E$7=\"Portabilidade\")),Simulador!$C$9,Simulador!$C$50)-Simulador!$C$8)*12,AB250=0),0,AB250+1)","v":247},{"$f":"IF($AB251=0,0,AC250*(1+Simulador!$D$34)+F251+M251)","v":0},{"$f":"IF($AB251=0,0,AD250*(1+Simulador!$D$34)+T251)","v":0}]
[{"$f":"IF(OR(A251+1>(IF(Simulador!$E$7=\"Autopatrocínio\",Simulador!$C$10,Simulador!$C$9)-Simulador!$C$8)*12,A251=0),0,A251+1)","v":0},{"$f":"IF($A252=0,0,IF(INT($A251/12)-$A251/12=0,B251*(1+Simulador!$C$35),B251))","v":0},{"$f":"MAX(IF(A252=0,0,B252-IF(Simulador!$C$11=\"Individual\",0,Simulador!$C$14)),0)","v":0},null,0,0,0,0,0,0,null,0,0,0,0,0,0,null,0,0,0,0,0,null,{"$f":"IF(OR(Y251+1>(IF(AND(Simulador!$C$9<Simulador!$C$10,OR(Simulador!$E$7=\"Resgate\",Simulador!$E$7=\"Portabilidade\")),Simulador!$C$9,Simulador!$C$10)-Simulador!$C$8)*12,Y251=0),0,Y251+1)","v":248},{"$f":"IF($Y252=0,0,Z251*(1+Simulador!$D$34)+E252+L252)","v":0},{"$f":"IF($Y252=0,0,AA251*(1+Simulador!$D$34)+S252)","v":0},{"$f":"IF(OR(AB251+1>(IF(AND(Simulador!$C$9<Simulador!$C$10,OR(Simulador!$E$7=\"Resgate\",Simulador!$E$7=\"Portabilidade\")),Simulador!$C$9,Simulador!$C$50)-Simulador!$C$8)*12,AB251=0),0,AB251+1)","v":248},{"$f":"IF($AB252=0,0,AC251*(1+Simulador!$D$34)+F252+M252)","v":0},{"$f":"IF($AB252=0,0,AD251*(1+Simulador!$D$34)+T252)","v":0}]
[{"$f":"IF(OR(A252+1>(IF(Simulador!$E$7=\"Autopatrocínio\",Simulador!$C$10,Simulador!$C$9)-Simulador!$C$8)*12,A252=0),0,A252+1)","v":0},{"$f":"IF($A253=0,0,IF(INT($A252/12)-$A252/12=0,B252*(1+Simulador!$C$35),B252))","v":0},{"$f":"MAX(IF(A253=0,0,B253-IF(Simulador!$C$11=\"Individual\",0,Simulador!$C$14)),0)","v":0},null,0,0,0,0,0,0,null,0,0,0,0,0,0,null,0,0,0,0,0,null,{"$f":"IF(OR(Y252+1>(IF(AND(Simulador!$C$9<Simulador!$C$10,OR(Simulador!$E$7=\"Resgate\",Simulador!$E$7=\"Portabilidade\")),Simulador!$C$9,Simulador!$C$10)-Simulador!$C$8)*12,Y252=0),0,Y252+1)","v":249},{"$f":"IF($Y253=0,0,Z252*(1+Simulador!$D$34)+E253+L253)","v":0},{"$f":"IF($Y253=0,0,AA252*(1+Simulador!$D$34)+S253)","v":0},{"$f":"IF(OR(AB252+1>(IF(AND(Simulador!$C$9<Simulador!$C$10,OR(Simulador!$E$7=\"Resgate\",Simulador!$E$7=\"Portabilidade\")),Simulador!$C$9,Simulador!$C$50)-Simulador!$C$8)*12,AB252=0),0,AB252+1)","v":249},{"$f":"IF($AB253=0,0,AC252*(1+Simulador!$D$34)+F253+M253)","v":0},{"$f":"IF($AB253=0,0,AD252*(1+Simulador!$D$34)+T253)","v":0}]
[{"$f":"IF(OR(A253+1>(IF(Simulador!$E$7=\"Autopatrocínio\",Simulador!$C$10,Simulador!$C$9)-Simulador!$C$8)*12,A253=0),0,A253+1)","v":0},{"$f":"IF($A254=0,0,IF(INT($A253/12)-$A253/12=0,B253*(1+Simulador!$C$35),B253))","v":0},{"$f":"MAX(IF(A254=0,0,B254-IF(Simulador!$C$11=\"Individual\",0,Simulador!$C$14)),0)","v":0},null,0,0,0,0,0,0,null,0,0,0,0,0,0,null,0,0,0,0,0,null,{"$f":"IF(OR(Y253+1>(IF(AND(Simulador!$C$9<Simulador!$C$10,OR(Simulador!$E$7=\"Resgate\",Simulador!$E$7=\"Portabilidade\")),Simulador!$C$9,Simulador!$C$10)-Simulador!$C$8)*12,Y253=0),0,Y253+1)","v":250},{"$f":"IF($Y254=0,0,Z253*(1+Simulador!$D$34)+E254+L254)","v":0},{"$f":"IF($Y254=0,0,AA253*(1+Simulador!$D$34)+S254)","v":0},{"$f":"IF(OR(AB253+1>(IF(AND(Simulador!$C$9<Simulador!$C$10,OR(Simulador!$E$7=\"Resgate\",Simulador!$E$7=\"Portabilidade\")),Simulador!$C$9,Simulador!$C$50)-Simulador!$C$8)*12,AB253=0),0,AB253+1)","v":250},{"$f":"IF($AB254=0,0,AC253*(1+Simulador!$D$34)+F254+M254)","v":0},{"$f":"IF($AB254=0,0,AD253*(1+Simulador!$D$34)+T254)","v":0}]
[{"$f":"IF(OR(A254+1>(IF(Simulador!$E$7=\"Autopatrocínio\",Simulador!$C$10,Simulador!$C$9)-Simulador!$C$8)*12,A254=0),0,A254+1)","v":0},{"$f":"IF($A255=0,0,IF(INT($A254/12)-$A254/12=0,B254*(1+Simulador!$C$35),B254))","v":0},{"$f":"MAX(IF(A255=0,0,B255-IF(Simulador!$C$11=\"Individual\",0,Simulador!$C$14)),0)","v":0},null,{"$f":"E$4*$C255*(1+$J255)","v":0},0,0,0,0,0,null,{"$f":"L$4*$C255*$Q255","v":0},0,0,0,0,0,null,0,0,0,0,0,null,{"$f":"IF(OR(Y254+1>(IF(AND(Simulador!$C$9<Simulador!$C$10,OR(Simulador!$E$7=\"Resgate\",Simulador!$E$7=\"Portabilidade\")),Simulador!$C$9,Simulador!$C$10)-Simulador!$C$8)*12,Y254=0),0,Y254+1)","v":251},{"$f":"IF($Y255=0,0,Z254*(1+Simulador!$D$34)+E255+L255)","v":0},{"$f":"IF($Y255=0,0,AA254*(1+Simulador!$D$34)+S255)","v":0},{"$f":"IF(OR(AB254+1>(IF(AND(Simulador!$C$9<Simulador!$C$10,OR(Simulador!$E$7=\"Resgate\",Simulador!$E$7=\"Portabilidade\")),Simulador!$C$9,Simulador!$C$50)-Simulador!$C$8)*12,AB254=0),0,AB254+1)","v":251},{"$f":"IF($AB255=0,0,AC254*(1+Simulador!$D$34)+F255+M255)","v":0},{"$f":"IF($AB255=0,0,AD254*(1+Simulador!$D$34)+T255)","v":0}]
[{"$f":"IF(OR(A255+1>(IF(Simulador!$E$7=\"Autopatrocínio\",Simulador!$C$10,Simulador!$C$9)-Simulador!$C$8)*12,A255=0),0,A255+1)","v":0},{"$f":"IF($A256=0,0,IF(INT($A255/12)-$A255/12=0,B255*(1+Simulador!$C$35),B255))","v":0},{"$f":"MAX(IF(A256=0,0,B256-IF(Simulador!$C$11=\"Individual\",0,Simulador!$C$14)),0)","v":0},null,0,0,0,0,0,0,null,0,0,0,0,0,0,null,0,0,0,0,0,null,{"$f":"IF(OR(Y255+1>(IF(AND(Simulador!$C$9<Simulador!$C$10,OR(Simulador!$E$7=\"Resgate\",Simulador!$E$7=\"Portabilidade\")),Simulador!$C$9,Simulador!$C$10)-Simulador!$C$8)*12,Y255=0),0,Y255+1)","v":252},{"$f":"IF($Y256=0,0,Z255*(1+Simulador!$D$34)+E256+L256)","v":0},{"$f":"IF($Y256=0,0,AA255*(1+Simulador!$D$34)+S256)","v":0},{"$f":"IF(OR(AB255+1>(IF(AND(Simulador!$C$9<Simulador!$C$10,OR(Simulador!$E$7=\"Resgate\",Simulador!$E$7=\"Portabilidade\")),Simulador!$C$9,Simulador!$C$50)-Simulador!$C$8)*12,AB255=0),0,AB255+1)","v":252},{"$f":"IF($AB256=0,0,AC255*(1+Simulador!$D$34)+F256+M256)","v":0},{"$f":"IF($AB256=0,0,AD255*(1+Simulador!$D$34)+T256)","v":0}]
[{"$f":"IF(OR(A256+1>(IF(Simulador!$E$7=\"Autopatrocínio\",Simulador!$C$10,Simulador!$C$9)-Simulador!$C$8)*12,A256=0),0,A256+1)","v":0},{"$f":"IF($A257=0,0,IF(INT($A256/12)-$A256/12=0,B256*(1+Simulador!$C$35),B256))","v":0},{"$f":"MAX(IF(A257=0,0,B257-IF(Simulador!$C$11=\"Individual\",0,Simulador!$C$14)),0)","v":0},null,0,0,0,0,0,0,null,0,0,0,0,0,0,null,0,0,0,0,0,null,{"$f":"IF(OR(Y256+1>(IF(AND(Simulador!$C$9<Simulador!$C$10,OR(Simulador!$E$7=\"Resgate\",Simulador!$E$7=\"Portabilidade\")),Simulador!$C$9,Simulador!$C$10)-Simulador!$C$8)*12,Y256=0),0,Y256+1)","v":253},{"$f":"IF($Y257=0,0,Z256*(1+Simulador!$D$34)+E257+L257)","v":0},{"$f":"IF($Y257=0,0,AA256*(1+Simulador!$D$34)+S257)","v":0},{"$f":"IF(OR(AB256+1>(IF(AND(Simulador!$C$9<Simulador!$C$10,OR(Simulador!$E$7=\"Resgate\",Simulador!$E$7=\"Portabilidade\")),Simulador!$C$9,Simulador!$C$50)-Simulador!$C$8)*12,AB256=0),0,AB256+1)","v":253},{"$f":"IF($AB257=0,0,AC256*(1+Simulador!$D$34)+F257+M257)","v":0},{"$f":"IF($AB257=0,0,AD256*(1+Simulador!$D$34)+T257)","v":0}]
[{"$f":"IF(OR(A257+1>(IF(Simulador!$E$7=\"Autopatrocínio\",Simulador!$C$10,Simulador!$C$9)-Simulador!$C$8)*12,A257=0),0,A257+1)","v":0},{"$f":"IF($A258=0,0,IF(INT($A257/12)-$A257/12=0,B257*(1+Simulador!$C$35),B257))","v":0},{"$f":"MAX(IF(A258=0,0,B258-IF(Simulador!$C$11=\"Individual\",0,Simulador!$C$14)),0)","v":0},null,0,0,0,0,0,0,null,0,0,0,0,0,0,null,0,0,0,0,0,null,{"$f":"IF(OR(Y257+1>(IF(AND(Simulador!$C$9<Simulador!$C$10,OR(Simulador!$E$7=\"Resgate\",Simulador!$E$7=\"Portabilidade\")),Simulador!$C$9,Simulador!$C$10)-Simulador!$C$8)*12,Y257=0),0,Y257+1)","v":254},{"$f":"IF($Y258=0,0,Z257*(1+Simulador!$D$34)+E258+L258)","v":0},{"$f":"IF($Y258=0,0,AA257*(1+Simulador!$D$34)+S258)","v":0},{"$f":"IF(OR(AB257+1>(IF(AND(Simulador!$C$9<Simulador!$C$10,OR(Simulador!$E$7=\"Resgate\",Simulador!$E$7=\"Portabilidade\")),Simulador!$C$9,Simulador!$C$50)-Simulador!$C$8)*12,AB257=0),0,AB257+1)","v":254},{"$f":"IF($AB258=0,0,AC257*(1+Simulador!$D$34)+F258+M258)","v":0},{"$f":"IF($AB258=0,0,AD257*(1+Simulador!$D$34)+T258)","v":0}]
[{"$f":"IF(OR(A258+1>(IF(Simulador!$E$7=\"Autopatrocínio\",Simulador!$C$10,Simulador!$C$9)-Simulador!$C$8)*12,A258=0),0,A258+1)","v":0},{"$f":"IF($A259=0,0,IF(INT($A258/12)-$A258/12=0,B258*(1+Simulador!$C$35),B258))","v":0},{"$f":"MAX(IF(A259=0,0,B259-IF(Simulador!$C$11=\"Individual\",0,Simulador!$C$14)),0)","v":0},null,0,0,0,0,0,0,null,0,0,0,0,0,0,null,0,0,0,0,0,null,{"$f":"IF(OR(Y258+1>(IF(AND(Simulador!$C$9<Simulador!$C$10,OR(Simulador!$E$7=\"Resgate\",Simulador!$E$7=\"Portabilidade\")),Simulador!$C$9,Simulador!$C$10)-Simulador!$C$8)*12,Y258=0),0,Y258+1)","v":255},{"$f":"IF($Y259=0,0,Z258*(1+Simulador!$D$34)+E259+L259)","v":0},{"$f":"IF($Y259=0,0,AA258*(1+Simulador!$D$34)+S259)","v":0},{"$f":"IF(OR(AB258+1>(IF(AND(Simulador!$C$9<Simulador!$C$10,OR(Simulador!$E$7=\"Resgate\",Simulador!$E$7=\"Portabilidade\")),Simulador!$C$9,Simulador!$C$50)-Simulador!$C$8)*12,AB258=0),0,AB258+1)","v":255},{"$f":"IF($AB259=0,0,AC258*(1+Simulador!$D$34)+F259+M259)","v":0},{"$f":"IF($AB259=0,0,AD258*(1+Simulador!$D$34)+T259)","v":0}]
[{"$f":"IF(OR(A259+1>(IF(Simulador!$E$7=\"Autopatrocínio\",Simulador!$C$10,Simulador!$C$9)-Simulador!$C$8)*12,A259=0),0,A259+1)","v":0},{"$f":"IF($A260=0,0,IF(INT($A259/12)-$A259/12=0,B259*(1+Simulador!$C$35),B259))","v":0},{"$f":"MAX(IF(A260=0,0,B260-IF(Simulador!$C$11=\"Individual\",0,Simulador!$C$14)),0)","v":0},null,0,0,0,0,0,0,null,0,0,0,0,0,0,null,0,0,0,0,0,null,{"$f":"IF(OR(Y259+1>(IF(AND(Simulador!$C$9<Simulador!$C$10,OR(Simulador!$E$7=\"Resgate\",Simulador!$E$7=\"Portabilidade\")),Simulador!$C$9,Simulador!$C$10)-Simulador!$C$8)*12,Y259=0),0,Y259+1)","v":256},{"$f":"IF($Y260=0,0,Z259*(1+Simulador!$D$34)+E260+L260)","v":0},{"$f":"IF($Y260=0,0,AA259*(1+Simulador!$D$34)+S260)","v":0},{"$f":"IF(OR(AB259+1>(IF(AND(Simulador!$C$9<Simulador!$C$10,OR(Simulador!$E$7=\"Resgate\",Simulador!$E$7=\"Portabilidade\")),Simulador!$C$9,Simulador!$C$50)-Simulador!$C$8)*12,AB259=0),0,AB259+1)","v":256},{"$f":"IF($AB260=0,0,AC259*(1+Simulador!$D$34)+F260+M260)","v":0},{"$f":"IF($AB260=0,0,AD259*(1+Simulador!$D$34)+T260)","v":0}]
[{"$f":"IF(OR(A260+1>(IF(Simulador!$E$7=\"Autopatrocínio\",Simulador!$C$10,Simulador!$C$9)-Simulador!$C$8)*12,A260=0),0,A260+1)","v":0},{"$f":"IF($A261=0,0,IF(INT($A260/12)-$A260/12=0,B260*(1+Simulador!$C$35),B260))","v":0},{"$f":"MAX(IF(A261=0,0,B261-IF(Simulador!$C$11=\"Individual\",0,Simulador!$C$14)),0)","v":0},null,0,0,0,0,0,{"$f":"IF($A261=0,0,IF(INT($A261/12)-$A261/12=0,1,0))","v":0},null,0,0,0,0,0,{"$f":"IF($A261=0,0,IF($Q$4=\"Mensal\",1,IF($Q$4=\"Semestral\",IF(INT(($A261+5)/6)-($A261+5)/6=0,1,0),IF($Q$4=\"Anual\",IF(INT(($A261+11)/12)-($A261+11)/12=0,1,0)))))","v":0},null,{"$f":"S$4*$C261*(1+$J261)","v":0},0,0,0,0,null,{"$f":"IF(OR(Y260+1>(IF(AND(Simulador!$C$9<Simulador!$C$10,OR(Simulador!$E$7=\"Resgate\",Simulador!$E$7=\"Portabilidade\")),Simulador!$C$9,Simulador!$C$10)-Simulador!$C$8)*12,Y260=0),0,Y260+1)","v":257},{"$f":"IF($Y261=0,0,Z260*(1+Simulador!$D$34)+E261+L261)","v":0},{"$f":"IF($Y261=0,0,AA260*(1+Simulador!$D$34)+S261)","v":0},{"$f":"IF(OR(AB260+1>(IF(AND(Simulador!$C$9<Simulador!$C$10,OR(Simulador!$E$7=\"Resgate\",Simulador!$E$7=\"Portabilidade\")),Simulador!$C$9,Simulador!$C$50)-Simulador!$C$8)*12,AB260=0),0,AB260+1)","v":257},{"$f":"IF($AB261=0,0,AC260*(1+Simulador!$D$34)+F261+M261)","v":0},{"$f":"IF($AB261=0,0,AD260*(1+Simulador!$D$34)+T261)","v":0}]
[{"$f":"IF(OR(A261+1>(IF(Simulador!$E$7=\"Autopatrocínio\",Simulador!$C$10,Simulador!$C$9)-Simulador!$C$8)*12,A261=0),0,A261+1)","v":0},{"$f":"IF($A262=0,0,IF(INT($A261/12)-$A261/12=0,B261*(1+Simulador!$C$35),B261))","v":0},{"$f":"MAX(IF(A262=0,0,B262-IF(Simulador!$C$11=\"Individual\",0,Simulador!$C$14)),0)","v":0},null,0,0,0,0,0,0,null,0,0,0,0,0,0,null,0,0,0,0,0,null,{"$f":"IF(OR(Y261+1>(IF(AND(Simulador!$C$9<Simulador!$C$10,OR(Simulador!$E$7=\"Resgate\",Simulador!$E$7=\"Portabilidade\")),Simulador!$C$9,Simulador!$C$10)-Simulador!$C$8)*12,Y261=0),0,Y261+1)","v":258},{"$f":"IF($Y262=0,0,Z261*(1+Simulador!$D$34)+E262+L262)","v":0},{"$f":"IF($Y262=0,0,AA261*(1+Simulador!$D$34)+S262)","v":0},{"$f":"IF(OR(AB261+1>(IF(AND(Simulador!$C$9<Simulador!$C$10,OR(Simulador!$E$7=\"Resgate\",Simulador!$E$7=\"Portabilidade\")),Simulador!$C$9,Simulador!$C$50)-Simulador!$C$8)*12,AB261=0),0,AB261+1)","v":258},{"$f":"IF($AB262=0,0,AC261*(1+Simulador!$D$34)+F262+M262)","v":0},{"$f":"IF($AB262=0,0,AD261*(1+Simulador!$D$34)+T262)","v":0}]
[{"$f":"IF(OR(A262+1>(IF(Simulador!$E$7=\"Autopatrocínio\",Simulador!$C$10,Simulador!$C$9)-Simulador!$C$8)*12,A262=0),0,A262+1)","v":0},{"$f":"IF($A263=0,0,IF(INT($A262/12)-$A262/12=0,B262*(1+Simulador!$C$35),B262))","v":0},{"$f":"MAX(IF(A263=0,0,B263-IF(Simulador!$C$11=\"Individual\",0,Simulador!$C$14)),0)","v":0},null,0,0,0,0,0,0,null,0,0,0,0,0,0,null,0,0,0,0,0,null,{"$f":"IF(OR(Y262+1>(IF(AND(Simulador!$C$9<Simulador!$C$10,OR(Simulador!$E$7=\"Resgate\",Simulador!$E$7=\"Portabilidade\")),Simulador!$C$9,Simulador!$C$10)-Simulador!$C$8)*12,Y262=0),0,Y262+1)","v":259},{"$f":"IF($Y263=0,0,Z262*(1+Simulador!$D$34)+E263+L263)","v":0},{"$f":"IF($Y263=0,0,AA262*(1+Simulador!$D$34)+S263)","v":0},{"$f":"IF(OR(AB262+1>(IF(AND(Simulador!$C$9<Simulador!$C$10,OR(Simulador!$E$7=\"Resgate\",Simulador!$E$7=\"Portabilidade\")),Simulador!$C$9,Simulador!$C$50)-Simulador!$C$8)*12,AB262=0),0,AB262+1)","v":259},{"$f":"IF($AB263=0,0,AC262*(1+Simulador!$D$34)+F263+M263)","v":0},{"$f":"IF($AB263=0,0,AD262*(1+Simulador!$D$34)+T263)","v":0}]
[{"$f":"IF(OR(A263+1>(IF(Simulador!$E$7=\"Autopatrocínio\",Simulador!$C$10,Simulador!$C$9)-Simulador!$C$8)*12,A263=0),0,A263+1)","v":0},{"$f":"IF($A264=0,0,IF(INT($A263/12)-$A263/12=0,B263*(1+Simulador!$C$35),B263))","v":0},{"$f":"MAX(IF(A264=0,0,B264-IF(Simulador!$C$11=\"Individual\",0,Simulador!$C$14)),0)","v":0},null,0,0,0,0,0,0,null,0,0,0,0,0,0,null,0,0,0,0,0,null,{"$f":"IF(OR(Y263+1>(IF(AND(Simulador!$C$9<Simulador!$C$10,OR(Simulador!$E$7=\"Resgate\",Simulador!$E$7=\"Portabilidade\")),Simulador!$C$9,Simulador!$C$10)-Simulador!$C$8)*12,Y263=0),0,Y263+1)","v":260},{"$f":"IF($Y264=0,0,Z263*(1+Simulador!$D$34)+E264+L264)","v":0},{"$f":"IF($Y264=0,0,AA263*(1+Simulador!$D$34)+S264)","v":0},{"$f":"IF(OR(AB263+1>(IF(AND(Simulador!$C$9<Simulador!$C$10,OR(Simulador!$E$7=\"Resgate\",Simulador!$E$7=\"Portabilidade\")),Simulador!$C$9,Simulador!$C$50)-Simulador!$C$8)*12,AB263=0),0,AB263+1)","v":260},{"$f":"IF($AB264=0,0,AC263*(1+Simulador!$D$34)+F264+M264)","v":0},{"$f":"IF($AB264=0,0,AD263*(1+Simulador!$D$34)+T264)","v":0}]
[{"$f":"IF(OR(A264+1>(IF(Simulador!$E$7=\"Autopatrocínio\",Simulador!$C$10,Simulador!$C$9)-Simulador!$C$8)*12,A264=0),0,A264+1)","v":0},{"$f":"IF($A265=0,0,IF(INT($A264/12)-$A264/12=0,B264*(1+Simulador!$C$35),B264))","v":0},{"$f":"MAX(IF(A265=0,0,B265-IF(Simulador!$C$11=\"Individual\",0,Simulador!$C$14)),0)","v":0},null,{"$f":"E$4*$C265*(1+$J265)","v":0},0,0,0,0,0,null,{"$f":"L$4*$C265*$Q265","v":0},0,0,0,0,0,null,0,0,0,0,0,null,{"$f":"IF(OR(Y264+1>(IF(AND(Simulador!$C$9<Simulador!$C$10,OR(Simulador!$E$7=\"Resgate\",Simulador!$E$7=\"Portabilidade\")),Simulador!$C$9,Simulador!$C$10)-Simulador!$C$8)*12,Y264=0),0,Y264+1)","v":261},{"$f":"IF($Y265=0,0,Z264*(1+Simulador!$D$34)+E265+L265)","v":0},{"$f":"IF($Y265=0,0,AA264*(1+Simulador!$D$34)+S265)","v":0},{"$f":"IF(OR(AB264+1>(IF(AND(Simulador!$C$9<Simulador!$C$10,OR(Simulador!$E$7=\"Resgate\",Simulador!$E$7=\"Portabilidade\")),Simulador!$C$9,Simulador!$C$50)-Simulador!$C$8)*12,AB264=0),0,AB264+1)","v":261},{"$f":"IF($AB265=0,0,AC264*(1+Simulador!$D$34)+F265+M265)","v":0},{"$f":"IF($AB265=0,0,AD264*(1+Simulador!$D$34)+T265)","v":0}]
[{"$f":"IF(OR(A265+1>(IF(Simulador!$E$7=\"Autopatrocínio\",Simulador!$C$10,Simulador!$C$9)-Simulador!$C$8)*12,A265=0),0,A265+1)","v":0},{"$f":"IF($A266=0,0,IF(INT($A265/12)-$A265/12=0,B265*(1+Simulador!$C$35),B265))","v":0},{"$f":"MAX(IF(A266=0,0,B266-IF(Simulador!$C$11=\"Individual\",0,Simulador!$C$14)),0)","v":0},null,0,0,0,0,0,0,null,0,0,0,0,0,0,null,0,0,0,0,0,null,{"$f":"IF(OR(Y265+1>(IF(AND(Simulador!$C$9<Simulador!$C$10,OR(Simulador!$E$7=\"Resgate\",Simulador!$E$7=\"Portabilidade\")),Simulador!$C$9,Simulador!$C$10)-Simulador!$C$8)*12,Y265=0),0,Y265+1)","v":262},{"$f":"IF($Y266=0,0,Z265*(1+Simulador!$D$34)+E266+L266)","v":0},{"$f":"IF($Y266=0,0,AA265*(1+Simulador!$D$34)+S266)","v":0},{"$f":"IF(OR(AB265+1>(IF(AND(Simulador!$C$9<Simulador!$C$10,OR(Simulador!$E$7=\"Resgate\",Simulador!$E$7=\"Portabilidade\")),Simulador!$C$9,Simulador!$C$50)-Simulador!$C$8)*12,AB265=0),0,AB265+1)","v":262},{"$f":"IF($AB266=0,0,AC265*(1+Simulador!$D$34)+F266+M266)","v":0},{"$f":"IF($AB266=0,0,AD265*(1+Simulador!$D$34)+T266)","v":0}]
[{"$f":"IF(OR(A266+1>(IF(Simulador!$E$7=\"Autopatrocínio\",Simulador!$C$10,Simulador!$C$9)-Simulador!$C$8)*12,A266=0),0,A266+1)","v":0},{"$f":"IF($A267=0,0,IF(INT($A266/12)-$A266/12=0,B266*(1+Simulador!$C$35),B266))","v":0},{"$f":"MAX(IF(A267=0,0,B267-IF(Simulador!$C$11=\"Individual\",0,Simulador!$C$14)),0)","v":0},null,0,0,0,0,0,0,null,0,0,0,0,0,0,null,0,0,0,0,0,null,{"$f":"IF(OR(Y266+1>(IF(AND(Simulador!$C$9<Simulador!$C$10,OR(Simulador!$E$7=\"Resgate\",Simulador!$E$7=\"Portabilidade\")),Simulador!$C$9,Simulador!$C$10)-Simulador!$C$8)*12,Y266=0),0,Y266+1)","v":263},{"$f":"IF($Y267=0,0,Z266*(1+Simulador!$D$34)+E267+L267)","v":0},{"$f":"IF($Y267=0,0,AA266*(1+Simulador!$D$34)+S267)","v":0},{"$f":"IF(OR(AB266+1>(IF(AND(Simulador!$C$9<Simulador!$C$10,OR(Simulador!$E$7=\"Resgate\",Simulador!$E$7=\"Portabilidade\")),Simulador!$C$9,Simulador!$C$50)-Simulador!$C$8)*12,AB266=0),0,AB266+1)","v":263},{"$f":"IF($AB267=0,0,AC266*(1+Simulador!$D$34)+F267+M267)","v":0},{"$f":"IF($AB267=0,0,AD266*(1+Simulador!$D$34)+T267)","v":0}]
[{"$f":"IF(OR(A267+1>(IF(Simulador!$E$7=\"Autopatrocínio\",Simulador!$C$10,Simulador!$C$9)-Simulador!$C$8)*12,A267=0),0,A267+1)","v":0},{"$f":"IF($A268=0,0,IF(INT($A267/12)-$A267/12=0,B267*(1+Simulador!$C$35),B267))","v":0},{"$f":"MAX(IF(A268=0,0,B268-IF(Simulador!$C$11=\"Individual\",0,Simulador!$C$14)),0)","v":0},null,0,0,0,0,0,0,null,0,0,0,0,0,0,null,0,0,0,0,0,null,{"$f":"IF(OR(Y267+1>(IF(AND(Simulador!$C$9<Simulador!$C$10,OR(Simulador!$E$7=\"Resgate\",Simulador!$E$7=\"Portabilidade\")),Simulador!$C$9,Simulador!$C$10)-Simulador!$C$8)*12,Y267=0),0,Y267+1)","v":264},{"$f":"IF($Y268=0,0,Z267*(1+Simulador!$D$34)+E268+L268)","v":0},{"$f":"IF($Y268=0,0,AA267*(1+Simulador!$D$34)+S268)","v":0},{"$f":"IF(OR(AB267+1>(IF(AND(Simulador!$C$9<Simulador!$C$10,OR(Simulador!$E$7=\"Resgate\",Simulador!$E$7=\"Portabilidade\")),Simulador!$C$9,Simulador!$C$50)-Simulador!$C$8)*12,AB267=0),0,AB267+1)","v":264},{"$f":"IF($AB268=0,0,AC267*(1+Simulador!$D$34)+F268+M268)","v":0},{"$f":"IF($AB268=0,0,AD267*(1+Simulador!$D$34)+T268)","v":0}]
[{"$f":"IF(OR(A268+1>(IF(Simulador!$E$7=\"Autopatrocínio\",Simulador!$C$10,Simulador!$C$9)-Simulador!$C$8)*12,A268=0),0,A268+1)","v":0},{"$f":"IF($A269=0,0,IF(INT($A268/12)-$A268/12=0,B268*(1+Simulador!$C$35),B268))","v":0},{"$f":"MAX(IF(A269=0,0,B269-IF(Simulador!$C$11=\"Individual\",0,Simulador!$C$14)),0)","v":0},null,0,0,0,0,0,0,null,0,0,0,0,0,0,null,0,0,0,0,0,null,{"$f":"IF(OR(Y268+1>(IF(AND(Simulador!$C$9<Simulador!$C$10,OR(Simulador!$E$7=\"Resgate\",Simulador!$E$7=\"Portabilidade\")),Simulador!$C$9,Simulador!$C$10)-Simulador!$C$8)*12,Y268=0),0,Y268+1)","v":265},{"$f":"IF($Y269=0,0,Z268*(1+Simulador!$D$34)+E269+L269)","v":0},{"$f":"IF($Y269=0,0,AA268*(1+Simulador!$D$34)+S269)","v":0},{"$f":"IF(OR(AB268+1>(IF(AND(Simulador!$C$9<Simulador!$C$10,OR(Simulador!$E$7=\"Resgate\",Simulador!$E$7=\"Portabilidade\")),Simulador!$C$9,Simulador!$C$50)-Simulador!$C$8)*12,AB268=0),0,AB268+1)","v":265},{"$f":"IF($AB269=0,0,AC268*(1+Simulador!$D$34)+F269+M269)","v":0},{"$f":"IF($AB269=0,0,AD268*(1+Simulador!$D$34)+T269)","v":0}]
[{"$f":"IF(OR(A269+1>(IF(Simulador!$E$7=\"Autopatrocínio\",Simulador!$C$10,Simulador!$C$9)-Simulador!$C$8)*12,A269=0),0,A269+1)","v":0},{"$f":"IF($A270=0,0,IF(INT($A269/12)-$A269/12=0,B269*(1+Simulador!$C$35),B269))","v":0},{"$f":"MAX(IF(A270=0,0,B270-IF(Simulador!$C$11=\"Individual\",0,Simulador!$C$14)),0)","v":0},null,0,0,0,0,0,0,null,0,0,0,0,0,0,null,0,0,0,0,0,null,{"$f":"IF(OR(Y269+1>(IF(AND(Simulador!$C$9<Simulador!$C$10,OR(Simulador!$E$7=\"Resgate\",Simulador!$E$7=\"Portabilidade\")),Simulador!$C$9,Simulador!$C$10)-Simulador!$C$8)*12,Y269=0),0,Y269+1)","v":266},{"$f":"IF($Y270=0,0,Z269*(1+Simulador!$D$34)+E270+L270)","v":0},{"$f":"IF($Y270=0,0,AA269*(1+Simulador!$D$34)+S270)","v":0},{"$f":"IF(OR(AB269+1>(IF(AND(Simulador!$C$9<Simulador!$C$10,OR(Simulador!$E$7=\"Resgate\",Simulador!$E$7=\"Portabilidade\")),Simulador!$C$9,Simulador!$C$50)-Simulador!$C$8)*12,AB269=0),0,AB269+1)","v":266},{"$f":"IF($AB270=0,0,AC269*(1+Simulador!$D$34)+F270+M270)","v":0},{"$f":"IF($AB270=0,0,AD269*(1+Simulador!$D$34)+T270)","v":0}]
[{"$f":"IF(OR(A270+1>(IF(Simulador!$E$7=\"Autopatrocínio\",Simulador!$C$10,Simulador!$C$9)-Simulador!$C$8)*12,A270=0),0,A270+1)","v":0},{"$f":"IF($A271=0,0,IF(INT($A270/12)-$A270/12=0,B270*(1+Simulador!$C$35),B270))","v":0},{"$f":"MAX(IF(A271=0,0,B271-IF(Simulador!$C$11=\"Individual\",0,Simulador!$C$14)),0)","v":0},null,0,0,0,0,0,0,null,0,0,0,0,0,0,null,0,0,0,0,0,null,{"$f":"IF(OR(Y270+1>(IF(AND(Simulador!$C$9<Simulador!$C$10,OR(Simulador!$E$7=\"Resgate\",Simulador!$E$7=\"Portabilidade\")),Simulador!$C$9,Simulador!$C$10)-Simulador!$C$8)*12,Y270=0),0,Y270+1)","v":267},{"$f":"IF($Y271=0,0,Z270*(1+Simulador!$D$34)+E271+L271)","v":0},{"$f":"IF($Y271=0,0,AA270*(1+Simulador!$D$34)+S271)","v":0},{"$f":"IF(OR(AB270+1>(IF(AND(Simulador!$C$9<Simulador!$C$10,OR(Simulador!$E$7=\"Resgate\",Simulador!$E$7=\"Portabilidade\")),Simulador!$C$9,Simulador!$C$50)-Simulador!$C$8)*12,AB270=0),0,AB270+1)","v":267},{"$f":"IF($AB271=0,0,AC270*(1+Simulador!$D$34)+F271+M271)","v":0},{"$f":"IF($AB271=0,0,AD270*(1+Simulador!$D$34)+T271)","v":0}]
[{"$f":"IF(OR(A271+1>(IF(Simulador!$E$7=\"Autopatrocínio\",Simulador!$C$10,Simulador!$C$9)-Simulador!$C$8)*12,A271=0),0,A271+1)","v":0},{"$f":"IF($A272=0,0,IF(INT($A271/12)-$A271/12=0,B271*(1+Simulador!$C$35),B271))","v":0},{"$f":"MAX(IF(A272=0,0,B272-IF(Simulador!$C$11=\"Individual\",0,Simulador!$C$14)),0)","v":0},null,0,0,0,0,0,0,null,0,0,0,0,0,0,null,0,0,0,0,0,null,{"$f":"IF(OR(Y271+1>(IF(AND(Simulador!$C$9<Simulador!$C$10,OR(Simulador!$E$7=\"Resgate\",Simulador!$E$7=\"Portabilidade\")),Simulador!$C$9,Simulador!$C$10)-Simulador!$C$8)*12,Y271=0),0,Y271+1)","v":268},{"$f":"IF($Y272=0,0,Z271*(1+Simulador!$D$34)+E272+L272)","v":0},{"$f":"IF($Y272=0,0,AA271*(1+Simulador!$D$34)+S272)","v":0},{"$f":"IF(OR(AB271+1>(IF(AND(Simulador!$C$9<Simulador!$C$10,OR(Simulador!$E$7=\"Resgate\",Simulador!$E$7=\"Portabilidade\")),Simulador!$C$9,Simulador!$C$50)-Simulador!$C$8)*12,AB271=0),0,AB271+1)","v":268},{"$f":"IF($AB272=0,0,AC271*(1+Simulador!$D$34)+F272+M272)","v":0},{"$f":"IF($AB272=0,0,AD271*(1+Simulador!$D$34)+T272)","v":0}]
[{"$f":"IF(OR(A272+1>(IF(Simulador!$E$7=\"Autopatrocínio\",Simulador!$C$10,Simulador!$C$9)-Simulador!$C$8)*12,A272=0),0,A272+1)","v":0},{"$f":"IF($A273=0,0,IF(INT($A272/12)-$A272/12=0,B272*(1+Simulador!$C$35),B272))","v":0},{"$f":"MAX(IF(A273=0,0,B273-IF(Simulador!$C$11=\"Individual\",0,Simulador!$C$14)),0)","v":0},null,0,0,0,0,0,0,null,0,0,0,0,0,0,null,0,0,0,0,0,null,{"$f":"IF(OR(Y272+1>(IF(AND(Simulador!$C$9<Simulador!$C$10,OR(Simulador!$E$7=\"Resgate\",Simulador!$E$7=\"Portabilidade\")),Simulador!$C$9,Simulador!$C$10)-Simulador!$C$8)*12,Y272=0),0,Y272+1)","v":269},{"$f":"IF($Y273=0,0,Z272*(1+Simulador!$D$34)+E273+L273)","v":0},{"$f":"IF($Y273=0,0,AA272*(1+Simulador!$D$34)+S273)","v":0},{"$f":"IF(OR(AB272+1>(IF(AND(Simulador!$C$9<Simulador!$C$10,OR(Simulador!$E$7=\"Resgate\",Simulador!$E$7=\"Portabilidade\")),Simulador!$C$9,Simulador!$C$50)-Simulador!$C$8)*12,AB272=0),0,AB272+1)","v":269},{"$f":"IF($AB273=0,0,AC272*(1+Simulador!$D$34)+F273+M273)","v":0},{"$f":"IF($AB273=0,0,AD272*(1+Simulador!$D$34)+T273)","v":0}]
[{"$f":"IF(OR(A273+1>(IF(Simulador!$E$7=\"Autopatrocínio\",Simulador!$C$10,Simulador!$C$9)-Simulador!$C$8)*12,A273=0),0,A273+1)","v":0},{"$f":"IF($A274=0,0,IF(INT($A273/12)-$A273/12=0,B273*(1+Simulador!$C$35),B273))","v":0},{"$f":"MAX(IF(A274=0,0,B274-IF(Simulador!$C$11=\"Individual\",0,Simulador!$C$14)),0)","v":0},null,0,0,0,0,0,0,null,0,0,0,0,0,0,null,0,0,0,0,0,null,{"$f":"IF(OR(Y273+1>(IF(AND(Simulador!$C$9<Simulador!$C$10,OR(Simulador!$E$7=\"Resgate\",Simulador!$E$7=\"Portabilidade\")),Simulador!$C$9,Simulador!$C$10)-Simulador!$C$8)*12,Y273=0),0,Y273+1)","v":270},{"$f":"IF($Y274=0,0,Z273*(1+Simulador!$D$34)+E274+L274)","v":0},{"$f":"IF($Y274=0,0,AA273*(1+Simulador!$D$34)+S274)","v":0},{"$f":"IF(OR(AB273+1>(IF(AND(Simulador!$C$9<Simulador!$C$10,OR(Simulador!$E$7=\"Resgate\",Simulador!$E$7=\"Portabilidade\")),Simulador!$C$9,Simulador!$C$50)-Simulador!$C$8)*12,AB273=0),0,AB273+1)","v":270},{"$f":"IF($AB274=0,0,AC273*(1+Simulador!$D$34)+F274+M274)","v":0},{"$f":"IF($AB274=0,0,AD273*(1+Simulador!$D$34)+T274)","v":0}]
[{"$f":"IF(OR(A274+1>(IF(Simulador!$E$7=\"Autopatrocínio\",Simulador!$C$10,Simulador!$C$9)-Simulador!$C$8)*12,A274=0),0,A274+1)","v":0},{"$f":"IF($A275=0,0,IF(INT($A274/12)-$A274/12=0,B274*(1+Simulador!$C$35),B274))","v":0},{"$f":"MAX(IF(A275=0,0,B275-IF(Simulador!$C$11=\"Individual\",0,Simulador!$C$14)),0)","v":0},null,{"$f":"E$4*$C275*(1+$J275)","v":0},0,0,0,0,0,null,{"$f":"L$4*$C275*$Q275","v":0},0,0,0,0,0,null,0,0,0,0,0,null,{"$f":"IF(OR(Y274+1>(IF(AND(Simulador!$C$9<Simulador!$C$10,OR(Simulador!$E$7=\"Resgate\",Simulador!$E$7=\"Portabilidade\")),Simulador!$C$9,Simulador!$C$10)-Simulador!$C$8)*12,Y274=0),0,Y274+1)","v":271},{"$f":"IF($Y275=0,0,Z274*(1+Simulador!$D$34)+E275+L275)","v":0},{"$f":"IF($Y275=0,0,AA274*(1+Simulador!$D$34)+S275)","v":0},{"$f":"IF(OR(AB274+1>(IF(AND(Simulador!$C$9<Simulador!$C$10,OR(Simulador!$E$7=\"Resgate\",Simulador!$E$7=\"Portabilidade\")),Simulador!$C$9,Simulador!$C$50)-Simulador!$C$8)*12,AB274=0),0,AB274+1)","v":271},{"$f":"IF($AB275=0,0,AC274*(1+Simulador!$D$34)+F275+M275)","v":0},{"$f":"IF($AB275=0,0,AD274*(1+Simulador!$D$34)+T275)","v":0}]
[{"$f":"IF(OR(A275+1>(IF(Simulador!$E$7=\"Autopatrocínio\",Simulador!$C$10,Simulador!$C$9)-Simulador!$C$8)*12,A275=0),0,A275+1)","v":0},{"$f":"IF($A276=0,0,IF(INT($A275/12)-$A275/12=0,B275*(1+Simulador!$C$35),B275))","v":0},{"$f":"MAX(IF(A276=0,0,B276-IF(Simulador!$C$11=\"Individual\",0,Simulador!$C$14)),0)","v":0},null,0,0,0,0,0,0,null,0,0,0,0,0,0,null,0,0,0,0,0,null,{"$f":"IF(OR(Y275+1>(IF(AND(Simulador!$C$9<Simulador!$C$10,OR(Simulador!$E$7=\"Resgate\",Simulador!$E$7=\"Portabilidade\")),Simulador!$C$9,Simulador!$C$10)-Simulador!$C$8)*12,Y275=0),0,Y275+1)","v":272},{"$f":"IF($Y276=0,0,Z275*(1+Simulador!$D$34)+E276+L276)","v":0},{"$f":"IF($Y276=0,0,AA275*(1+Simulador!$D$34)+S276)","v":0},{"$f":"IF(OR(AB275+1>(IF(AND(Simulador!$C$9<Simulador!$C$10,OR(Simulador!$E$7=\"Resgate\",Simulador!$E$7=\"Portabilidade\")),Simulador!$C$9,Simulador!$C$50)-Simulador!$C$8)*12,AB275=0),0,AB275+1)","v":272},{"$f":"IF($AB276=0,0,AC275*(1+Simulador!$D$34)+F276+M276)","v":0},{"$f":"IF($AB276=0,0,AD275*(1+Simulador!$D$34)+T276)","v":0}]
[{"$f":"IF(OR(A276+1>(IF(Simulador!$E$7=\"Autopatrocínio\",Simulador!$C$10,Simulador!$C$9)-Simulador!$C$8)*12,A276=0),0,A276+1)","v":0},{"$f":"IF($A277=0,0,IF(INT($A276/12)-$A276/12=0,B276*(1+Simulador!$C$35),B276))","v":0},{"$f":"MAX(IF(A277=0,0,B277-IF(Simulador!$C$11=\"Individual\",0,Simulador!$C$14)),0)","v":0},null,0,0,0,0,0,0,null,0,0,0,0,0,0,null,{"$f":"S$4*$C277*(1+$J277)","v":0},0,0,0,0,null,{"$f":"IF(OR(Y276+1>(IF(AND(Simulador!$C$9<Simulador!$C$10,OR(Simulador!$E$7=\"Resgate\",Simulador!$E$7=\"Portabilidade\")),Simulador!$C$9,Simulador!$C$10)-Simulador!$C$8)*12,Y276=0),0,Y276+1)","v":273},{"$f":"IF($Y277=0,0,Z276*(1+Simulador!$D$34)+E277+L277)","v":0},{"$f":"IF($Y277=0,0,AA276*(1+Simulador!$D$34)+S277)","v":0},{"$f":"IF(OR(AB276+1>(IF(AND(Simulador!$C$9<Simulador!$C$10,OR(Simulador!$E$7=\"Resgate\",Simulador!$E$7=\"Portabilidade\")),Simulador!$C$9,Simulador!$C$50)-Simulador!$C$8)*12,AB276=0),0,AB276+1)","v":273},{"$f":"IF($AB277=0,0,AC276*(1+Simulador!$D$34)+F277+M277)","v":0},{"$f":"IF($AB277=0,0,AD276*(1+Simulador!$D$34)+T277)","v":0}]
[{"$f":"IF(OR(A277+1>(IF(Simulador!$E$7=\"Autopatrocínio\",Simulador!$C$10,Simulador!$C$9)-Simulador!$C$8)*12,A277=0),0,A277+1)","v":0},{"$f":"IF($A278=0,0,IF(INT($A277/12)-$A277/12=0,B277*(1+Simulador!$C$35),B277))","v":0},{"$f":"MAX(IF(A278=0,0,B278-IF(Simulador!$C$11=\"Individual\",0,Simulador!$C$14)),0)","v":0},null,0,0,0,0,0,0,null,0,0,0,0,0,0,null,0,0,0,0,0,null,{"$f":"IF(OR(Y277+1>(IF(AND(Simulador!$C$9<Simulador!$C$10,OR(Simulador!$E$7=\"Resgate\",Simulador!$E$7=\"Portabilidade\")),Simulador!$C$9,Simulador!$C$10)-Simulador!$C$8)*12,Y277=0),0,Y277+1)","v":274},{"$f":"IF($Y278=0,0,Z277*(1+Simulador!$D$34)+E278+L278)","v":0},{"$f":"IF($Y278=0,0,AA277*(1+Simulador!$D$34)+S278)","v":0},{"$f":"IF(OR(AB277+1>(IF(AND(Simulador!$C$9<Simulador!$C$10,OR(Simulador!$E$7=\"Resgate\",Simulador!$E$7=\"Portabilidade\")),Simulador!$C$9,Simulador!$C$50)-Simulador!$C$8)*12,AB277=0),0,AB277+1)","v":274},{"$f":"IF($AB278=0,0,AC277*(1+Simulador!$D$34)+F278+M278)","v":0},{"$f":"IF($AB278=0,0,AD277*(1+Simulador!$D$34)+T278)","v":0}]
[{"$f":"IF(OR(A278+1>(IF(Simulador!$E$7=\"Autopatrocínio\",Simulador!$C$10,Simulador!$C$9)-Simulador!$C$8)*12,A278=0),0,A278+1)","v":0},{"$f":"IF($A279=0,0,IF(INT($A278/12)-$A278/12=0,B278*(1+Simulador!$C$35),B278))","v":0},{"$f":"MAX(IF(A279=0,0,B279-IF(Simulador!$C$11=\"Individual\",0,Simulador!$C$14)),0)","v":0},null,0,0,0,0,0,0,null,0,0,0,0,0,0,null,0,0,0,0,0,null,{"$f":"IF(OR(Y278+1>(IF(AND(Simulador!$C$9<Simulador!$C$10,OR(Simulador!$E$7=\"Resgate\",Simulador!$E$7=\"Portabilidade\")),Simulador!$C$9,Simulador!$C$10)-Simulador!$C$8)*12,Y278=0),0,Y278+1)","v":275},{"$f":"IF($Y279=0,0,Z278*(1+Simulador!$D$34)+E279+L279)","v":0},{"$f":"IF($Y279=0,0,AA278*(1+Simulador!$D$34)+S279)","v":0},{"$f":"IF(OR(AB278+1>(IF(AND(Simulador!$C$9<Simulador!$C$10,OR(Simulador!$E$7=\"Resgate\",Simulador!$E$7=\"Portabilidade\")),Simulador!$C$9,Simulador!$C$50)-Simulador!$C$8)*12,AB278=0),0,AB278+1)","v":275},{"$f":"IF($AB279=0,0,AC278*(1+Simulador!$D$34)+F279+M279)","v":0},{"$f":"IF($AB279=0,0,AD278*(1+Simulador!$D$34)+T279)","v":0}]
[{"$f":"IF(OR(A279+1>(IF(Simulador!$E$7=\"Autopatrocínio\",Simulador!$C$10,Simulador!$C$9)-Simulador!$C$8)*12,A279=0),0,A279+1)","v":0},{"$f":"IF($A280=0,0,IF(INT($A279/12)-$A279/12=0,B279*(1+Simulador!$C$35),B279))","v":0},{"$f":"MAX(IF(A280=0,0,B280-IF(Simulador!$C$11=\"Individual\",0,Simulador!$C$14)),0)","v":0},null,0,0,0,0,0,0,null,0,0,0,0,0,0,null,0,0,0,0,0,null,{"$f":"IF(OR(Y279+1>(IF(AND(Simulador!$C$9<Simulador!$C$10,OR(Simulador!$E$7=\"Resgate\",Simulador!$E$7=\"Portabilidade\")),Simulador!$C$9,Simulador!$C$10)-Simulador!$C$8)*12,Y279=0),0,Y279+1)","v":276},{"$f":"IF($Y280=0,0,Z279*(1+Simulador!$D$34)+E280+L280)","v":0},{"$f":"IF($Y280=0,0,AA279*(1+Simulador!$D$34)+S280)","v":0},{"$f":"IF(OR(AB279+1>(IF(AND(Simulador!$C$9<Simulador!$C$10,OR(Simulador!$E$7=\"Resgate\",Simulador!$E$7=\"Portabilidade\")),Simulador!$C$9,Simulador!$C$50)-Simulador!$C$8)*12,AB279=0),0,AB279+1)","v":276},{"$f":"IF($AB280=0,0,AC279*(1+Simulador!$D$34)+F280+M280)","v":0},{"$f":"IF($AB280=0,0,AD279*(1+Simulador!$D$34)+T280)","v":0}]
[{"$f":"IF(OR(A280+1>(IF(Simulador!$E$7=\"Autopatrocínio\",Simulador!$C$10,Simulador!$C$9)-Simulador!$C$8)*12,A280=0),0,A280+1)","v":0},{"$f":"IF($A281=0,0,IF(INT($A280/12)-$A280/12=0,B280*(1+Simulador!$C$35),B280))","v":0},{"$f":"MAX(IF(A281=0,0,B281-IF(Simulador!$C$11=\"Individual\",0,Simulador!$C$14)),0)","v":0},null,0,0,0,0,0,0,null,0,0,0,0,0,0,null,0,0,0,0,0,null,{"$f":"IF(OR(Y280+1>(IF(AND(Simulador!$C$9<Simulador!$C$10,OR(Simulador!$E$7=\"Resgate\",Simulador!$E$7=\"Portabilidade\")),Simulador!$C$9,Simulador!$C$10)-Simulador!$C$8)*12,Y280=0),0,Y280+1)","v":277},{"$f":"IF($Y281=0,0,Z280*(1+Simulador!$D$34)+E281+L281)","v":0},{"$f":"IF($Y281=0,0,AA280*(1+Simulador!$D$34)+S281)","v":0},{"$f":"IF(OR(AB280+1>(IF(AND(Simulador!$C$9<Simulador!$C$10,OR(Simulador!$E$7=\"Resgate\",Simulador!$E$7=\"Portabilidade\")),Simulador!$C$9,Simulador!$C$50)-Simulador!$C$8)*12,AB280=0),0,AB280+1)","v":277},{"$f":"IF($AB281=0,0,AC280*(1+Simulador!$D$34)+F281+M281)","v":0},{"$f":"IF($AB281=0,0,AD280*(1+Simulador!$D$34)+T281)","v":0}]
[{"$f":"IF(OR(A281+1>(IF(Simulador!$E$7=\"Autopatrocínio\",Simulador!$C$10,Simulador!$C$9)-Simulador!$C$8)*12,A281=0),0,A281+1)","v":0},{"$f":"IF($A282=0,0,IF(INT($A281/12)-$A281/12=0,B281*(1+Simulador!$C$35),B281))","v":0},{"$f":"MAX(IF(A282=0,0,B282-IF(Simulador!$C$11=\"Individual\",0,Simulador!$C$14)),0)","v":0},null,0,0,0,0,0,0,null,0,0,0,0,0,0,null,0,0,0,0,0,null,{"$f":"IF(OR(Y281+1>(IF(AND(Simulador!$C$9<Simulador!$C$10,OR(Simulador!$E$7=\"Resgate\",Simulador!$E$7=\"Portabilidade\")),Simulador!$C$9,Simulador!$C$10)-Simulador!$C$8)*12,Y281=0),0,Y281+1)","v":278},{"$f":"IF($Y282=0,0,Z281*(1+Simulador!$D$34)+E282+L282)","v":0},{"$f":"IF($Y282=0,0,AA281*(1+Simulador!$D$34)+S282)","v":0},{"$f":"IF(OR(AB281+1>(IF(AND(Simulador!$C$9<Simulador!$C$10,OR(Simulador!$E$7=\"Resgate\",Simulador!$E$7=\"Portabilidade\")),Simulador!$C$9,Simulador!$C$50)-Simulador!$C$8)*12,AB281=0),0,AB281+1)","v":278},{"$f":"IF($AB282=0,0,AC281*(1+Simulador!$D$34)+F282+M282)","v":0},{"$f":"IF($AB282=0,0,AD281*(1+Simulador!$D$34)+T282)","v":0}]
[{"$f":"IF(OR(A282+1>(IF(Simulador!$E$7=\"Autopatrocínio\",Simulador!$C$10,Simulador!$C$9)-Simulador!$C$8)*12,A282=0),0,A282+1)","v":0},{"$f":"IF($A283=0,0,IF(INT($A282/12)-$A282/12=0,B282*(1+Simulador!$C$35),B282))","v":0},{"$f":"MAX(IF(A283=0,0,B283-IF(Simulador!$C$11=\"Individual\",0,Simulador!$C$14)),0)","v":0},null,0,0,0,0,0,0,null,0,0,0,0,0,0,null,0,0,0,0,0,null,{"$f":"IF(OR(Y282+1>(IF(AND(Simulador!$C$9<Simulador!$C$10,OR(Simulador!$E$7=\"Resgate\",Simulador!$E$7=\"Portabilidade\")),Simulador!$C$9,Simulador!$C$10)-Simulador!$C$8)*12,Y282=0),0,Y282+1)","v":279},{"$f":"IF($Y283=0,0,Z282*(1+Simulador!$D$34)+E283+L283)","v":0},{"$f":"IF($Y283=0,0,AA282*(1+Simulador!$D$34)+S283)","v":0},{"$f":"IF(OR(AB282+1>(IF(AND(Simulador!$C$9<Simulador!$C$10,OR(Simulador!$E$7=\"Resgate\",Simulador!$E$7=\"Portabilidade\")),Simulador!$C$9,Simulador!$C$50)-Simulador!$C$8)*12,AB282=0),0,AB282+1)","v":279},{"$f":"IF($AB283=0,0,AC282*(1+Simulador!$D$34)+F283+M283)","v":0},{"$f":"IF($AB283=0,0,AD282*(1+Simulador!$D$34)+T283)","v":0}]
[{"$f":"IF(OR(A283+1>(IF(Simulador!$E$7=\"Autopatrocínio\",Simulador!$C$10,Simulador!$C$9)-Simulador!$C$8)*12,A283=0),0,A283+1)","v":0},{"$f":"IF($A284=0,0,IF(INT($A283/12)-$A283/12=0,B283*(1+Simulador!$C$35),B283))","v":0},{"$f":"MAX(IF(A284=0,0,B284-IF(Simulador!$C$11=\"Individual\",0,Simulador!$C$14)),0)","v":0},null,0,0,0,0,0,0,null,0,0,0,0,0,0,null,0,0,0,0,0,null,{"$f":"IF(OR(Y283+1>(IF(AND(Simulador!$C$9<Simulador!$C$10,OR(Simulador!$E$7=\"Resgate\",Simulador!$E$7=\"Portabilidade\")),Simulador!$C$9,Simulador!$C$10)-Simulador!$C$8)*12,Y283=0),0,Y283+1)","v":280},{"$f":"IF($Y284=0,0,Z283*(1+Simulador!$D$34)+E284+L284)","v":0},{"$f":"IF($Y284=0,0,AA283*(1+Simulador!$D$34)+S284)","v":0},{"$f":"IF(OR(AB283+1>(IF(AND(Simulador!$C$9<Simulador!$C$10,OR(Simulador!$E$7=\"Resgate\",Simulador!$E$7=\"Portabilidade\")),Simulador!$C$9,Simulador!$C$50)-Simulador!$C$8)*12,AB283=0),0,AB283+1)","v":280},{"$f":"IF($AB284=0,0,AC283*(1+Simulador!$D$34)+F284+M284)","v":0},{"$f":"IF($AB284=0,0,AD283*(1+Simulador!$D$34)+T284)","v":0}]
[{"$f":"IF(OR(A284+1>(IF(Simulador!$E$7=\"Autopatrocínio\",Simulador!$C$10,Simulador!$C$9)-Simulador!$C$8)*12,A284=0),0,A284+1)","v":0},{"$f":"IF($A285=0,0,IF(INT($A284/12)-$A284/12=0,B284*(1+Simulador!$C$35),B284))","v":0},{"$f":"MAX(IF(A285=0,0,B285-IF(Simulador!$C$11=\"Individual\",0,Simulador!$C$14)),0)","v":0},null,{"$f":"E$4*$C285*(1+$J285)","v":0},0,0,0,0,0,null,{"$f":"L$4*$C285*$Q285","v":0},0,0,0,0,0,null,0,0,0,0,0,null,{"$f":"IF(OR(Y284+1>(IF(AND(Simulador!$C$9<Simulador!$C$10,OR(Simulador!$E$7=\"Resgate\",Simulador!$E$7=\"Portabilidade\")),Simulador!$C$9,Simulador!$C$10)-Simulador!$C$8)*12,Y284=0),0,Y284+1)","v":281},{"$f":"IF($Y285=0,0,Z284*(1+Simulador!$D$34)+E285+L285)","v":0},{"$f":"IF($Y285=0,0,AA284*(1+Simulador!$D$34)+S285)","v":0},{"$f":"IF(OR(AB284+1>(IF(AND(Simulador!$C$9<Simulador!$C$10,OR(Simulador!$E$7=\"Resgate\",Simulador!$E$7=\"Portabilidade\")),Simulador!$C$9,Simulador!$C$50)-Simulador!$C$8)*12,AB284=0),0,AB284+1)","v":281},{"$f":"IF($AB285=0,0,AC284*(1+Simulador!$D$34)+F285+M285)","v":0},{"$f":"IF($AB285=0,0,AD284*(1+Simulador!$D$34)+T285)","v":0}]
[{"$f":"IF(OR(A285+1>(IF(Simulador!$E$7=\"Autopatrocínio\",Simulador!$C$10,Simulador!$C$9)-Simulador!$C$8)*12,A285=0),0,A285+1)","v":0},{"$f":"IF($A286=0,0,IF(INT($A285/12)-$A285/12=0,B285*(1+Simulador!$C$35),B285))","v":0},{"$f":"MAX(IF(A286=0,0,B286-IF(Simulador!$C$11=\"Individual\",0,Simulador!$C$14)),0)","v":0},null,0,0,0,0,0,0,null,0,0,0,0,0,0,null,0,0,0,0,0,null,{"$f":"IF(OR(Y285+1>(IF(AND(Simulador!$C$9<Simulador!$C$10,OR(Simulador!$E$7=\"Resgate\",Simulador!$E$7=\"Portabilidade\")),Simulador!$C$9,Simulador!$C$10)-Simulador!$C$8)*12,Y285=0),0,Y285+1)","v":282},{"$f":"IF($Y286=0,0,Z285*(1+Simulador!$D$34)+E286+L286)","v":0},{"$f":"IF($Y286=0,0,AA285*(1+Simulador!$D$34)+S286)","v":0},{"$f":"IF(OR(AB285+1>(IF(AND(Simulador!$C$9<Simulador!$C$10,OR(Simulador!$E$7=\"Resgate\",Simulador!$E$7=\"Portabilidade\")),Simulador!$C$9,Simulador!$C$50)-Simulador!$C$8)*12,AB285=0),0,AB285+1)","v":282},{"$f":"IF($AB286=0,0,AC285*(1+Simulador!$D$34)+F286+M286)","v":0},{"$f":"IF($AB286=0,0,AD285*(1+Simulador!$D$34)+T286)","v":0}]
[{"$f":"IF(OR(A286+1>(IF(Simulador!$E$7=\"Autopatrocínio\",Simulador!$C$10,Simulador!$C$9)-Simulador!$C$8)*12,A286=0),0,A286+1)","v":0},{"$f":"IF($A287=0,0,IF(INT($A286/12)-$A286/12=0,B286*(1+Simulador!$C$35),B286))","v":0},{"$f":"MAX(IF(A287=0,0,B287-IF(Simulador!$C$11=\"Individual\",0,Simulador!$C$14)),0)","v":0},null,0,0,0,0,0,0,null,0,0,0,0,0,0,null,0,0,0,0,0,null,{"$f":"IF(OR(Y286+1>(IF(AND(Simulador!$C$9<Simulador!$C$10,OR(Simulador!$E$7=\"Resgate\",Simulador!$E$7=\"Portabilidade\")),Simulador!$C$9,Simulador!$C$10)-Simulador!$C$8)*12,Y286=0),0,Y286+1)","v":283},{"$f":"IF($Y287=0,0,Z286*(1+Simulador!$D$34)+E287+L287)","v":0},{"$f":"IF($Y287=0,0,AA286*(1+Simulador!$D$34)+S287)","v":0},{"$f":"IF(OR(AB286+1>(IF(AND(Simulador!$C$9<Simulador!$C$10,OR(Simulador!$E$7=\"Resgate\",Simulador!$E$7=\"Portabilidade\")),Simulador!$C$9,Simulador!$C$50)-Simulador!$C$8)*12,AB286=0),0,AB286+1)","v":283},{"$f":"IF($AB287=0,0,AC286*(1+Simulador!$D$34)+F287+M287)","v":0},{"$f":"IF($AB287=0,0,AD286*(1+Simulador!$D$34)+T287)","v":0}]
[{"$f":"IF(OR(A287+1>(IF(Simulador!$E$7=\"Autopatrocínio\",Simulador!$C$10,Simulador!$C$9)-Simulador!$C$8)*12,A287=0),0,A287+1)","v":0},{"$f":"IF($A288=0,0,IF(INT($A287/12)-$A287/12=0,B287*(1+Simulador!$C$35),B287))","v":0},{"$f":"MAX(IF(A288=0,0,B288-IF(Simulador!$C$11=\"Individual\",0,Simulador!$C$14)),0)","v":0},null,0,0,0,0,0,0,null,0,0,0,0,0,0,null,0,0,0,0,0,null,{"$f":"IF(OR(Y287+1>(IF(AND(Simulador!$C$9<Simulador!$C$10,OR(Simulador!$E$7=\"Resgate\",Simulador!$E$7=\"Portabilidade\")),Simulador!$C$9,Simulador!$C$10)-Simulador!$C$8)*12,Y287=0),0,Y287+1)","v":284},{"$f":"IF($Y288=0,0,Z287*(1+Simulador!$D$34)+E288+L288)","v":0},{"$f":"IF($Y288=0,0,AA287*(1+Simulador!$D$34)+S288)","v":0},{"$f":"IF(OR(AB287+1>(IF(AND(Simulador!$C$9<Simulador!$C$10,OR(Simulador!$E$7=\"Resgate\",Simulador!$E$7=\"Portabilidade\")),Simulador!$C$9,Simulador!$C$50)-Simulador!$C$8)*12,AB287=0),0,AB287+1)","v":284},{"$f":"IF($AB288=0,0,AC287*(1+Simulador!$D$34)+F288+M288)","v":0},{"$f":"IF($AB288=0,0,AD287*(1+Simulador!$D$34)+T288)","v":0}]
[{"$f":"IF(OR(A288+1>(IF(Simulador!$E$7=\"Autopatrocínio\",Simulador!$C$10,Simulador!$C$9)-Simulador!$C$8)*12,A288=0),0,A288+1)","v":0},{"$f":"IF($A289=0,0,IF(INT($A288/12)-$A288/12=0,B288*(1+Simulador!$C$35),B288))","v":0},{"$f":"MAX(IF(A289=0,0,B289-IF(Simulador!$C$11=\"Individual\",0,Simulador!$C$14)),0)","v":0},null,0,0,0,0,0,0,null,0,0,0,0,0,0,null,0,0,0,0,0,null,{"$f":"IF(OR(Y288+1>(IF(AND(Simulador!$C$9<Simulador!$C$10,OR(Simulador!$E$7=\"Resgate\",Simulador!$E$7=\"Portabilidade\")),Simulador!$C$9,Simulador!$C$10)-Simulador!$C$8)*12,Y288=0),0,Y288+1)","v":285},{"$f":"IF($Y289=0,0,Z288*(1+Simulador!$D$34)+E289+L289)","v":0},{"$f":"IF($Y289=0,0,AA288*(1+Simulador!$D$34)+S289)","v":0},{"$f":"IF(OR(AB288+1>(IF(AND(Simulador!$C$9<Simulador!$C$10,OR(Simulador!$E$7=\"Resgate\",Simulador!$E$7=\"Portabilidade\")),Simulador!$C$9,Simulador!$C$50)-Simulador!$C$8)*12,AB288=0),0,AB288+1)","v":285},{"$f":"IF($AB289=0,0,AC288*(1+Simulador!$D$34)+F289+M289)","v":0},{"$f":"IF($AB289=0,0,AD288*(1+Simulador!$D$34)+T289)","v":0}]
[{"$f":"IF(OR(A289+1>(IF(Simulador!$E$7=\"Autopatrocínio\",Simulador!$C$10,Simulador!$C$9)-Simulador!$C$8)*12,A289=0),0,A289+1)","v":0},{"$f":"IF($A290=0,0,IF(INT($A289/12)-$A289/12=0,B289*(1+Simulador!$C$35),B289))","v":0},{"$f":"MAX(IF(A290=0,0,B290-IF(Simulador!$C$11=\"Individual\",0,Simulador!$C$14)),0)","v":0},null,0,0,0,0,0,0,null,0,0,0,0,0,0,null,0,0,0,0,0,null,{"$f":"IF(OR(Y289+1>(IF(AND(Simulador!$C$9<Simulador!$C$10,OR(Simulador!$E$7=\"Resgate\",Simulador!$E$7=\"Portabilidade\")),Simulador!$C$9,Simulador!$C$10)-Simulador!$C$8)*12,Y289=0),0,Y289+1)","v":286},{"$f":"IF($Y290=0,0,Z289*(1+Simulador!$D$34)+E290+L290)","v":0},{"$f":"IF($Y290=0,0,AA289*(1+Simulador!$D$34)+S290)","v":0},{"$f":"IF(OR(AB289+1>(IF(AND(Simulador!$C$9<Simulador!$C$10,OR(Simulador!$E$7=\"Resgate\",Simulador!$E$7=\"Portabilidade\")),Simulador!$C$9,Simulador!$C$50)-Simulador!$C$8)*12,AB289=0),0,AB289+1)","v":286},{"$f":"IF($AB290=0,0,AC289*(1+Simulador!$D$34)+F290+M290)","v":0},{"$f":"IF($AB290=0,0,AD289*(1+Simulador!$D$34)+T290)","v":0}]
[{"$f":"IF(OR(A290+1>(IF(Simulador!$E$7=\"Autopatrocínio\",Simulador!$C$10,Simulador!$C$9)-Simulador!$C$8)*12,A290=0),0,A290+1)","v":0},{"$f":"IF($A291=0,0,IF(INT($A290/12)-$A290/12=0,B290*(1+Simulador!$C$35),B290))","v":0},{"$f":"MAX(IF(A291=0,0,B291-IF(Simulador!$C$11=\"Individual\",0,Simulador!$C$14)),0)","v":0},null,0,0,0,0,0,0,null,0,0,0,0,0,0,null,0,0,0,0,0,null,{"$f":"IF(OR(Y290+1>(IF(AND(Simulador!$C$9<Simulador!$C$10,OR(Simulador!$E$7=\"Resgate\",Simulador!$E$7=\"Portabilidade\")),Simulador!$C$9,Simulador!$C$10)-Simulador!$C$8)*12,Y290=0),0,Y290+1)","v":287},{"$f":"IF($Y291=0,0,Z290*(1+Simulador!$D$34)+E291+L291)","v":0},{"$f":"IF($Y291=0,0,AA290*(1+Simulador!$D$34)+S291)","v":0},{"$f":"IF(OR(AB290+1>(IF(AND(Simulador!$C$9<Simulador!$C$10,OR(Simulador!$E$7=\"Resgate\",Simulador!$E$7=\"Portabilidade\")),Simulador!$C$9,Simulador!$C$50)-Simulador!$C$8)*12,AB290=0),0,AB290+1)","v":287},{"$f":"IF($AB291=0,0,AC290*(1+Simulador!$D$34)+F291+M291)","v":0},{"$f":"IF($AB291=0,0,AD290*(1+Simulador!$D$34)+T291)","v":0}]
[{"$f":"IF(OR(A291+1>(IF(Simulador!$E$7=\"Autopatrocínio\",Simulador!$C$10,Simulador!$C$9)-Simulador!$C$8)*12,A291=0),0,A291+1)","v":0},{"$f":"IF($A292=0,0,IF(INT($A291/12)-$A291/12=0,B291*(1+Simulador!$C$35),B291))","v":0},{"$f":"MAX(IF(A292=0,0,B292-IF(Simulador!$C$11=\"Individual\",0,Simulador!$C$14)),0)","v":0},null,0,0,0,0,0,0,null,0,0,0,0,0,0,null,0,0,0,0,0,null,{"$f":"IF(OR(Y291+1>(IF(AND(Simulador!$C$9<Simulador!$C$10,OR(Simulador!$E$7=\"Resgate\",Simulador!$E$7=\"Portabilidade\")),Simulador!$C$9,Simulador!$C$10)-Simulador!$C$8)*12,Y291=0),0,Y291+1)","v":288},{"$f":"IF($Y292=0,0,Z291*(1+Simulador!$D$34)+E292+L292)","v":0},{"$f":"IF($Y292=0,0,AA291*(1+Simulador!$D$34)+S292)","v":0},{"$f":"IF(OR(AB291+1>(IF(AND(Simulador!$C$9<Simulador!$C$10,OR(Simulador!$E$7=\"Resgate\",Simulador!$E$7=\"Portabilidade\")),Simulador!$C$9,Simulador!$C$50)-Simulador!$C$8)*12,AB291=0),0,AB291+1)","v":288},{"$f":"IF($AB292=0,0,AC291*(1+Simulador!$D$34)+F292+M292)","v":0},{"$f":"IF($AB292=0,0,AD291*(1+Simulador!$D$34)+T292)","v":0}]
[{"$f":"IF(OR(A292+1>(IF(Simulador!$E$7=\"Autopatrocínio\",Simulador!$C$10,Simulador!$C$9)-Simulador!$C$8)*12,A292=0),0,A292+1)","v":0},{"$f":"IF($A293=0,0,IF(INT($A292/12)-$A292/12=0,B292*(1+Simulador!$C$35),B292))","v":0},{"$f":"MAX(IF(A293=0,0,B293-IF(Simulador!$C$11=\"Individual\",0,Simulador!$C$14)),0)","v":0},null,0,0,0,0,0,0,null,0,0,0,0,0,0,null,{"$f":"S$4*$C293*(1+$J293)","v":0},0,0,0,0,null,{"$f":"IF(OR(Y292+1>(IF(AND(Simulador!$C$9<Simulador!$C$10,OR(Simulador!$E$7=\"Resgate\",Simulador!$E$7=\"Portabilidade\")),Simulador!$C$9,Simulador!$C$10)-Simulador!$C$8)*12,Y292=0),0,Y292+1)","v":289},{"$f":"IF($Y293=0,0,Z292*(1+Simulador!$D$34)+E293+L293)","v":0},{"$f":"IF($Y293=0,0,AA292*(1+Simulador!$D$34)+S293)","v":0},{"$f":"IF(OR(AB292+1>(IF(AND(Simulador!$C$9<Simulador!$C$10,OR(Simulador!$E$7=\"Resgate\",Simulador!$E$7=\"Portabilidade\")),Simulador!$C$9,Simulador!$C$50)-Simulador!$C$8)*12,AB292=0),0,AB292+1)","v":289},{"$f":"IF($AB293=0,0,AC292*(1+Simulador!$D$34)+F293+M293)","v":0},{"$f":"IF($AB293=0,0,AD292*(1+Simulador!$D$34)+T293)","v":0}]
[{"$f":"IF(OR(A293+1>(IF(Simulador!$E$7=\"Autopatrocínio\",Simulador!$C$10,Simulador!$C$9)-Simulador!$C$8)*12,A293=0),0,A293+1)","v":0},{"$f":"IF($A294=0,0,IF(INT($A293/12)-$A293/12=0,B293*(1+Simulador!$C$35),B293))","v":0},{"$f":"MAX(IF(A294=0,0,B294-IF(Simulador!$C$11=\"Individual\",0,Simulador!$C$14)),0)","v":0},null,0,0,0,0,0,0,null,0,0,0,0,0,0,null,0,0,0,0,0,null,{"$f":"IF(OR(Y293+1>(IF(AND(Simulador!$C$9<Simulador!$C$10,OR(Simulador!$E$7=\"Resgate\",Simulador!$E$7=\"Portabilidade\")),Simulador!$C$9,Simulador!$C$10)-Simulador!$C$8)*12,Y293=0),0,Y293+1)","v":290},{"$f":"IF($Y294=0,0,Z293*(1+Simulador!$D$34)+E294+L294)","v":0},{"$f":"IF($Y294=0,0,AA293*(1+Simulador!$D$34)+S294)","v":0},{"$f":"IF(OR(AB293+1>(IF(AND(Simulador!$C$9<Simulador!$C$10,OR(Simulador!$E$7=\"Resgate\",Simulador!$E$7=\"Portabilidade\")),Simulador!$C$9,Simulador!$C$50)-Simulador!$C$8)*12,AB293=0),0,AB293+1)","v":290},{"$f":"IF($AB294=0,0,AC293*(1+Simulador!$D$34)+F294+M294)","v":0},{"$f":"IF($AB294=0,0,AD293*(1+Simulador!$D$34)+T294)","v":0}]
[{"$f":"IF(OR(A294+1>(IF(Simulador!$E$7=\"Autopatrocínio\",Simulador!$C$10,Simulador!$C$9)-Simulador!$C$8)*12,A294=0),0,A294+1)","v":0},{"$f":"IF($A295=0,0,IF(INT($A294/12)-$A294/12=0,B294*(1+Simulador!$C$35),B294))","v":0},{"$f":"MAX(IF(A295=0,0,B295-IF(Simulador!$C$11=\"Individual\",0,Simulador!$C$14)),0)","v":0},null,{"$f":"E$4*$C295*(1+$J295)","v":0},0,0,0,0,0,null,{"$f":"L$4*$C295*$Q295","v":0},0,0,0,0,0,null,0,0,0,0,0,null,{"$f":"IF(OR(Y294+1>(IF(AND(Simulador!$C$9<Simulador!$C$10,OR(Simulador!$E$7=\"Resgate\",Simulador!$E$7=\"Portabilidade\")),Simulador!$C$9,Simulador!$C$10)-Simulador!$C$8)*12,Y294=0),0,Y294+1)","v":291},{"$f":"IF($Y295=0,0,Z294*(1+Simulador!$D$34)+E295+L295)","v":0},{"$f":"IF($Y295=0,0,AA294*(1+Simulador!$D$34)+S295)","v":0},{"$f":"IF(OR(AB294+1>(IF(AND(Simulador!$C$9<Simulador!$C$10,OR(Simulador!$E$7=\"Resgate\",Simulador!$E$7=\"Portabilidade\")),Simulador!$C$9,Simulador!$C$50)-Simulador!$C$8)*12,AB294=0),0,AB294+1)","v":291},{"$f":"IF($AB295=0,0,AC294*(1+Simulador!$D$34)+F295+M295)","v":0},{"$f":"IF($AB295=0,0,AD294*(1+Simulador!$D$34)+T295)","v":0}]
[{"$f":"IF(OR(A295+1>(IF(Simulador!$E$7=\"Autopatrocínio\",Simulador!$C$10,Simulador!$C$9)-Simulador!$C$8)*12,A295=0),0,A295+1)","v":0},{"$f":"IF($A296=0,0,IF(INT($A295/12)-$A295/12=0,B295*(1+Simulador!$C$35),B295))","v":0},{"$f":"MAX(IF(A296=0,0,B296-IF(Simulador!$C$11=\"Individual\",0,Simulador!$C$14)),0)","v":0},null,0,0,0,0,0,0,null,0,0,0,0,0,0,null,0,0,0,0,0,null,{"$f":"IF(OR(Y295+1>(IF(AND(Simulador!$C$9<Simulador!$C$10,OR(Simulador!$E$7=\"Resgate\",Simulador!$E$7=\"Portabilidade\")),Simulador!$C$9,Simulador!$C$10)-Simulador!$C$8)*12,Y295=0),0,Y295+1)","v":292},{"$f":"IF($Y296=0,0,Z295*(1+Simulador!$D$34)+E296+L296)","v":0},{"$f":"IF($Y296=0,0,AA295*(1+Simulador!$D$34)+S296)","v":0},{"$f":"IF(OR(AB295+1>(IF(AND(Simulador!$C$9<Simulador!$C$10,OR(Simulador!$E$7=\"Resgate\",Simulador!$E$7=\"Portabilidade\")),Simulador!$C$9,Simulador!$C$50)-Simulador!$C$8)*12,AB295=0),0,AB295+1)","v":292},{"$f":"IF($AB296=0,0,AC295*(1+Simulador!$D$34)+F296+M296)","v":0},{"$f":"IF($AB296=0,0,AD295*(1+Simulador!$D$34)+T296)","v":0}]
[{"$f":"IF(OR(A296+1>(IF(Simulador!$E$7=\"Autopatrocínio\",Simulador!$C$10,Simulador!$C$9)-Simulador!$C$8)*12,A296=0),0,A296+1)","v":0},{"$f":"IF($A297=0,0,IF(INT($A296/12)-$A296/12=0,B296*(1+Simulador!$C$35),B296))","v":0},{"$f":"MAX(IF(A297=0,0,B297-IF(Simulador!$C$11=\"Individual\",0,Simulador!$C$14)),0)","v":0},null,0,0,0,0,0,0,null,0,0,0,0,0,0,null,0,0,0,0,0,null,{"$f":"IF(OR(Y296+1>(IF(AND(Simulador!$C$9<Simulador!$C$10,OR(Simulador!$E$7=\"Resgate\",Simulador!$E$7=\"Portabilidade\")),Simulador!$C$9,Simulador!$C$10)-Simulador!$C$8)*12,Y296=0),0,Y296+1)","v":293},{"$f":"IF($Y297=0,0,Z296*(1+Simulador!$D$34)+E297+L297)","v":0},{"$f":"IF($Y297=0,0,AA296*(1+Simulador!$D$34)+S297)","v":0},{"$f":"IF(OR(AB296+1>(IF(AND(Simulador!$C$9<Simulador!$C$10,OR(Simulador!$E$7=\"Resgate\",Simulador!$E$7=\"Portabilidade\")),Simulador!$C$9,Simulador!$C$50)-Simulador!$C$8)*12,AB296=0),0,AB296+1)","v":293},{"$f":"IF($AB297=0,0,AC296*(1+Simulador!$D$34)+F297+M297)","v":0},{"$f":"IF($AB297=0,0,AD296*(1+Simulador!$D$34)+T297)","v":0}]
[{"$f":"IF(OR(A297+1>(IF(Simulador!$E$7=\"Autopatrocínio\",Simulador!$C$10,Simulador!$C$9)-Simulador!$C$8)*12,A297=0),0,A297+1)","v":0},{"$f":"IF($A298=0,0,IF(INT($A297/12)-$A297/12=0,B297*(1+Simulador!$C$35),B297))","v":0},{"$f":"MAX(IF(A298=0,0,B298-IF(Simulador!$C$11=\"Individual\",0,Simulador!$C$14)),0)","v":0},null,0,0,0,0,0,0,null,0,0,0,0,0,0,null,0,0,0,0,0,null,{"$f":"IF(OR(Y297+1>(IF(AND(Simulador!$C$9<Simulador!$C$10,OR(Simulador!$E$7=\"Resgate\",Simulador!$E$7=\"Portabilidade\")),Simulador!$C$9,Simulador!$C$10)-Simulador!$C$8)*12,Y297=0),0,Y297+1)","v":294},{"$f":"IF($Y298=0,0,Z297*(1+Simulador!$D$34)+E298+L298)","v":0},{"$f":"IF($Y298=0,0,AA297*(1+Simulador!$D$34)+S298)","v":0},{"$f":"IF(OR(AB297+1>(IF(AND(Simulador!$C$9<Simulador!$C$10,OR(Simulador!$E$7=\"Resgate\",Simulador!$E$7=\"Portabilidade\")),Simulador!$C$9,Simulador!$C$50)-Simulador!$C$8)*12,AB297=0),0,AB297+1)","v":294},{"$f":"IF($AB298=0,0,AC297*(1+Simulador!$D$34)+F298+M298)","v":0},{"$f":"IF($AB298=0,0,AD297*(1+Simulador!$D$34)+T298)","v":0}]
[{"$f":"IF(OR(A298+1>(IF(Simulador!$E$7=\"Autopatrocínio\",Simulador!$C$10,Simulador!$C$9)-Simulador!$C$8)*12,A298=0),0,A298+1)","v":0},{"$f":"IF($A299=0,0,IF(INT($A298/12)-$A298/12=0,B298*(1+Simulador!$C$35),B298))","v":0},{"$f":"MAX(IF(A299=0,0,B299-IF(Simulador!$C$11=\"Individual\",0,Simulador!$C$14)),0)","v":0},null,0,0,0,0,0,0,null,0,0,0,0,0,0,null,0,0,0,0,0,null,{"$f":"IF(OR(Y298+1>(IF(AND(Simulador!$C$9<Simulador!$C$10,OR(Simulador!$E$7=\"Resgate\",Simulador!$E$7=\"Portabilidade\")),Simulador!$C$9,Simulador!$C$10)-Simulador!$C$8)*12,Y298=0),0,Y298+1)","v":295},{"$f":"IF($Y299=0,0,Z298*(1+Simulador!$D$34)+E299+L299)","v":0},{"$f":"IF($Y299=0,0,AA298*(1+Simulador!$D$34)+S299)","v":0},{"$f":"IF(OR(AB298+1>(IF(AND(Simulador!$C$9<Simulador!$C$10,OR(Simulador!$E$7=\"Resgate\",Simulador!$E$7=\"Portabilidade\")),Simulador!$C$9,Simulador!$C$50)-Simulador!$C$8)*12,AB298=0),0,AB298+1)","v":295},{"$f":"IF($AB299=0,0,AC298*(1+Simulador!$D$34)+F299+M299)","v":0},{"$f":"IF($AB299=0,0,AD298*(1+Simulador!$D$34)+T299)","v":0}]
[{"$f":"IF(OR(A299+1>(IF(Simulador!$E$7=\"Autopatrocínio\",Simulador!$C$10,Simulador!$C$9)-Simulador!$C$8)*12,A299=0),0,A299+1)","v":0},{"$f":"IF($A300=0,0,IF(INT($A299/12)-$A299/12=0,B299*(1+Simulador!$C$35),B299))","v":0},{"$f":"MAX(IF(A300=0,0,B300-IF(Simulador!$C$11=\"Individual\",0,Simulador!$C$14)),0)","v":0},null,0,0,0,0,0,0,null,0,0,0,0,0,0,null,0,0,0,0,0,null,{"$f":"IF(OR(Y299+1>(IF(AND(Simulador!$C$9<Simulador!$C$10,OR(Simulador!$E$7=\"Resgate\",Simulador!$E$7=\"Portabilidade\")),Simulador!$C$9,Simulador!$C$10)-Simulador!$C$8)*12,Y299=0),0,Y299+1)","v":296},{"$f":"IF($Y300=0,0,Z299*(1+Simulador!$D$34)+E300+L300)","v":0},{"$f":"IF($Y300=0,0,AA299*(1+Simulador!$D$34)+S300)","v":0},{"$f":"IF(OR(AB299+1>(IF(AND(Simulador!$C$9<Simulador!$C$10,OR(Simulador!$E$7=\"Resgate\",Simulador!$E$7=\"Portabilidade\")),Simulador!$C$9,Simulador!$C$50)-Simulador!$C$8)*12,AB299=0),0,AB299+1)","v":296},{"$f":"IF($AB300=0,0,AC299*(1+Simulador!$D$34)+F300+M300)","v":0},{"$f":"IF($AB300=0,0,AD299*(1+Simulador!$D$34)+T300)","v":0}]
[{"$f":"IF(OR(A300+1>(IF(Simulador!$E$7=\"Autopatrocínio\",Simulador!$C$10,Simulador!$C$9)-Simulador!$C$8)*12,A300=0),0,A300+1)","v":0},{"$f":"IF($A301=0,0,IF(INT($A300/12)-$A300/12=0,B300*(1+Simulador!$C$35),B300))","v":0},{"$f":"MAX(IF(A301=0,0,B301-IF(Simulador!$C$11=\"Individual\",0,Simulador!$C$14)),0)","v":0},null,0,0,0,0,0,0,null,0,0,0,0,0,0,null,0,0,0,0,0,null,{"$f":"IF(OR(Y300+1>(IF(AND(Simulador!$C$9<Simulador!$C$10,OR(Simulador!$E$7=\"Resgate\",Simulador!$E$7=\"Portabilidade\")),Simulador!$C$9,Simulador!$C$10)-Simulador!$C$8)*12,Y300=0),0,Y300+1)","v":297},{"$f":"IF($Y301=0,0,Z300*(1+Simulador!$D$34)+E301+L301)","v":0},{"$f":"IF($Y301=0,0,AA300*(1+Simulador!$D$34)+S301)","v":0},{"$f":"IF(OR(AB300+1>(IF(AND(Simulador!$C$9<Simulador!$C$10,OR(Simulador!$E$7=\"Resgate\",Simulador!$E$7=\"Portabilidade\")),Simulador!$C$9,Simulador!$C$50)-Simulador!$C$8)*12,AB300=0),0,AB300+1)","v":297},{"$f":"IF($AB301=0,0,AC300*(1+Simulador!$D$34)+F301+M301)","v":0},{"$f":"IF($AB301=0,0,AD300*(1+Simulador!$D$34)+T301)","v":0}]
[{"$f":"IF(OR(A301+1>(IF(Simulador!$E$7=\"Autopatrocínio\",Simulador!$C$10,Simulador!$C$9)-Simulador!$C$8)*12,A301=0),0,A301+1)","v":0},{"$f":"IF($A302=0,0,IF(INT($A301/12)-$A301/12=0,B301*(1+Simulador!$C$35),B301))","v":0},{"$f":"MAX(IF(A302=0,0,B302-IF(Simulador!$C$11=\"Individual\",0,Simulador!$C$14)),0)","v":0},null,0,0,0,0,0,0,null,0,0,0,0,0,0,null,0,0,0,0,0,null,{"$f":"IF(OR(Y301+1>(IF(AND(Simulador!$C$9<Simulador!$C$10,OR(Simulador!$E$7=\"Resgate\",Simulador!$E$7=\"Portabilidade\")),Simulador!$C$9,Simulador!$C$10)-Simulador!$C$8)*12,Y301=0),0,Y301+1)","v":298},{"$f":"IF($Y302=0,0,Z301*(1+Simulador!$D$34)+E302+L302)","v":0},{"$f":"IF($Y302=0,0,AA301*(1+Simulador!$D$34)+S302)","v":0},{"$f":"IF(OR(AB301+1>(IF(AND(Simulador!$C$9<Simulador!$C$10,OR(Simulador!$E$7=\"Resgate\",Simulador!$E$7=\"Portabilidade\")),Simulador!$C$9,Simulador!$C$50)-Simulador!$C$8)*12,AB301=0),0,AB301+1)","v":298},{"$f":"IF($AB302=0,0,AC301*(1+Simulador!$D$34)+F302+M302)","v":0},{"$f":"IF($AB302=0,0,AD301*(1+Simulador!$D$34)+T302)","v":0}]
[{"$f":"IF(OR(A302+1>(IF(Simulador!$E$7=\"Autopatrocínio\",Simulador!$C$10,Simulador!$C$9)-Simulador!$C$8)*12,A302=0),0,A302+1)","v":0},{"$f":"IF($A303=0,0,IF(INT($A302/12)-$A302/12=0,B302*(1+Simulador!$C$35),B302))","v":0},{"$f":"MAX(IF(A303=0,0,B303-IF(Simulador!$C$11=\"Individual\",0,Simulador!$C$14)),0)","v":0},null,0,0,0,0,0,0,null,0,0,0,0,0,0,null,0,0,0,0,0,null,{"$f":"IF(OR(Y302+1>(IF(AND(Simulador!$C$9<Simulador!$C$10,OR(Simulador!$E$7=\"Resgate\",Simulador!$E$7=\"Portabilidade\")),Simulador!$C$9,Simulador!$C$10)-Simulador!$C$8)*12,Y302=0),0,Y302+1)","v":299},{"$f":"IF($Y303=0,0,Z302*(1+Simulador!$D$34)+E303+L303)","v":0},{"$f":"IF($Y303=0,0,AA302*(1+Simulador!$D$34)+S303)","v":0},{"$f":"IF(OR(AB302+1>(IF(AND(Simulador!$C$9<Simulador!$C$10,OR(Simulador!$E$7=\"Resgate\",Simulador!$E$7=\"Portabilidade\")),Simulador!$C$9,Simulador!$C$50)-Simulador!$C$8)*12,AB302=0),0,AB302+1)","v":299},{"$f":"IF($AB303=0,0,AC302*(1+Simulador!$D$34)+F303+M303)","v":0},{"$f":"IF($AB303=0,0,AD302*(1+Simulador!$D$34)+T303)","v":0}]
[{"$f":"IF(OR(A303+1>(IF(Simulador!$E$7=\"Autopatrocínio\",Simulador!$C$10,Simulador!$C$9)-Simulador!$C$8)*12,A303=0),0,A303+1)","v":0},{"$f":"IF($A304=0,0,IF(INT($A303/12)-$A303/12=0,B303*(1+Simulador!$C$35),B303))","v":0},{"$f":"MAX(IF(A304=0,0,B304-IF(Simulador!$C$11=\"Individual\",0,Simulador!$C$14)),0)","v":0},null,0,0,0,0,0,0,null,0,0,0,0,0,0,null,0,0,0,0,0,null,{"$f":"IF(OR(Y303+1>(IF(AND(Simulador!$C$9<Simulador!$C$10,OR(Simulador!$E$7=\"Resgate\",Simulador!$E$7=\"Portabilidade\")),Simulador!$C$9,Simulador!$C$10)-Simulador!$C$8)*12,Y303=0),0,Y303+1)","v":300},{"$f":"IF($Y304=0,0,Z303*(1+Simulador!$D$34)+E304+L304)","v":0},{"$f":"IF($Y304=0,0,AA303*(1+Simulador!$D$34)+S304)","v":0},{"$f":"IF(OR(AB303+1>(IF(AND(Simulador!$C$9<Simulador!$C$10,OR(Simulador!$E$7=\"Resgate\",Simulador!$E$7=\"Portabilidade\")),Simulador!$C$9,Simulador!$C$50)-Simulador!$C$8)*12,AB303=0),0,AB303+1)","v":300},{"$f":"IF($AB304=0,0,AC303*(1+Simulador!$D$34)+F304+M304)","v":0},{"$f":"IF($AB304=0,0,AD303*(1+Simulador!$D$34)+T304)","v":0}]
[{"$f":"IF(OR(A304+1>(IF(Simulador!$E$7=\"Autopatrocínio\",Simulador!$C$10,Simulador!$C$9)-Simulador!$C$8)*12,A304=0),0,A304+1)","v":0},{"$f":"IF($A305=0,0,IF(INT($A304/12)-$A304/12=0,B304*(1+Simulador!$C$35),B304))","v":0},{"$f":"MAX(IF(A305=0,0,B305-IF(Simulador!$C$11=\"Individual\",0,Simulador!$C$14)),0)","v":0},null,{"$f":"E$4*$C305*(1+$J305)","v":0},0,0,0,0,0,null,{"$f":"L$4*$C305*$Q305","v":0},0,0,0,0,0,null,0,0,0,0,0,null,{"$f":"IF(OR(Y304+1>(IF(AND(Simulador!$C$9<Simulador!$C$10,OR(Simulador!$E$7=\"Resgate\",Simulador!$E$7=\"Portabilidade\")),Simulador!$C$9,Simulador!$C$10)-Simulador!$C$8)*12,Y304=0),0,Y304+1)","v":301},{"$f":"IF($Y305=0,0,Z304*(1+Simulador!$D$34)+E305+L305)","v":0},{"$f":"IF($Y305=0,0,AA304*(1+Simulador!$D$34)+S305)","v":0},{"$f":"IF(OR(AB304+1>(IF(AND(Simulador!$C$9<Simulador!$C$10,OR(Simulador!$E$7=\"Resgate\",Simulador!$E$7=\"Portabilidade\")),Simulador!$C$9,Simulador!$C$50)-Simulador!$C$8)*12,AB304=0),0,AB304+1)","v":301},{"$f":"IF($AB305=0,0,AC304*(1+Simulador!$D$34)+F305+M305)","v":0},{"$f":"IF($AB305=0,0,AD304*(1+Simulador!$D$34)+T305)","v":0}]
[{"$f":"IF(OR(A305+1>(IF(Simulador!$E$7=\"Autopatrocínio\",Simulador!$C$10,Simulador!$C$9)-Simulador!$C$8)*12,A305=0),0,A305+1)","v":0},{"$f":"IF($A306=0,0,IF(INT($A305/12)-$A305/12=0,B305*(1+Simulador!$C$35),B305))","v":0},{"$f":"MAX(IF(A306=0,0,B306-IF(Simulador!$C$11=\"Individual\",0,Simulador!$C$14)),0)","v":0},null,0,0,0,0,0,0,null,0,0,0,0,0,0,null,0,0,0,0,0,null,{"$f":"IF(OR(Y305+1>(IF(AND(Simulador!$C$9<Simulador!$C$10,OR(Simulador!$E$7=\"Resgate\",Simulador!$E$7=\"Portabilidade\")),Simulador!$C$9,Simulador!$C$10)-Simulador!$C$8)*12,Y305=0),0,Y305+1)","v":302},{"$f":"IF($Y306=0,0,Z305*(1+Simulador!$D$34)+E306+L306)","v":0},{"$f":"IF($Y306=0,0,AA305*(1+Simulador!$D$34)+S306)","v":0},{"$f":"IF(OR(AB305+1>(IF(AND(Simulador!$C$9<Simulador!$C$10,OR(Simulador!$E$7=\"Resgate\",Simulador!$E$7=\"Portabilidade\")),Simulador!$C$9,Simulador!$C$50)-Simulador!$C$8)*12,AB305=0),0,AB305+1)","v":302},{"$f":"IF($AB306=0,0,AC305*(1+Simulador!$D$34)+F306+M306)","v":0},{"$f":"IF($AB306=0,0,AD305*(1+Simulador!$D$34)+T306)","v":0}]
[{"$f":"IF(OR(A306+1>(IF(Simulador!$E$7=\"Autopatrocínio\",Simulador!$C$10,Simulador!$C$9)-Simulador!$C$8)*12,A306=0),0,A306+1)","v":0},{"$f":"IF($A307=0,0,IF(INT($A306/12)-$A306/12=0,B306*(1+Simulador!$C$35),B306))","v":0},{"$f":"MAX(IF(A307=0,0,B307-IF(Simulador!$C$11=\"Individual\",0,Simulador!$C$14)),0)","v":0},null,0,0,0,0,0,0,null,0,0,0,0,0,0,null,0,0,0,0,0,null,{"$f":"IF(OR(Y306+1>(IF(AND(Simulador!$C$9<Simulador!$C$10,OR(Simulador!$E$7=\"Resgate\",Simulador!$E$7=\"Portabilidade\")),Simulador!$C$9,Simulador!$C$10)-Simulador!$C$8)*12,Y306=0),0,Y306+1)","v":303},{"$f":"IF($Y307=0,0,Z306*(1+Simulador!$D$34)+E307+L307)","v":0},{"$f":"IF($Y307=0,0,AA306*(1+Simulador!$D$34)+S307)","v":0},{"$f":"IF(OR(AB306+1>(IF(AND(Simulador!$C$9<Simulador!$C$10,OR(Simulador!$E$7=\"Resgate\",Simulador!$E$7=\"Portabilidade\")),Simulador!$C$9,Simulador!$C$50)-Simulador!$C$8)*12,AB306=0),0,AB306+1)","v":303},{"$f":"IF($AB307=0,0,AC306*(1+Simulador!$D$34)+F307+M307)","v":0},{"$f":"IF($AB307=0,0,AD306*(1+Simulador!$D$34)+T307)","v":0}]
[{"$f":"IF(OR(A307+1>(IF(Simulador!$E$7=\"Autopatrocínio\",Simulador!$C$10,Simulador!$C$9)-Simulador!$C$8)*12,A307=0),0,A307+1)","v":0},{"$f":"IF($A308=0,0,IF(INT($A307/12)-$A307/12=0,B307*(1+Simulador!$C$35),B307))","v":0},{"$f":"MAX(IF(A308=0,0,B308-IF(Simulador!$C$11=\"Individual\",0,Simulador!$C$14)),0)","v":0},null,0,0,0,0,0,0,null,0,0,0,0,0,0,null,0,0,0,0,0,null,{"$f":"IF(OR(Y307+1>(IF(AND(Simulador!$C$9<Simulador!$C$10,OR(Simulador!$E$7=\"Resgate\",Simulador!$E$7=\"Portabilidade\")),Simulador!$C$9,Simulador!$C$10)-Simulador!$C$8)*12,Y307=0),0,Y307+1)","v":304},{"$f":"IF($Y308=0,0,Z307*(1+Simulador!$D$34)+E308+L308)","v":0},{"$f":"IF($Y308=0,0,AA307*(1+Simulador!$D$34)+S308)","v":0},{"$f":"IF(OR(AB307+1>(IF(AND(Simulador!$C$9<Simulador!$C$10,OR(Simulador!$E$7=\"Resgate\",Simulador!$E$7=\"Portabilidade\")),Simulador!$C$9,Simulador!$C$50)-Simulador!$C$8)*12,AB307=0),0,AB307+1)","v":304},{"$f":"IF($AB308=0,0,AC307*(1+Simulador!$D$34)+F308+M308)","v":0},{"$f":"IF($AB308=0,0,AD307*(1+Simulador!$D$34)+T308)","v":0}]
[{"$f":"IF(OR(A308+1>(IF(Simulador!$E$7=\"Autopatrocínio\",Simulador!$C$10,Simulador!$C$9)-Simulador!$C$8)*12,A308=0),0,A308+1)","v":0},{"$f":"IF($A309=0,0,IF(INT($A308/12)-$A308/12=0,B308*(1+Simulador!$C$35),B308))","v":0},{"$f":"MAX(IF(A309=0,0,B309-IF(Simulador!$C$11=\"Individual\",0,Simulador!$C$14)),0)","v":0},null,0,0,0,0,0,0,null,0,0,0,0,0,0,null,{"$f":"S$4*$C309*(1+$J309)","v":0},0,0,0,0,null,{"$f":"IF(OR(Y308+1>(IF(AND(Simulador!$C$9<Simulador!$C$10,OR(Simulador!$E$7=\"Resgate\",Simulador!$E$7=\"Portabilidade\")),Simulador!$C$9,Simulador!$C$10)-Simulador!$C$8)*12,Y308=0),0,Y308+1)","v":305},{"$f":"IF($Y309=0,0,Z308*(1+Simulador!$D$34)+E309+L309)","v":0},{"$f":"IF($Y309=0,0,AA308*(1+Simulador!$D$34)+S309)","v":0},{"$f":"IF(OR(AB308+1>(IF(AND(Simulador!$C$9<Simulador!$C$10,OR(Simulador!$E$7=\"Resgate\",Simulador!$E$7=\"Portabilidade\")),Simulador!$C$9,Simulador!$C$50)-Simulador!$C$8)*12,AB308=0),0,AB308+1)","v":305},{"$f":"IF($AB309=0,0,AC308*(1+Simulador!$D$34)+F309+M309)","v":0},{"$f":"IF($AB309=0,0,AD308*(1+Simulador!$D$34)+T309)","v":0}]
[{"$f":"IF(OR(A309+1>(IF(Simulador!$E$7=\"Autopatrocínio\",Simulador!$C$10,Simulador!$C$9)-Simulador!$C$8)*12,A309=0),0,A309+1)","v":0},{"$f":"IF($A310=0,0,IF(INT($A309/12)-$A309/12=0,B309*(1+Simulador!$C$35),B309))","v":0},{"$f":"MAX(IF(A310=0,0,B310-IF(Simulador!$C$11=\"Individual\",0,Simulador!$C$14)),0)","v":0},null,0,0,0,0,0,0,null,0,0,0,0,0,0,null,0,0,0,0,0,null,{"$f":"IF(OR(Y309+1>(IF(AND(Simulador!$C$9<Simulador!$C$10,OR(Simulador!$E$7=\"Resgate\",Simulador!$E$7=\"Portabilidade\")),Simulador!$C$9,Simulador!$C$10)-Simulador!$C$8)*12,Y309=0),0,Y309+1)","v":306},{"$f":"IF($Y310=0,0,Z309*(1+Simulador!$D$34)+E310+L310)","v":0},{"$f":"IF($Y310=0,0,AA309*(1+Simulador!$D$34)+S310)","v":0},{"$f":"IF(OR(AB309+1>(IF(AND(Simulador!$C$9<Simulador!$C$10,OR(Simulador!$E$7=\"Resgate\",Simulador!$E$7=\"Portabilidade\")),Simulador!$C$9,Simulador!$C$50)-Simulador!$C$8)*12,AB309=0),0,AB309+1)","v":306},{"$f":"IF($AB310=0,0,AC309*(1+Simulador!$D$34)+F310+M310)","v":0},{"$f":"IF($AB310=0,0,AD309*(1+Simulador!$D$34)+T310)","v":0}]
[{"$f":"IF(OR(A310+1>(IF(Simulador!$E$7=\"Autopatrocínio\",Simulador!$C$10,Simulador!$C$9)-Simulador!$C$8)*12,A310=0),0,A310+1)","v":0},{"$f":"IF($A311=0,0,IF(INT($A310/12)-$A310/12=0,B310*(1+Simulador!$C$35),B310))","v":0},{"$f":"MAX(IF(A311=0,0,B311-IF(Simulador!$C$11=\"Individual\",0,Simulador!$C$14)),0)","v":0},null,0,0,0,0,0,0,null,0,0,0,0,0,0,null,0,0,0,0,0,null,{"$f":"IF(OR(Y310+1>(IF(AND(Simulador!$C$9<Simulador!$C$10,OR(Simulador!$E$7=\"Resgate\",Simulador!$E$7=\"Portabilidade\")),Simulador!$C$9,Simulador!$C$10)-Simulador!$C$8)*12,Y310=0),0,Y310+1)","v":307},{"$f":"IF($Y311=0,0,Z310*(1+Simulador!$D$34)+E311+L311)","v":0},{"$f":"IF($Y311=0,0,AA310*(1+Simulador!$D$34)+S311)","v":0},{"$f":"IF(OR(AB310+1>(IF(AND(Simulador!$C$9<Simulador!$C$10,OR(Simulador!$E$7=\"Resgate\",Simulador!$E$7=\"Portabilidade\")),Simulador!$C$9,Simulador!$C$50)-Simulador!$C$8)*12,AB310=0),0,AB310+1)","v":307},{"$f":"IF($AB311=0,0,AC310*(1+Simulador!$D$34)+F311+M311)","v":0},{"$f":"IF($AB311=0,0,AD310*(1+Simulador!$D$34)+T311)","v":0}]
[{"$f":"IF(OR(A311+1>(IF(Simulador!$E$7=\"Autopatrocínio\",Simulador!$C$10,Simulador!$C$9)-Simulador!$C$8)*12,A311=0),0,A311+1)","v":0},{"$f":"IF($A312=0,0,IF(INT($A311/12)-$A311/12=0,B311*(1+Simulador!$C$35),B311))","v":0},{"$f":"MAX(IF(A312=0,0,B312-IF(Simulador!$C$11=\"Individual\",0,Simulador!$C$14)),0)","v":0},null,0,0,0,0,0,0,null,0,0,0,0,0,0,null,0,0,0,0,0,null,{"$f":"IF(OR(Y311+1>(IF(AND(Simulador!$C$9<Simulador!$C$10,OR(Simulador!$E$7=\"Resgate\",Simulador!$E$7=\"Portabilidade\")),Simulador!$C$9,Simulador!$C$10)-Simulador!$C$8)*12,Y311=0),0,Y311+1)","v":308},{"$f":"IF($Y312=0,0,Z311*(1+Simulador!$D$34)+E312+L312)","v":0},{"$f":"IF($Y312=0,0,AA311*(1+Simulador!$D$34)+S312)","v":0},{"$f":"IF(OR(AB311+1>(IF(AND(Simulador!$C$9<Simulador!$C$10,OR(Simulador!$E$7=\"Resgate\",Simulador!$E$7=\"Portabilidade\")),Simulador!$C$9,Simulador!$C$50)-Simulador!$C$8)*12,AB311=0),0,AB311+1)","v":308},{"$f":"IF($AB312=0,0,AC311*(1+Simulador!$D$34)+F312+M312)","v":0},{"$f":"IF($AB312=0,0,AD311*(1+Simulador!$D$34)+T312)","v":0}]
[{"$f":"IF(OR(A312+1>(IF(Simulador!$E$7=\"Autopatrocínio\",Simulador!$C$10,Simulador!$C$9)-Simulador!$C$8)*12,A312=0),0,A312+1)","v":0},{"$f":"IF($A313=0,0,IF(INT($A312/12)-$A312/12=0,B312*(1+Simulador!$C$35),B312))","v":0},{"$f":"MAX(IF(A313=0,0,B313-IF(Simulador!$C$11=\"Individual\",0,Simulador!$C$14)),0)","v":0},null,0,0,0,0,0,0,null,0,0,0,0,0,0,null,0,0,0,0,0,null,{"$f":"IF(OR(Y312+1>(IF(AND(Simulador!$C$9<Simulador!$C$10,OR(Simulador!$E$7=\"Resgate\",Simulador!$E$7=\"Portabilidade\")),Simulador!$C$9,Simulador!$C$10)-Simulador!$C$8)*12,Y312=0),0,Y312+1)","v":309},{"$f":"IF($Y313=0,0,Z312*(1+Simulador!$D$34)+E313+L313)","v":0},{"$f":"IF($Y313=0,0,AA312*(1+Simulador!$D$34)+S313)","v":0},{"$f":"IF(OR(AB312+1>(IF(AND(Simulador!$C$9<Simulador!$C$10,OR(Simulador!$E$7=\"Resgate\",Simulador!$E$7=\"Portabilidade\")),Simulador!$C$9,Simulador!$C$50)-Simulador!$C$8)*12,AB312=0),0,AB312+1)","v":309},{"$f":"IF($AB313=0,0,AC312*(1+Simulador!$D$34)+F313+M313)","v":0},{"$f":"IF($AB313=0,0,AD312*(1+Simulador!$D$34)+T313)","v":0}]
[{"$f":"IF(OR(A313+1>(IF(Simulador!$E$7=\"Autopatrocínio\",Simulador!$C$10,Simulador!$C$9)-Simulador!$C$8)*12,A313=0),0,A313+1)","v":0},{"$f":"IF($A314=0,0,IF(INT($A313/12)-$A313/12=0,B313*(1+Simulador!$C$35),B313))","v":0},{"$f":"MAX(IF(A314=0,0,B314-IF(Simulador!$C$11=\"Individual\",0,Simulador!$C$14)),0)","v":0},null,0,0,0,0,0,0,null,0,0,0,0,0,0,null,0,0,0,0,0,null,{"$f":"IF(OR(Y313+1>(IF(AND(Simulador!$C$9<Simulador!$C$10,OR(Simulador!$E$7=\"Resgate\",Simulador!$E$7=\"Portabilidade\")),Simulador!$C$9,Simulador!$C$10)-Simulador!$C$8)*12,Y313=0),0,Y313+1)","v":310},{"$f":"IF($Y314=0,0,Z313*(1+Simulador!$D$34)+E314+L314)","v":0},{"$f":"IF($Y314=0,0,AA313*(1+Simulador!$D$34)+S314)","v":0},{"$f":"IF(OR(AB313+1>(IF(AND(Simulador!$C$9<Simulador!$C$10,OR(Simulador!$E$7=\"Resgate\",Simulador!$E$7=\"Portabilidade\")),Simulador!$C$9,Simulador!$C$50)-Simulador!$C$8)*12,AB313=0),0,AB313+1)","v":310},{"$f":"IF($AB314=0,0,AC313*(1+Simulador!$D$34)+F314+M314)","v":0},{"$f":"IF($AB314=0,0,AD313*(1+Simulador!$D$34)+T314)","v":0}]
[{"$f":"IF(OR(A314+1>(IF(Simulador!$E$7=\"Autopatrocínio\",Simulador!$C$10,Simulador!$C$9)-Simulador!$C$8)*12,A314=0),0,A314+1)","v":0},{"$f":"IF($A315=0,0,IF(INT($A314/12)-$A314/12=0,B314*(1+Simulador!$C$35),B314))","v":0},{"$f":"MAX(IF(A315=0,0,B315-IF(Simulador!$C$11=\"Individual\",0,Simulador!$C$14)),0)","v":0},null,{"$f":"E$4*$C315*(1+$J315)","v":0},0,0,0,0,0,null,{"$f":"L$4*$C315*$Q315","v":0},0,0,0,0,0,null,0,0,0,0,0,null,{"$f":"IF(OR(Y314+1>(IF(AND(Simulador!$C$9<Simulador!$C$10,OR(Simulador!$E$7=\"Resgate\",Simulador!$E$7=\"Portabilidade\")),Simulador!$C$9,Simulador!$C$10)-Simulador!$C$8)*12,Y314=0),0,Y314+1)","v":311},{"$f":"IF($Y315=0,0,Z314*(1+Simulador!$D$34)+E315+L315)","v":0},{"$f":"IF($Y315=0,0,AA314*(1+Simulador!$D$34)+S315)","v":0},{"$f":"IF(OR(AB314+1>(IF(AND(Simulador!$C$9<Simulador!$C$10,OR(Simulador!$E$7=\"Resgate\",Simulador!$E$7=\"Portabilidade\")),Simulador!$C$9,Simulador!$C$50)-Simulador!$C$8)*12,AB314=0),0,AB314+1)","v":311},{"$f":"IF($AB315=0,0,AC314*(1+Simulador!$D$34)+F315+M315)","v":0},{"$f":"IF($AB315=0,0,AD314*(1+Simulador!$D$34)+T315)","v":0}]
[{"$f":"IF(OR(A315+1>(IF(Simulador!$E$7=\"Autopatrocínio\",Simulador!$C$10,Simulador!$C$9)-Simulador!$C$8)*12,A315=0),0,A315+1)","v":0},{"$f":"IF($A316=0,0,IF(INT($A315/12)-$A315/12=0,B315*(1+Simulador!$C$35),B315))","v":0},{"$f":"MAX(IF(A316=0,0,B316-IF(Simulador!$C$11=\"Individual\",0,Simulador!$C$14)),0)","v":0},null,0,0,0,0,0,0,null,0,0,0,0,0,0,null,0,0,0,0,0,null,{"$f":"IF(OR(Y315+1>(IF(AND(Simulador!$C$9<Simulador!$C$10,OR(Simulador!$E$7=\"Resgate\",Simulador!$E$7=\"Portabilidade\")),Simulador!$C$9,Simulador!$C$10)-Simulador!$C$8)*12,Y315=0),0,Y315+1)","v":312},{"$f":"IF($Y316=0,0,Z315*(1+Simulador!$D$34)+E316+L316)","v":0},{"$f":"IF($Y316=0,0,AA315*(1+Simulador!$D$34)+S316)","v":0},{"$f":"IF(OR(AB315+1>(IF(AND(Simulador!$C$9<Simulador!$C$10,OR(Simulador!$E$7=\"Resgate\",Simulador!$E$7=\"Portabilidade\")),Simulador!$C$9,Simulador!$C$50)-Simulador!$C$8)*12,AB315=0),0,AB315+1)","v":312},{"$f":"IF($AB316=0,0,AC315*(1+Simulador!$D$34)+F316+M316)","v":0},{"$f":"IF($AB316=0,0,AD315*(1+Simulador!$D$34)+T316)","v":0}]
[{"$f":"IF(OR(A316+1>(IF(Simulador!$E$7=\"Autopatrocínio\",Simulador!$C$10,Simulador!$C$9)-Simulador!$C$8)*12,A316=0),0,A316+1)","v":0},{"$f":"IF($A317=0,0,IF(INT($A316/12)-$A316/12=0,B316*(1+Simulador!$C$35),B316))","v":0},{"$f":"MAX(IF(A317=0,0,B317-IF(Simulador!$C$11=\"Individual\",0,Simulador!$C$14)),0)","v":0},null,0,0,0,0,0,0,null,0,0,0,0,0,0,null,0,0,0,0,0,null,{"$f":"IF(OR(Y316+1>(IF(AND(Simulador!$C$9<Simulador!$C$10,OR(Simulador!$E$7=\"Resgate\",Simulador!$E$7=\"Portabilidade\")),Simulador!$C$9,Simulador!$C$10)-Simulador!$C$8)*12,Y316=0),0,Y316+1)","v":313},{"$f":"IF($Y317=0,0,Z316*(1+Simulador!$D$34)+E317+L317)","v":0},{"$f":"IF($Y317=0,0,AA316*(1+Simulador!$D$34)+S317)","v":0},{"$f":"IF(OR(AB316+1>(IF(AND(Simulador!$C$9<Simulador!$C$10,OR(Simulador!$E$7=\"Resgate\",Simulador!$E$7=\"Portabilidade\")),Simulador!$C$9,Simulador!$C$50)-Simulador!$C$8)*12,AB316=0),0,AB316+1)","v":313},{"$f":"IF($AB317=0,0,AC316*(1+Simulador!$D$34)+F317+M317)","v":0},{"$f":"IF($AB317=0,0,AD316*(1+Simulador!$D$34)+T317)","v":0}]
[{"$f":"IF(OR(A317+1>(IF(Simulador!$E$7=\"Autopatrocínio\",Simulador!$C$10,Simulador!$C$9)-Simulador!$C$8)*12,A317=0),0,A317+1)","v":0},{"$f":"IF($A318=0,0,IF(INT($A317/12)-$A317/12=0,B317*(1+Simulador!$C$35),B317))","v":0},{"$f":"MAX(IF(A318=0,0,B318-IF(Simulador!$C$11=\"Individual\",0,Simulador!$C$14)),0)","v":0},null,0,0,0,0,0,0,null,0,0,0,0,0,0,null,0,0,0,0,0,null,{"$f":"IF(OR(Y317+1>(IF(AND(Simulador!$C$9<Simulador!$C$10,OR(Simulador!$E$7=\"Resgate\",Simulador!$E$7=\"Portabilidade\")),Simulador!$C$9,Simulador!$C$10)-Simulador!$C$8)*12,Y317=0),0,Y317+1)","v":314},{"$f":"IF($Y318=0,0,Z317*(1+Simulador!$D$34)+E318+L318)","v":0},{"$f":"IF($Y318=0,0,AA317*(1+Simulador!$D$34)+S318)","v":0},{"$f":"IF(OR(AB317+1>(IF(AND(Simulador!$C$9<Simulador!$C$10,OR(Simulador!$E$7=\"Resgate\",Simulador!$E$7=\"Portabilidade\")),Simulador!$C$9,Simulador!$C$50)-Simulador!$C$8)*12,AB317=0),0,AB317+1)","v":314},{"$f":"IF($AB318=0,0,AC317*(1+Simulador!$D$34)+F318+M318)","v":0},{"$f":"IF($AB318=0,0,AD317*(1+Simulador!$D$34)+T318)","v":0}]
[{"$f":"IF(OR(A318+1>(IF(Simulador!$E$7=\"Autopatrocínio\",Simulador!$C$10,Simulador!$C$9)-Simulador!$C$8)*12,A318=0),0,A318+1)","v":0},{"$f":"IF($A319=0,0,IF(INT($A318/12)-$A318/12=0,B318*(1+Simulador!$C$35),B318))","v":0},{"$f":"MAX(IF(A319=0,0,B319-IF(Simulador!$C$11=\"Individual\",0,Simulador!$C$14)),0)","v":0},null,0,0,0,0,0,0,null,0,0,0,0,0,0,null,0,0,0,0,0,null,{"$f":"IF(OR(Y318+1>(IF(AND(Simulador!$C$9<Simulador!$C$10,OR(Simulador!$E$7=\"Resgate\",Simulador!$E$7=\"Portabilidade\")),Simulador!$C$9,Simulador!$C$10)-Simulador!$C$8)*12,Y318=0),0,Y318+1)","v":315},{"$f":"IF($Y319=0,0,Z318*(1+Simulador!$D$34)+E319+L319)","v":0},{"$f":"IF($Y319=0,0,AA318*(1+Simulador!$D$34)+S319)","v":0},{"$f":"IF(OR(AB318+1>(IF(AND(Simulador!$C$9<Simulador!$C$10,OR(Simulador!$E$7=\"Resgate\",Simulador!$E$7=\"Portabilidade\")),Simulador!$C$9,Simulador!$C$50)-Simulador!$C$8)*12,AB318=0),0,AB318+1)","v":315},{"$f":"IF($AB319=0,0,AC318*(1+Simulador!$D$34)+F319+M319)","v":0},{"$f":"IF($AB319=0,0,AD318*(1+Simulador!$D$34)+T319)","v":0}]
[{"$f":"IF(OR(A319+1>(IF(Simulador!$E$7=\"Autopatrocínio\",Simulador!$C$10,Simulador!$C$9)-Simulador!$C$8)*12,A319=0),0,A319+1)","v":0},{"$f":"IF($A320=0,0,IF(INT($A319/12)-$A319/12=0,B319*(1+Simulador!$C$35),B319))","v":0},{"$f":"MAX(IF(A320=0,0,B320-IF(Simulador!$C$11=\"Individual\",0,Simulador!$C$14)),0)","v":0},null,0,0,0,0,0,0,null,0,0,0,0,0,0,null,0,0,0,0,0,null,{"$f":"IF(OR(Y319+1>(IF(AND(Simulador!$C$9<Simulador!$C$10,OR(Simulador!$E$7=\"Resgate\",Simulador!$E$7=\"Portabilidade\")),Simulador!$C$9,Simulador!$C$10)-Simulador!$C$8)*12,Y319=0),0,Y319+1)","v":316},{"$f":"IF($Y320=0,0,Z319*(1+Simulador!$D$34)+E320+L320)","v":0},{"$f":"IF($Y320=0,0,AA319*(1+Simulador!$D$34)+S320)","v":0},{"$f":"IF(OR(AB319+1>(IF(AND(Simulador!$C$9<Simulador!$C$10,OR(Simulador!$E$7=\"Resgate\",Simulador!$E$7=\"Portabilidade\")),Simulador!$C$9,Simulador!$C$50)-Simulador!$C$8)*12,AB319=0),0,AB319+1)","v":316},{"$f":"IF($AB320=0,0,AC319*(1+Simulador!$D$34)+F320+M320)","v":0},{"$f":"IF($AB320=0,0,AD319*(1+Simulador!$D$34)+T320)","v":0}]
[{"$f":"IF(OR(A320+1>(IF(Simulador!$E$7=\"Autopatrocínio\",Simulador!$C$10,Simulador!$C$9)-Simulador!$C$8)*12,A320=0),0,A320+1)","v":0},{"$f":"IF($A321=0,0,IF(INT($A320/12)-$A320/12=0,B320*(1+Simulador!$C$35),B320))","v":0},{"$f":"MAX(IF(A321=0,0,B321-IF(Simulador!$C$11=\"Individual\",0,Simulador!$C$14)),0)","v":0},null,0,0,0,0,0,0,null,0,0,0,0,0,0,null,0,0,0,0,0,null,{"$f":"IF(OR(Y320+1>(IF(AND(Simulador!$C$9<Simulador!$C$10,OR(Simulador!$E$7=\"Resgate\",Simulador!$E$7=\"Portabilidade\")),Simulador!$C$9,Simulador!$C$10)-Simulador!$C$8)*12,Y320=0),0,Y320+1)","v":317},{"$f":"IF($Y321=0,0,Z320*(1+Simulador!$D$34)+E321+L321)","v":0},{"$f":"IF($Y321=0,0,AA320*(1+Simulador!$D$34)+S321)","v":0},{"$f":"IF(OR(AB320+1>(IF(AND(Simulador!$C$9<Simulador!$C$10,OR(Simulador!$E$7=\"Resgate\",Simulador!$E$7=\"Portabilidade\")),Simulador!$C$9,Simulador!$C$50)-Simulador!$C$8)*12,AB320=0),0,AB320+1)","v":317},{"$f":"IF($AB321=0,0,AC320*(1+Simulador!$D$34)+F321+M321)","v":0},{"$f":"IF($AB321=0,0,AD320*(1+Simulador!$D$34)+T321)","v":0}]
[{"$f":"IF(OR(A321+1>(IF(Simulador!$E$7=\"Autopatrocínio\",Simulador!$C$10,Simulador!$C$9)-Simulador!$C$8)*12,A321=0),0,A321+1)","v":0},{"$f":"IF($A322=0,0,IF(INT($A321/12)-$A321/12=0,B321*(1+Simulador!$C$35),B321))","v":0},{"$f":"MAX(IF(A322=0,0,B322-IF(Simulador!$C$11=\"Individual\",0,Simulador!$C$14)),0)","v":0},null,0,0,0,0,0,0,null,0,0,0,0,0,0,null,0,0,0,0,0,null,{"$f":"IF(OR(Y321+1>(IF(AND(Simulador!$C$9<Simulador!$C$10,OR(Simulador!$E$7=\"Resgate\",Simulador!$E$7=\"Portabilidade\")),Simulador!$C$9,Simulador!$C$10)-Simulador!$C$8)*12,Y321=0),0,Y321+1)","v":318},{"$f":"IF($Y322=0,0,Z321*(1+Simulador!$D$34)+E322+L322)","v":0},{"$f":"IF($Y322=0,0,AA321*(1+Simulador!$D$34)+S322)","v":0},{"$f":"IF(OR(AB321+1>(IF(AND(Simulador!$C$9<Simulador!$C$10,OR(Simulador!$E$7=\"Resgate\",Simulador!$E$7=\"Portabilidade\")),Simulador!$C$9,Simulador!$C$50)-Simulador!$C$8)*12,AB321=0),0,AB321+1)","v":318},{"$f":"IF($AB322=0,0,AC321*(1+Simulador!$D$34)+F322+M322)","v":0},{"$f":"IF($AB322=0,0,AD321*(1+Simulador!$D$34)+T322)","v":0}]
[{"$f":"IF(OR(A322+1>(IF(Simulador!$E$7=\"Autopatrocínio\",Simulador!$C$10,Simulador!$C$9)-Simulador!$C$8)*12,A322=0),0,A322+1)","v":0},{"$f":"IF($A323=0,0,IF(INT($A322/12)-$A322/12=0,B322*(1+Simulador!$C$35),B322))","v":0},{"$f":"MAX(IF(A323=0,0,B323-IF(Simulador!$C$11=\"Individual\",0,Simulador!$C$14)),0)","v":0},null,0,0,0,0,0,0,null,0,0,0,0,0,0,null,0,0,0,0,0,null,{"$f":"IF(OR(Y322+1>(IF(AND(Simulador!$C$9<Simulador!$C$10,OR(Simulador!$E$7=\"Resgate\",Simulador!$E$7=\"Portabilidade\")),Simulador!$C$9,Simulador!$C$10)-Simulador!$C$8)*12,Y322=0),0,Y322+1)","v":319},{"$f":"IF($Y323=0,0,Z322*(1+Simulador!$D$34)+E323+L323)","v":0},{"$f":"IF($Y323=0,0,AA322*(1+Simulador!$D$34)+S323)","v":0},{"$f":"IF(OR(AB322+1>(IF(AND(Simulador!$C$9<Simulador!$C$10,OR(Simulador!$E$7=\"Resgate\",Simulador!$E$7=\"Portabilidade\")),Simulador!$C$9,Simulador!$C$50)-Simulador!$C$8)*12,AB322=0),0,AB322+1)","v":319},{"$f":"IF($AB323=0,0,AC322*(1+Simulador!$D$34)+F323+M323)","v":0},{"$f":"IF($AB323=0,0,AD322*(1+Simulador!$D$34)+T323)","v":0}]
[{"$f":"IF(OR(A323+1>(IF(Simulador!$E$7=\"Autopatrocínio\",Simulador!$C$10,Simulador!$C$9)-Simulador!$C$8)*12,A323=0),0,A323+1)","v":0},{"$f":"IF($A324=0,0,IF(INT($A323/12)-$A323/12=0,B323*(1+Simulador!$C$35),B323))","v":0},{"$f":"MAX(IF(A324=0,0,B324-IF(Simulador!$C$11=\"Individual\",0,Simulador!$C$14)),0)","v":0},null,0,0,0,0,0,0,null,0,0,0,0,0,0,null,0,0,0,0,0,null,{"$f":"IF(OR(Y323+1>(IF(AND(Simulador!$C$9<Simulador!$C$10,OR(Simulador!$E$7=\"Resgate\",Simulador!$E$7=\"Portabilidade\")),Simulador!$C$9,Simulador!$C$10)-Simulador!$C$8)*12,Y323=0),0,Y323+1)","v":320},{"$f":"IF($Y324=0,0,Z323*(1+Simulador!$D$34)+E324+L324)","v":0},{"$f":"IF($Y324=0,0,AA323*(1+Simulador!$D$34)+S324)","v":0},{"$f":"IF(OR(AB323+1>(IF(AND(Simulador!$C$9<Simulador!$C$10,OR(Simulador!$E$7=\"Resgate\",Simulador!$E$7=\"Portabilidade\")),Simulador!$C$9,Simulador!$C$50)-Simulador!$C$8)*12,AB323=0),0,AB323+1)","v":320},{"$f":"IF($AB324=0,0,AC323*(1+Simulador!$D$34)+F324+M324)","v":0},{"$f":"IF($AB324=0,0,AD323*(1+Simulador!$D$34)+T324)","v":0}]
[{"$f":"IF(OR(A324+1>(IF(Simulador!$E$7=\"Autopatrocínio\",Simulador!$C$10,Simulador!$C$9)-Simulador!$C$8)*12,A324=0),0,A324+1)","v":0},{"$f":"IF($A325=0,0,IF(INT($A324/12)-$A324/12=0,B324*(1+Simulador!$C$35),B324))","v":0},{"$f":"MAX(IF(A325=0,0,B325-IF(Simulador!$C$11=\"Individual\",0,Simulador!$C$14)),0)","v":0},null,{"$f":"E$4*$C325*(1+$J325)","v":0},0,0,0,0,{"$f":"IF($A325=0,0,IF(INT($A325/12)-$A325/12=0,1,0))","v":0},null,{"$f":"L$4*$C325*$Q325","v":0},0,0,0,0,{"$f":"IF($A325=0,0,IF($Q$4=\"Mensal\",1,IF($Q$4=\"Semestral\",IF(INT(($A325+5)/6)-($A325+5)/6=0,1,0),IF($Q$4=\"Anual\",IF(INT(($A325+11)/12)-($A325+11)/12=0,1,0)))))","v":0},null,{"$f":"S$4*$C325*(1+$J325)","v":0},0,0,0,0,null,{"$f":"IF(OR(Y324+1>(IF(AND(Simulador!$C$9<Simulador!$C$10,OR(Simulador!$E$7=\"Resgate\",Simulador!$E$7=\"Portabilidade\")),Simulador!$C$9,Simulador!$C$10)-Simulador!$C$8)*12,Y324=0),0,Y324+1)","v":321},{"$f":"IF($Y325=0,0,Z324*(1+Simulador!$D$34)+E325+L325)","v":0},{"$f":"IF($Y325=0,0,AA324*(1+Simulador!$D$34)+S325)","v":0},{"$f":"IF(OR(AB324+1>(IF(AND(Simulador!$C$9<Simulador!$C$10,OR(Simulador!$E$7=\"Resgate\",Simulador!$E$7=\"Portabilidade\")),Simulador!$C$9,Simulador!$C$50)-Simulador!$C$8)*12,AB324=0),0,AB324+1)","v":321},{"$f":"IF($AB325=0,0,AC324*(1+Simulador!$D$34)+F325+M325)","v":0},{"$f":"IF($AB325=0,0,AD324*(1+Simulador!$D$34)+T325)","v":0}]
[{"$f":"IF(OR(A325+1>(IF(Simulador!$E$7=\"Autopatrocínio\",Simulador!$C$10,Simulador!$C$9)-Simulador!$C$8)*12,A325=0),0,A325+1)","v":0},{"$f":"IF($A326=0,0,IF(INT($A325/12)-$A325/12=0,B325*(1+Simulador!$C$35),B325))","v":0},{"$f":"MAX(IF(A326=0,0,B326-IF(Simulador!$C$11=\"Individual\",0,Simulador!$C$14)),0)","v":0},null,0,0,0,0,0,0,null,0,0,0,0,0,0,null,0,0,0,0,0,null,{"$f":"IF(OR(Y325+1>(IF(AND(Simulador!$C$9<Simulador!$C$10,OR(Simulador!$E$7=\"Resgate\",Simulador!$E$7=\"Portabilidade\")),Simulador!$C$9,Simulador!$C$10)-Simulador!$C$8)*12,Y325=0),0,Y325+1)","v":322},{"$f":"IF($Y326=0,0,Z325*(1+Simulador!$D$34)+E326+L326)","v":0},{"$f":"IF($Y326=0,0,AA325*(1+Simulador!$D$34)+S326)","v":0},{"$f":"IF(OR(AB325+1>(IF(AND(Simulador!$C$9<Simulador!$C$10,OR(Simulador!$E$7=\"Resgate\",Simulador!$E$7=\"Portabilidade\")),Simulador!$C$9,Simulador!$C$50)-Simulador!$C$8)*12,AB325=0),0,AB325+1)","v":322},{"$f":"IF($AB326=0,0,AC325*(1+Simulador!$D$34)+F326+M326)","v":0},{"$f":"IF($AB326=0,0,AD325*(1+Simulador!$D$34)+T326)","v":0}]
[{"$f":"IF(OR(A326+1>(IF(Simulador!$E$7=\"Autopatrocínio\",Simulador!$C$10,Simulador!$C$9)-Simulador!$C$8)*12,A326=0),0,A326+1)","v":0},{"$f":"IF($A327=0,0,IF(INT($A326/12)-$A326/12=0,B326*(1+Simulador!$C$35),B326))","v":0},{"$f":"MAX(IF(A327=0,0,B327-IF(Simulador!$C$11=\"Individual\",0,Simulador!$C$14)),0)","v":0},null,0,0,0,0,0,0,null,0,0,0,0,0,0,null,0,0,0,0,0,null,{"$f":"IF(OR(Y326+1>(IF(AND(Simulador!$C$9<Simulador!$C$10,OR(Simulador!$E$7=\"Resgate\",Simulador!$E$7=\"Portabilidade\")),Simulador!$C$9,Simulador!$C$10)-Simulador!$C$8)*12,Y326=0),0,Y326+1)","v":323},{"$f":"IF($Y327=0,0,Z326*(1+Simulador!$D$34)+E327+L327)","v":0},{"$f":"IF($Y327=0,0,AA326*(1+Simulador!$D$34)+S327)","v":0},{"$f":"IF(OR(AB326+1>(IF(AND(Simulador!$C$9<Simulador!$C$10,OR(Simulador!$E$7=\"Resgate\",Simulador!$E$7=\"Portabilidade\")),Simulador!$C$9,Simulador!$C$50)-Simulador!$C$8)*12,AB326=0),0,AB326+1)","v":323},{"$f":"IF($AB327=0,0,AC326*(1+Simulador!$D$34)+F327+M327)","v":0},{"$f":"IF($AB327=0,0,AD326*(1+Simulador!$D$34)+T327)","v":0}]
[{"$f":"IF(OR(A327+1>(IF(Simulador!$E$7=\"Autopatrocínio\",Simulador!$C$10,Simulador!$C$9)-Simulador!$C$8)*12,A327=0),0,A327+1)","v":0},{"$f":"IF($A328=0,0,IF(INT($A327/12)-$A327/12=0,B327*(1+Simulador!$C$35),B327))","v":0},{"$f":"MAX(IF(A328=0,0,B328-IF(Simulador!$C$11=\"Individual\",0,Simulador!$C$14)),0)","v":0},null,0,0,0,0,0,0,null,0,0,0,0,0,0,null,0,0,0,0,0,null,{"$f":"IF(OR(Y327+1>(IF(AND(Simulador!$C$9<Simulador!$C$10,OR(Simulador!$E$7=\"Resgate\",Simulador!$E$7=\"Portabilidade\")),Simulador!$C$9,Simulador!$C$10)-Simulador!$C$8)*12,Y327=0),0,Y327+1)","v":324},{"$f":"IF($Y328=0,0,Z327*(1+Simulador!$D$34)+E328+L328)","v":0},{"$f":"IF($Y328=0,0,AA327*(1+Simulador!$D$34)+S328)","v":0},{"$f":"IF(OR(AB327+1>(IF(AND(Simulador!$C$9<Simulador!$C$10,OR(Simulador!$E$7=\"Resgate\",Simulador!$E$7=\"Portabilidade\")),Simulador!$C$9,Simulador!$C$50)-Simulador!$C$8)*12,AB327=0),0,AB327+1)","v":324},{"$f":"IF($AB328=0,0,AC327*(1+Simulador!$D$34)+F328+M328)","v":0},{"$f":"IF($AB328=0,0,AD327*(1+Simulador!$D$34)+T328)","v":0}]
[{"$f":"IF(OR(A328+1>(IF(Simulador!$E$7=\"Autopatrocínio\",Simulador!$C$10,Simulador!$C$9)-Simulador!$C$8)*12,A328=0),0,A328+1)","v":0},{"$f":"IF($A329=0,0,IF(INT($A328/12)-$A328/12=0,B328*(1+Simulador!$C$35),B328))","v":0},{"$f":"MAX(IF(A329=0,0,B329-IF(Simulador!$C$11=\"Individual\",0,Simulador!$C$14)),0)","v":0},null,0,0,0,0,0,0,null,0,0,0,0,0,0,null,0,0,0,0,0,null,{"$f":"IF(OR(Y328+1>(IF(AND(Simulador!$C$9<Simulador!$C$10,OR(Simulador!$E$7=\"Resgate\",Simulador!$E$7=\"Portabilidade\")),Simulador!$C$9,Simulador!$C$10)-Simulador!$C$8)*12,Y328=0),0,Y328+1)","v":325},{"$f":"IF($Y329=0,0,Z328*(1+Simulador!$D$34)+E329+L329)","v":0},{"$f":"IF($Y329=0,0,AA328*(1+Simulador!$D$34)+S329)","v":0},{"$f":"IF(OR(AB328+1>(IF(AND(Simulador!$C$9<Simulador!$C$10,OR(Simulador!$E$7=\"Resgate\",Simulador!$E$7=\"Portabilidade\")),Simulador!$C$9,Simulador!$C$50)-Simulador!$C$8)*12,AB328=0),0,AB328+1)","v":325},{"$f":"IF($AB329=0,0,AC328*(1+Simulador!$D$34)+F329+M329)","v":0},{"$f":"IF($AB329=0,0,AD328*(1+Simulador!$D$34)+T329)","v":0}]
[{"$f":"IF(OR(A329+1>(IF(Simulador!$E$7=\"Autopatrocínio\",Simulador!$C$10,Simulador!$C$9)-Simulador!$C$8)*12,A329=0),0,A329+1)","v":0},{"$f":"IF($A330=0,0,IF(INT($A329/12)-$A329/12=0,B329*(1+Simulador!$C$35),B329))","v":0},{"$f":"MAX(IF(A330=0,0,B330-IF(Simulador!$C$11=\"Individual\",0,Simulador!$C$14)),0)","v":0},null,0,0,0,0,0,0,null,0,0,0,0,0,0,null,0,0,0,0,0,null,{"$f":"IF(OR(Y329+1>(IF(AND(Simulador!$C$9<Simulador!$C$10,OR(Simulador!$E$7=\"Resgate\",Simulador!$E$7=\"Portabilidade\")),Simulador!$C$9,Simulador!$C$10)-Simulador!$C$8)*12,Y329=0),0,Y329+1)","v":326},{"$f":"IF($Y330=0,0,Z329*(1+Simulador!$D$34)+E330+L330)","v":0},{"$f":"IF($Y330=0,0,AA329*(1+Simulador!$D$34)+S330)","v":0},{"$f":"IF(OR(AB329+1>(IF(AND(Simulador!$C$9<Simulador!$C$10,OR(Simulador!$E$7=\"Resgate\",Simulador!$E$7=\"Portabilidade\")),Simulador!$C$9,Simulador!$C$50)-Simulador!$C$8)*12,AB329=0),0,AB329+1)","v":326},{"$f":"IF($AB330=0,0,AC329*(1+Simulador!$D$34)+F330+M330)","v":0},{"$f":"IF($AB330=0,0,AD329*(1+Simulador!$D$34)+T330)","v":0}]
[{"$f":"IF(OR(A330+1>(IF(Simulador!$E$7=\"Autopatrocínio\",Simulador!$C$10,Simulador!$C$9)-Simulador!$C$8)*12,A330=0),0,A330+1)","v":0},{"$f":"IF($A331=0,0,IF(INT($A330/12)-$A330/12=0,B330*(1+Simulador!$C$35),B330))","v":0},{"$f":"MAX(IF(A331=0,0,B331-IF(Simulador!$C$11=\"Individual\",0,Simulador!$C$14)),0)","v":0},null,0,0,0,0,0,0,null,0,0,0,0,0,0,null,0,0,0,0,0,null,{"$f":"IF(OR(Y330+1>(IF(AND(Simulador!$C$9<Simulador!$C$10,OR(Simulador!$E$7=\"Resgate\",Simulador!$E$7=\"Portabilidade\")),Simulador!$C$9,Simulador!$C$10)-Simulador!$C$8)*12,Y330=0),0,Y330+1)","v":327},{"$f":"IF($Y331=0,0,Z330*(1+Simulador!$D$34)+E331+L331)","v":0},{"$f":"IF($Y331=0,0,AA330*(1+Simulador!$D$34)+S331)","v":0},{"$f":"IF(OR(AB330+1>(IF(AND(Simulador!$C$9<Simulador!$C$10,OR(Simulador!$E$7=\"Resgate\",Simulador!$E$7=\"Portabilidade\")),Simulador!$C$9,Simulador!$C$50)-Simulador!$C$8)*12,AB330=0),0,AB330+1)","v":327},{"$f":"IF($AB331=0,0,AC330*(1+Simulador!$D$34)+F331+M331)","v":0},{"$f":"IF($AB331=0,0,AD330*(1+Simulador!$D$34)+T331)","v":0}]
[{"$f":"IF(OR(A331+1>(IF(Simulador!$E$7=\"Autopatrocínio\",Simulador!$C$10,Simulador!$C$9)-Simulador!$C$8)*12,A331=0),0,A331+1)","v":0},{"$f":"IF($A332=0,0,IF(INT($A331/12)-$A331/12=0,B331*(1+Simulador!$C$35),B331))","v":0},{"$f":"MAX(IF(A332=0,0,B332-IF(Simulador!$C$11=\"Individual\",0,Simulador!$C$14)),0)","v":0},null,0,0,0,0,0,0,null,0,0,0,0,0,0,null,0,0,0,0,0,null,{"$f":"IF(OR(Y331+1>(IF(AND(Simulador!$C$9<Simulador!$C$10,OR(Simulador!$E$7=\"Resgate\",Simulador!$E$7=\"Portabilidade\")),Simulador!$C$9,Simulador!$C$10)-Simulador!$C$8)*12,Y331=0),0,Y331+1)","v":328},{"$f":"IF($Y332=0,0,Z331*(1+Simulador!$D$34)+E332+L332)","v":0},{"$f":"IF($Y332=0,0,AA331*(1+Simulador!$D$34)+S332)","v":0},{"$f":"IF(OR(AB331+1>(IF(AND(Simulador!$C$9<Simulador!$C$10,OR(Simulador!$E$7=\"Resgate\",Simulador!$E$7=\"Portabilidade\")),Simulador!$C$9,Simulador!$C$50)-Simulador!$C$8)*12,AB331=0),0,AB331+1)","v":328},{"$f":"IF($AB332=0,0,AC331*(1+Simulador!$D$34)+F332+M332)","v":0},{"$f":"IF($AB332=0,0,AD331*(1+Simulador!$D$34)+T332)","v":0}]
[{"$f":"IF(OR(A332+1>(IF(Simulador!$E$7=\"Autopatrocínio\",Simulador!$C$10,Simulador!$C$9)-Simulador!$C$8)*12,A332=0),0,A332+1)","v":0},{"$f":"IF($A333=0,0,IF(INT($A332/12)-$A332/12=0,B332*(1+Simulador!$C$35),B332))","v":0},{"$f":"MAX(IF(A333=0,0,B333-IF(Simulador!$C$11=\"Individual\",0,Simulador!$C$14)),0)","v":0},null,0,0,0,0,0,0,null,0,0,0,0,0,0,null,0,0,0,0,0,null,{"$f":"IF(OR(Y332+1>(IF(AND(Simulador!$C$9<Simulador!$C$10,OR(Simulador!$E$7=\"Resgate\",Simulador!$E$7=\"Portabilidade\")),Simulador!$C$9,Simulador!$C$10)-Simulador!$C$8)*12,Y332=0),0,Y332+1)","v":329},{"$f":"IF($Y333=0,0,Z332*(1+Simulador!$D$34)+E333+L333)","v":0},{"$f":"IF($Y333=0,0,AA332*(1+Simulador!$D$34)+S333)","v":0},{"$f":"IF(OR(AB332+1>(IF(AND(Simulador!$C$9<Simulador!$C$10,OR(Simulador!$E$7=\"Resgate\",Simulador!$E$7=\"Portabilidade\")),Simulador!$C$9,Simulador!$C$50)-Simulador!$C$8)*12,AB332=0),0,AB332+1)","v":329},{"$f":"IF($AB333=0,0,AC332*(1+Simulador!$D$34)+F333+M333)","v":0},{"$f":"IF($AB333=0,0,AD332*(1+Simulador!$D$34)+T333)","v":0}]
[{"$f":"IF(OR(A333+1>(IF(Simulador!$E$7=\"Autopatrocínio\",Simulador!$C$10,Simulador!$C$9)-Simulador!$C$8)*12,A333=0),0,A333+1)","v":0},{"$f":"IF($A334=0,0,IF(INT($A333/12)-$A333/12=0,B333*(1+Simulador!$C$35),B333))","v":0},{"$f":"MAX(IF(A334=0,0,B334-IF(Simulador!$C$11=\"Individual\",0,Simulador!$C$14)),0)","v":0},null,0,0,0,0,0,0,null,0,0,0,0,0,0,null,0,0,0,0,0,null,{"$f":"IF(OR(Y333+1>(IF(AND(Simulador!$C$9<Simulador!$C$10,OR(Simulador!$E$7=\"Resgate\",Simulador!$E$7=\"Portabilidade\")),Simulador!$C$9,Simulador!$C$10)-Simulador!$C$8)*12,Y333=0),0,Y333+1)","v":330},{"$f":"IF($Y334=0,0,Z333*(1+Simulador!$D$34)+E334+L334)","v":0},{"$f":"IF($Y334=0,0,AA333*(1+Simulador!$D$34)+S334)","v":0},{"$f":"IF(OR(AB333+1>(IF(AND(Simulador!$C$9<Simulador!$C$10,OR(Simulador!$E$7=\"Resgate\",Simulador!$E$7=\"Portabilidade\")),Simulador!$C$9,Simulador!$C$50)-Simulador!$C$8)*12,AB333=0),0,AB333+1)","v":330},{"$f":"IF($AB334=0,0,AC333*(1+Simulador!$D$34)+F334+M334)","v":0},{"$f":"IF($AB334=0,0,AD333*(1+Simulador!$D$34)+T334)","v":0}]
[{"$f":"IF(OR(A334+1>(IF(Simulador!$E$7=\"Autopatrocínio\",Simulador!$C$10,Simulador!$C$9)-Simulador!$C$8)*12,A334=0),0,A334+1)","v":0},{"$f":"IF($A335=0,0,IF(INT($A334/12)-$A334/12=0,B334*(1+Simulador!$C$35),B334))","v":0},{"$f":"MAX(IF(A335=0,0,B335-IF(Simulador!$C$11=\"Individual\",0,Simulador!$C$14)),0)","v":0},null,{"$f":"E$4*$C335*(1+$J335)","v":0},0,0,0,0,0,null,{"$f":"L$4*$C335*$Q335","v":0},0,0,0,0,0,null,0,0,0,0,0,null,{"$f":"IF(OR(Y334+1>(IF(AND(Simulador!$C$9<Simulador!$C$10,OR(Simulador!$E$7=\"Resgate\",Simulador!$E$7=\"Portabilidade\")),Simulador!$C$9,Simulador!$C$10)-Simulador!$C$8)*12,Y334=0),0,Y334+1)","v":331},{"$f":"IF($Y335=0,0,Z334*(1+Simulador!$D$34)+E335+L335)","v":0},{"$f":"IF($Y335=0,0,AA334*(1+Simulador!$D$34)+S335)","v":0},{"$f":"IF(OR(AB334+1>(IF(AND(Simulador!$C$9<Simulador!$C$10,OR(Simulador!$E$7=\"Resgate\",Simulador!$E$7=\"Portabilidade\")),Simulador!$C$9,Simulador!$C$50)-Simulador!$C$8)*12,AB334=0),0,AB334+1)","v":331},{"$f":"IF($AB335=0,0,AC334*(1+Simulador!$D$34)+F335+M335)","v":0},{"$f":"IF($AB335=0,0,AD334*(1+Simulador!$D$34)+T335)","v":0}]
[{"$f":"IF(OR(A335+1>(IF(Simulador!$E$7=\"Autopatrocínio\",Simulador!$C$10,Simulador!$C$9)-Simulador!$C$8)*12,A335=0),0,A335+1)","v":0},{"$f":"IF($A336=0,0,IF(INT($A335/12)-$A335/12=0,B335*(1+Simulador!$C$35),B335))","v":0},{"$f":"MAX(IF(A336=0,0,B336-IF(Simulador!$C$11=\"Individual\",0,Simulador!$C$14)),0)","v":0},null,0,0,0,0,0,0,null,0,0,0,0,0,0,null,0,0,0,0,0,null,{"$f":"IF(OR(Y335+1>(IF(AND(Simulador!$C$9<Simulador!$C$10,OR(Simulador!$E$7=\"Resgate\",Simulador!$E$7=\"Portabilidade\")),Simulador!$C$9,Simulador!$C$10)-Simulador!$C$8)*12,Y335=0),0,Y335+1)","v":332},{"$f":"IF($Y336=0,0,Z335*(1+Simulador!$D$34)+E336+L336)","v":0},{"$f":"IF($Y336=0,0,AA335*(1+Simulador!$D$34)+S336)","v":0},{"$f":"IF(OR(AB335+1>(IF(AND(Simulador!$C$9<Simulador!$C$10,OR(Simulador!$E$7=\"Resgate\",Simulador!$E$7=\"Portabilidade\")),Simulador!$C$9,Simulador!$C$50)-Simulador!$C$8)*12,AB335=0),0,AB335+1)","v":332},{"$f":"IF($AB336=0,0,AC335*(1+Simulador!$D$34)+F336+M336)","v":0},{"$f":"IF($AB336=0,0,AD335*(1+Simulador!$D$34)+T336)","v":0}]
[{"$f":"IF(OR(A336+1>(IF(Simulador!$E$7=\"Autopatrocínio\",Simulador!$C$10,Simulador!$C$9)-Simulador!$C$8)*12,A336=0),0,A336+1)","v":0},{"$f":"IF($A337=0,0,IF(INT($A336/12)-$A336/12=0,B336*(1+Simulador!$C$35),B336))","v":0},{"$f":"MAX(IF(A337=0,0,B337-IF(Simulador!$C$11=\"Individual\",0,Simulador!$C$14)),0)","v":0},null,0,0,0,0,0,0,null,0,0,0,0,0,0,null,0,0,0,0,0,null,{"$f":"IF(OR(Y336+1>(IF(AND(Simulador!$C$9<Simulador!$C$10,OR(Simulador!$E$7=\"Resgate\",Simulador!$E$7=\"Portabilidade\")),Simulador!$C$9,Simulador!$C$10)-Simulador!$C$8)*12,Y336=0),0,Y336+1)","v":333},{"$f":"IF($Y337=0,0,Z336*(1+Simulador!$D$34)+E337+L337)","v":0},{"$f":"IF($Y337=0,0,AA336*(1+Simulador!$D$34)+S337)","v":0},{"$f":"IF(OR(AB336+1>(IF(AND(Simulador!$C$9<Simulador!$C$10,OR(Simulador!$E$7=\"Resgate\",Simulador!$E$7=\"Portabilidade\")),Simulador!$C$9,Simulador!$C$50)-Simulador!$C$8)*12,AB336=0),0,AB336+1)","v":333},{"$f":"IF($AB337=0,0,AC336*(1+Simulador!$D$34)+F337+M337)","v":0},{"$f":"IF($AB337=0,0,AD336*(1+Simulador!$D$34)+T337)","v":0}]
[{"$f":"IF(OR(A337+1>(IF(Simulador!$E$7=\"Autopatrocínio\",Simulador!$C$10,Simulador!$C$9)-Simulador!$C$8)*12,A337=0),0,A337+1)","v":0},{"$f":"IF($A338=0,0,IF(INT($A337/12)-$A337/12=0,B337*(1+Simulador!$C$35),B337))","v":0},{"$f":"MAX(IF(A338=0,0,B338-IF(Simulador!$C$11=\"Individual\",0,Simulador!$C$14)),0)","v":0},null,0,0,0,0,0,0,null,0,0,0,0,0,0,null,0,0,0,0,0,null,{"$f":"IF(OR(Y337+1>(IF(AND(Simulador!$C$9<Simulador!$C$10,OR(Simulador!$E$7=\"Resgate\",Simulador!$E$7=\"Portabilidade\")),Simulador!$C$9,Simulador!$C$10)-Simulador!$C$8)*12,Y337=0),0,Y337+1)","v":334},{"$f":"IF($Y338=0,0,Z337*(1+Simulador!$D$34)+E338+L338)","v":0},{"$f":"IF($Y338=0,0,AA337*(1+Simulador!$D$34)+S338)","v":0},{"$f":"IF(OR(AB337+1>(IF(AND(Simulador!$C$9<Simulador!$C$10,OR(Simulador!$E$7=\"Resgate\",Simulador!$E$7=\"Portabilidade\")),Simulador!$C$9,Simulador!$C$50)-Simulador!$C$8)*12,AB337=0),0,AB337+1)","v":334},{"$f":"IF($AB338=0,0,AC337*(1+Simulador!$D$34)+F338+M338)","v":0},{"$f":"IF($AB338=0,0,AD337*(1+Simulador!$D$34)+T338)","v":0}]
[{"$f":"IF(OR(A338+1>(IF(Simulador!$E$7=\"Autopatrocínio\",Simulador!$C$10,Simulador!$C$9)-Simulador!$C$8)*12,A338=0),0,A338+1)","v":0},{"$f":"IF($A339=0,0,IF(INT($A338/12)-$A338/12=0,B338*(1+Simulador!$C$35),B338))","v":0},{"$f":"MAX(IF(A339=0,0,B339-IF(Simulador!$C$11=\"Individual\",0,Simulador!$C$14)),0)","v":0},null,0,0,0,0,0,0,null,0,0,0,0,0,0,null,0,0,0,0,0,null,{"$f":"IF(OR(Y338+1>(IF(AND(Simulador!$C$9<Simulador!$C$10,OR(Simulador!$E$7=\"Resgate\",Simulador!$E$7=\"Portabilidade\")),Simulador!$C$9,Simulador!$C$10)-Simulador!$C$8)*12,Y338=0),0,Y338+1)","v":335},{"$f":"IF($Y339=0,0,Z338*(1+Simulador!$D$34)+E339+L339)","v":0},{"$f":"IF($Y339=0,0,AA338*(1+Simulador!$D$34)+S339)","v":0},{"$f":"IF(OR(AB338+1>(IF(AND(Simulador!$C$9<Simulador!$C$10,OR(Simulador!$E$7=\"Resgate\",Simulador!$E$7=\"Portabilidade\")),Simulador!$C$9,Simulador!$C$50)-Simulador!$C$8)*12,AB338=0),0,AB338+1)","v":335},{"$f":"IF($AB339=0,0,AC338*(1+Simulador!$D$34)+F339+M339)","v":0},{"$f":"IF($AB339=0,0,AD338*(1+Simulador!$D$34)+T339)","v":0}]
[{"$f":"IF(OR(A339+1>(IF(Simulador!$E$7=\"Autopatrocínio\",Simulador!$C$10,Simulador!$C$9)-Simulador!$C$8)*12,A339=0),0,A339+1)","v":0},{"$f":"IF($A340=0,0,IF(INT($A339/12)-$A339/12=0,B339*(1+Simulador!$C$35),B339))","v":0},{"$f":"MAX(IF(A340=0,0,B340-IF(Simulador!$C$11=\"Individual\",0,Simulador!$C$14)),0)","v":0},null,0,0,0,0,0,0,null,0,0,0,0,0,0,null,0,0,0,0,0,null,{"$f":"IF(OR(Y339+1>(IF(AND(Simulador!$C$9<Simulador!$C$10,OR(Simulador!$E$7=\"Resgate\",Simulador!$E$7=\"Portabilidade\")),Simulador!$C$9,Simulador!$C$10)-Simulador!$C$8)*12,Y339=0),0,Y339+1)","v":336},{"$f":"IF($Y340=0,0,Z339*(1+Simulador!$D$34)+E340+L340)","v":0},{"$f":"IF($Y340=0,0,AA339*(1+Simulador!$D$34)+S340)","v":0},{"$f":"IF(OR(AB339+1>(IF(AND(Simulador!$C$9<Simulador!$C$10,OR(Simulador!$E$7=\"Resgate\",Simulador!$E$7=\"Portabilidade\")),Simulador!$C$9,Simulador!$C$50)-Simulador!$C$8)*12,AB339=0),0,AB339+1)","v":336},{"$f":"IF($AB340=0,0,AC339*(1+Simulador!$D$34)+F340+M340)","v":0},{"$f":"IF($AB340=0,0,AD339*(1+Simulador!$D$34)+T340)","v":0}]
[{"$f":"IF(OR(A340+1>(IF(Simulador!$E$7=\"Autopatrocínio\",Simulador!$C$10,Simulador!$C$9)-Simulador!$C$8)*12,A340=0),0,A340+1)","v":0},{"$f":"IF($A341=0,0,IF(INT($A340/12)-$A340/12=0,B340*(1+Simulador!$C$35),B340))","v":0},{"$f":"MAX(IF(A341=0,0,B341-IF(Simulador!$C$11=\"Individual\",0,Simulador!$C$14)),0)","v":0},null,0,0,0,0,0,0,null,0,0,0,0,0,0,null,{"$f":"S$4*$C341*(1+$J341)","v":0},0,0,0,0,null,{"$f":"IF(OR(Y340+1>(IF(AND(Simulador!$C$9<Simulador!$C$10,OR(Simulador!$E$7=\"Resgate\",Simulador!$E$7=\"Portabilidade\")),Simulador!$C$9,Simulador!$C$10)-Simulador!$C$8)*12,Y340=0),0,Y340+1)","v":337},{"$f":"IF($Y341=0,0,Z340*(1+Simulador!$D$34)+E341+L341)","v":0},{"$f":"IF($Y341=0,0,AA340*(1+Simulador!$D$34)+S341)","v":0},{"$f":"IF(OR(AB340+1>(IF(AND(Simulador!$C$9<Simulador!$C$10,OR(Simulador!$E$7=\"Resgate\",Simulador!$E$7=\"Portabilidade\")),Simulador!$C$9,Simulador!$C$50)-Simulador!$C$8)*12,AB340=0),0,AB340+1)","v":337},{"$f":"IF($AB341=0,0,AC340*(1+Simulador!$D$34)+F341+M341)","v":0},{"$f":"IF($AB341=0,0,AD340*(1+Simulador!$D$34)+T341)","v":0}]
[{"$f":"IF(OR(A341+1>(IF(Simulador!$E$7=\"Autopatrocínio\",Simulador!$C$10,Simulador!$C$9)-Simulador!$C$8)*12,A341=0),0,A341+1)","v":0},{"$f":"IF($A342=0,0,IF(INT($A341/12)-$A341/12=0,B341*(1+Simulador!$C$35),B341))","v":0},{"$f":"MAX(IF(A342=0,0,B342-IF(Simulador!$C$11=\"Individual\",0,Simulador!$C$14)),0)","v":0},null,0,0,0,0,0,0,null,0,0,0,0,0,0,null,0,0,0,0,0,null,{"$f":"IF(OR(Y341+1>(IF(AND(Simulador!$C$9<Simulador!$C$10,OR(Simulador!$E$7=\"Resgate\",Simulador!$E$7=\"Portabilidade\")),Simulador!$C$9,Simulador!$C$10)-Simulador!$C$8)*12,Y341=0),0,Y341+1)","v":338},{"$f":"IF($Y342=0,0,Z341*(1+Simulador!$D$34)+E342+L342)","v":0},{"$f":"IF($Y342=0,0,AA341*(1+Simulador!$D$34)+S342)","v":0},{"$f":"IF(OR(AB341+1>(IF(AND(Simulador!$C$9<Simulador!$C$10,OR(Simulador!$E$7=\"Resgate\",Simulador!$E$7=\"Portabilidade\")),Simulador!$C$9,Simulador!$C$50)-Simulador!$C$8)*12,AB341=0),0,AB341+1)","v":338},{"$f":"IF($AB342=0,0,AC341*(1+Simulador!$D$34)+F342+M342)","v":0},{"$f":"IF($AB342=0,0,AD341*(1+Simulador!$D$34)+T342)","v":0}]
[{"$f":"IF(OR(A342+1>(IF(Simulador!$E$7=\"Autopatrocínio\",Simulador!$C$10,Simulador!$C$9)-Simulador!$C$8)*12,A342=0),0,A342+1)","v":0},{"$f":"IF($A343=0,0,IF(INT($A342/12)-$A342/12=0,B342*(1+Simulador!$C$35),B342))","v":0},{"$f":"MAX(IF(A343=0,0,B343-IF(Simulador!$C$11=\"Individual\",0,Simulador!$C$14)),0)","v":0},null,0,0,0,0,0,0,null,0,0,0,0,0,0,null,0,0,0,0,0,null,{"$f":"IF(OR(Y342+1>(IF(AND(Simulador!$C$9<Simulador!$C$10,OR(Simulador!$E$7=\"Resgate\",Simulador!$E$7=\"Portabilidade\")),Simulador!$C$9,Simulador!$C$10)-Simulador!$C$8)*12,Y342=0),0,Y342+1)","v":339},{"$f":"IF($Y343=0,0,Z342*(1+Simulador!$D$34)+E343+L343)","v":0},{"$f":"IF($Y343=0,0,AA342*(1+Simulador!$D$34)+S343)","v":0},{"$f":"IF(OR(AB342+1>(IF(AND(Simulador!$C$9<Simulador!$C$10,OR(Simulador!$E$7=\"Resgate\",Simulador!$E$7=\"Portabilidade\")),Simulador!$C$9,Simulador!$C$50)-Simulador!$C$8)*12,AB342=0),0,AB342+1)","v":339},{"$f":"IF($AB343=0,0,AC342*(1+Simulador!$D$34)+F343+M343)","v":0},{"$f":"IF($AB343=0,0,AD342*(1+Simulador!$D$34)+T343)","v":0}]
[{"$f":"IF(OR(A343+1>(IF(Simulador!$E$7=\"Autopatrocínio\",Simulador!$C$10,Simulador!$C$9)-Simulador!$C$8)*12,A343=0),0,A343+1)","v":0},{"$f":"IF($A344=0,0,IF(INT($A343/12)-$A343/12=0,B343*(1+Simulador!$C$35),B343))","v":0},{"$f":"MAX(IF(A344=0,0,B344-IF(Simulador!$C$11=\"Individual\",0,Simulador!$C$14)),0)","v":0},null,0,0,0,0,0,0,null,0,0,0,0,0,0,null,0,0,0,0,0,null,{"$f":"IF(OR(Y343+1>(IF(AND(Simulador!$C$9<Simulador!$C$10,OR(Simulador!$E$7=\"Resgate\",Simulador!$E$7=\"Portabilidade\")),Simulador!$C$9,Simulador!$C$10)-Simulador!$C$8)*12,Y343=0),0,Y343+1)","v":340},{"$f":"IF($Y344=0,0,Z343*(1+Simulador!$D$34)+E344+L344)","v":0},{"$f":"IF($Y344=0,0,AA343*(1+Simulador!$D$34)+S344)","v":0},{"$f":"IF(OR(AB343+1>(IF(AND(Simulador!$C$9<Simulador!$C$10,OR(Simulador!$E$7=\"Resgate\",Simulador!$E$7=\"Portabilidade\")),Simulador!$C$9,Simulador!$C$50)-Simulador!$C$8)*12,AB343=0),0,AB343+1)","v":340},{"$f":"IF($AB344=0,0,AC343*(1+Simulador!$D$34)+F344+M344)","v":0},{"$f":"IF($AB344=0,0,AD343*(1+Simulador!$D$34)+T344)","v":0}]
[{"$f":"IF(OR(A344+1>(IF(Simulador!$E$7=\"Autopatrocínio\",Simulador!$C$10,Simulador!$C$9)-Simulador!$C$8)*12,A344=0),0,A344+1)","v":0},{"$f":"IF($A345=0,0,IF(INT($A344/12)-$A344/12=0,B344*(1+Simulador!$C$35),B344))","v":0},{"$f":"MAX(IF(A345=0,0,B345-IF(Simulador!$C$11=\"Individual\",0,Simulador!$C$14)),0)","v":0},null,{"$f":"E$4*$C345*(1+$J345)","v":0},0,0,0,0,0,null,{"$f":"L$4*$C345*$Q345","v":0},0,0,0,0,0,null,0,0,0,0,0,null,{"$f":"IF(OR(Y344+1>(IF(AND(Simulador!$C$9<Simulador!$C$10,OR(Simulador!$E$7=\"Resgate\",Simulador!$E$7=\"Portabilidade\")),Simulador!$C$9,Simulador!$C$10)-Simulador!$C$8)*12,Y344=0),0,Y344+1)","v":341},{"$f":"IF($Y345=0,0,Z344*(1+Simulador!$D$34)+E345+L345)","v":0},{"$f":"IF($Y345=0,0,AA344*(1+Simulador!$D$34)+S345)","v":0},{"$f":"IF(OR(AB344+1>(IF(AND(Simulador!$C$9<Simulador!$C$10,OR(Simulador!$E$7=\"Resgate\",Simulador!$E$7=\"Portabilidade\")),Simulador!$C$9,Simulador!$C$50)-Simulador!$C$8)*12,AB344=0),0,AB344+1)","v":341},{"$f":"IF($AB345=0,0,AC344*(1+Simulador!$D$34)+F345+M345)","v":0},{"$f":"IF($AB345=0,0,AD344*(1+Simulador!$D$34)+T345)","v":0}]
[{"$f":"IF(OR(A345+1>(IF(Simulador!$E$7=\"Autopatrocínio\",Simulador!$C$10,Simulador!$C$9)-Simulador!$C$8)*12,A345=0),0,A345+1)","v":0},{"$f":"IF($A346=0,0,IF(INT($A345/12)-$A345/12=0,B345*(1+Simulador!$C$35),B345))","v":0},{"$f":"MAX(IF(A346=0,0,B346-IF(Simulador!$C$11=\"Individual\",0,Simulador!$C$14)),0)","v":0},null,0,0,0,0,0,0,null,0,0,0,0,0,0,null,0,0,0,0,0,null,{"$f":"IF(OR(Y345+1>(IF(AND(Simulador!$C$9<Simulador!$C$10,OR(Simulador!$E$7=\"Resgate\",Simulador!$E$7=\"Portabilidade\")),Simulador!$C$9,Simulador!$C$10)-Simulador!$C$8)*12,Y345=0),0,Y345+1)","v":342},{"$f":"IF($Y346=0,0,Z345*(1+Simulador!$D$34)+E346+L346)","v":0},{"$f":"IF($Y346=0,0,AA345*(1+Simulador!$D$34)+S346)","v":0},{"$f":"IF(OR(AB345+1>(IF(AND(Simulador!$C$9<Simulador!$C$10,OR(Simulador!$E$7=\"Resgate\",Simulador!$E$7=\"Portabilidade\")),Simulador!$C$9,Simulador!$C$50)-Simulador!$C$8)*12,AB345=0),0,AB345+1)","v":342},{"$f":"IF($AB346=0,0,AC345*(1+Simulador!$D$34)+F346+M346)","v":0},{"$f":"IF($AB346=0,0,AD345*(1+Simulador!$D$34)+T346)","v":0}]
[{"$f":"IF(OR(A346+1>(IF(Simulador!$E$7=\"Autopatrocínio\",Simulador!$C$10,Simulador!$C$9)-Simulador!$C$8)*12,A346=0),0,A346+1)","v":0},{"$f":"IF($A347=0,0,IF(INT($A346/12)-$A346/12=0,B346*(1+Simulador!$C$35),B346))","v":0},{"$f":"MAX(IF(A347=0,0,B347-IF(Simulador!$C$11=\"Individual\",0,Simulador!$C$14)),0)","v":0},null,0,0,0,0,0,0,null,0,0,0,0,0,0,null,0,0,0,0,0,null,{"$f":"IF(OR(Y346+1>(IF(AND(Simulador!$C$9<Simulador!$C$10,OR(Simulador!$E$7=\"Resgate\",Simulador!$E$7=\"Portabilidade\")),Simulador!$C$9,Simulador!$C$10)-Simulador!$C$8)*12,Y346=0),0,Y346+1)","v":343},{"$f":"IF($Y347=0,0,Z346*(1+Simulador!$D$34)+E347+L347)","v":0},{"$f":"IF($Y347=0,0,AA346*(1+Simulador!$D$34)+S347)","v":0},{"$f":"IF(OR(AB346+1>(IF(AND(Simulador!$C$9<Simulador!$C$10,OR(Simulador!$E$7=\"Resgate\",Simulador!$E$7=\"Portabilidade\")),Simulador!$C$9,Simulador!$C$50)-Simulador!$C$8)*12,AB346=0),0,AB346+1)","v":343},{"$f":"IF($AB347=0,0,AC346*(1+Simulador!$D$34)+F347+M347)","v":0},{"$f":"IF($AB347=0,0,AD346*(1+Simulador!$D$34)+T347)","v":0}]
[{"$f":"IF(OR(A347+1>(IF(Simulador!$E$7=\"Autopatrocínio\",Simulador!$C$10,Simulador!$C$9)-Simulador!$C$8)*12,A347=0),0,A347+1)","v":0},{"$f":"IF($A348=0,0,IF(INT($A347/12)-$A347/12=0,B347*(1+Simulador!$C$35),B347))","v":0},{"$f":"MAX(IF(A348=0,0,B348-IF(Simulador!$C$11=\"Individual\",0,Simulador!$C$14)),0)","v":0},null,0,0,0,0,0,0,null,0,0,0,0,0,0,null,0,0,0,0,0,null,{"$f":"IF(OR(Y347+1>(IF(AND(Simulador!$C$9<Simulador!$C$10,OR(Simulador!$E$7=\"Resgate\",Simulador!$E$7=\"Portabilidade\")),Simulador!$C$9,Simulador!$C$10)-Simulador!$C$8)*12,Y347=0),0,Y347+1)","v":344},{"$f":"IF($Y348=0,0,Z347*(1+Simulador!$D$34)+E348+L348)","v":0},{"$f":"IF($Y348=0,0,AA347*(1+Simulador!$D$34)+S348)","v":0},{"$f":"IF(OR(AB347+1>(IF(AND(Simulador!$C$9<Simulador!$C$10,OR(Simulador!$E$7=\"Resgate\",Simulador!$E$7=\"Portabilidade\")),Simulador!$C$9,Simulador!$C$50)-Simulador!$C$8)*12,AB347=0),0,AB347+1)","v":344},{"$f":"IF($AB348=0,0,AC347*(1+Simulador!$D$34)+F348+M348)","v":0},{"$f":"IF($AB348=0,0,AD347*(1+Simulador!$D$34)+T348)","v":0}]
[{"$f":"IF(OR(A348+1>(IF(Simulador!$E$7=\"Autopatrocínio\",Simulador!$C$10,Simulador!$C$9)-Simulador!$C$8)*12,A348=0),0,A348+1)","v":0},{"$f":"IF($A349=0,0,IF(INT($A348/12)-$A348/12=0,B348*(1+Simulador!$C$35),B348))","v":0},{"$f":"MAX(IF(A349=0,0,B349-IF(Simulador!$C$11=\"Individual\",0,Simulador!$C$14)),0)","v":0},null,0,0,0,0,0,0,null,0,0,0,0,0,0,null,0,0,0,0,0,null,{"$f":"IF(OR(Y348+1>(IF(AND(Simulador!$C$9<Simulador!$C$10,OR(Simulador!$E$7=\"Resgate\",Simulador!$E$7=\"Portabilidade\")),Simulador!$C$9,Simulador!$C$10)-Simulador!$C$8)*12,Y348=0),0,Y348+1)","v":345},{"$f":"IF($Y349=0,0,Z348*(1+Simulador!$D$34)+E349+L349)","v":0},{"$f":"IF($Y349=0,0,AA348*(1+Simulador!$D$34)+S349)","v":0},{"$f":"IF(OR(AB348+1>(IF(AND(Simulador!$C$9<Simulador!$C$10,OR(Simulador!$E$7=\"Resgate\",Simulador!$E$7=\"Portabilidade\")),Simulador!$C$9,Simulador!$C$50)-Simulador!$C$8)*12,AB348=0),0,AB348+1)","v":345},{"$f":"IF($AB349=0,0,AC348*(1+Simulador!$D$34)+F349+M349)","v":0},{"$f":"IF($AB349=0,0,AD348*(1+Simulador!$D$34)+T349)","v":0}]
[{"$f":"IF(OR(A349+1>(IF(Simulador!$E$7=\"Autopatrocínio\",Simulador!$C$10,Simulador!$C$9)-Simulador!$C$8)*12,A349=0),0,A349+1)","v":0},{"$f":"IF($A350=0,0,IF(INT($A349/12)-$A349/12=0,B349*(1+Simulador!$C$35),B349))","v":0},{"$f":"MAX(IF(A350=0,0,B350-IF(Simulador!$C$11=\"Individual\",0,Simulador!$C$14)),0)","v":0},null,0,0,0,0,0,0,null,0,0,0,0,0,0,null,0,0,0,0,0,null,{"$f":"IF(OR(Y349+1>(IF(AND(Simulador!$C$9<Simulador!$C$10,OR(Simulador!$E$7=\"Resgate\",Simulador!$E$7=\"Portabilidade\")),Simulador!$C$9,Simulador!$C$10)-Simulador!$C$8)*12,Y349=0),0,Y349+1)","v":346},{"$f":"IF($Y350=0,0,Z349*(1+Simulador!$D$34)+E350+L350)","v":0},{"$f":"IF($Y350=0,0,AA349*(1+Simulador!$D$34)+S350)","v":0},{"$f":"IF(OR(AB349+1>(IF(AND(Simulador!$C$9<Simulador!$C$10,OR(Simulador!$E$7=\"Resgate\",Simulador!$E$7=\"Portabilidade\")),Simulador!$C$9,Simulador!$C$50)-Simulador!$C$8)*12,AB349=0),0,AB349+1)","v":346},{"$f":"IF($AB350=0,0,AC349*(1+Simulador!$D$34)+F350+M350)","v":0},{"$f":"IF($AB350=0,0,AD349*(1+Simulador!$D$34)+T350)","v":0}]
[{"$f":"IF(OR(A350+1>(IF(Simulador!$E$7=\"Autopatrocínio\",Simulador!$C$10,Simulador!$C$9)-Simulador!$C$8)*12,A350=0),0,A350+1)","v":0},{"$f":"IF($A351=0,0,IF(INT($A350/12)-$A350/12=0,B350*(1+Simulador!$C$35),B350))","v":0},{"$f":"MAX(IF(A351=0,0,B351-IF(Simulador!$C$11=\"Individual\",0,Simulador!$C$14)),0)","v":0},null,0,0,0,0,0,0,null,0,0,0,0,0,0,null,0,0,0,0,0,null,{"$f":"IF(OR(Y350+1>(IF(AND(Simulador!$C$9<Simulador!$C$10,OR(Simulador!$E$7=\"Resgate\",Simulador!$E$7=\"Portabilidade\")),Simulador!$C$9,Simulador!$C$10)-Simulador!$C$8)*12,Y350=0),0,Y350+1)","v":347},{"$f":"IF($Y351=0,0,Z350*(1+Simulador!$D$34)+E351+L351)","v":0},{"$f":"IF($Y351=0,0,AA350*(1+Simulador!$D$34)+S351)","v":0},{"$f":"IF(OR(AB350+1>(IF(AND(Simulador!$C$9<Simulador!$C$10,OR(Simulador!$E$7=\"Resgate\",Simulador!$E$7=\"Portabilidade\")),Simulador!$C$9,Simulador!$C$50)-Simulador!$C$8)*12,AB350=0),0,AB350+1)","v":347},{"$f":"IF($AB351=0,0,AC350*(1+Simulador!$D$34)+F351+M351)","v":0},{"$f":"IF($AB351=0,0,AD350*(1+Simulador!$D$34)+T351)","v":0}]
[{"$f":"IF(OR(A351+1>(IF(Simulador!$E$7=\"Autopatrocínio\",Simulador!$C$10,Simulador!$C$9)-Simulador!$C$8)*12,A351=0),0,A351+1)","v":0},{"$f":"IF($A352=0,0,IF(INT($A351/12)-$A351/12=0,B351*(1+Simulador!$C$35),B351))","v":0},{"$f":"MAX(IF(A352=0,0,B352-IF(Simulador!$C$11=\"Individual\",0,Simulador!$C$14)),0)","v":0},null,0,0,0,0,0,0,null,0,0,0,0,0,0,null,0,0,0,0,0,null,{"$f":"IF(OR(Y351+1>(IF(AND(Simulador!$C$9<Simulador!$C$10,OR(Simulador!$E$7=\"Resgate\",Simulador!$E$7=\"Portabilidade\")),Simulador!$C$9,Simulador!$C$10)-Simulador!$C$8)*12,Y351=0),0,Y351+1)","v":348},{"$f":"IF($Y352=0,0,Z351*(1+Simulador!$D$34)+E352+L352)","v":0},{"$f":"IF($Y352=0,0,AA351*(1+Simulador!$D$34)+S352)","v":0},{"$f":"IF(OR(AB351+1>(IF(AND(Simulador!$C$9<Simulador!$C$10,OR(Simulador!$E$7=\"Resgate\",Simulador!$E$7=\"Portabilidade\")),Simulador!$C$9,Simulador!$C$50)-Simulador!$C$8)*12,AB351=0),0,AB351+1)","v":348},{"$f":"IF($AB352=0,0,AC351*(1+Simulador!$D$34)+F352+M352)","v":0},{"$f":"IF($AB352=0,0,AD351*(1+Simulador!$D$34)+T352)","v":0}]
[{"$f":"IF(OR(A352+1>(IF(Simulador!$E$7=\"Autopatrocínio\",Simulador!$C$10,Simulador!$C$9)-Simulador!$C$8)*12,A352=0),0,A352+1)","v":0},{"$f":"IF($A353=0,0,IF(INT($A352/12)-$A352/12=0,B352*(1+Simulador!$C$35),B352))","v":0},{"$f":"MAX(IF(A353=0,0,B353-IF(Simulador!$C$11=\"Individual\",0,Simulador!$C$14)),0)","v":0},null,0,0,0,0,0,0,null,0,0,0,0,0,0,null,0,0,0,0,0,null,{"$f":"IF(OR(Y352+1>(IF(AND(Simulador!$C$9<Simulador!$C$10,OR(Simulador!$E$7=\"Resgate\",Simulador!$E$7=\"Portabilidade\")),Simulador!$C$9,Simulador!$C$10)-Simulador!$C$8)*12,Y352=0),0,Y352+1)","v":349},{"$f":"IF($Y353=0,0,Z352*(1+Simulador!$D$34)+E353+L353)","v":0},{"$f":"IF($Y353=0,0,AA352*(1+Simulador!$D$34)+S353)","v":0},{"$f":"IF(OR(AB352+1>(IF(AND(Simulador!$C$9<Simulador!$C$10,OR(Simulador!$E$7=\"Resgate\",Simulador!$E$7=\"Portabilidade\")),Simulador!$C$9,Simulador!$C$50)-Simulador!$C$8)*12,AB352=0),0,AB352+1)","v":349},{"$f":"IF($AB353=0,0,AC352*(1+Simulador!$D$34)+F353+M353)","v":0},{"$f":"IF($AB353=0,0,AD352*(1+Simulador!$D$34)+T353)","v":0}]
[{"$f":"IF(OR(A353+1>(IF(Simulador!$E$7=\"Autopatrocínio\",Simulador!$C$10,Simulador!$C$9)-Simulador!$C$8)*12,A353=0),0,A353+1)","v":0},{"$f":"IF($A354=0,0,IF(INT($A353/12)-$A353/12=0,B353*(1+Simulador!$C$35),B353))","v":0},{"$f":"MAX(IF(A354=0,0,B354-IF(Simulador!$C$11=\"Individual\",0,Simulador!$C$14)),0)","v":0},null,0,0,0,0,0,0,null,0,0,0,0,0,0,null,0,0,0,0,0,null,{"$f":"IF(OR(Y353+1>(IF(AND(Simulador!$C$9<Simulador!$C$10,OR(Simulador!$E$7=\"Resgate\",Simulador!$E$7=\"Portabilidade\")),Simulador!$C$9,Simulador!$C$10)-Simulador!$C$8)*12,Y353=0),0,Y353+1)","v":350},{"$f":"IF($Y354=0,0,Z353*(1+Simulador!$D$34)+E354+L354)","v":0},{"$f":"IF($Y354=0,0,AA353*(1+Simulador!$D$34)+S354)","v":0},{"$f":"IF(OR(AB353+1>(IF(AND(Simulador!$C$9<Simulador!$C$10,OR(Simulador!$E$7=\"Resgate\",Simulador!$E$7=\"Portabilidade\")),Simulador!$C$9,Simulador!$C$50)-Simulador!$C$8)*12,AB353=0),0,AB353+1)","v":350},{"$f":"IF($AB354=0,0,AC353*(1+Simulador!$D$34)+F354+M354)","v":0},{"$f":"IF($AB354=0,0,AD353*(1+Simulador!$D$34)+T354)","v":0}]
[{"$f":"IF(OR(A354+1>(IF(Simulador!$E$7=\"Autopatrocínio\",Simulador!$C$10,Simulador!$C$9)-Simulador!$C$8)*12,A354=0),0,A354+1)","v":0},{"$f":"IF($A355=0,0,IF(INT($A354/12)-$A354/12=0,B354*(1+Simulador!$C$35),B354))","v":0},{"$f":"MAX(IF(A355=0,0,B355-IF(Simulador!$C$11=\"Individual\",0,Simulador!$C$14)),0)","v":0},null,{"$f":"E$4*$C355*(1+$J355)","v":0},0,0,0,0,0,null,{"$f":"L$4*$C355*$Q355","v":0},0,0,0,0,0,null,0,0,0,0,0,null,{"$f":"IF(OR(Y354+1>(IF(AND(Simulador!$C$9<Simulador!$C$10,OR(Simulador!$E$7=\"Resgate\",Simulador!$E$7=\"Portabilidade\")),Simulador!$C$9,Simulador!$C$10)-Simulador!$C$8)*12,Y354=0),0,Y354+1)","v":351},{"$f":"IF($Y355=0,0,Z354*(1+Simulador!$D$34)+E355+L355)","v":0},{"$f":"IF($Y355=0,0,AA354*(1+Simulador!$D$34)+S355)","v":0},{"$f":"IF(OR(AB354+1>(IF(AND(Simulador!$C$9<Simulador!$C$10,OR(Simulador!$E$7=\"Resgate\",Simulador!$E$7=\"Portabilidade\")),Simulador!$C$9,Simulador!$C$50)-Simulador!$C$8)*12,AB354=0),0,AB354+1)","v":351},{"$f":"IF($AB355=0,0,AC354*(1+Simulador!$D$34)+F355+M355)","v":0},{"$f":"IF($AB355=0,0,AD354*(1+Simulador!$D$34)+T355)","v":0}]
[{"$f":"IF(OR(A355+1>(IF(Simulador!$E$7=\"Autopatrocínio\",Simulador!$C$10,Simulador!$C$9)-Simulador!$C$8)*12,A355=0),0,A355+1)","v":0},{"$f":"IF($A356=0,0,IF(INT($A355/12)-$A355/12=0,B355*(1+Simulador!$C$35),B355))","v":0},{"$f":"MAX(IF(A356=0,0,B356-IF(Simulador!$C$11=\"Individual\",0,Simulador!$C$14)),0)","v":0},null,0,0,0,0,0,0,null,0,0,0,0,0,0,null,0,0,0,0,0,null,{"$f":"IF(OR(Y355+1>(IF(AND(Simulador!$C$9<Simulador!$C$10,OR(Simulador!$E$7=\"Resgate\",Simulador!$E$7=\"Portabilidade\")),Simulador!$C$9,Simulador!$C$10)-Simulador!$C$8)*12,Y355=0),0,Y355+1)","v":352},{"$f":"IF($Y356=0,0,Z355*(1+Simulador!$D$34)+E356+L356)","v":0},{"$f":"IF($Y356=0,0,AA355*(1+Simulador!$D$34)+S356)","v":0},{"$f":"IF(OR(AB355+1>(IF(AND(Simulador!$C$9<Simulador!$C$10,OR(Simulador!$E$7=\"Resgate\",Simulador!$E$7=\"Portabilidade\")),Simulador!$C$9,Simulador!$C$50)-Simulador!$C$8)*12,AB355=0),0,AB355+1)","v":352},{"$f":"IF($AB356=0,0,AC355*(1+Simulador!$D$34)+F356+M356)","v":0},{"$f":"IF($AB356=0,0,AD355*(1+Simulador!$D$34)+T356)","v":0}]
[{"$f":"IF(OR(A356+1>(IF(Simulador!$E$7=\"Autopatrocínio\",Simulador!$C$10,Simulador!$C$9)-Simulador!$C$8)*12,A356=0),0,A356+1)","v":0},{"$f":"IF($A357=0,0,IF(INT($A356/12)-$A356/12=0,B356*(1+Simulador!$C$35),B356))","v":0},{"$f":"MAX(IF(A357=0,0,B357-IF(Simulador!$C$11=\"Individual\",0,Simulador!$C$14)),0)","v":0},null,0,0,0,0,0,0,null,0,0,0,0,0,0,null,{"$f":"S$4*$C357*(1+$J357)","v":0},0,0,0,0,null,{"$f":"IF(OR(Y356+1>(IF(AND(Simulador!$C$9<Simulador!$C$10,OR(Simulador!$E$7=\"Resgate\",Simulador!$E$7=\"Portabilidade\")),Simulador!$C$9,Simulador!$C$10)-Simulador!$C$8)*12,Y356=0),0,Y356+1)","v":353},{"$f":"IF($Y357=0,0,Z356*(1+Simulador!$D$34)+E357+L357)","v":0},{"$f":"IF($Y357=0,0,AA356*(1+Simulador!$D$34)+S357)","v":0},{"$f":"IF(OR(AB356+1>(IF(AND(Simulador!$C$9<Simulador!$C$10,OR(Simulador!$E$7=\"Resgate\",Simulador!$E$7=\"Portabilidade\")),Simulador!$C$9,Simulador!$C$50)-Simulador!$C$8)*12,AB356=0),0,AB356+1)","v":353},{"$f":"IF($AB357=0,0,AC356*(1+Simulador!$D$34)+F357+M357)","v":0},{"$f":"IF($AB357=0,0,AD356*(1+Simulador!$D$34)+T357)","v":0}]
[{"$f":"IF(OR(A357+1>(IF(Simulador!$E$7=\"Autopatrocínio\",Simulador!$C$10,Simulador!$C$9)-Simulador!$C$8)*12,A357=0),0,A357+1)","v":0},{"$f":"IF($A358=0,0,IF(INT($A357/12)-$A357/12=0,B357*(1+Simulador!$C$35),B357))","v":0},{"$f":"MAX(IF(A358=0,0,B358-IF(Simulador!$C$11=\"Individual\",0,Simulador!$C$14)),0)","v":0},null,0,0,0,0,0,0,null,0,0,0,0,0,0,null,0,0,0,0,0,null,{"$f":"IF(OR(Y357+1>(IF(AND(Simulador!$C$9<Simulador!$C$10,OR(Simulador!$E$7=\"Resgate\",Simulador!$E$7=\"Portabilidade\")),Simulador!$C$9,Simulador!$C$10)-Simulador!$C$8)*12,Y357=0),0,Y357+1)","v":354},{"$f":"IF($Y358=0,0,Z357*(1+Simulador!$D$34)+E358+L358)","v":0},{"$f":"IF($Y358=0,0,AA357*(1+Simulador!$D$34)+S358)","v":0},{"$f":"IF(OR(AB357+1>(IF(AND(Simulador!$C$9<Simulador!$C$10,OR(Simulador!$E$7=\"Resgate\",Simulador!$E$7=\"Portabilidade\")),Simulador!$C$9,Simulador!$C$50)-Simulador!$C$8)*12,AB357=0),0,AB357+1)","v":354},{"$f":"IF($AB358=0,0,AC357*(1+Simulador!$D$34)+F358+M358)","v":0},{"$f":"IF($AB358=0,0,AD357*(1+Simulador!$D$34)+T358)","v":0}]
[{"$f":"IF(OR(A358+1>(IF(Simulador!$E$7=\"Autopatrocínio\",Simulador!$C$10,Simulador!$C$9)-Simulador!$C$8)*12,A358=0),0,A358+1)","v":0},{"$f":"IF($A359=0,0,IF(INT($A358/12)-$A358/12=0,B358*(1+Simulador!$C$35),B358))","v":0},{"$f":"MAX(IF(A359=0,0,B359-IF(Simulador!$C$11=\"Individual\",0,Simulador!$C$14)),0)","v":0},null,0,0,0,0,0,0,null,0,0,0,0,0,0,null,0,0,0,0,0,null,{"$f":"IF(OR(Y358+1>(IF(AND(Simulador!$C$9<Simulador!$C$10,OR(Simulador!$E$7=\"Resgate\",Simulador!$E$7=\"Portabilidade\")),Simulador!$C$9,Simulador!$C$10)-Simulador!$C$8)*12,Y358=0),0,Y358+1)","v":355},{"$f":"IF($Y359=0,0,Z358*(1+Simulador!$D$34)+E359+L359)","v":0},{"$f":"IF($Y359=0,0,AA358*(1+Simulador!$D$34)+S359)","v":0},{"$f":"IF(OR(AB358+1>(IF(AND(Simulador!$C$9<Simulador!$C$10,OR(Simulador!$E$7=\"Resgate\",Simulador!$E$7=\"Portabilidade\")),Simulador!$C$9,Simulador!$C$50)-Simulador!$C$8)*12,AB358=0),0,AB358+1)","v":355},{"$f":"IF($AB359=0,0,AC358*(1+Simulador!$D$34)+F359+M359)","v":0},{"$f":"IF($AB359=0,0,AD358*(1+Simulador!$D$34)+T359)","v":0}]
[{"$f":"IF(OR(A359+1>(IF(Simulador!$E$7=\"Autopatrocínio\",Simulador!$C$10,Simulador!$C$9)-Simulador!$C$8)*12,A359=0),0,A359+1)","v":0},{"$f":"IF($A360=0,0,IF(INT($A359/12)-$A359/12=0,B359*(1+Simulador!$C$35),B359))","v":0},{"$f":"MAX(IF(A360=0,0,B360-IF(Simulador!$C$11=\"Individual\",0,Simulador!$C$14)),0)","v":0},null,0,0,0,0,0,0,null,0,0,0,0,0,0,null,0,0,0,0,0,null,{"$f":"IF(OR(Y359+1>(IF(AND(Simulador!$C$9<Simulador!$C$10,OR(Simulador!$E$7=\"Resgate\",Simulador!$E$7=\"Portabilidade\")),Simulador!$C$9,Simulador!$C$10)-Simulador!$C$8)*12,Y359=0),0,Y359+1)","v":356},{"$f":"IF($Y360=0,0,Z359*(1+Simulador!$D$34)+E360+L360)","v":0},{"$f":"IF($Y360=0,0,AA359*(1+Simulador!$D$34)+S360)","v":0},{"$f":"IF(OR(AB359+1>(IF(AND(Simulador!$C$9<Simulador!$C$10,OR(Simulador!$E$7=\"Resgate\",Simulador!$E$7=\"Portabilidade\")),Simulador!$C$9,Simulador!$C$50)-Simulador!$C$8)*12,AB359=0),0,AB359+1)","v":356},{"$f":"IF($AB360=0,0,AC359*(1+Simulador!$D$34)+F360+M360)","v":0},{"$f":"IF($AB360=0,0,AD359*(1+Simulador!$D$34)+T360)","v":0}]
[{"$f":"IF(OR(A360+1>(IF(Simulador!$E$7=\"Autopatrocínio\",Simulador!$C$10,Simulador!$C$9)-Simulador!$C$8)*12,A360=0),0,A360+1)","v":0},{"$f":"IF($A361=0,0,IF(INT($A360/12)-$A360/12=0,B360*(1+Simulador!$C$35),B360))","v":0},{"$f":"MAX(IF(A361=0,0,B361-IF(Simulador!$C$11=\"Individual\",0,Simulador!$C$14)),0)","v":0},null,0,0,0,0,0,0,null,0,0,0,0,0,0,null,0,0,0,0,0,null,{"$f":"IF(OR(Y360+1>(IF(AND(Simulador!$C$9<Simulador!$C$10,OR(Simulador!$E$7=\"Resgate\",Simulador!$E$7=\"Portabilidade\")),Simulador!$C$9,Simulador!$C$10)-Simulador!$C$8)*12,Y360=0),0,Y360+1)","v":357},{"$f":"IF($Y361=0,0,Z360*(1+Simulador!$D$34)+E361+L361)","v":0},{"$f":"IF($Y361=0,0,AA360*(1+Simulador!$D$34)+S361)","v":0},{"$f":"IF(OR(AB360+1>(IF(AND(Simulador!$C$9<Simulador!$C$10,OR(Simulador!$E$7=\"Resgate\",Simulador!$E$7=\"Portabilidade\")),Simulador!$C$9,Simulador!$C$50)-Simulador!$C$8)*12,AB360=0),0,AB360+1)","v":357},{"$f":"IF($AB361=0,0,AC360*(1+Simulador!$D$34)+F361+M361)","v":0},{"$f":"IF($AB361=0,0,AD360*(1+Simulador!$D$34)+T361)","v":0}]
[{"$f":"IF(OR(A361+1>(IF(Simulador!$E$7=\"Autopatrocínio\",Simulador!$C$10,Simulador!$C$9)-Simulador!$C$8)*12,A361=0),0,A361+1)","v":0},{"$f":"IF($A362=0,0,IF(INT($A361/12)-$A361/12=0,B361*(1+Simulador!$C$35),B361))","v":0},{"$f":"MAX(IF(A362=0,0,B362-IF(Simulador!$C$11=\"Individual\",0,Simulador!$C$14)),0)","v":0},null,0,0,0,0,0,0,null,0,0,0,0,0,0,null,0,0,0,0,0,null,{"$f":"IF(OR(Y361+1>(IF(AND(Simulador!$C$9<Simulador!$C$10,OR(Simulador!$E$7=\"Resgate\",Simulador!$E$7=\"Portabilidade\")),Simulador!$C$9,Simulador!$C$10)-Simulador!$C$8)*12,Y361=0),0,Y361+1)","v":358},{"$f":"IF($Y362=0,0,Z361*(1+Simulador!$D$34)+E362+L362)","v":0},{"$f":"IF($Y362=0,0,AA361*(1+Simulador!$D$34)+S362)","v":0},{"$f":"IF(OR(AB361+1>(IF(AND(Simulador!$C$9<Simulador!$C$10,OR(Simulador!$E$7=\"Resgate\",Simulador!$E$7=\"Portabilidade\")),Simulador!$C$9,Simulador!$C$50)-Simulador!$C$8)*12,AB361=0),0,AB361+1)","v":358},{"$f":"IF($AB362=0,0,AC361*(1+Simulador!$D$34)+F362+M362)","v":0},{"$f":"IF($AB362=0,0,AD361*(1+Simulador!$D$34)+T362)","v":0}]
[{"$f":"IF(OR(A362+1>(IF(Simulador!$E$7=\"Autopatrocínio\",Simulador!$C$10,Simulador!$C$9)-Simulador!$C$8)*12,A362=0),0,A362+1)","v":0},{"$f":"IF($A363=0,0,IF(INT($A362/12)-$A362/12=0,B362*(1+Simulador!$C$35),B362))","v":0},{"$f":"MAX(IF(A363=0,0,B363-IF(Simulador!$C$11=\"Individual\",0,Simulador!$C$14)),0)","v":0},null,0,0,0,0,0,0,null,0,0,0,0,0,0,null,0,0,0,0,0,null,{"$f":"IF(OR(Y362+1>(IF(AND(Simulador!$C$9<Simulador!$C$10,OR(Simulador!$E$7=\"Resgate\",Simulador!$E$7=\"Portabilidade\")),Simulador!$C$9,Simulador!$C$10)-Simulador!$C$8)*12,Y362=0),0,Y362+1)","v":359},{"$f":"IF($Y363=0,0,Z362*(1+Simulador!$D$34)+E363+L363)","v":0},{"$f":"IF($Y363=0,0,AA362*(1+Simulador!$D$34)+S363)","v":0},{"$f":"IF(OR(AB362+1>(IF(AND(Simulador!$C$9<Simulador!$C$10,OR(Simulador!$E$7=\"Resgate\",Simulador!$E$7=\"Portabilidade\")),Simulador!$C$9,Simulador!$C$50)-Simulador!$C$8)*12,AB362=0),0,AB362+1)","v":359},{"$f":"IF($AB363=0,0,AC362*(1+Simulador!$D$34)+F363+M363)","v":0},{"$f":"IF($AB363=0,0,AD362*(1+Simulador!$D$34)+T363)","v":0}]
[{"$f":"IF(OR(A363+1>(IF(Simulador!$E$7=\"Autopatrocínio\",Simulador!$C$10,Simulador!$C$9)-Simulador!$C$8)*12,A363=0),0,A363+1)","v":0},{"$f":"IF($A364=0,0,IF(INT($A363/12)-$A363/12=0,B363*(1+Simulador!$C$35),B363))","v":0},{"$f":"MAX(IF(A364=0,0,B364-IF(Simulador!$C$11=\"Individual\",0,Simulador!$C$14)),0)","v":0},null,0,0,0,0,0,0,null,0,0,0,0,0,0,null,0,0,0,0,0,null,{"$f":"IF(OR(Y363+1>(IF(AND(Simulador!$C$9<Simulador!$C$10,OR(Simulador!$E$7=\"Resgate\",Simulador!$E$7=\"Portabilidade\")),Simulador!$C$9,Simulador!$C$10)-Simulador!$C$8)*12,Y363=0),0,Y363+1)","v":360},{"$f":"IF($Y364=0,0,Z363*(1+Simulador!$D$34)+E364+L364)","v":0},{"$f":"IF($Y364=0,0,AA363*(1+Simulador!$D$34)+S364)","v":0},{"$f":"IF(OR(AB363+1>(IF(AND(Simulador!$C$9<Simulador!$C$10,OR(Simulador!$E$7=\"Resgate\",Simulador!$E$7=\"Portabilidade\")),Simulador!$C$9,Simulador!$C$50)-Simulador!$C$8)*12,AB363=0),0,AB363+1)","v":360},{"$f":"IF($AB364=0,0,AC363*(1+Simulador!$D$34)+F364+M364)","v":0},{"$f":"IF($AB364=0,0,AD363*(1+Simulador!$D$34)+T364)","v":0}]
[{"$f":"IF(OR(A364+1>(IF(Simulador!$E$7=\"Autopatrocínio\",Simulador!$C$10,Simulador!$C$9)-Simulador!$C$8)*12,A364=0),0,A364+1)","v":0},{"$f":"IF($A365=0,0,IF(INT($A364/12)-$A364/12=0,B364*(1+Simulador!$C$35),B364))","v":0},{"$f":"MAX(IF(A365=0,0,B365-IF(Simulador!$C$11=\"Individual\",0,Simulador!$C$14)),0)","v":0},null,{"$f":"E$4*$C365*(1+$J365)","v":0},0,0,0,0,0,null,{"$f":"L$4*$C365*$Q365","v":0},0,0,0,0,0,null,0,0,0,0,0,null,{"$f":"IF(OR(Y364+1>(IF(AND(Simulador!$C$9<Simulador!$C$10,OR(Simulador!$E$7=\"Resgate\",Simulador!$E$7=\"Portabilidade\")),Simulador!$C$9,Simulador!$C$10)-Simulador!$C$8)*12,Y364=0),0,Y364+1)","v":361},{"$f":"IF($Y365=0,0,Z364*(1+Simulador!$D$34)+E365+L365)","v":0},{"$f":"IF($Y365=0,0,AA364*(1+Simulador!$D$34)+S365)","v":0},{"$f":"IF(OR(AB364+1>(IF(AND(Simulador!$C$9<Simulador!$C$10,OR(Simulador!$E$7=\"Resgate\",Simulador!$E$7=\"Portabilidade\")),Simulador!$C$9,Simulador!$C$50)-Simulador!$C$8)*12,AB364=0),0,AB364+1)","v":361},{"$f":"IF($AB365=0,0,AC364*(1+Simulador!$D$34)+F365+M365)","v":0},{"$f":"IF($AB365=0,0,AD364*(1+Simulador!$D$34)+T365)","v":0}]
[{"$f":"IF(OR(A365+1>(IF(Simulador!$E$7=\"Autopatrocínio\",Simulador!$C$10,Simulador!$C$9)-Simulador!$C$8)*12,A365=0),0,A365+1)","v":0},{"$f":"IF($A366=0,0,IF(INT($A365/12)-$A365/12=0,B365*(1+Simulador!$C$35),B365))","v":0},{"$f":"MAX(IF(A366=0,0,B366-IF(Simulador!$C$11=\"Individual\",0,Simulador!$C$14)),0)","v":0},null,0,0,0,0,0,0,null,0,0,0,0,0,0,null,0,0,0,0,0,null,{"$f":"IF(OR(Y365+1>(IF(AND(Simulador!$C$9<Simulador!$C$10,OR(Simulador!$E$7=\"Resgate\",Simulador!$E$7=\"Portabilidade\")),Simulador!$C$9,Simulador!$C$10)-Simulador!$C$8)*12,Y365=0),0,Y365+1)","v":362},{"$f":"IF($Y366=0,0,Z365*(1+Simulador!$D$34)+E366+L366)","v":0},{"$f":"IF($Y366=0,0,AA365*(1+Simulador!$D$34)+S366)","v":0},{"$f":"IF(OR(AB365+1>(IF(AND(Simulador!$C$9<Simulador!$C$10,OR(Simulador!$E$7=\"Resgate\",Simulador!$E$7=\"Portabilidade\")),Simulador!$C$9,Simulador!$C$50)-Simulador!$C$8)*12,AB365=0),0,AB365+1)","v":362},{"$f":"IF($AB366=0,0,AC365*(1+Simulador!$D$34)+F366+M366)","v":0},{"$f":"IF($AB366=0,0,AD365*(1+Simulador!$D$34)+T366)","v":0}]
[{"$f":"IF(OR(A366+1>(IF(Simulador!$E$7=\"Autopatrocínio\",Simulador!$C$10,Simulador!$C$9)-Simulador!$C$8)*12,A366=0),0,A366+1)","v":0},{"$f":"IF($A367=0,0,IF(INT($A366/12)-$A366/12=0,B366*(1+Simulador!$C$35),B366))","v":0},{"$f":"MAX(IF(A367=0,0,B367-IF(Simulador!$C$11=\"Individual\",0,Simulador!$C$14)),0)","v":0},null,0,0,0,0,0,0,null,0,0,0,0,0,0,null,0,0,0,0,0,null,{"$f":"IF(OR(Y366+1>(IF(AND(Simulador!$C$9<Simulador!$C$10,OR(Simulador!$E$7=\"Resgate\",Simulador!$E$7=\"Portabilidade\")),Simulador!$C$9,Simulador!$C$10)-Simulador!$C$8)*12,Y366=0),0,Y366+1)","v":363},{"$f":"IF($Y367=0,0,Z366*(1+Simulador!$D$34)+E367+L367)","v":0},{"$f":"IF($Y367=0,0,AA366*(1+Simulador!$D$34)+S367)","v":0},{"$f":"IF(OR(AB366+1>(IF(AND(Simulador!$C$9<Simulador!$C$10,OR(Simulador!$E$7=\"Resgate\",Simulador!$E$7=\"Portabilidade\")),Simulador!$C$9,Simulador!$C$50)-Simulador!$C$8)*12,AB366=0),0,AB366+1)","v":363},{"$f":"IF($AB367=0,0,AC366*(1+Simulador!$D$34)+F367+M367)","v":0},{"$f":"IF($AB367=0,0,AD366*(1+Simulador!$D$34)+T367)","v":0}]
[{"$f":"IF(OR(A367+1>(IF(Simulador!$E$7=\"Autopatrocínio\",Simulador!$C$10,Simulador!$C$9)-Simulador!$C$8)*12,A367=0),0,A367+1)","v":0},{"$f":"IF($A368=0,0,IF(INT($A367/12)-$A367/12=0,B367*(1+Simulador!$C$35),B367))","v":0},{"$f":"MAX(IF(A368=0,0,B368-IF(Simulador!$C$11=\"Individual\",0,Simulador!$C$14)),0)","v":0},null,0,0,0,0,0,0,null,0,0,0,0,0,0,null,0,0,0,0,0,null,{"$f":"IF(OR(Y367+1>(IF(AND(Simulador!$C$9<Simulador!$C$10,OR(Simulador!$E$7=\"Resgate\",Simulador!$E$7=\"Portabilidade\")),Simulador!$C$9,Simulador!$C$10)-Simulador!$C$8)*12,Y367=0),0,Y367+1)","v":364},{"$f":"IF($Y368=0,0,Z367*(1+Simulador!$D$34)+E368+L368)","v":0},{"$f":"IF($Y368=0,0,AA367*(1+Simulador!$D$34)+S368)","v":0},{"$f":"IF(OR(AB367+1>(IF(AND(Simulador!$C$9<Simulador!$C$10,OR(Simulador!$E$7=\"Resgate\",Simulador!$E$7=\"Portabilidade\")),Simulador!$C$9,Simulador!$C$50)-Simulador!$C$8)*12,AB367=0),0,AB367+1)","v":364},{"$f":"IF($AB368=0,0,AC367*(1+Simulador!$D$34)+F368+M368)","v":0},{"$f":"IF($AB368=0,0,AD367*(1+Simulador!$D$34)+T368)","v":0}]
[{"$f":"IF(OR(A368+1>(IF(Simulador!$E$7=\"Autopatrocínio\",Simulador!$C$10,Simulador!$C$9)-Simulador!$C$8)*12,A368=0),0,A368+1)","v":0},{"$f":"IF($A369=0,0,IF(INT($A368/12)-$A368/12=0,B368*(1+Simulador!$C$35),B368))","v":0},{"$f":"MAX(IF(A369=0,0,B369-IF(Simulador!$C$11=\"Individual\",0,Simulador!$C$14)),0)","v":0},null,0,0,0,0,0,0,null,0,0,0,0,0,0,null,0,0,0,0,0,null,{"$f":"IF(OR(Y368+1>(IF(AND(Simulador!$C$9<Simulador!$C$10,OR(Simulador!$E$7=\"Resgate\",Simulador!$E$7=\"Portabilidade\")),Simulador!$C$9,Simulador!$C$10)-Simulador!$C$8)*12,Y368=0),0,Y368+1)","v":365},{"$f":"IF($Y369=0,0,Z368*(1+Simulador!$D$34)+E369+L369)","v":0},{"$f":"IF($Y369=0,0,AA368*(1+Simulador!$D$34)+S369)","v":0},{"$f":"IF(OR(AB368+1>(IF(AND(Simulador!$C$9<Simulador!$C$10,OR(Simulador!$E$7=\"Resgate\",Simulador!$E$7=\"Portabilidade\")),Simulador!$C$9,Simulador!$C$50)-Simulador!$C$8)*12,AB368=0),0,AB368+1)","v":365},{"$f":"IF($AB369=0,0,AC368*(1+Simulador!$D$34)+F369+M369)","v":0},{"$f":"IF($AB369=0,0,AD368*(1+Simulador!$D$34)+T369)","v":0}]
[{"$f":"IF(OR(A369+1>(IF(Simulador!$E$7=\"Autopatrocínio\",Simulador!$C$10,Simulador!$C$9)-Simulador!$C$8)*12,A369=0),0,A369+1)","v":0},{"$f":"IF($A370=0,0,IF(INT($A369/12)-$A369/12=0,B369*(1+Simulador!$C$35),B369))","v":0},{"$f":"MAX(IF(A370=0,0,B370-IF(Simulador!$C$11=\"Individual\",0,Simulador!$C$14)),0)","v":0},null,0,0,0,0,0,0,null,0,0,0,0,0,0,null,0,0,0,0,0,null,{"$f":"IF(OR(Y369+1>(IF(AND(Simulador!$C$9<Simulador!$C$10,OR(Simulador!$E$7=\"Resgate\",Simulador!$E$7=\"Portabilidade\")),Simulador!$C$9,Simulador!$C$10)-Simulador!$C$8)*12,Y369=0),0,Y369+1)","v":366},{"$f":"IF($Y370=0,0,Z369*(1+Simulador!$D$34)+E370+L370)","v":0},{"$f":"IF($Y370=0,0,AA369*(1+Simulador!$D$34)+S370)","v":0},{"$f":"IF(OR(AB369+1>(IF(AND(Simulador!$C$9<Simulador!$C$10,OR(Simulador!$E$7=\"Resgate\",Simulador!$E$7=\"Portabilidade\")),Simulador!$C$9,Simulador!$C$50)-Simulador!$C$8)*12,AB369=0),0,AB369+1)","v":366},{"$f":"IF($AB370=0,0,AC369*(1+Simulador!$D$34)+F370+M370)","v":0},{"$f":"IF($AB370=0,0,AD369*(1+Simulador!$D$34)+T370)","v":0}]
[{"$f":"IF(OR(A370+1>(IF(Simulador!$E$7=\"Autopatrocínio\",Simulador!$C$10,Simulador!$C$9)-Simulador!$C$8)*12,A370=0),0,A370+1)","v":0},{"$f":"IF($A371=0,0,IF(INT($A370/12)-$A370/12=0,B370*(1+Simulador!$C$35),B370))","v":0},{"$f":"MAX(IF(A371=0,0,B371-IF(Simulador!$C$11=\"Individual\",0,Simulador!$C$14)),0)","v":0},null,0,0,0,0,0,0,null,0,0,0,0,0,0,null,0,0,0,0,0,null,{"$f":"IF(OR(Y370+1>(IF(AND(Simulador!$C$9<Simulador!$C$10,OR(Simulador!$E$7=\"Resgate\",Simulador!$E$7=\"Portabilidade\")),Simulador!$C$9,Simulador!$C$10)-Simulador!$C$8)*12,Y370=0),0,Y370+1)","v":367},{"$f":"IF($Y371=0,0,Z370*(1+Simulador!$D$34)+E371+L371)","v":0},{"$f":"IF($Y371=0,0,AA370*(1+Simulador!$D$34)+S371)","v":0},{"$f":"IF(OR(AB370+1>(IF(AND(Simulador!$C$9<Simulador!$C$10,OR(Simulador!$E$7=\"Resgate\",Simulador!$E$7=\"Portabilidade\")),Simulador!$C$9,Simulador!$C$50)-Simulador!$C$8)*12,AB370=0),0,AB370+1)","v":367},{"$f":"IF($AB371=0,0,AC370*(1+Simulador!$D$34)+F371+M371)","v":0},{"$f":"IF($AB371=0,0,AD370*(1+Simulador!$D$34)+T371)","v":0}]
[{"$f":"IF(OR(A371+1>(IF(Simulador!$E$7=\"Autopatrocínio\",Simulador!$C$10,Simulador!$C$9)-Simulador!$C$8)*12,A371=0),0,A371+1)","v":0},{"$f":"IF($A372=0,0,IF(INT($A371/12)-$A371/12=0,B371*(1+Simulador!$C$35),B371))","v":0},{"$f":"MAX(IF(A372=0,0,B372-IF(Simulador!$C$11=\"Individual\",0,Simulador!$C$14)),0)","v":0},null,0,0,0,0,0,0,null,0,0,0,0,0,0,null,0,0,0,0,0,null,{"$f":"IF(OR(Y371+1>(IF(AND(Simulador!$C$9<Simulador!$C$10,OR(Simulador!$E$7=\"Resgate\",Simulador!$E$7=\"Portabilidade\")),Simulador!$C$9,Simulador!$C$10)-Simulador!$C$8)*12,Y371=0),0,Y371+1)","v":368},{"$f":"IF($Y372=0,0,Z371*(1+Simulador!$D$34)+E372+L372)","v":0},{"$f":"IF($Y372=0,0,AA371*(1+Simulador!$D$34)+S372)","v":0},{"$f":"IF(OR(AB371+1>(IF(AND(Simulador!$C$9<Simulador!$C$10,OR(Simulador!$E$7=\"Resgate\",Simulador!$E$7=\"Portabilidade\")),Simulador!$C$9,Simulador!$C$50)-Simulador!$C$8)*12,AB371=0),0,AB371+1)","v":368},{"$f":"IF($AB372=0,0,AC371*(1+Simulador!$D$34)+F372+M372)","v":0},{"$f":"IF($AB372=0,0,AD371*(1+Simulador!$D$34)+T372)","v":0}]
[{"$f":"IF(OR(A372+1>(IF(Simulador!$E$7=\"Autopatrocínio\",Simulador!$C$10,Simulador!$C$9)-Simulador!$C$8)*12,A372=0),0,A372+1)","v":0},{"$f":"IF($A373=0,0,IF(INT($A372/12)-$A372/12=0,B372*(1+Simulador!$C$35),B372))","v":0},{"$f":"MAX(IF(A373=0,0,B373-IF(Simulador!$C$11=\"Individual\",0,Simulador!$C$14)),0)","v":0},null,0,0,0,0,0,0,null,0,0,0,0,0,0,null,{"$f":"S$4*$C373*(1+$J373)","v":0},0,0,0,0,null,{"$f":"IF(OR(Y372+1>(IF(AND(Simulador!$C$9<Simulador!$C$10,OR(Simulador!$E$7=\"Resgate\",Simulador!$E$7=\"Portabilidade\")),Simulador!$C$9,Simulador!$C$10)-Simulador!$C$8)*12,Y372=0),0,Y372+1)","v":369},{"$f":"IF($Y373=0,0,Z372*(1+Simulador!$D$34)+E373+L373)","v":0},{"$f":"IF($Y373=0,0,AA372*(1+Simulador!$D$34)+S373)","v":0},{"$f":"IF(OR(AB372+1>(IF(AND(Simulador!$C$9<Simulador!$C$10,OR(Simulador!$E$7=\"Resgate\",Simulador!$E$7=\"Portabilidade\")),Simulador!$C$9,Simulador!$C$50)-Simulador!$C$8)*12,AB372=0),0,AB372+1)","v":369},{"$f":"IF($AB373=0,0,AC372*(1+Simulador!$D$34)+F373+M373)","v":0},{"$f":"IF($AB373=0,0,AD372*(1+Simulador!$D$34)+T373)","v":0}]
[{"$f":"IF(OR(A373+1>(IF(Simulador!$E$7=\"Autopatrocínio\",Simulador!$C$10,Simulador!$C$9)-Simulador!$C$8)*12,A373=0),0,A373+1)","v":0},{"$f":"IF($A374=0,0,IF(INT($A373/12)-$A373/12=0,B373*(1+Simulador!$C$35),B373))","v":0},{"$f":"MAX(IF(A374=0,0,B374-IF(Simulador!$C$11=\"Individual\",0,Simulador!$C$14)),0)","v":0},null,0,0,0,0,0,0,null,0,0,0,0,0,0,null,0,0,0,0,0,null,{"$f":"IF(OR(Y373+1>(IF(AND(Simulador!$C$9<Simulador!$C$10,OR(Simulador!$E$7=\"Resgate\",Simulador!$E$7=\"Portabilidade\")),Simulador!$C$9,Simulador!$C$10)-Simulador!$C$8)*12,Y373=0),0,Y373+1)","v":370},{"$f":"IF($Y374=0,0,Z373*(1+Simulador!$D$34)+E374+L374)","v":0},{"$f":"IF($Y374=0,0,AA373*(1+Simulador!$D$34)+S374)","v":0},{"$f":"IF(OR(AB373+1>(IF(AND(Simulador!$C$9<Simulador!$C$10,OR(Simulador!$E$7=\"Resgate\",Simulador!$E$7=\"Portabilidade\")),Simulador!$C$9,Simulador!$C$50)-Simulador!$C$8)*12,AB373=0),0,AB373+1)","v":370},{"$f":"IF($AB374=0,0,AC373*(1+Simulador!$D$34)+F374+M374)","v":0},{"$f":"IF($AB374=0,0,AD373*(1+Simulador!$D$34)+T374)","v":0}]
[{"$f":"IF(OR(A374+1>(IF(Simulador!$E$7=\"Autopatrocínio\",Simulador!$C$10,Simulador!$C$9)-Simulador!$C$8)*12,A374=0),0,A374+1)","v":0},{"$f":"IF($A375=0,0,IF(INT($A374/12)-$A374/12=0,B374*(1+Simulador!$C$35),B374))","v":0},{"$f":"MAX(IF(A375=0,0,B375-IF(Simulador!$C$11=\"Individual\",0,Simulador!$C$14)),0)","v":0},null,{"$f":"E$4*$C375*(1+$J375)","v":0},0,0,0,0,0,null,{"$f":"L$4*$C375*$Q375","v":0},0,0,0,0,0,null,0,0,0,0,0,null,{"$f":"IF(OR(Y374+1>(IF(AND(Simulador!$C$9<Simulador!$C$10,OR(Simulador!$E$7=\"Resgate\",Simulador!$E$7=\"Portabilidade\")),Simulador!$C$9,Simulador!$C$10)-Simulador!$C$8)*12,Y374=0),0,Y374+1)","v":371},{"$f":"IF($Y375=0,0,Z374*(1+Simulador!$D$34)+E375+L375)","v":0},{"$f":"IF($Y375=0,0,AA374*(1+Simulador!$D$34)+S375)","v":0},{"$f":"IF(OR(AB374+1>(IF(AND(Simulador!$C$9<Simulador!$C$10,OR(Simulador!$E$7=\"Resgate\",Simulador!$E$7=\"Portabilidade\")),Simulador!$C$9,Simulador!$C$50)-Simulador!$C$8)*12,AB374=0),0,AB374+1)","v":371},{"$f":"IF($AB375=0,0,AC374*(1+Simulador!$D$34)+F375+M375)","v":0},{"$f":"IF($AB375=0,0,AD374*(1+Simulador!$D$34)+T375)","v":0}]
[{"$f":"IF(OR(A375+1>(IF(Simulador!$E$7=\"Autopatrocínio\",Simulador!$C$10,Simulador!$C$9)-Simulador!$C$8)*12,A375=0),0,A375+1)","v":0},{"$f":"IF($A376=0,0,IF(INT($A375/12)-$A375/12=0,B375*(1+Simulador!$C$35),B375))","v":0},{"$f":"MAX(IF(A376=0,0,B376-IF(Simulador!$C$11=\"Individual\",0,Simulador!$C$14)),0)","v":0},null,0,0,0,0,0,0,null,0,0,0,0,0,0,null,0,0,0,0,0,null,{"$f":"IF(OR(Y375+1>(IF(AND(Simulador!$C$9<Simulador!$C$10,OR(Simulador!$E$7=\"Resgate\",Simulador!$E$7=\"Portabilidade\")),Simulador!$C$9,Simulador!$C$10)-Simulador!$C$8)*12,Y375=0),0,Y375+1)","v":372},{"$f":"IF($Y376=0,0,Z375*(1+Simulador!$D$34)+E376+L376)","v":0},{"$f":"IF($Y376=0,0,AA375*(1+Simulador!$D$34)+S376)","v":0},{"$f":"IF(OR(AB375+1>(IF(AND(Simulador!$C$9<Simulador!$C$10,OR(Simulador!$E$7=\"Resgate\",Simulador!$E$7=\"Portabilidade\")),Simulador!$C$9,Simulador!$C$50)-Simulador!$C$8)*12,AB375=0),0,AB375+1)","v":372},{"$f":"IF($AB376=0,0,AC375*(1+Simulador!$D$34)+F376+M376)","v":0},{"$f":"IF($AB376=0,0,AD375*(1+Simulador!$D$34)+T376)","v":0}]
[{"$f":"IF(OR(A376+1>(IF(Simulador!$E$7=\"Autopatrocínio\",Simulador!$C$10,Simulador!$C$9)-Simulador!$C$8)*12,A376=0),0,A376+1)","v":0},{"$f":"IF($A377=0,0,IF(INT($A376/12)-$A376/12=0,B376*(1+Simulador!$C$35),B376))","v":0},{"$f":"MAX(IF(A377=0,0,B377-IF(Simulador!$C$11=\"Individual\",0,Simulador!$C$14)),0)","v":0},null,0,0,0,0,0,0,null,0,0,0,0,0,0,null,0,0,0,0,0,null,{"$f":"IF(OR(Y376+1>(IF(AND(Simulador!$C$9<Simulador!$C$10,OR(Simulador!$E$7=\"Resgate\",Simulador!$E$7=\"Portabilidade\")),Simulador!$C$9,Simulador!$C$10)-Simulador!$C$8)*12,Y376=0),0,Y376+1)","v":373},{"$f":"IF($Y377=0,0,Z376*(1+Simulador!$D$34)+E377+L377)","v":0},{"$f":"IF($Y377=0,0,AA376*(1+Simulador!$D$34)+S377)","v":0},{"$f":"IF(OR(AB376+1>(IF(AND(Simulador!$C$9<Simulador!$C$10,OR(Simulador!$E$7=\"Resgate\",Simulador!$E$7=\"Portabilidade\")),Simulador!$C$9,Simulador!$C$50)-Simulador!$C$8)*12,AB376=0),0,AB376+1)","v":373},{"$f":"IF($AB377=0,0,AC376*(1+Simulador!$D$34)+F377+M377)","v":0},{"$f":"IF($AB377=0,0,AD376*(1+Simulador!$D$34)+T377)","v":0}]
[{"$f":"IF(OR(A377+1>(IF(Simulador!$E$7=\"Autopatrocínio\",Simulador!$C$10,Simulador!$C$9)-Simulador!$C$8)*12,A377=0),0,A377+1)","v":0},{"$f":"IF($A378=0,0,IF(INT($A377/12)-$A377/12=0,B377*(1+Simulador!$C$35),B377))","v":0},{"$f":"MAX(IF(A378=0,0,B378-IF(Simulador!$C$11=\"Individual\",0,Simulador!$C$14)),0)","v":0},null,0,0,0,0,0,0,null,0,0,0,0,0,0,null,0,0,0,0,0,null,{"$f":"IF(OR(Y377+1>(IF(AND(Simulador!$C$9<Simulador!$C$10,OR(Simulador!$E$7=\"Resgate\",Simulador!$E$7=\"Portabilidade\")),Simulador!$C$9,Simulador!$C$10)-Simulador!$C$8)*12,Y377=0),0,Y377+1)","v":374},{"$f":"IF($Y378=0,0,Z377*(1+Simulador!$D$34)+E378+L378)","v":0},{"$f":"IF($Y378=0,0,AA377*(1+Simulador!$D$34)+S378)","v":0},{"$f":"IF(OR(AB377+1>(IF(AND(Simulador!$C$9<Simulador!$C$10,OR(Simulador!$E$7=\"Resgate\",Simulador!$E$7=\"Portabilidade\")),Simulador!$C$9,Simulador!$C$50)-Simulador!$C$8)*12,AB377=0),0,AB377+1)","v":374},{"$f":"IF($AB378=0,0,AC377*(1+Simulador!$D$34)+F378+M378)","v":0},{"$f":"IF($AB378=0,0,AD377*(1+Simulador!$D$34)+T378)","v":0}]
[{"$f":"IF(OR(A378+1>(IF(Simulador!$E$7=\"Autopatrocínio\",Simulador!$C$10,Simulador!$C$9)-Simulador!$C$8)*12,A378=0),0,A378+1)","v":0},{"$f":"IF($A379=0,0,IF(INT($A378/12)-$A378/12=0,B378*(1+Simulador!$C$35),B378))","v":0},{"$f":"MAX(IF(A379=0,0,B379-IF(Simulador!$C$11=\"Individual\",0,Simulador!$C$14)),0)","v":0},null,0,0,0,0,0,0,null,0,0,0,0,0,0,null,0,0,0,0,0,null,{"$f":"IF(OR(Y378+1>(IF(AND(Simulador!$C$9<Simulador!$C$10,OR(Simulador!$E$7=\"Resgate\",Simulador!$E$7=\"Portabilidade\")),Simulador!$C$9,Simulador!$C$10)-Simulador!$C$8)*12,Y378=0),0,Y378+1)","v":375},{"$f":"IF($Y379=0,0,Z378*(1+Simulador!$D$34)+E379+L379)","v":0},{"$f":"IF($Y379=0,0,AA378*(1+Simulador!$D$34)+S379)","v":0},{"$f":"IF(OR(AB378+1>(IF(AND(Simulador!$C$9<Simulador!$C$10,OR(Simulador!$E$7=\"Resgate\",Simulador!$E$7=\"Portabilidade\")),Simulador!$C$9,Simulador!$C$50)-Simulador!$C$8)*12,AB378=0),0,AB378+1)","v":375},{"$f":"IF($AB379=0,0,AC378*(1+Simulador!$D$34)+F379+M379)","v":0},{"$f":"IF($AB379=0,0,AD378*(1+Simulador!$D$34)+T379)","v":0}]
[{"$f":"IF(OR(A379+1>(IF(Simulador!$E$7=\"Autopatrocínio\",Simulador!$C$10,Simulador!$C$9)-Simulador!$C$8)*12,A379=0),0,A379+1)","v":0},{"$f":"IF($A380=0,0,IF(INT($A379/12)-$A379/12=0,B379*(1+Simulador!$C$35),B379))","v":0},{"$f":"MAX(IF(A380=0,0,B380-IF(Simulador!$C$11=\"Individual\",0,Simulador!$C$14)),0)","v":0},null,0,0,0,0,0,0,null,0,0,0,0,0,0,null,0,0,0,0,0,null,{"$f":"IF(OR(Y379+1>(IF(AND(Simulador!$C$9<Simulador!$C$10,OR(Simulador!$E$7=\"Resgate\",Simulador!$E$7=\"Portabilidade\")),Simulador!$C$9,Simulador!$C$10)-Simulador!$C$8)*12,Y379=0),0,Y379+1)","v":376},{"$f":"IF($Y380=0,0,Z379*(1+Simulador!$D$34)+E380+L380)","v":0},{"$f":"IF($Y380=0,0,AA379*(1+Simulador!$D$34)+S380)","v":0},{"$f":"IF(OR(AB379+1>(IF(AND(Simulador!$C$9<Simulador!$C$10,OR(Simulador!$E$7=\"Resgate\",Simulador!$E$7=\"Portabilidade\")),Simulador!$C$9,Simulador!$C$50)-Simulador!$C$8)*12,AB379=0),0,AB379+1)","v":376},{"$f":"IF($AB380=0,0,AC379*(1+Simulador!$D$34)+F380+M380)","v":0},{"$f":"IF($AB380=0,0,AD379*(1+Simulador!$D$34)+T380)","v":0}]
[{"$f":"IF(OR(A380+1>(IF(Simulador!$E$7=\"Autopatrocínio\",Simulador!$C$10,Simulador!$C$9)-Simulador!$C$8)*12,A380=0),0,A380+1)","v":0},{"$f":"IF($A381=0,0,IF(INT($A380/12)-$A380/12=0,B380*(1+Simulador!$C$35),B380))","v":0},{"$f":"MAX(IF(A381=0,0,B381-IF(Simulador!$C$11=\"Individual\",0,Simulador!$C$14)),0)","v":0},null,0,0,0,0,0,0,null,0,0,0,0,0,0,null,0,0,0,0,0,null,{"$f":"IF(OR(Y380+1>(IF(AND(Simulador!$C$9<Simulador!$C$10,OR(Simulador!$E$7=\"Resgate\",Simulador!$E$7=\"Portabilidade\")),Simulador!$C$9,Simulador!$C$10)-Simulador!$C$8)*12,Y380=0),0,Y380+1)","v":377},{"$f":"IF($Y381=0,0,Z380*(1+Simulador!$D$34)+E381+L381)","v":0},{"$f":"IF($Y381=0,0,AA380*(1+Simulador!$D$34)+S381)","v":0},{"$f":"IF(OR(AB380+1>(IF(AND(Simulador!$C$9<Simulador!$C$10,OR(Simulador!$E$7=\"Resgate\",Simulador!$E$7=\"Portabilidade\")),Simulador!$C$9,Simulador!$C$50)-Simulador!$C$8)*12,AB380=0),0,AB380+1)","v":377},{"$f":"IF($AB381=0,0,AC380*(1+Simulador!$D$34)+F381+M381)","v":0},{"$f":"IF($AB381=0,0,AD380*(1+Simulador!$D$34)+T381)","v":0}]
[{"$f":"IF(OR(A381+1>(IF(Simulador!$E$7=\"Autopatrocínio\",Simulador!$C$10,Simulador!$C$9)-Simulador!$C$8)*12,A381=0),0,A381+1)","v":0},{"$f":"IF($A382=0,0,IF(INT($A381/12)-$A381/12=0,B381*(1+Simulador!$C$35),B381))","v":0},{"$f":"MAX(IF(A382=0,0,B382-IF(Simulador!$C$11=\"Individual\",0,Simulador!$C$14)),0)","v":0},null,0,0,0,0,0,0,null,0,0,0,0,0,0,null,0,0,0,0,0,null,{"$f":"IF(OR(Y381+1>(IF(AND(Simulador!$C$9<Simulador!$C$10,OR(Simulador!$E$7=\"Resgate\",Simulador!$E$7=\"Portabilidade\")),Simulador!$C$9,Simulador!$C$10)-Simulador!$C$8)*12,Y381=0),0,Y381+1)","v":378},{"$f":"IF($Y382=0,0,Z381*(1+Simulador!$D$34)+E382+L382)","v":0},{"$f":"IF($Y382=0,0,AA381*(1+Simulador!$D$34)+S382)","v":0},{"$f":"IF(OR(AB381+1>(IF(AND(Simulador!$C$9<Simulador!$C$10,OR(Simulador!$E$7=\"Resgate\",Simulador!$E$7=\"Portabilidade\")),Simulador!$C$9,Simulador!$C$50)-Simulador!$C$8)*12,AB381=0),0,AB381+1)","v":378},{"$f":"IF($AB382=0,0,AC381*(1+Simulador!$D$34)+F382+M382)","v":0},{"$f":"IF($AB382=0,0,AD381*(1+Simulador!$D$34)+T382)","v":0}]
[{"$f":"IF(OR(A382+1>(IF(Simulador!$E$7=\"Autopatrocínio\",Simulador!$C$10,Simulador!$C$9)-Simulador!$C$8)*12,A382=0),0,A382+1)","v":0},{"$f":"IF($A383=0,0,IF(INT($A382/12)-$A382/12=0,B382*(1+Simulador!$C$35),B382))","v":0},{"$f":"MAX(IF(A383=0,0,B383-IF(Simulador!$C$11=\"Individual\",0,Simulador!$C$14)),0)","v":0},null,0,0,0,0,0,0,null,0,0,0,0,0,0,null,0,0,0,0,0,null,{"$f":"IF(OR(Y382+1>(IF(AND(Simulador!$C$9<Simulador!$C$10,OR(Simulador!$E$7=\"Resgate\",Simulador!$E$7=\"Portabilidade\")),Simulador!$C$9,Simulador!$C$10)-Simulador!$C$8)*12,Y382=0),0,Y382+1)","v":379},{"$f":"IF($Y383=0,0,Z382*(1+Simulador!$D$34)+E383+L383)","v":0},{"$f":"IF($Y383=0,0,AA382*(1+Simulador!$D$34)+S383)","v":0},{"$f":"IF(OR(AB382+1>(IF(AND(Simulador!$C$9<Simulador!$C$10,OR(Simulador!$E$7=\"Resgate\",Simulador!$E$7=\"Portabilidade\")),Simulador!$C$9,Simulador!$C$50)-Simulador!$C$8)*12,AB382=0),0,AB382+1)","v":379},{"$f":"IF($AB383=0,0,AC382*(1+Simulador!$D$34)+F383+M383)","v":0},{"$f":"IF($AB383=0,0,AD382*(1+Simulador!$D$34)+T383)","v":0}]
[{"$f":"IF(OR(A383+1>(IF(Simulador!$E$7=\"Autopatrocínio\",Simulador!$C$10,Simulador!$C$9)-Simulador!$C$8)*12,A383=0),0,A383+1)","v":0},{"$f":"IF($A384=0,0,IF(INT($A383/12)-$A383/12=0,B383*(1+Simulador!$C$35),B383))","v":0},{"$f":"MAX(IF(A384=0,0,B384-IF(Simulador!$C$11=\"Individual\",0,Simulador!$C$14)),0)","v":0},null,0,0,0,0,0,0,null,0,0,0,0,0,0,null,0,0,0,0,0,null,{"$f":"IF(OR(Y383+1>(IF(AND(Simulador!$C$9<Simulador!$C$10,OR(Simulador!$E$7=\"Resgate\",Simulador!$E$7=\"Portabilidade\")),Simulador!$C$9,Simulador!$C$10)-Simulador!$C$8)*12,Y383=0),0,Y383+1)","v":380},{"$f":"IF($Y384=0,0,Z383*(1+Simulador!$D$34)+E384+L384)","v":0},{"$f":"IF($Y384=0,0,AA383*(1+Simulador!$D$34)+S384)","v":0},{"$f":"IF(OR(AB383+1>(IF(AND(Simulador!$C$9<Simulador!$C$10,OR(Simulador!$E$7=\"Resgate\",Simulador!$E$7=\"Portabilidade\")),Simulador!$C$9,Simulador!$C$50)-Simulador!$C$8)*12,AB383=0),0,AB383+1)","v":380},{"$f":"IF($AB384=0,0,AC383*(1+Simulador!$D$34)+F384+M384)","v":0},{"$f":"IF($AB384=0,0,AD383*(1+Simulador!$D$34)+T384)","v":0}]
[{"$f":"IF(OR(A384+1>(IF(Simulador!$E$7=\"Autopatrocínio\",Simulador!$C$10,Simulador!$C$9)-Simulador!$C$8)*12,A384=0),0,A384+1)","v":0},{"$f":"IF($A385=0,0,IF(INT($A384/12)-$A384/12=0,B384*(1+Simulador!$C$35),B384))","v":0},{"$f":"MAX(IF(A385=0,0,B385-IF(Simulador!$C$11=\"Individual\",0,Simulador!$C$14)),0)","v":0},null,{"$f":"E$4*$C385*(1+$J385)","v":0},0,0,0,0,0,null,{"$f":"L$4*$C385*$Q385","v":0},0,0,0,0,0,null,0,0,0,0,0,null,{"$f":"IF(OR(Y384+1>(IF(AND(Simulador!$C$9<Simulador!$C$10,OR(Simulador!$E$7=\"Resgate\",Simulador!$E$7=\"Portabilidade\")),Simulador!$C$9,Simulador!$C$10)-Simulador!$C$8)*12,Y384=0),0,Y384+1)","v":381},{"$f":"IF($Y385=0,0,Z384*(1+Simulador!$D$34)+E385+L385)","v":0},{"$f":"IF($Y385=0,0,AA384*(1+Simulador!$D$34)+S385)","v":0},{"$f":"IF(OR(AB384+1>(IF(AND(Simulador!$C$9<Simulador!$C$10,OR(Simulador!$E$7=\"Resgate\",Simulador!$E$7=\"Portabilidade\")),Simulador!$C$9,Simulador!$C$50)-Simulador!$C$8)*12,AB384=0),0,AB384+1)","v":381},{"$f":"IF($AB385=0,0,AC384*(1+Simulador!$D$34)+F385+M385)","v":0},{"$f":"IF($AB385=0,0,AD384*(1+Simulador!$D$34)+T385)","v":0}]
[{"$f":"IF(OR(A385+1>(IF(Simulador!$E$7=\"Autopatrocínio\",Simulador!$C$10,Simulador!$C$9)-Simulador!$C$8)*12,A385=0),0,A385+1)","v":0},{"$f":"IF($A386=0,0,IF(INT($A385/12)-$A385/12=0,B385*(1+Simulador!$C$35),B385))","v":0},{"$f":"MAX(IF(A386=0,0,B386-IF(Simulador!$C$11=\"Individual\",0,Simulador!$C$14)),0)","v":0},null,0,0,0,0,0,0,null,0,0,0,0,0,0,null,0,0,0,0,0,null,{"$f":"IF(OR(Y385+1>(IF(AND(Simulador!$C$9<Simulador!$C$10,OR(Simulador!$E$7=\"Resgate\",Simulador!$E$7=\"Portabilidade\")),Simulador!$C$9,Simulador!$C$10)-Simulador!$C$8)*12,Y385=0),0,Y385+1)","v":382},{"$f":"IF($Y386=0,0,Z385*(1+Simulador!$D$34)+E386+L386)","v":0},{"$f":"IF($Y386=0,0,AA385*(1+Simulador!$D$34)+S386)","v":0},{"$f":"IF(OR(AB385+1>(IF(AND(Simulador!$C$9<Simulador!$C$10,OR(Simulador!$E$7=\"Resgate\",Simulador!$E$7=\"Portabilidade\")),Simulador!$C$9,Simulador!$C$50)-Simulador!$C$8)*12,AB385=0),0,AB385+1)","v":382},{"$f":"IF($AB386=0,0,AC385*(1+Simulador!$D$34)+F386+M386)","v":0},{"$f":"IF($AB386=0,0,AD385*(1+Simulador!$D$34)+T386)","v":0}]
[{"$f":"IF(OR(A386+1>(IF(Simulador!$E$7=\"Autopatrocínio\",Simulador!$C$10,Simulador!$C$9)-Simulador!$C$8)*12,A386=0),0,A386+1)","v":0},{"$f":"IF($A387=0,0,IF(INT($A386/12)-$A386/12=0,B386*(1+Simulador!$C$35),B386))","v":0},{"$f":"MAX(IF(A387=0,0,B387-IF(Simulador!$C$11=\"Individual\",0,Simulador!$C$14)),0)","v":0},null,0,0,0,0,0,0,null,0,0,0,0,0,0,null,0,0,0,0,0,null,{"$f":"IF(OR(Y386+1>(IF(AND(Simulador!$C$9<Simulador!$C$10,OR(Simulador!$E$7=\"Resgate\",Simulador!$E$7=\"Portabilidade\")),Simulador!$C$9,Simulador!$C$10)-Simulador!$C$8)*12,Y386=0),0,Y386+1)","v":383},{"$f":"IF($Y387=0,0,Z386*(1+Simulador!$D$34)+E387+L387)","v":0},{"$f":"IF($Y387=0,0,AA386*(1+Simulador!$D$34)+S387)","v":0},{"$f":"IF(OR(AB386+1>(IF(AND(Simulador!$C$9<Simulador!$C$10,OR(Simulador!$E$7=\"Resgate\",Simulador!$E$7=\"Portabilidade\")),Simulador!$C$9,Simulador!$C$50)-Simulador!$C$8)*12,AB386=0),0,AB386+1)","v":383},{"$f":"IF($AB387=0,0,AC386*(1+Simulador!$D$34)+F387+M387)","v":0},{"$f":"IF($AB387=0,0,AD386*(1+Simulador!$D$34)+T387)","v":0}]
[{"$f":"IF(OR(A387+1>(IF(Simulador!$E$7=\"Autopatrocínio\",Simulador!$C$10,Simulador!$C$9)-Simulador!$C$8)*12,A387=0),0,A387+1)","v":0},{"$f":"IF($A388=0,0,IF(INT($A387/12)-$A387/12=0,B387*(1+Simulador!$C$35),B387))","v":0},{"$f":"MAX(IF(A388=0,0,B388-IF(Simulador!$C$11=\"Individual\",0,Simulador!$C$14)),0)","v":0},null,0,0,0,0,0,0,null,0,0,0,0,0,0,null,0,0,0,0,0,null,{"$f":"IF(OR(Y387+1>(IF(AND(Simulador!$C$9<Simulador!$C$10,OR(Simulador!$E$7=\"Resgate\",Simulador!$E$7=\"Portabilidade\")),Simulador!$C$9,Simulador!$C$10)-Simulador!$C$8)*12,Y387=0),0,Y387+1)","v":384},{"$f":"IF($Y388=0,0,Z387*(1+Simulador!$D$34)+E388+L388)","v":0},{"$f":"IF($Y388=0,0,AA387*(1+Simulador!$D$34)+S388)","v":0},{"$f":"IF(OR(AB387+1>(IF(AND(Simulador!$C$9<Simulador!$C$10,OR(Simulador!$E$7=\"Resgate\",Simulador!$E$7=\"Portabilidade\")),Simulador!$C$9,Simulador!$C$50)-Simulador!$C$8)*12,AB387=0),0,AB387+1)","v":384},{"$f":"IF($AB388=0,0,AC387*(1+Simulador!$D$34)+F388+M388)","v":0},{"$f":"IF($AB388=0,0,AD387*(1+Simulador!$D$34)+T388)","v":0}]
[{"$f":"IF(OR(A388+1>(IF(Simulador!$E$7=\"Autopatrocínio\",Simulador!$C$10,Simulador!$C$9)-Simulador!$C$8)*12,A388=0),0,A388+1)","v":0},{"$f":"IF($A389=0,0,IF(INT($A388/12)-$A388/12=0,B388*(1+Simulador!$C$35),B388))","v":0},{"$f":"MAX(IF(A389=0,0,B389-IF(Simulador!$C$11=\"Individual\",0,Simulador!$C$14)),0)","v":0},null,0,0,0,0,0,{"$f":"IF($A389=0,0,IF(INT($A389/12)-$A389/12=0,1,0))","v":0},null,0,0,0,0,0,{"$f":"IF($A389=0,0,IF($Q$4=\"Mensal\",1,IF($Q$4=\"Semestral\",IF(INT(($A389+5)/6)-($A389+5)/6=0,1,0),IF($Q$4=\"Anual\",IF(INT(($A389+11)/12)-($A389+11)/12=0,1,0)))))","v":0},null,{"$f":"S$4*$C389*(1+$J389)","v":0},0,0,0,0,null,{"$f":"IF(OR(Y388+1>(IF(AND(Simulador!$C$9<Simulador!$C$10,OR(Simulador!$E$7=\"Resgate\",Simulador!$E$7=\"Portabilidade\")),Simulador!$C$9,Simulador!$C$10)-Simulador!$C$8)*12,Y388=0),0,Y388+1)","v":385},{"$f":"IF($Y389=0,0,Z388*(1+Simulador!$D$34)+E389+L389)","v":0},{"$f":"IF($Y389=0,0,AA388*(1+Simulador!$D$34)+S389)","v":0},{"$f":"IF(OR(AB388+1>(IF(AND(Simulador!$C$9<Simulador!$C$10,OR(Simulador!$E$7=\"Resgate\",Simulador!$E$7=\"Portabilidade\")),Simulador!$C$9,Simulador!$C$50)-Simulador!$C$8)*12,AB388=0),0,AB388+1)","v":385},{"$f":"IF($AB389=0,0,AC388*(1+Simulador!$D$34)+F389+M389)","v":0},{"$f":"IF($AB389=0,0,AD388*(1+Simulador!$D$34)+T389)","v":0}]
[{"$f":"IF(OR(A389+1>(IF(Simulador!$E$7=\"Autopatrocínio\",Simulador!$C$10,Simulador!$C$9)-Simulador!$C$8)*12,A389=0),0,A389+1)","v":0},{"$f":"IF($A390=0,0,IF(INT($A389/12)-$A389/12=0,B389*(1+Simulador!$C$35),B389))","v":0},{"$f":"MAX(IF(A390=0,0,B390-IF(Simulador!$C$11=\"Individual\",0,Simulador!$C$14)),0)","v":0},null,0,0,0,0,0,0,null,0,0,0,0,0,0,null,0,0,0,0,0,null,{"$f":"IF(OR(Y389+1>(IF(AND(Simulador!$C$9<Simulador!$C$10,OR(Simulador!$E$7=\"Resgate\",Simulador!$E$7=\"Portabilidade\")),Simulador!$C$9,Simulador!$C$10)-Simulador!$C$8)*12,Y389=0),0,Y389+1)","v":386},{"$f":"IF($Y390=0,0,Z389*(1+Simulador!$D$34)+E390+L390)","v":0},{"$f":"IF($Y390=0,0,AA389*(1+Simulador!$D$34)+S390)","v":0},{"$f":"IF(OR(AB389+1>(IF(AND(Simulador!$C$9<Simulador!$C$10,OR(Simulador!$E$7=\"Resgate\",Simulador!$E$7=\"Portabilidade\")),Simulador!$C$9,Simulador!$C$50)-Simulador!$C$8)*12,AB389=0),0,AB389+1)","v":386},{"$f":"IF($AB390=0,0,AC389*(1+Simulador!$D$34)+F390+M390)","v":0},{"$f":"IF($AB390=0,0,AD389*(1+Simulador!$D$34)+T390)","v":0}]
[{"$f":"IF(OR(A390+1>(IF(Simulador!$E$7=\"Autopatrocínio\",Simulador!$C$10,Simulador!$C$9)-Simulador!$C$8)*12,A390=0),0,A390+1)","v":0},{"$f":"IF($A391=0,0,IF(INT($A390/12)-$A390/12=0,B390*(1+Simulador!$C$35),B390))","v":0},{"$f":"MAX(IF(A391=0,0,B391-IF(Simulador!$C$11=\"Individual\",0,Simulador!$C$14)),0)","v":0},null,0,0,0,0,0,0,null,0,0,0,0,0,0,null,0,0,0,0,0,null,{"$f":"IF(OR(Y390+1>(IF(AND(Simulador!$C$9<Simulador!$C$10,OR(Simulador!$E$7=\"Resgate\",Simulador!$E$7=\"Portabilidade\")),Simulador!$C$9,Simulador!$C$10)-Simulador!$C$8)*12,Y390=0),0,Y390+1)","v":387},{"$f":"IF($Y391=0,0,Z390*(1+Simulador!$D$34)+E391+L391)","v":0},{"$f":"IF($Y391=0,0,AA390*(1+Simulador!$D$34)+S391)","v":0},{"$f":"IF(OR(AB390+1>(IF(AND(Simulador!$C$9<Simulador!$C$10,OR(Simulador!$E$7=\"Resgate\",Simulador!$E$7=\"Portabilidade\")),Simulador!$C$9,Simulador!$C$50)-Simulador!$C$8)*12,AB390=0),0,AB390+1)","v":387},{"$f":"IF($AB391=0,0,AC390*(1+Simulador!$D$34)+F391+M391)","v":0},{"$f":"IF($AB391=0,0,AD390*(1+Simulador!$D$34)+T391)","v":0}]
[{"$f":"IF(OR(A391+1>(IF(Simulador!$E$7=\"Autopatrocínio\",Simulador!$C$10,Simulador!$C$9)-Simulador!$C$8)*12,A391=0),0,A391+1)","v":0},{"$f":"IF($A392=0,0,IF(INT($A391/12)-$A391/12=0,B391*(1+Simulador!$C$35),B391))","v":0},{"$f":"MAX(IF(A392=0,0,B392-IF(Simulador!$C$11=\"Individual\",0,Simulador!$C$14)),0)","v":0},null,0,0,0,0,0,0,null,0,0,0,0,0,0,null,0,0,0,0,0,null,{"$f":"IF(OR(Y391+1>(IF(AND(Simulador!$C$9<Simulador!$C$10,OR(Simulador!$E$7=\"Resgate\",Simulador!$E$7=\"Portabilidade\")),Simulador!$C$9,Simulador!$C$10)-Simulador!$C$8)*12,Y391=0),0,Y391+1)","v":388},{"$f":"IF($Y392=0,0,Z391*(1+Simulador!$D$34)+E392+L392)","v":0},{"$f":"IF($Y392=0,0,AA391*(1+Simulador!$D$34)+S392)","v":0},{"$f":"IF(OR(AB391+1>(IF(AND(Simulador!$C$9<Simulador!$C$10,OR(Simulador!$E$7=\"Resgate\",Simulador!$E$7=\"Portabilidade\")),Simulador!$C$9,Simulador!$C$50)-Simulador!$C$8)*12,AB391=0),0,AB391+1)","v":388},{"$f":"IF($AB392=0,0,AC391*(1+Simulador!$D$34)+F392+M392)","v":0},{"$f":"IF($AB392=0,0,AD391*(1+Simulador!$D$34)+T392)","v":0}]
[{"$f":"IF(OR(A392+1>(IF(Simulador!$E$7=\"Autopatrocínio\",Simulador!$C$10,Simulador!$C$9)-Simulador!$C$8)*12,A392=0),0,A392+1)","v":0},{"$f":"IF($A393=0,0,IF(INT($A392/12)-$A392/12=0,B392*(1+Simulador!$C$35),B392))","v":0},{"$f":"MAX(IF(A393=0,0,B393-IF(Simulador!$C$11=\"Individual\",0,Simulador!$C$14)),0)","v":0},null,0,0,0,0,0,0,null,0,0,0,0,0,0,null,0,0,0,0,0,null,{"$f":"IF(OR(Y392+1>(IF(AND(Simulador!$C$9<Simulador!$C$10,OR(Simulador!$E$7=\"Resgate\",Simulador!$E$7=\"Portabilidade\")),Simulador!$C$9,Simulador!$C$10)-Simulador!$C$8)*12,Y392=0),0,Y392+1)","v":389},{"$f":"IF($Y393=0,0,Z392*(1+Simulador!$D$34)+E393+L393)","v":0},{"$f":"IF($Y393=0,0,AA392*(1+Simulador!$D$34)+S393)","v":0},{"$f":"IF(OR(AB392+1>(IF(AND(Simulador!$C$9<Simulador!$C$10,OR(Simulador!$E$7=\"Resgate\",Simulador!$E$7=\"Portabilidade\")),Simulador!$C$9,Simulador!$C$50)-Simulador!$C$8)*12,AB392=0),0,AB392+1)","v":389},{"$f":"IF($AB393=0,0,AC392*(1+Simulador!$D$34)+F393+M393)","v":0},{"$f":"IF($AB393=0,0,AD392*(1+Simulador!$D$34)+T393)","v":0}]
[{"$f":"IF(OR(A393+1>(IF(Simulador!$E$7=\"Autopatrocínio\",Simulador!$C$10,Simulador!$C$9)-Simulador!$C$8)*12,A393=0),0,A393+1)","v":0},{"$f":"IF($A394=0,0,IF(INT($A393/12)-$A393/12=0,B393*(1+Simulador!$C$35),B393))","v":0},{"$f":"MAX(IF(A394=0,0,B394-IF(Simulador!$C$11=\"Individual\",0,Simulador!$C$14)),0)","v":0},null,0,0,0,0,0,0,null,0,0,0,0,0,0,null,0,0,0,0,0,null,{"$f":"IF(OR(Y393+1>(IF(AND(Simulador!$C$9<Simulador!$C$10,OR(Simulador!$E$7=\"Resgate\",Simulador!$E$7=\"Portabilidade\")),Simulador!$C$9,Simulador!$C$10)-Simulador!$C$8)*12,Y393=0),0,Y393+1)","v":390},{"$f":"IF($Y394=0,0,Z393*(1+Simulador!$D$34)+E394+L394)","v":0},{"$f":"IF($Y394=0,0,AA393*(1+Simulador!$D$34)+S394)","v":0},{"$f":"IF(OR(AB393+1>(IF(AND(Simulador!$C$9<Simulador!$C$10,OR(Simulador!$E$7=\"Resgate\",Simulador!$E$7=\"Portabilidade\")),Simulador!$C$9,Simulador!$C$50)-Simulador!$C$8)*12,AB393=0),0,AB393+1)","v":390},{"$f":"IF($AB394=0,0,AC393*(1+Simulador!$D$34)+F394+M394)","v":0},{"$f":"IF($AB394=0,0,AD393*(1+Simulador!$D$34)+T394)","v":0}]
[{"$f":"IF(OR(A394+1>(IF(Simulador!$E$7=\"Autopatrocínio\",Simulador!$C$10,Simulador!$C$9)-Simulador!$C$8)*12,A394=0),0,A394+1)","v":0},{"$f":"IF($A395=0,0,IF(INT($A394/12)-$A394/12=0,B394*(1+Simulador!$C$35),B394))","v":0},{"$f":"MAX(IF(A395=0,0,B395-IF(Simulador!$C$11=\"Individual\",0,Simulador!$C$14)),0)","v":0},null,{"$f":"E$4*$C395*(1+$J395)","v":0},0,0,0,0,0,null,{"$f":"L$4*$C395*$Q395","v":0},0,0,0,0,0,null,0,0,0,0,0,null,{"$f":"IF(OR(Y394+1>(IF(AND(Simulador!$C$9<Simulador!$C$10,OR(Simulador!$E$7=\"Resgate\",Simulador!$E$7=\"Portabilidade\")),Simulador!$C$9,Simulador!$C$10)-Simulador!$C$8)*12,Y394=0),0,Y394+1)","v":391},{"$f":"IF($Y395=0,0,Z394*(1+Simulador!$D$34)+E395+L395)","v":0},{"$f":"IF($Y395=0,0,AA394*(1+Simulador!$D$34)+S395)","v":0},{"$f":"IF(OR(AB394+1>(IF(AND(Simulador!$C$9<Simulador!$C$10,OR(Simulador!$E$7=\"Resgate\",Simulador!$E$7=\"Portabilidade\")),Simulador!$C$9,Simulador!$C$50)-Simulador!$C$8)*12,AB394=0),0,AB394+1)","v":391},{"$f":"IF($AB395=0,0,AC394*(1+Simulador!$D$34)+F395+M395)","v":0},{"$f":"IF($AB395=0,0,AD394*(1+Simulador!$D$34)+T395)","v":0}]
[{"$f":"IF(OR(A395+1>(IF(Simulador!$E$7=\"Autopatrocínio\",Simulador!$C$10,Simulador!$C$9)-Simulador!$C$8)*12,A395=0),0,A395+1)","v":0},{"$f":"IF($A396=0,0,IF(INT($A395/12)-$A395/12=0,B395*(1+Simulador!$C$35),B395))","v":0},{"$f":"MAX(IF(A396=0,0,B396-IF(Simulador!$C$11=\"Individual\",0,Simulador!$C$14)),0)","v":0},null,0,0,0,0,0,0,null,0,0,0,0,0,0,null,0,0,0,0,0,null,{"$f":"IF(OR(Y395+1>(IF(AND(Simulador!$C$9<Simulador!$C$10,OR(Simulador!$E$7=\"Resgate\",Simulador!$E$7=\"Portabilidade\")),Simulador!$C$9,Simulador!$C$10)-Simulador!$C$8)*12,Y395=0),0,Y395+1)","v":392},{"$f":"IF($Y396=0,0,Z395*(1+Simulador!$D$34)+E396+L396)","v":0},{"$f":"IF($Y396=0,0,AA395*(1+Simulador!$D$34)+S396)","v":0},{"$f":"IF(OR(AB395+1>(IF(AND(Simulador!$C$9<Simulador!$C$10,OR(Simulador!$E$7=\"Resgate\",Simulador!$E$7=\"Portabilidade\")),Simulador!$C$9,Simulador!$C$50)-Simulador!$C$8)*12,AB395=0),0,AB395+1)","v":392},{"$f":"IF($AB396=0,0,AC395*(1+Simulador!$D$34)+F396+M396)","v":0},{"$f":"IF($AB396=0,0,AD395*(1+Simulador!$D$34)+T396)","v":0}]
[{"$f":"IF(OR(A396+1>(IF(Simulador!$E$7=\"Autopatrocínio\",Simulador!$C$10,Simulador!$C$9)-Simulador!$C$8)*12,A396=0),0,A396+1)","v":0},{"$f":"IF($A397=0,0,IF(INT($A396/12)-$A396/12=0,B396*(1+Simulador!$C$35),B396))","v":0},{"$f":"MAX(IF(A397=0,0,B397-IF(Simulador!$C$11=\"Individual\",0,Simulador!$C$14)),0)","v":0},null,0,0,0,0,0,0,null,0,0,0,0,0,0,null,0,0,0,0,0,null,{"$f":"IF(OR(Y396+1>(IF(AND(Simulador!$C$9<Simulador!$C$10,OR(Simulador!$E$7=\"Resgate\",Simulador!$E$7=\"Portabilidade\")),Simulador!$C$9,Simulador!$C$10)-Simulador!$C$8)*12,Y396=0),0,Y396+1)","v":393},{"$f":"IF($Y397=0,0,Z396*(1+Simulador!$D$34)+E397+L397)","v":0},{"$f":"IF($Y397=0,0,AA396*(1+Simulador!$D$34)+S397)","v":0},{"$f":"IF(OR(AB396+1>(IF(AND(Simulador!$C$9<Simulador!$C$10,OR(Simulador!$E$7=\"Resgate\",Simulador!$E$7=\"Portabilidade\")),Simulador!$C$9,Simulador!$C$50)-Simulador!$C$8)*12,AB396=0),0,AB396+1)","v":393},{"$f":"IF($AB397=0,0,AC396*(1+Simulador!$D$34)+F397+M397)","v":0},{"$f":"IF($AB397=0,0,AD396*(1+Simulador!$D$34)+T397)","v":0}]
[{"$f":"IF(OR(A397+1>(IF(Simulador!$E$7=\"Autopatrocínio\",Simulador!$C$10,Simulador!$C$9)-Simulador!$C$8)*12,A397=0),0,A397+1)","v":0},{"$f":"IF($A398=0,0,IF(INT($A397/12)-$A397/12=0,B397*(1+Simulador!$C$35),B397))","v":0},{"$f":"MAX(IF(A398=0,0,B398-IF(Simulador!$C$11=\"Individual\",0,Simulador!$C$14)),0)","v":0},null,0,0,0,0,0,0,null,0,0,0,0,0,0,null,0,0,0,0,0,null,{"$f":"IF(OR(Y397+1>(IF(AND(Simulador!$C$9<Simulador!$C$10,OR(Simulador!$E$7=\"Resgate\",Simulador!$E$7=\"Portabilidade\")),Simulador!$C$9,Simulador!$C$10)-Simulador!$C$8)*12,Y397=0),0,Y397+1)","v":394},{"$f":"IF($Y398=0,0,Z397*(1+Simulador!$D$34)+E398+L398)","v":0},{"$f":"IF($Y398=0,0,AA397*(1+Simulador!$D$34)+S398)","v":0},{"$f":"IF(OR(AB397+1>(IF(AND(Simulador!$C$9<Simulador!$C$10,OR(Simulador!$E$7=\"Resgate\",Simulador!$E$7=\"Portabilidade\")),Simulador!$C$9,Simulador!$C$50)-Simulador!$C$8)*12,AB397=0),0,AB397+1)","v":394},{"$f":"IF($AB398=0,0,AC397*(1+Simulador!$D$34)+F398+M398)","v":0},{"$f":"IF($AB398=0,0,AD397*(1+Simulador!$D$34)+T398)","v":0}]
[{"$f":"IF(OR(A398+1>(IF(Simulador!$E$7=\"Autopatrocínio\",Simulador!$C$10,Simulador!$C$9)-Simulador!$C$8)*12,A398=0),0,A398+1)","v":0},{"$f":"IF($A399=0,0,IF(INT($A398/12)-$A398/12=0,B398*(1+Simulador!$C$35),B398))","v":0},{"$f":"MAX(IF(A399=0,0,B399-IF(Simulador!$C$11=\"Individual\",0,Simulador!$C$14)),0)","v":0},null,0,0,0,0,0,0,null,0,0,0,0,0,0,null,0,0,0,0,0,null,{"$f":"IF(OR(Y398+1>(IF(AND(Simulador!$C$9<Simulador!$C$10,OR(Simulador!$E$7=\"Resgate\",Simulador!$E$7=\"Portabilidade\")),Simulador!$C$9,Simulador!$C$10)-Simulador!$C$8)*12,Y398=0),0,Y398+1)","v":395},{"$f":"IF($Y399=0,0,Z398*(1+Simulador!$D$34)+E399+L399)","v":0},{"$f":"IF($Y399=0,0,AA398*(1+Simulador!$D$34)+S399)","v":0},{"$f":"IF(OR(AB398+1>(IF(AND(Simulador!$C$9<Simulador!$C$10,OR(Simulador!$E$7=\"Resgate\",Simulador!$E$7=\"Portabilidade\")),Simulador!$C$9,Simulador!$C$50)-Simulador!$C$8)*12,AB398=0),0,AB398+1)","v":395},{"$f":"IF($AB399=0,0,AC398*(1+Simulador!$D$34)+F399+M399)","v":0},{"$f":"IF($AB399=0,0,AD398*(1+Simulador!$D$34)+T399)","v":0}]
[{"$f":"IF(OR(A399+1>(IF(Simulador!$E$7=\"Autopatrocínio\",Simulador!$C$10,Simulador!$C$9)-Simulador!$C$8)*12,A399=0),0,A399+1)","v":0},{"$f":"IF($A400=0,0,IF(INT($A399/12)-$A399/12=0,B399*(1+Simulador!$C$35),B399))","v":0},{"$f":"MAX(IF(A400=0,0,B400-IF(Simulador!$C$11=\"Individual\",0,Simulador!$C$14)),0)","v":0},null,0,0,0,0,0,0,null,0,0,0,0,0,0,null,0,0,0,0,0,null,{"$f":"IF(OR(Y399+1>(IF(AND(Simulador!$C$9<Simulador!$C$10,OR(Simulador!$E$7=\"Resgate\",Simulador!$E$7=\"Portabilidade\")),Simulador!$C$9,Simulador!$C$10)-Simulador!$C$8)*12,Y399=0),0,Y399+1)","v":396},{"$f":"IF($Y400=0,0,Z399*(1+Simulador!$D$34)+E400+L400)","v":0},{"$f":"IF($Y400=0,0,AA399*(1+Simulador!$D$34)+S400)","v":0},{"$f":"IF(OR(AB399+1>(IF(AND(Simulador!$C$9<Simulador!$C$10,OR(Simulador!$E$7=\"Resgate\",Simulador!$E$7=\"Portabilidade\")),Simulador!$C$9,Simulador!$C$50)-Simulador!$C$8)*12,AB399=0),0,AB399+1)","v":396},{"$f":"IF($AB400=0,0,AC399*(1+Simulador!$D$34)+F400+M400)","v":0},{"$f":"IF($AB400=0,0,AD399*(1+Simulador!$D$34)+T400)","v":0}]
[{"$f":"IF(OR(A400+1>(IF(Simulador!$E$7=\"Autopatrocínio\",Simulador!$C$10,Simulador!$C$9)-Simulador!$C$8)*12,A400=0),0,A400+1)","v":0},{"$f":"IF($A401=0,0,IF(INT($A400/12)-$A400/12=0,B400*(1+Simulador!$C$35),B400))","v":0},{"$f":"MAX(IF(A401=0,0,B401-IF(Simulador!$C$11=\"Individual\",0,Simulador!$C$14)),0)","v":0},null,0,0,0,0,0,0,null,0,0,0,0,0,0,null,0,0,0,0,0,null,{"$f":"IF(OR(Y400+1>(IF(AND(Simulador!$C$9<Simulador!$C$10,OR(Simulador!$E$7=\"Resgate\",Simulador!$E$7=\"Portabilidade\")),Simulador!$C$9,Simulador!$C$10)-Simulador!$C$8)*12,Y400=0),0,Y400+1)","v":397},{"$f":"IF($Y401=0,0,Z400*(1+Simulador!$D$34)+E401+L401)","v":0},{"$f":"IF($Y401=0,0,AA400*(1+Simulador!$D$34)+S401)","v":0},{"$f":"IF(OR(AB400+1>(IF(AND(Simulador!$C$9<Simulador!$C$10,OR(Simulador!$E$7=\"Resgate\",Simulador!$E$7=\"Portabilidade\")),Simulador!$C$9,Simulador!$C$50)-Simulador!$C$8)*12,AB400=0),0,AB400+1)","v":397},{"$f":"IF($AB401=0,0,AC400*(1+Simulador!$D$34)+F401+M401)","v":0},{"$f":"IF($AB401=0,0,AD400*(1+Simulador!$D$34)+T401)","v":0}]
[{"$f":"IF(OR(A401+1>(IF(Simulador!$E$7=\"Autopatrocínio\",Simulador!$C$10,Simulador!$C$9)-Simulador!$C$8)*12,A401=0),0,A401+1)","v":0},{"$f":"IF($A402=0,0,IF(INT($A401/12)-$A401/12=0,B401*(1+Simulador!$C$35),B401))","v":0},{"$f":"MAX(IF(A402=0,0,B402-IF(Simulador!$C$11=\"Individual\",0,Simulador!$C$14)),0)","v":0},null,0,0,0,0,0,0,null,0,0,0,0,0,0,null,0,0,0,0,0,null,{"$f":"IF(OR(Y401+1>(IF(AND(Simulador!$C$9<Simulador!$C$10,OR(Simulador!$E$7=\"Resgate\",Simulador!$E$7=\"Portabilidade\")),Simulador!$C$9,Simulador!$C$10)-Simulador!$C$8)*12,Y401=0),0,Y401+1)","v":398},{"$f":"IF($Y402=0,0,Z401*(1+Simulador!$D$34)+E402+L402)","v":0},{"$f":"IF($Y402=0,0,AA401*(1+Simulador!$D$34)+S402)","v":0},{"$f":"IF(OR(AB401+1>(IF(AND(Simulador!$C$9<Simulador!$C$10,OR(Simulador!$E$7=\"Resgate\",Simulador!$E$7=\"Portabilidade\")),Simulador!$C$9,Simulador!$C$50)-Simulador!$C$8)*12,AB401=0),0,AB401+1)","v":398},{"$f":"IF($AB402=0,0,AC401*(1+Simulador!$D$34)+F402+M402)","v":0},{"$f":"IF($AB402=0,0,AD401*(1+Simulador!$D$34)+T402)","v":0}]
[{"$f":"IF(OR(A402+1>(IF(Simulador!$E$7=\"Autopatrocínio\",Simulador!$C$10,Simulador!$C$9)-Simulador!$C$8)*12,A402=0),0,A402+1)","v":0},{"$f":"IF($A403=0,0,IF(INT($A402/12)-$A402/12=0,B402*(1+Simulador!$C$35),B402))","v":0},{"$f":"MAX(IF(A403=0,0,B403-IF(Simulador!$C$11=\"Individual\",0,Simulador!$C$14)),0)","v":0},null,0,0,0,0,0,0,null,0,0,0,0,0,0,null,0,0,0,0,0,null,{"$f":"IF(OR(Y402+1>(IF(AND(Simulador!$C$9<Simulador!$C$10,OR(Simulador!$E$7=\"Resgate\",Simulador!$E$7=\"Portabilidade\")),Simulador!$C$9,Simulador!$C$10)-Simulador!$C$8)*12,Y402=0),0,Y402+1)","v":399},{"$f":"IF($Y403=0,0,Z402*(1+Simulador!$D$34)+E403+L403)","v":0},{"$f":"IF($Y403=0,0,AA402*(1+Simulador!$D$34)+S403)","v":0},{"$f":"IF(OR(AB402+1>(IF(AND(Simulador!$C$9<Simulador!$C$10,OR(Simulador!$E$7=\"Resgate\",Simulador!$E$7=\"Portabilidade\")),Simulador!$C$9,Simulador!$C$50)-Simulador!$C$8)*12,AB402=0),0,AB402+1)","v":399},{"$f":"IF($AB403=0,0,AC402*(1+Simulador!$D$34)+F403+M403)","v":0},{"$f":"IF($AB403=0,0,AD402*(1+Simulador!$D$34)+T403)","v":0}]
[{"$f":"IF(OR(A403+1>(IF(Simulador!$E$7=\"Autopatrocínio\",Simulador!$C$10,Simulador!$C$9)-Simulador!$C$8)*12,A403=0),0,A403+1)","v":0},{"$f":"IF($A404=0,0,IF(INT($A403/12)-$A403/12=0,B403*(1+Simulador!$C$35),B403))","v":0},{"$f":"MAX(IF(A404=0,0,B404-IF(Simulador!$C$11=\"Individual\",0,Simulador!$C$14)),0)","v":0},null,0,0,0,0,0,0,null,0,0,0,0,0,0,null,0,0,0,0,0,null,{"$f":"IF(OR(Y403+1>(IF(AND(Simulador!$C$9<Simulador!$C$10,OR(Simulador!$E$7=\"Resgate\",Simulador!$E$7=\"Portabilidade\")),Simulador!$C$9,Simulador!$C$10)-Simulador!$C$8)*12,Y403=0),0,Y403+1)","v":400},{"$f":"IF($Y404=0,0,Z403*(1+Simulador!$D$34)+E404+L404)","v":0},{"$f":"IF($Y404=0,0,AA403*(1+Simulador!$D$34)+S404)","v":0},{"$f":"IF(OR(AB403+1>(IF(AND(Simulador!$C$9<Simulador!$C$10,OR(Simulador!$E$7=\"Resgate\",Simulador!$E$7=\"Portabilidade\")),Simulador!$C$9,Simulador!$C$50)-Simulador!$C$8)*12,AB403=0),0,AB403+1)","v":400},{"$f":"IF($AB404=0,0,AC403*(1+Simulador!$D$34)+F404+M404)","v":0},{"$f":"IF($AB404=0,0,AD403*(1+Simulador!$D$34)+T404)","v":0}]
[{"$f":"IF(OR(A404+1>(IF(Simulador!$E$7=\"Autopatrocínio\",Simulador!$C$10,Simulador!$C$9)-Simulador!$C$8)*12,A404=0),0,A404+1)","v":0},{"$f":"IF($A405=0,0,IF(INT($A404/12)-$A404/12=0,B404*(1+Simulador!$C$35),B404))","v":0},{"$f":"MAX(IF(A405=0,0,B405-IF(Simulador!$C$11=\"Individual\",0,Simulador!$C$14)),0)","v":0},null,{"$f":"E$4*$C405*(1+$J405)","v":0},0,0,0,0,0,null,{"$f":"L$4*$C405*$Q405","v":0},0,0,0,0,0,null,{"$f":"S$4*$C405*(1+$J405)","v":0},0,0,0,0,null,{"$f":"IF(OR(Y404+1>(IF(AND(Simulador!$C$9<Simulador!$C$10,OR(Simulador!$E$7=\"Resgate\",Simulador!$E$7=\"Portabilidade\")),Simulador!$C$9,Simulador!$C$10)-Simulador!$C$8)*12,Y404=0),0,Y404+1)","v":401},{"$f":"IF($Y405=0,0,Z404*(1+Simulador!$D$34)+E405+L405)","v":0},{"$f":"IF($Y405=0,0,AA404*(1+Simulador!$D$34)+S405)","v":0},{"$f":"IF(OR(AB404+1>(IF(AND(Simulador!$C$9<Simulador!$C$10,OR(Simulador!$E$7=\"Resgate\",Simulador!$E$7=\"Portabilidade\")),Simulador!$C$9,Simulador!$C$50)-Simulador!$C$8)*12,AB404=0),0,AB404+1)","v":401},{"$f":"IF($AB405=0,0,AC404*(1+Simulador!$D$34)+F405+M405)","v":0},{"$f":"IF($AB405=0,0,AD404*(1+Simulador!$D$34)+T405)","v":0}]
[{"$f":"IF(OR(A405+1>(IF(Simulador!$E$7=\"Autopatrocínio\",Simulador!$C$10,Simulador!$C$9)-Simulador!$C$8)*12,A405=0),0,A405+1)","v":0},{"$f":"IF($A406=0,0,IF(INT($A405/12)-$A405/12=0,B405*(1+Simulador!$C$35),B405))","v":0},{"$f":"MAX(IF(A406=0,0,B406-IF(Simulador!$C$11=\"Individual\",0,Simulador!$C$14)),0)","v":0},null,0,0,0,0,0,0,null,0,0,0,0,0,0,null,0,0,0,0,0,null,{"$f":"IF(OR(Y405+1>(IF(AND(Simulador!$C$9<Simulador!$C$10,OR(Simulador!$E$7=\"Resgate\",Simulador!$E$7=\"Portabilidade\")),Simulador!$C$9,Simulador!$C$10)-Simulador!$C$8)*12,Y405=0),0,Y405+1)","v":402},{"$f":"IF($Y406=0,0,Z405*(1+Simulador!$D$34)+E406+L406)","v":0},{"$f":"IF($Y406=0,0,AA405*(1+Simulador!$D$34)+S406)","v":0},{"$f":"IF(OR(AB405+1>(IF(AND(Simulador!$C$9<Simulador!$C$10,OR(Simulador!$E$7=\"Resgate\",Simulador!$E$7=\"Portabilidade\")),Simulador!$C$9,Simulador!$C$50)-Simulador!$C$8)*12,AB405=0),0,AB405+1)","v":402},{"$f":"IF($AB406=0,0,AC405*(1+Simulador!$D$34)+F406+M406)","v":0},{"$f":"IF($AB406=0,0,AD405*(1+Simulador!$D$34)+T406)","v":0}]
[{"$f":"IF(OR(A406+1>(IF(Simulador!$E$7=\"Autopatrocínio\",Simulador!$C$10,Simulador!$C$9)-Simulador!$C$8)*12,A406=0),0,A406+1)","v":0},{"$f":"IF($A407=0,0,IF(INT($A406/12)-$A406/12=0,B406*(1+Simulador!$C$35),B406))","v":0},{"$f":"MAX(IF(A407=0,0,B407-IF(Simulador!$C$11=\"Individual\",0,Simulador!$C$14)),0)","v":0},null,0,0,0,0,0,0,null,0,0,0,0,0,0,null,0,0,0,0,0,null,{"$f":"IF(OR(Y406+1>(IF(AND(Simulador!$C$9<Simulador!$C$10,OR(Simulador!$E$7=\"Resgate\",Simulador!$E$7=\"Portabilidade\")),Simulador!$C$9,Simulador!$C$10)-Simulador!$C$8)*12,Y406=0),0,Y406+1)","v":403},{"$f":"IF($Y407=0,0,Z406*(1+Simulador!$D$34)+E407+L407)","v":0},{"$f":"IF($Y407=0,0,AA406*(1+Simulador!$D$34)+S407)","v":0},{"$f":"IF(OR(AB406+1>(IF(AND(Simulador!$C$9<Simulador!$C$10,OR(Simulador!$E$7=\"Resgate\",Simulador!$E$7=\"Portabilidade\")),Simulador!$C$9,Simulador!$C$50)-Simulador!$C$8)*12,AB406=0),0,AB406+1)","v":403},{"$f":"IF($AB407=0,0,AC406*(1+Simulador!$D$34)+F407+M407)","v":0},{"$f":"IF($AB407=0,0,AD406*(1+Simulador!$D$34)+T407)","v":0}]
[{"$f":"IF(OR(A407+1>(IF(Simulador!$E$7=\"Autopatrocínio\",Simulador!$C$10,Simulador!$C$9)-Simulador!$C$8)*12,A407=0),0,A407+1)","v":0},{"$f":"IF($A408=0,0,IF(INT($A407/12)-$A407/12=0,B407*(1+Simulador!$C$35),B407))","v":0},{"$f":"MAX(IF(A408=0,0,B408-IF(Simulador!$C$11=\"Individual\",0,Simulador!$C$14)),0)","v":0},null,0,0,0,0,0,0,null,0,0,0,0,0,0,null,0,0,0,0,0,null,{"$f":"IF(OR(Y407+1>(IF(AND(Simulador!$C$9<Simulador!$C$10,OR(Simulador!$E$7=\"Resgate\",Simulador!$E$7=\"Portabilidade\")),Simulador!$C$9,Simulador!$C$10)-Simulador!$C$8)*12,Y407=0),0,Y407+1)","v":404},{"$f":"IF($Y408=0,0,Z407*(1+Simulador!$D$34)+E408+L408)","v":0},{"$f":"IF($Y408=0,0,AA407*(1+Simulador!$D$34)+S408)","v":0},{"$f":"IF(OR(AB407+1>(IF(AND(Simulador!$C$9<Simulador!$C$10,OR(Simulador!$E$7=\"Resgate\",Simulador!$E$7=\"Portabilidade\")),Simulador!$C$9,Simulador!$C$50)-Simulador!$C$8)*12,AB407=0),0,AB407+1)","v":404},{"$f":"IF($AB408=0,0,AC407*(1+Simulador!$D$34)+F408+M408)","v":0},{"$f":"IF($AB408=0,0,AD407*(1+Simulador!$D$34)+T408)","v":0}]
[{"$f":"IF(OR(A408+1>(IF(Simulador!$E$7=\"Autopatrocínio\",Simulador!$C$10,Simulador!$C$9)-Simulador!$C$8)*12,A408=0),0,A408+1)","v":0},{"$f":"IF($A409=0,0,IF(INT($A408/12)-$A408/12=0,B408*(1+Simulador!$C$35),B408))","v":0},{"$f":"MAX(IF(A409=0,0,B409-IF(Simulador!$C$11=\"Individual\",0,Simulador!$C$14)),0)","v":0},null,0,0,0,0,0,0,null,0,0,0,0,0,0,null,0,0,0,0,0,null,{"$f":"IF(OR(Y408+1>(IF(AND(Simulador!$C$9<Simulador!$C$10,OR(Simulador!$E$7=\"Resgate\",Simulador!$E$7=\"Portabilidade\")),Simulador!$C$9,Simulador!$C$10)-Simulador!$C$8)*12,Y408=0),0,Y408+1)","v":405},{"$f":"IF($Y409=0,0,Z408*(1+Simulador!$D$34)+E409+L409)","v":0},{"$f":"IF($Y409=0,0,AA408*(1+Simulador!$D$34)+S409)","v":0},{"$f":"IF(OR(AB408+1>(IF(AND(Simulador!$C$9<Simulador!$C$10,OR(Simulador!$E$7=\"Resgate\",Simulador!$E$7=\"Portabilidade\")),Simulador!$C$9,Simulador!$C$50)-Simulador!$C$8)*12,AB408=0),0,AB408+1)","v":405},{"$f":"IF($AB409=0,0,AC408*(1+Simulador!$D$34)+F409+M409)","v":0},{"$f":"IF($AB409=0,0,AD408*(1+Simulador!$D$34)+T409)","v":0}]
[{"$f":"IF(OR(A409+1>(IF(Simulador!$E$7=\"Autopatrocínio\",Simulador!$C$10,Simulador!$C$9)-Simulador!$C$8)*12,A409=0),0,A409+1)","v":0},{"$f":"IF($A410=0,0,IF(INT($A409/12)-$A409/12=0,B409*(1+Simulador!$C$35),B409))","v":0},{"$f":"MAX(IF(A410=0,0,B410-IF(Simulador!$C$11=\"Individual\",0,Simulador!$C$14)),0)","v":0},null,0,0,0,0,0,0,null,0,0,0,0,0,0,null,0,0,0,0,0,null,{"$f":"IF(OR(Y409+1>(IF(AND(Simulador!$C$9<Simulador!$C$10,OR(Simulador!$E$7=\"Resgate\",Simulador!$E$7=\"Portabilidade\")),Simulador!$C$9,Simulador!$C$10)-Simulador!$C$8)*12,Y409=0),0,Y409+1)","v":406},{"$f":"IF($Y410=0,0,Z409*(1+Simulador!$D$34)+E410+L410)","v":0},{"$f":"IF($Y410=0,0,AA409*(1+Simulador!$D$34)+S410)","v":0},{"$f":"IF(OR(AB409+1>(IF(AND(Simulador!$C$9<Simulador!$C$10,OR(Simulador!$E$7=\"Resgate\",Simulador!$E$7=\"Portabilidade\")),Simulador!$C$9,Simulador!$C$50)-Simulador!$C$8)*12,AB409=0),0,AB409+1)","v":406},{"$f":"IF($AB410=0,0,AC409*(1+Simulador!$D$34)+F410+M410)","v":0},{"$f":"IF($AB410=0,0,AD409*(1+Simulador!$D$34)+T410)","v":0}]
[{"$f":"IF(OR(A410+1>(IF(Simulador!$E$7=\"Autopatrocínio\",Simulador!$C$10,Simulador!$C$9)-Simulador!$C$8)*12,A410=0),0,A410+1)","v":0},{"$f":"IF($A411=0,0,IF(INT($A410/12)-$A410/12=0,B410*(1+Simulador!$C$35),B410))","v":0},{"$f":"MAX(IF(A411=0,0,B411-IF(Simulador!$C$11=\"Individual\",0,Simulador!$C$14)),0)","v":0},null,0,0,0,0,0,0,null,0,0,0,0,0,0,null,0,0,0,0,0,null,{"$f":"IF(OR(Y410+1>(IF(AND(Simulador!$C$9<Simulador!$C$10,OR(Simulador!$E$7=\"Resgate\",Simulador!$E$7=\"Portabilidade\")),Simulador!$C$9,Simulador!$C$10)-Simulador!$C$8)*12,Y410=0),0,Y410+1)","v":407},{"$f":"IF($Y411=0,0,Z410*(1+Simulador!$D$34)+E411+L411)","v":0},{"$f":"IF($Y411=0,0,AA410*(1+Simulador!$D$34)+S411)","v":0},{"$f":"IF(OR(AB410+1>(IF(AND(Simulador!$C$9<Simulador!$C$10,OR(Simulador!$E$7=\"Resgate\",Simulador!$E$7=\"Portabilidade\")),Simulador!$C$9,Simulador!$C$50)-Simulador!$C$8)*12,AB410=0),0,AB410+1)","v":407},{"$f":"IF($AB411=0,0,AC410*(1+Simulador!$D$34)+F411+M411)","v":0},{"$f":"IF($AB411=0,0,AD410*(1+Simulador!$D$34)+T411)","v":0}]
[{"$f":"IF(OR(A411+1>(IF(Simulador!$E$7=\"Autopatrocínio\",Simulador!$C$10,Simulador!$C$9)-Simulador!$C$8)*12,A411=0),0,A411+1)","v":0},{"$f":"IF($A412=0,0,IF(INT($A411/12)-$A411/12=0,B411*(1+Simulador!$C$35),B411))","v":0},{"$f":"MAX(IF(A412=0,0,B412-IF(Simulador!$C$11=\"Individual\",0,Simulador!$C$14)),0)","v":0},null,0,0,0,0,0,0,null,0,0,0,0,0,0,null,0,0,0,0,0,null,{"$f":"IF(OR(Y411+1>(IF(AND(Simulador!$C$9<Simulador!$C$10,OR(Simulador!$E$7=\"Resgate\",Simulador!$E$7=\"Portabilidade\")),Simulador!$C$9,Simulador!$C$10)-Simulador!$C$8)*12,Y411=0),0,Y411+1)","v":408},{"$f":"IF($Y412=0,0,Z411*(1+Simulador!$D$34)+E412+L412)","v":0},{"$f":"IF($Y412=0,0,AA411*(1+Simulador!$D$34)+S412)","v":0},{"$f":"IF(OR(AB411+1>(IF(AND(Simulador!$C$9<Simulador!$C$10,OR(Simulador!$E$7=\"Resgate\",Simulador!$E$7=\"Portabilidade\")),Simulador!$C$9,Simulador!$C$50)-Simulador!$C$8)*12,AB411=0),0,AB411+1)","v":408},{"$f":"IF($AB412=0,0,AC411*(1+Simulador!$D$34)+F412+M412)","v":0},{"$f":"IF($AB412=0,0,AD411*(1+Simulador!$D$34)+T412)","v":0}]
[{"$f":"IF(OR(A412+1>(IF(Simulador!$E$7=\"Autopatrocínio\",Simulador!$C$10,Simulador!$C$9)-Simulador!$C$8)*12,A412=0),0,A412+1)","v":0},{"$f":"IF($A413=0,0,IF(INT($A412/12)-$A412/12=0,B412*(1+Simulador!$C$35),B412))","v":0},{"$f":"MAX(IF(A413=0,0,B413-IF(Simulador!$C$11=\"Individual\",0,Simulador!$C$14)),0)","v":0},null,0,0,0,0,0,0,null,0,0,0,0,0,0,null,0,0,0,0,0,null,{"$f":"IF(OR(Y412+1>(IF(AND(Simulador!$C$9<Simulador!$C$10,OR(Simulador!$E$7=\"Resgate\",Simulador!$E$7=\"Portabilidade\")),Simulador!$C$9,Simulador!$C$10)-Simulador!$C$8)*12,Y412=0),0,Y412+1)","v":409},{"$f":"IF($Y413=0,0,Z412*(1+Simulador!$D$34)+E413+L413)","v":0},{"$f":"IF($Y413=0,0,AA412*(1+Simulador!$D$34)+S413)","v":0},{"$f":"IF(OR(AB412+1>(IF(AND(Simulador!$C$9<Simulador!$C$10,OR(Simulador!$E$7=\"Resgate\",Simulador!$E$7=\"Portabilidade\")),Simulador!$C$9,Simulador!$C$50)-Simulador!$C$8)*12,AB412=0),0,AB412+1)","v":409},{"$f":"IF($AB413=0,0,AC412*(1+Simulador!$D$34)+F413+M413)","v":0},{"$f":"IF($AB413=0,0,AD412*(1+Simulador!$D$34)+T413)","v":0}]
[{"$f":"IF(OR(A413+1>(IF(Simulador!$E$7=\"Autopatrocínio\",Simulador!$C$10,Simulador!$C$9)-Simulador!$C$8)*12,A413=0),0,A413+1)","v":0},{"$f":"IF($A414=0,0,IF(INT($A413/12)-$A413/12=0,B413*(1+Simulador!$C$35),B413))","v":0},{"$f":"MAX(IF(A414=0,0,B414-IF(Simulador!$C$11=\"Individual\",0,Simulador!$C$14)),0)","v":0},null,0,0,0,0,0,0,null,0,0,0,0,0,0,null,0,0,0,0,0,null,{"$f":"IF(OR(Y413+1>(IF(AND(Simulador!$C$9<Simulador!$C$10,OR(Simulador!$E$7=\"Resgate\",Simulador!$E$7=\"Portabilidade\")),Simulador!$C$9,Simulador!$C$10)-Simulador!$C$8)*12,Y413=0),0,Y413+1)","v":410},{"$f":"IF($Y414=0,0,Z413*(1+Simulador!$D$34)+E414+L414)","v":0},{"$f":"IF($Y414=0,0,AA413*(1+Simulador!$D$34)+S414)","v":0},{"$f":"IF(OR(AB413+1>(IF(AND(Simulador!$C$9<Simulador!$C$10,OR(Simulador!$E$7=\"Resgate\",Simulador!$E$7=\"Portabilidade\")),Simulador!$C$9,Simulador!$C$50)-Simulador!$C$8)*12,AB413=0),0,AB413+1)","v":410},{"$f":"IF($AB414=0,0,AC413*(1+Simulador!$D$34)+F414+M414)","v":0},{"$f":"IF($AB414=0,0,AD413*(1+Simulador!$D$34)+T414)","v":0}]
[{"$f":"IF(OR(A414+1>(IF(Simulador!$E$7=\"Autopatrocínio\",Simulador!$C$10,Simulador!$C$9)-Simulador!$C$8)*12,A414=0),0,A414+1)","v":0},{"$f":"IF($A415=0,0,IF(INT($A414/12)-$A414/12=0,B414*(1+Simulador!$C$35),B414))","v":0},{"$f":"MAX(IF(A415=0,0,B415-IF(Simulador!$C$11=\"Individual\",0,Simulador!$C$14)),0)","v":0},null,{"$f":"E$4*$C415*(1+$J415)","v":0},0,0,0,0,0,null,{"$f":"L$4*$C415*$Q415","v":0},0,0,0,0,0,null,0,0,0,0,0,null,{"$f":"IF(OR(Y414+1>(IF(AND(Simulador!$C$9<Simulador!$C$10,OR(Simulador!$E$7=\"Resgate\",Simulador!$E$7=\"Portabilidade\")),Simulador!$C$9,Simulador!$C$10)-Simulador!$C$8)*12,Y414=0),0,Y414+1)","v":411},{"$f":"IF($Y415=0,0,Z414*(1+Simulador!$D$34)+E415+L415)","v":0},{"$f":"IF($Y415=0,0,AA414*(1+Simulador!$D$34)+S415)","v":0},{"$f":"IF(OR(AB414+1>(IF(AND(Simulador!$C$9<Simulador!$C$10,OR(Simulador!$E$7=\"Resgate\",Simulador!$E$7=\"Portabilidade\")),Simulador!$C$9,Simulador!$C$50)-Simulador!$C$8)*12,AB414=0),0,AB414+1)","v":411},{"$f":"IF($AB415=0,0,AC414*(1+Simulador!$D$34)+F415+M415)","v":0},{"$f":"IF($AB415=0,0,AD414*(1+Simulador!$D$34)+T415)","v":0}]
[{"$f":"IF(OR(A415+1>(IF(Simulador!$E$7=\"Autopatrocínio\",Simulador!$C$10,Simulador!$C$9)-Simulador!$C$8)*12,A415=0),0,A415+1)","v":0},{"$f":"IF($A416=0,0,IF(INT($A415/12)-$A415/12=0,B415*(1+Simulador!$C$35),B415))","v":0},{"$f":"MAX(IF(A416=0,0,B416-IF(Simulador!$C$11=\"Individual\",0,Simulador!$C$14)),0)","v":0},null,0,0,0,0,0,0,null,0,0,0,0,0,0,null,0,0,0,0,0,null,{"$f":"IF(OR(Y415+1>(IF(AND(Simulador!$C$9<Simulador!$C$10,OR(Simulador!$E$7=\"Resgate\",Simulador!$E$7=\"Portabilidade\")),Simulador!$C$9,Simulador!$C$10)-Simulador!$C$8)*12,Y415=0),0,Y415+1)","v":412},{"$f":"IF($Y416=0,0,Z415*(1+Simulador!$D$34)+E416+L416)","v":0},{"$f":"IF($Y416=0,0,AA415*(1+Simulador!$D$34)+S416)","v":0},{"$f":"IF(OR(AB415+1>(IF(AND(Simulador!$C$9<Simulador!$C$10,OR(Simulador!$E$7=\"Resgate\",Simulador!$E$7=\"Portabilidade\")),Simulador!$C$9,Simulador!$C$50)-Simulador!$C$8)*12,AB415=0),0,AB415+1)","v":412},{"$f":"IF($AB416=0,0,AC415*(1+Simulador!$D$34)+F416+M416)","v":0},{"$f":"IF($AB416=0,0,AD415*(1+Simulador!$D$34)+T416)","v":0}]
[{"$f":"IF(OR(A416+1>(IF(Simulador!$E$7=\"Autopatrocínio\",Simulador!$C$10,Simulador!$C$9)-Simulador!$C$8)*12,A416=0),0,A416+1)","v":0},{"$f":"IF($A417=0,0,IF(INT($A416/12)-$A416/12=0,B416*(1+Simulador!$C$35),B416))","v":0},{"$f":"MAX(IF(A417=0,0,B417-IF(Simulador!$C$11=\"Individual\",0,Simulador!$C$14)),0)","v":0},null,0,0,0,0,0,0,null,0,0,0,0,0,0,null,0,0,0,0,0,null,{"$f":"IF(OR(Y416+1>(IF(AND(Simulador!$C$9<Simulador!$C$10,OR(Simulador!$E$7=\"Resgate\",Simulador!$E$7=\"Portabilidade\")),Simulador!$C$9,Simulador!$C$10)-Simulador!$C$8)*12,Y416=0),0,Y416+1)","v":413},{"$f":"IF($Y417=0,0,Z416*(1+Simulador!$D$34)+E417+L417)","v":0},{"$f":"IF($Y417=0,0,AA416*(1+Simulador!$D$34)+S417)","v":0},{"$f":"IF(OR(AB416+1>(IF(AND(Simulador!$C$9<Simulador!$C$10,OR(Simulador!$E$7=\"Resgate\",Simulador!$E$7=\"Portabilidade\")),Simulador!$C$9,Simulador!$C$50)-Simulador!$C$8)*12,AB416=0),0,AB416+1)","v":413},{"$f":"IF($AB417=0,0,AC416*(1+Simulador!$D$34)+F417+M417)","v":0},{"$f":"IF($AB417=0,0,AD416*(1+Simulador!$D$34)+T417)","v":0}]
[{"$f":"IF(OR(A417+1>(IF(Simulador!$E$7=\"Autopatrocínio\",Simulador!$C$10,Simulador!$C$9)-Simulador!$C$8)*12,A417=0),0,A417+1)","v":0},{"$f":"IF($A418=0,0,IF(INT($A417/12)-$A417/12=0,B417*(1+Simulador!$C$35),B417))","v":0},{"$f":"MAX(IF(A418=0,0,B418-IF(Simulador!$C$11=\"Individual\",0,Simulador!$C$14)),0)","v":0},null,0,0,0,0,0,0,null,0,0,0,0,0,0,null,0,0,0,0,0,null,{"$f":"IF(OR(Y417+1>(IF(AND(Simulador!$C$9<Simulador!$C$10,OR(Simulador!$E$7=\"Resgate\",Simulador!$E$7=\"Portabilidade\")),Simulador!$C$9,Simulador!$C$10)-Simulador!$C$8)*12,Y417=0),0,Y417+1)","v":414},{"$f":"IF($Y418=0,0,Z417*(1+Simulador!$D$34)+E418+L418)","v":0},{"$f":"IF($Y418=0,0,AA417*(1+Simulador!$D$34)+S418)","v":0},{"$f":"IF(OR(AB417+1>(IF(AND(Simulador!$C$9<Simulador!$C$10,OR(Simulador!$E$7=\"Resgate\",Simulador!$E$7=\"Portabilidade\")),Simulador!$C$9,Simulador!$C$50)-Simulador!$C$8)*12,AB417=0),0,AB417+1)","v":414},{"$f":"IF($AB418=0,0,AC417*(1+Simulador!$D$34)+F418+M418)","v":0},{"$f":"IF($AB418=0,0,AD417*(1+Simulador!$D$34)+T418)","v":0}]
[{"$f":"IF(OR(A418+1>(IF(Simulador!$E$7=\"Autopatrocínio\",Simulador!$C$10,Simulador!$C$9)-Simulador!$C$8)*12,A418=0),0,A418+1)","v":0},{"$f":"IF($A419=0,0,IF(INT($A418/12)-$A418/12=0,B418*(1+Simulador!$C$35),B418))","v":0},{"$f":"MAX(IF(A419=0,0,B419-IF(Simulador!$C$11=\"Individual\",0,Simulador!$C$14)),0)","v":0},null,0,0,0,0,0,0,null,0,0,0,0,0,0,null,0,0,0,0,0,null,{"$f":"IF(OR(Y418+1>(IF(AND(Simulador!$C$9<Simulador!$C$10,OR(Simulador!$E$7=\"Resgate\",Simulador!$E$7=\"Portabilidade\")),Simulador!$C$9,Simulador!$C$10)-Simulador!$C$8)*12,Y418=0),0,Y418+1)","v":415},{"$f":"IF($Y419=0,0,Z418*(1+Simulador!$D$34)+E419+L419)","v":0},{"$f":"IF($Y419=0,0,AA418*(1+Simulador!$D$34)+S419)","v":0},{"$f":"IF(OR(AB418+1>(IF(AND(Simulador!$C$9<Simulador!$C$10,OR(Simulador!$E$7=\"Resgate\",Simulador!$E$7=\"Portabilidade\")),Simulador!$C$9,Simulador!$C$50)-Simulador!$C$8)*12,AB418=0),0,AB418+1)","v":415},{"$f":"IF($AB419=0,0,AC418*(1+Simulador!$D$34)+F419+M419)","v":0},{"$f":"IF($AB419=0,0,AD418*(1+Simulador!$D$34)+T419)","v":0}]
[{"$f":"IF(OR(A419+1>(IF(Simulador!$E$7=\"Autopatrocínio\",Simulador!$C$10,Simulador!$C$9)-Simulador!$C$8)*12,A419=0),0,A419+1)","v":0},{"$f":"IF($A420=0,0,IF(INT($A419/12)-$A419/12=0,B419*(1+Simulador!$C$35),B419))","v":0},{"$f":"MAX(IF(A420=0,0,B420-IF(Simulador!$C$11=\"Individual\",0,Simulador!$C$14)),0)","v":0},null,0,0,0,0,0,0,null,0,0,0,0,0,0,null,0,0,0,0,0,null,{"$f":"IF(OR(Y419+1>(IF(AND(Simulador!$C$9<Simulador!$C$10,OR(Simulador!$E$7=\"Resgate\",Simulador!$E$7=\"Portabilidade\")),Simulador!$C$9,Simulador!$C$10)-Simulador!$C$8)*12,Y419=0),0,Y419+1)","v":416},{"$f":"IF($Y420=0,0,Z419*(1+Simulador!$D$34)+E420+L420)","v":0},{"$f":"IF($Y420=0,0,AA419*(1+Simulador!$D$34)+S420)","v":0},{"$f":"IF(OR(AB419+1>(IF(AND(Simulador!$C$9<Simulador!$C$10,OR(Simulador!$E$7=\"Resgate\",Simulador!$E$7=\"Portabilidade\")),Simulador!$C$9,Simulador!$C$50)-Simulador!$C$8)*12,AB419=0),0,AB419+1)","v":416},{"$f":"IF($AB420=0,0,AC419*(1+Simulador!$D$34)+F420+M420)","v":0},{"$f":"IF($AB420=0,0,AD419*(1+Simulador!$D$34)+T420)","v":0}]
[{"$f":"IF(OR(A420+1>(IF(Simulador!$E$7=\"Autopatrocínio\",Simulador!$C$10,Simulador!$C$9)-Simulador!$C$8)*12,A420=0),0,A420+1)","v":0},{"$f":"IF($A421=0,0,IF(INT($A420/12)-$A420/12=0,B420*(1+Simulador!$C$35),B420))","v":0},{"$f":"MAX(IF(A421=0,0,B421-IF(Simulador!$C$11=\"Individual\",0,Simulador!$C$14)),0)","v":0},null,0,0,0,0,0,0,null,0,0,0,0,0,0,null,{"$f":"S$4*$C421*(1+$J421)","v":0},0,0,0,0,null,{"$f":"IF(OR(Y420+1>(IF(AND(Simulador!$C$9<Simulador!$C$10,OR(Simulador!$E$7=\"Resgate\",Simulador!$E$7=\"Portabilidade\")),Simulador!$C$9,Simulador!$C$10)-Simulador!$C$8)*12,Y420=0),0,Y420+1)","v":417},{"$f":"IF($Y421=0,0,Z420*(1+Simulador!$D$34)+E421+L421)","v":0},{"$f":"IF($Y421=0,0,AA420*(1+Simulador!$D$34)+S421)","v":0},{"$f":"IF(OR(AB420+1>(IF(AND(Simulador!$C$9<Simulador!$C$10,OR(Simulador!$E$7=\"Resgate\",Simulador!$E$7=\"Portabilidade\")),Simulador!$C$9,Simulador!$C$50)-Simulador!$C$8)*12,AB420=0),0,AB420+1)","v":417},{"$f":"IF($AB421=0,0,AC420*(1+Simulador!$D$34)+F421+M421)","v":0},{"$f":"IF($AB421=0,0,AD420*(1+Simulador!$D$34)+T421)","v":0}]
[{"$f":"IF(OR(A421+1>(IF(Simulador!$E$7=\"Autopatrocínio\",Simulador!$C$10,Simulador!$C$9)-Simulador!$C$8)*12,A421=0),0,A421+1)","v":0},{"$f":"IF($A422=0,0,IF(INT($A421/12)-$A421/12=0,B421*(1+Simulador!$C$35),B421))","v":0},{"$f":"MAX(IF(A422=0,0,B422-IF(Simulador!$C$11=\"Individual\",0,Simulador!$C$14)),0)","v":0},null,0,0,0,0,0,0,null,0,0,0,0,0,0,null,0,0,0,0,0,null,{"$f":"IF(OR(Y421+1>(IF(AND(Simulador!$C$9<Simulador!$C$10,OR(Simulador!$E$7=\"Resgate\",Simulador!$E$7=\"Portabilidade\")),Simulador!$C$9,Simulador!$C$10)-Simulador!$C$8)*12,Y421=0),0,Y421+1)","v":418},{"$f":"IF($Y422=0,0,Z421*(1+Simulador!$D$34)+E422+L422)","v":0},{"$f":"IF($Y422=0,0,AA421*(1+Simulador!$D$34)+S422)","v":0},{"$f":"IF(OR(AB421+1>(IF(AND(Simulador!$C$9<Simulador!$C$10,OR(Simulador!$E$7=\"Resgate\",Simulador!$E$7=\"Portabilidade\")),Simulador!$C$9,Simulador!$C$50)-Simulador!$C$8)*12,AB421=0),0,AB421+1)","v":418},{"$f":"IF($AB422=0,0,AC421*(1+Simulador!$D$34)+F422+M422)","v":0},{"$f":"IF($AB422=0,0,AD421*(1+Simulador!$D$34)+T422)","v":0}]
[{"$f":"IF(OR(A422+1>(IF(Simulador!$E$7=\"Autopatrocínio\",Simulador!$C$10,Simulador!$C$9)-Simulador!$C$8)*12,A422=0),0,A422+1)","v":0},{"$f":"IF($A423=0,0,IF(INT($A422/12)-$A422/12=0,B422*(1+Simulador!$C$35),B422))","v":0},{"$f":"MAX(IF(A423=0,0,B423-IF(Simulador!$C$11=\"Individual\",0,Simulador!$C$14)),0)","v":0},null,0,0,0,0,0,0,null,0,0,0,0,0,0,null,0,0,0,0,0,null,{"$f":"IF(OR(Y422+1>(IF(AND(Simulador!$C$9<Simulador!$C$10,OR(Simulador!$E$7=\"Resgate\",Simulador!$E$7=\"Portabilidade\")),Simulador!$C$9,Simulador!$C$10)-Simulador!$C$8)*12,Y422=0),0,Y422+1)","v":419},{"$f":"IF($Y423=0,0,Z422*(1+Simulador!$D$34)+E423+L423)","v":0},{"$f":"IF($Y423=0,0,AA422*(1+Simulador!$D$34)+S423)","v":0},{"$f":"IF(OR(AB422+1>(IF(AND(Simulador!$C$9<Simulador!$C$10,OR(Simulador!$E$7=\"Resgate\",Simulador!$E$7=\"Portabilidade\")),Simulador!$C$9,Simulador!$C$50)-Simulador!$C$8)*12,AB422=0),0,AB422+1)","v":419},{"$f":"IF($AB423=0,0,AC422*(1+Simulador!$D$34)+F423+M423)","v":0},{"$f":"IF($AB423=0,0,AD422*(1+Simulador!$D$34)+T423)","v":0}]
[{"$f":"IF(OR(A423+1>(IF(Simulador!$E$7=\"Autopatrocínio\",Simulador!$C$10,Simulador!$C$9)-Simulador!$C$8)*12,A423=0),0,A423+1)","v":0},{"$f":"IF($A424=0,0,IF(INT($A423/12)-$A423/12=0,B423*(1+Simulador!$C$35),B423))","v":0},{"$f":"MAX(IF(A424=0,0,B424-IF(Simulador!$C$11=\"Individual\",0,Simulador!$C$14)),0)","v":0},null,0,0,0,0,0,0,null,0,0,0,0,0,0,null,0,0,0,0,0,null,{"$f":"IF(OR(Y423+1>(IF(AND(Simulador!$C$9<Simulador!$C$10,OR(Simulador!$E$7=\"Resgate\",Simulador!$E$7=\"Portabilidade\")),Simulador!$C$9,Simulador!$C$10)-Simulador!$C$8)*12,Y423=0),0,Y423+1)","v":420},{"$f":"IF($Y424=0,0,Z423*(1+Simulador!$D$34)+E424+L424)","v":0},{"$f":"IF($Y424=0,0,AA423*(1+Simulador!$D$34)+S424)","v":0},{"$f":"IF(OR(AB423+1>(IF(AND(Simulador!$C$9<Simulador!$C$10,OR(Simulador!$E$7=\"Resgate\",Simulador!$E$7=\"Portabilidade\")),Simulador!$C$9,Simulador!$C$50)-Simulador!$C$8)*12,AB423=0),0,AB423+1)","v":420},{"$f":"IF($AB424=0,0,AC423*(1+Simulador!$D$34)+F424+M424)","v":0},{"$f":"IF($AB424=0,0,AD423*(1+Simulador!$D$34)+T424)","v":0}]
[{"$f":"IF(OR(A424+1>(IF(Simulador!$E$7=\"Autopatrocínio\",Simulador!$C$10,Simulador!$C$9)-Simulador!$C$8)*12,A424=0),0,A424+1)","v":0},{"$f":"IF($A425=0,0,IF(INT($A424/12)-$A424/12=0,B424*(1+Simulador!$C$35),B424))","v":0},{"$f":"MAX(IF(A425=0,0,B425-IF(Simulador!$C$11=\"Individual\",0,Simulador!$C$14)),0)","v":0},null,{"$f":"E$4*$C425*(1+$J425)","v":0},0,0,0,0,0,null,{"$f":"L$4*$C425*$Q425","v":0},0,0,0,0,0,null,0,0,0,0,0,null,{"$f":"IF(OR(Y424+1>(IF(AND(Simulador!$C$9<Simulador!$C$10,OR(Simulador!$E$7=\"Resgate\",Simulador!$E$7=\"Portabilidade\")),Simulador!$C$9,Simulador!$C$10)-Simulador!$C$8)*12,Y424=0),0,Y424+1)","v":421},{"$f":"IF($Y425=0,0,Z424*(1+Simulador!$D$34)+E425+L425)","v":0},{"$f":"IF($Y425=0,0,AA424*(1+Simulador!$D$34)+S425)","v":0},{"$f":"IF(OR(AB424+1>(IF(AND(Simulador!$C$9<Simulador!$C$10,OR(Simulador!$E$7=\"Resgate\",Simulador!$E$7=\"Portabilidade\")),Simulador!$C$9,Simulador!$C$50)-Simulador!$C$8)*12,AB424=0),0,AB424+1)","v":421},{"$f":"IF($AB425=0,0,AC424*(1+Simulador!$D$34)+F425+M425)","v":0},{"$f":"IF($AB425=0,0,AD424*(1+Simulador!$D$34)+T425)","v":0}]
[{"$f":"IF(OR(A425+1>(IF(Simulador!$E$7=\"Autopatrocínio\",Simulador!$C$10,Simulador!$C$9)-Simulador!$C$8)*12,A425=0),0,A425+1)","v":0},{"$f":"IF($A426=0,0,IF(INT($A425/12)-$A425/12=0,B425*(1+Simulador!$C$35),B425))","v":0},{"$f":"MAX(IF(A426=0,0,B426-IF(Simulador!$C$11=\"Individual\",0,Simulador!$C$14)),0)","v":0},null,0,0,0,0,0,0,null,0,0,0,0,0,0,null,0,0,0,0,0,null,{"$f":"IF(OR(Y425+1>(IF(AND(Simulador!$C$9<Simulador!$C$10,OR(Simulador!$E$7=\"Resgate\",Simulador!$E$7=\"Portabilidade\")),Simulador!$C$9,Simulador!$C$10)-Simulador!$C$8)*12,Y425=0),0,Y425+1)","v":422},{"$f":"IF($Y426=0,0,Z425*(1+Simulador!$D$34)+E426+L426)","v":0},{"$f":"IF($Y426=0,0,AA425*(1+Simulador!$D$34)+S426)","v":0},{"$f":"IF(OR(AB425+1>(IF(AND(Simulador!$C$9<Simulador!$C$10,OR(Simulador!$E$7=\"Resgate\",Simulador!$E$7=\"Portabilidade\")),Simulador!$C$9,Simulador!$C$50)-Simulador!$C$8)*12,AB425=0),0,AB425+1)","v":422},{"$f":"IF($AB426=0,0,AC425*(1+Simulador!$D$34)+F426+M426)","v":0},{"$f":"IF($AB426=0,0,AD425*(1+Simulador!$D$34)+T426)","v":0}]
[{"$f":"IF(OR(A426+1>(IF(Simulador!$E$7=\"Autopatrocínio\",Simulador!$C$10,Simulador!$C$9)-Simulador!$C$8)*12,A426=0),0,A426+1)","v":0},{"$f":"IF($A427=0,0,IF(INT($A426/12)-$A426/12=0,B426*(1+Simulador!$C$35),B426))","v":0},{"$f":"MAX(IF(A427=0,0,B427-IF(Simulador!$C$11=\"Individual\",0,Simulador!$C$14)),0)","v":0},null,0,0,0,0,0,0,null,0,0,0,0,0,0,null,0,0,0,0,0,null,{"$f":"IF(OR(Y426+1>(IF(AND(Simulador!$C$9<Simulador!$C$10,OR(Simulador!$E$7=\"Resgate\",Simulador!$E$7=\"Portabilidade\")),Simulador!$C$9,Simulador!$C$10)-Simulador!$C$8)*12,Y426=0),0,Y426+1)","v":423},{"$f":"IF($Y427=0,0,Z426*(1+Simulador!$D$34)+E427+L427)","v":0},{"$f":"IF($Y427=0,0,AA426*(1+Simulador!$D$34)+S427)","v":0},{"$f":"IF(OR(AB426+1>(IF(AND(Simulador!$C$9<Simulador!$C$10,OR(Simulador!$E$7=\"Resgate\",Simulador!$E$7=\"Portabilidade\")),Simulador!$C$9,Simulador!$C$50)-Simulador!$C$8)*12,AB426=0),0,AB426+1)","v":423},{"$f":"IF($AB427=0,0,AC426*(1+Simulador!$D$34)+F427+M427)","v":0},{"$f":"IF($AB427=0,0,AD426*(1+Simulador!$D$34)+T427)","v":0}]
[{"$f":"IF(OR(A427+1>(IF(Simulador!$E$7=\"Autopatrocínio\",Simulador!$C$10,Simulador!$C$9)-Simulador!$C$8)*12,A427=0),0,A427+1)","v":0},{"$f":"IF($A428=0,0,IF(INT($A427/12)-$A427/12=0,B427*(1+Simulador!$C$35),B427))","v":0},{"$f":"MAX(IF(A428=0,0,B428-IF(Simulador!$C$11=\"Individual\",0,Simulador!$C$14)),0)","v":0},null,0,0,0,0,0,0,null,0,0,0,0,0,0,null,0,0,0,0,0,null,{"$f":"IF(OR(Y427+1>(IF(AND(Simulador!$C$9<Simulador!$C$10,OR(Simulador!$E$7=\"Resgate\",Simulador!$E$7=\"Portabilidade\")),Simulador!$C$9,Simulador!$C$10)-Simulador!$C$8)*12,Y427=0),0,Y427+1)","v":424},{"$f":"IF($Y428=0,0,Z427*(1+Simulador!$D$34)+E428+L428)","v":0},{"$f":"IF($Y428=0,0,AA427*(1+Simulador!$D$34)+S428)","v":0},{"$f":"IF(OR(AB427+1>(IF(AND(Simulador!$C$9<Simulador!$C$10,OR(Simulador!$E$7=\"Resgate\",Simulador!$E$7=\"Portabilidade\")),Simulador!$C$9,Simulador!$C$50)-Simulador!$C$8)*12,AB427=0),0,AB427+1)","v":424},{"$f":"IF($AB428=0,0,AC427*(1+Simulador!$D$34)+F428+M428)","v":0},{"$f":"IF($AB428=0,0,AD427*(1+Simulador!$D$34)+T428)","v":0}]
[{"$f":"IF(OR(A428+1>(IF(Simulador!$E$7=\"Autopatrocínio\",Simulador!$C$10,Simulador!$C$9)-Simulador!$C$8)*12,A428=0),0,A428+1)","v":0},{"$f":"IF($A429=0,0,IF(INT($A428/12)-$A428/12=0,B428*(1+Simulador!$C$35),B428))","v":0},{"$f":"MAX(IF(A429=0,0,B429-IF(Simulador!$C$11=\"Individual\",0,Simulador!$C$14)),0)","v":0},null,0,0,0,0,0,0,null,0,0,0,0,0,0,null,0,0,0,0,0,null,{"$f":"IF(OR(Y428+1>(IF(AND(Simulador!$C$9<Simulador!$C$10,OR(Simulador!$E$7=\"Resgate\",Simulador!$E$7=\"Portabilidade\")),Simulador!$C$9,Simulador!$C$10)-Simulador!$C$8)*12,Y428=0),0,Y428+1)","v":425},{"$f":"IF($Y429=0,0,Z428*(1+Simulador!$D$34)+E429+L429)","v":0},{"$f":"IF($Y429=0,0,AA428*(1+Simulador!$D$34)+S429)","v":0},{"$f":"IF(OR(AB428+1>(IF(AND(Simulador!$C$9<Simulador!$C$10,OR(Simulador!$E$7=\"Resgate\",Simulador!$E$7=\"Portabilidade\")),Simulador!$C$9,Simulador!$C$50)-Simulador!$C$8)*12,AB428=0),0,AB428+1)","v":425},{"$f":"IF($AB429=0,0,AC428*(1+Simulador!$D$34)+F429+M429)","v":0},{"$f":"IF($AB429=0,0,AD428*(1+Simulador!$D$34)+T429)","v":0}]
[{"$f":"IF(OR(A429+1>(IF(Simulador!$E$7=\"Autopatrocínio\",Simulador!$C$10,Simulador!$C$9)-Simulador!$C$8)*12,A429=0),0,A429+1)","v":0},{"$f":"IF($A430=0,0,IF(INT($A429/12)-$A429/12=0,B429*(1+Simulador!$C$35),B429))","v":0},{"$f":"MAX(IF(A430=0,0,B430-IF(Simulador!$C$11=\"Individual\",0,Simulador!$C$14)),0)","v":0},null,0,0,0,0,0,0,null,0,0,0,0,0,0,null,0,0,0,0,0,null,{"$f":"IF(OR(Y429+1>(IF(AND(Simulador!$C$9<Simulador!$C$10,OR(Simulador!$E$7=\"Resgate\",Simulador!$E$7=\"Portabilidade\")),Simulador!$C$9,Simulador!$C$10)-Simulador!$C$8)*12,Y429=0),0,Y429+1)","v":426},{"$f":"IF($Y430=0,0,Z429*(1+Simulador!$D$34)+E430+L430)","v":0},{"$f":"IF($Y430=0,0,AA429*(1+Simulador!$D$34)+S430)","v":0},{"$f":"IF(OR(AB429+1>(IF(AND(Simulador!$C$9<Simulador!$C$10,OR(Simulador!$E$7=\"Resgate\",Simulador!$E$7=\"Portabilidade\")),Simulador!$C$9,Simulador!$C$50)-Simulador!$C$8)*12,AB429=0),0,AB429+1)","v":426},{"$f":"IF($AB430=0,0,AC429*(1+Simulador!$D$34)+F430+M430)","v":0},{"$f":"IF($AB430=0,0,AD429*(1+Simulador!$D$34)+T430)","v":0}]
[{"$f":"IF(OR(A430+1>(IF(Simulador!$E$7=\"Autopatrocínio\",Simulador!$C$10,Simulador!$C$9)-Simulador!$C$8)*12,A430=0),0,A430+1)","v":0},{"$f":"IF($A431=0,0,IF(INT($A430/12)-$A430/12=0,B430*(1+Simulador!$C$35),B430))","v":0},{"$f":"MAX(IF(A431=0,0,B431-IF(Simulador!$C$11=\"Individual\",0,Simulador!$C$14)),0)","v":0},null,0,0,0,0,0,0,null,0,0,0,0,0,0,null,0,0,0,0,0,null,{"$f":"IF(OR(Y430+1>(IF(AND(Simulador!$C$9<Simulador!$C$10,OR(Simulador!$E$7=\"Resgate\",Simulador!$E$7=\"Portabilidade\")),Simulador!$C$9,Simulador!$C$10)-Simulador!$C$8)*12,Y430=0),0,Y430+1)","v":427},{"$f":"IF($Y431=0,0,Z430*(1+Simulador!$D$34)+E431+L431)","v":0},{"$f":"IF($Y431=0,0,AA430*(1+Simulador!$D$34)+S431)","v":0},{"$f":"IF(OR(AB430+1>(IF(AND(Simulador!$C$9<Simulador!$C$10,OR(Simulador!$E$7=\"Resgate\",Simulador!$E$7=\"Portabilidade\")),Simulador!$C$9,Simulador!$C$50)-Simulador!$C$8)*12,AB430=0),0,AB430+1)","v":427},{"$f":"IF($AB431=0,0,AC430*(1+Simulador!$D$34)+F431+M431)","v":0},{"$f":"IF($AB431=0,0,AD430*(1+Simulador!$D$34)+T431)","v":0}]
[{"$f":"IF(OR(A431+1>(IF(Simulador!$E$7=\"Autopatrocínio\",Simulador!$C$10,Simulador!$C$9)-Simulador!$C$8)*12,A431=0),0,A431+1)","v":0},{"$f":"IF($A432=0,0,IF(INT($A431/12)-$A431/12=0,B431*(1+Simulador!$C$35),B431))","v":0},{"$f":"MAX(IF(A432=0,0,B432-IF(Simulador!$C$11=\"Individual\",0,Simulador!$C$14)),0)","v":0},null,0,0,0,0,0,0,null,0,0,0,0,0,0,null,0,0,0,0,0,null,{"$f":"IF(OR(Y431+1>(IF(AND(Simulador!$C$9<Simulador!$C$10,OR(Simulador!$E$7=\"Resgate\",Simulador!$E$7=\"Portabilidade\")),Simulador!$C$9,Simulador!$C$10)-Simulador!$C$8)*12,Y431=0),0,Y431+1)","v":428},{"$f":"IF($Y432=0,0,Z431*(1+Simulador!$D$34)+E432+L432)","v":0},{"$f":"IF($Y432=0,0,AA431*(1+Simulador!$D$34)+S432)","v":0},{"$f":"IF(OR(AB431+1>(IF(AND(Simulador!$C$9<Simulador!$C$10,OR(Simulador!$E$7=\"Resgate\",Simulador!$E$7=\"Portabilidade\")),Simulador!$C$9,Simulador!$C$50)-Simulador!$C$8)*12,AB431=0),0,AB431+1)","v":428},{"$f":"IF($AB432=0,0,AC431*(1+Simulador!$D$34)+F432+M432)","v":0},{"$f":"IF($AB432=0,0,AD431*(1+Simulador!$D$34)+T432)","v":0}]
[{"$f":"IF(OR(A432+1>(IF(Simulador!$E$7=\"Autopatrocínio\",Simulador!$C$10,Simulador!$C$9)-Simulador!$C$8)*12,A432=0),0,A432+1)","v":0},{"$f":"IF($A433=0,0,IF(INT($A432/12)-$A432/12=0,B432*(1+Simulador!$C$35),B432))","v":0},{"$f":"MAX(IF(A433=0,0,B433-IF(Simulador!$C$11=\"Individual\",0,Simulador!$C$14)),0)","v":0},null,0,0,0,0,0,0,null,0,0,0,0,0,0,null,0,0,0,0,0,null,{"$f":"IF(OR(Y432+1>(IF(AND(Simulador!$C$9<Simulador!$C$10,OR(Simulador!$E$7=\"Resgate\",Simulador!$E$7=\"Portabilidade\")),Simulador!$C$9,Simulador!$C$10)-Simulador!$C$8)*12,Y432=0),0,Y432+1)","v":429},{"$f":"IF($Y433=0,0,Z432*(1+Simulador!$D$34)+E433+L433)","v":0},{"$f":"IF($Y433=0,0,AA432*(1+Simulador!$D$34)+S433)","v":0},{"$f":"IF(OR(AB432+1>(IF(AND(Simulador!$C$9<Simulador!$C$10,OR(Simulador!$E$7=\"Resgate\",Simulador!$E$7=\"Portabilidade\")),Simulador!$C$9,Simulador!$C$50)-Simulador!$C$8)*12,AB432=0),0,AB432+1)","v":429},{"$f":"IF($AB433=0,0,AC432*(1+Simulador!$D$34)+F433+M433)","v":0},{"$f":"IF($AB433=0,0,AD432*(1+Simulador!$D$34)+T433)","v":0}]
[{"$f":"IF(OR(A433+1>(IF(Simulador!$E$7=\"Autopatrocínio\",Simulador!$C$10,Simulador!$C$9)-Simulador!$C$8)*12,A433=0),0,A433+1)","v":0},{"$f":"IF($A434=0,0,IF(INT($A433/12)-$A433/12=0,B433*(1+Simulador!$C$35),B433))","v":0},{"$f":"MAX(IF(A434=0,0,B434-IF(Simulador!$C$11=\"Individual\",0,Simulador!$C$14)),0)","v":0},null,0,0,0,0,0,0,null,0,0,0,0,0,0,null,0,0,0,0,0,null,{"$f":"IF(OR(Y433+1>(IF(AND(Simulador!$C$9<Simulador!$C$10,OR(Simulador!$E$7=\"Resgate\",Simulador!$E$7=\"Portabilidade\")),Simulador!$C$9,Simulador!$C$10)-Simulador!$C$8)*12,Y433=0),0,Y433+1)","v":430},{"$f":"IF($Y434=0,0,Z433*(1+Simulador!$D$34)+E434+L434)","v":0},{"$f":"IF($Y434=0,0,AA433*(1+Simulador!$D$34)+S434)","v":0},{"$f":"IF(OR(AB433+1>(IF(AND(Simulador!$C$9<Simulador!$C$10,OR(Simulador!$E$7=\"Resgate\",Simulador!$E$7=\"Portabilidade\")),Simulador!$C$9,Simulador!$C$50)-Simulador!$C$8)*12,AB433=0),0,AB433+1)","v":430},{"$f":"IF($AB434=0,0,AC433*(1+Simulador!$D$34)+F434+M434)","v":0},{"$f":"IF($AB434=0,0,AD433*(1+Simulador!$D$34)+T434)","v":0}]
[{"$f":"IF(OR(A434+1>(IF(Simulador!$E$7=\"Autopatrocínio\",Simulador!$C$10,Simulador!$C$9)-Simulador!$C$8)*12,A434=0),0,A434+1)","v":0},{"$f":"IF($A435=0,0,IF(INT($A434/12)-$A434/12=0,B434*(1+Simulador!$C$35),B434))","v":0},{"$f":"MAX(IF(A435=0,0,B435-IF(Simulador!$C$11=\"Individual\",0,Simulador!$C$14)),0)","v":0},null,{"$f":"E$4*$C435*(1+$J435)","v":0},0,0,0,0,0,null,{"$f":"L$4*$C435*$Q435","v":0},0,0,0,0,0,null,0,0,0,0,0,null,{"$f":"IF(OR(Y434+1>(IF(AND(Simulador!$C$9<Simulador!$C$10,OR(Simulador!$E$7=\"Resgate\",Simulador!$E$7=\"Portabilidade\")),Simulador!$C$9,Simulador!$C$10)-Simulador!$C$8)*12,Y434=0),0,Y434+1)","v":431},{"$f":"IF($Y435=0,0,Z434*(1+Simulador!$D$34)+E435+L435)","v":0},{"$f":"IF($Y435=0,0,AA434*(1+Simulador!$D$34)+S435)","v":0},{"$f":"IF(OR(AB434+1>(IF(AND(Simulador!$C$9<Simulador!$C$10,OR(Simulador!$E$7=\"Resgate\",Simulador!$E$7=\"Portabilidade\")),Simulador!$C$9,Simulador!$C$50)-Simulador!$C$8)*12,AB434=0),0,AB434+1)","v":431},{"$f":"IF($AB435=0,0,AC434*(1+Simulador!$D$34)+F435+M435)","v":0},{"$f":"IF($AB435=0,0,AD434*(1+Simulador!$D$34)+T435)","v":0}]
[{"$f":"IF(OR(A435+1>(IF(Simulador!$E$7=\"Autopatrocínio\",Simulador!$C$10,Simulador!$C$9)-Simulador!$C$8)*12,A435=0),0,A435+1)","v":0},{"$f":"IF($A436=0,0,IF(INT($A435/12)-$A435/12=0,B435*(1+Simulador!$C$35),B435))","v":0},{"$f":"MAX(IF(A436=0,0,B436-IF(Simulador!$C$11=\"Individual\",0,Simulador!$C$14)),0)","v":0},null,0,0,0,0,0,0,null,0,0,0,0,0,0,null,0,0,0,0,0,null,{"$f":"IF(OR(Y435+1>(IF(AND(Simulador!$C$9<Simulador!$C$10,OR(Simulador!$E$7=\"Resgate\",Simulador!$E$7=\"Portabilidade\")),Simulador!$C$9,Simulador!$C$10)-Simulador!$C$8)*12,Y435=0),0,Y435+1)","v":432},{"$f":"IF($Y436=0,0,Z435*(1+Simulador!$D$34)+E436+L436)","v":0},{"$f":"IF($Y436=0,0,AA435*(1+Simulador!$D$34)+S436)","v":0},{"$f":"IF(OR(AB435+1>(IF(AND(Simulador!$C$9<Simulador!$C$10,OR(Simulador!$E$7=\"Resgate\",Simulador!$E$7=\"Portabilidade\")),Simulador!$C$9,Simulador!$C$50)-Simulador!$C$8)*12,AB435=0),0,AB435+1)","v":432},{"$f":"IF($AB436=0,0,AC435*(1+Simulador!$D$34)+F436+M436)","v":0},{"$f":"IF($AB436=0,0,AD435*(1+Simulador!$D$34)+T436)","v":0}]
[{"$f":"IF(OR(A436+1>(IF(Simulador!$E$7=\"Autopatrocínio\",Simulador!$C$10,Simulador!$C$9)-Simulador!$C$8)*12,A436=0),0,A436+1)","v":0},{"$f":"IF($A437=0,0,IF(INT($A436/12)-$A436/12=0,B436*(1+Simulador!$C$35),B436))","v":0},{"$f":"MAX(IF(A437=0,0,B437-IF(Simulador!$C$11=\"Individual\",0,Simulador!$C$14)),0)","v":0},null,0,0,0,0,0,0,null,0,0,0,0,0,0,null,{"$f":"S$4*$C437*(1+$J437)","v":0},0,0,0,0,null,{"$f":"IF(OR(Y436+1>(IF(AND(Simulador!$C$9<Simulador!$C$10,OR(Simulador!$E$7=\"Resgate\",Simulador!$E$7=\"Portabilidade\")),Simulador!$C$9,Simulador!$C$10)-Simulador!$C$8)*12,Y436=0),0,Y436+1)","v":433},{"$f":"IF($Y437=0,0,Z436*(1+Simulador!$D$34)+E437+L437)","v":0},{"$f":"IF($Y437=0,0,AA436*(1+Simulador!$D$34)+S437)","v":0},{"$f":"IF(OR(AB436+1>(IF(AND(Simulador!$C$9<Simulador!$C$10,OR(Simulador!$E$7=\"Resgate\",Simulador!$E$7=\"Portabilidade\")),Simulador!$C$9,Simulador!$C$50)-Simulador!$C$8)*12,AB436=0),0,AB436+1)","v":433},{"$f":"IF($AB437=0,0,AC436*(1+Simulador!$D$34)+F437+M437)","v":0},{"$f":"IF($AB437=0,0,AD436*(1+Simulador!$D$34)+T437)","v":0}]
[{"$f":"IF(OR(A437+1>(IF(Simulador!$E$7=\"Autopatrocínio\",Simulador!$C$10,Simulador!$C$9)-Simulador!$C$8)*12,A437=0),0,A437+1)","v":0},{"$f":"IF($A438=0,0,IF(INT($A437/12)-$A437/12=0,B437*(1+Simulador!$C$35),B437))","v":0},{"$f":"MAX(IF(A438=0,0,B438-IF(Simulador!$C$11=\"Individual\",0,Simulador!$C$14)),0)","v":0},null,0,0,0,0,0,0,null,0,0,0,0,0,0,null,0,0,0,0,0,null,{"$f":"IF(OR(Y437+1>(IF(AND(Simulador!$C$9<Simulador!$C$10,OR(Simulador!$E$7=\"Resgate\",Simulador!$E$7=\"Portabilidade\")),Simulador!$C$9,Simulador!$C$10)-Simulador!$C$8)*12,Y437=0),0,Y437+1)","v":434},{"$f":"IF($Y438=0,0,Z437*(1+Simulador!$D$34)+E438+L438)","v":0},{"$f":"IF($Y438=0,0,AA437*(1+Simulador!$D$34)+S438)","v":0},{"$f":"IF(OR(AB437+1>(IF(AND(Simulador!$C$9<Simulador!$C$10,OR(Simulador!$E$7=\"Resgate\",Simulador!$E$7=\"Portabilidade\")),Simulador!$C$9,Simulador!$C$50)-Simulador!$C$8)*12,AB437=0),0,AB437+1)","v":434},{"$f":"IF($AB438=0,0,AC437*(1+Simulador!$D$34)+F438+M438)","v":0},{"$f":"IF($AB438=0,0,AD437*(1+Simulador!$D$34)+T438)","v":0}]
[{"$f":"IF(OR(A438+1>(IF(Simulador!$E$7=\"Autopatrocínio\",Simulador!$C$10,Simulador!$C$9)-Simulador!$C$8)*12,A438=0),0,A438+1)","v":0},{"$f":"IF($A439=0,0,IF(INT($A438/12)-$A438/12=0,B438*(1+Simulador!$C$35),B438))","v":0},{"$f":"MAX(IF(A439=0,0,B439-IF(Simulador!$C$11=\"Individual\",0,Simulador!$C$14)),0)","v":0},null,0,0,0,0,0,0,null,0,0,0,0,0,0,null,0,0,0,0,0,null,{"$f":"IF(OR(Y438+1>(IF(AND(Simulador!$C$9<Simulador!$C$10,OR(Simulador!$E$7=\"Resgate\",Simulador!$E$7=\"Portabilidade\")),Simulador!$C$9,Simulador!$C$10)-Simulador!$C$8)*12,Y438=0),0,Y438+1)","v":435},{"$f":"IF($Y439=0,0,Z438*(1+Simulador!$D$34)+E439+L439)","v":0},{"$f":"IF($Y439=0,0,AA438*(1+Simulador!$D$34)+S439)","v":0},{"$f":"IF(OR(AB438+1>(IF(AND(Simulador!$C$9<Simulador!$C$10,OR(Simulador!$E$7=\"Resgate\",Simulador!$E$7=\"Portabilidade\")),Simulador!$C$9,Simulador!$C$50)-Simulador!$C$8)*12,AB438=0),0,AB438+1)","v":435},{"$f":"IF($AB439=0,0,AC438*(1+Simulador!$D$34)+F439+M439)","v":0},{"$f":"IF($AB439=0,0,AD438*(1+Simulador!$D$34)+T439)","v":0}]
[{"$f":"IF(OR(A439+1>(IF(Simulador!$E$7=\"Autopatrocínio\",Simulador!$C$10,Simulador!$C$9)-Simulador!$C$8)*12,A439=0),0,A439+1)","v":0},{"$f":"IF($A440=0,0,IF(INT($A439/12)-$A439/12=0,B439*(1+Simulador!$C$35),B439))","v":0},{"$f":"MAX(IF(A440=0,0,B440-IF(Simulador!$C$11=\"Individual\",0,Simulador!$C$14)),0)","v":0},null,0,0,0,0,0,0,null,0,0,0,0,0,0,null,0,0,0,0,0,null,{"$f":"IF(OR(Y439+1>(IF(AND(Simulador!$C$9<Simulador!$C$10,OR(Simulador!$E$7=\"Resgate\",Simulador!$E$7=\"Portabilidade\")),Simulador!$C$9,Simulador!$C$10)-Simulador!$C$8)*12,Y439=0),0,Y439+1)","v":436},{"$f":"IF($Y440=0,0,Z439*(1+Simulador!$D$34)+E440+L440)","v":0},{"$f":"IF($Y440=0,0,AA439*(1+Simulador!$D$34)+S440)","v":0},{"$f":"IF(OR(AB439+1>(IF(AND(Simulador!$C$9<Simulador!$C$10,OR(Simulador!$E$7=\"Resgate\",Simulador!$E$7=\"Portabilidade\")),Simulador!$C$9,Simulador!$C$50)-Simulador!$C$8)*12,AB439=0),0,AB439+1)","v":436},{"$f":"IF($AB440=0,0,AC439*(1+Simulador!$D$34)+F440+M440)","v":0},{"$f":"IF($AB440=0,0,AD439*(1+Simulador!$D$34)+T440)","v":0}]
[{"$f":"IF(OR(A440+1>(IF(Simulador!$E$7=\"Autopatrocínio\",Simulador!$C$10,Simulador!$C$9)-Simulador!$C$8)*12,A440=0),0,A440+1)","v":0},{"$f":"IF($A441=0,0,IF(INT($A440/12)-$A440/12=0,B440*(1+Simulador!$C$35),B440))","v":0},{"$f":"MAX(IF(A441=0,0,B441-IF(Simulador!$C$11=\"Individual\",0,Simulador!$C$14)),0)","v":0},null,0,0,0,0,0,0,null,0,0,0,0,0,0,null,0,0,0,0,0,null,{"$f":"IF(OR(Y440+1>(IF(AND(Simulador!$C$9<Simulador!$C$10,OR(Simulador!$E$7=\"Resgate\",Simulador!$E$7=\"Portabilidade\")),Simulador!$C$9,Simulador!$C$10)-Simulador!$C$8)*12,Y440=0),0,Y440+1)","v":437},{"$f":"IF($Y441=0,0,Z440*(1+Simulador!$D$34)+E441+L441)","v":0},{"$f":"IF($Y441=0,0,AA440*(1+Simulador!$D$34)+S441)","v":0},{"$f":"IF(OR(AB440+1>(IF(AND(Simulador!$C$9<Simulador!$C$10,OR(Simulador!$E$7=\"Resgate\",Simulador!$E$7=\"Portabilidade\")),Simulador!$C$9,Simulador!$C$50)-Simulador!$C$8)*12,AB440=0),0,AB440+1)","v":437},{"$f":"IF($AB441=0,0,AC440*(1+Simulador!$D$34)+F441+M441)","v":0},{"$f":"IF($AB441=0,0,AD440*(1+Simulador!$D$34)+T441)","v":0}]
[{"$f":"IF(OR(A441+1>(IF(Simulador!$E$7=\"Autopatrocínio\",Simulador!$C$10,Simulador!$C$9)-Simulador!$C$8)*12,A441=0),0,A441+1)","v":0},{"$f":"IF($A442=0,0,IF(INT($A441/12)-$A441/12=0,B441*(1+Simulador!$C$35),B441))","v":0},{"$f":"MAX(IF(A442=0,0,B442-IF(Simulador!$C$11=\"Individual\",0,Simulador!$C$14)),0)","v":0},null,0,0,0,0,0,0,null,0,0,0,0,0,0,null,0,0,0,0,0,null,{"$f":"IF(OR(Y441+1>(IF(AND(Simulador!$C$9<Simulador!$C$10,OR(Simulador!$E$7=\"Resgate\",Simulador!$E$7=\"Portabilidade\")),Simulador!$C$9,Simulador!$C$10)-Simulador!$C$8)*12,Y441=0),0,Y441+1)","v":438},{"$f":"IF($Y442=0,0,Z441*(1+Simulador!$D$34)+E442+L442)","v":0},{"$f":"IF($Y442=0,0,AA441*(1+Simulador!$D$34)+S442)","v":0},{"$f":"IF(OR(AB441+1>(IF(AND(Simulador!$C$9<Simulador!$C$10,OR(Simulador!$E$7=\"Resgate\",Simulador!$E$7=\"Portabilidade\")),Simulador!$C$9,Simulador!$C$50)-Simulador!$C$8)*12,AB441=0),0,AB441+1)","v":438},{"$f":"IF($AB442=0,0,AC441*(1+Simulador!$D$34)+F442+M442)","v":0},{"$f":"IF($AB442=0,0,AD441*(1+Simulador!$D$34)+T442)","v":0}]
[{"$f":"IF(OR(A442+1>(IF(Simulador!$E$7=\"Autopatrocínio\",Simulador!$C$10,Simulador!$C$9)-Simulador!$C$8)*12,A442=0),0,A442+1)","v":0},{"$f":"IF($A443=0,0,IF(INT($A442/12)-$A442/12=0,B442*(1+Simulador!$C$35),B442))","v":0},{"$f":"MAX(IF(A443=0,0,B443-IF(Simulador!$C$11=\"Individual\",0,Simulador!$C$14)),0)","v":0},null,0,0,0,0,0,0,null,0,0,0,0,0,0,null,0,0,0,0,0,null,{"$f":"IF(OR(Y442+1>(IF(AND(Simulador!$C$9<Simulador!$C$10,OR(Simulador!$E$7=\"Resgate\",Simulador!$E$7=\"Portabilidade\")),Simulador!$C$9,Simulador!$C$10)-Simulador!$C$8)*12,Y442=0),0,Y442+1)","v":439},{"$f":"IF($Y443=0,0,Z442*(1+Simulador!$D$34)+E443+L443)","v":0},{"$f":"IF($Y443=0,0,AA442*(1+Simulador!$D$34)+S443)","v":0},{"$f":"IF(OR(AB442+1>(IF(AND(Simulador!$C$9<Simulador!$C$10,OR(Simulador!$E$7=\"Resgate\",Simulador!$E$7=\"Portabilidade\")),Simulador!$C$9,Simulador!$C$50)-Simulador!$C$8)*12,AB442=0),0,AB442+1)","v":439},{"$f":"IF($AB443=0,0,AC442*(1+Simulador!$D$34)+F443+M443)","v":0},{"$f":"IF($AB443=0,0,AD442*(1+Simulador!$D$34)+T443)","v":0}]
[{"$f":"IF(OR(A443+1>(IF(Simulador!$E$7=\"Autopatrocínio\",Simulador!$C$10,Simulador!$C$9)-Simulador!$C$8)*12,A443=0),0,A443+1)","v":0},{"$f":"IF($A444=0,0,IF(INT($A443/12)-$A443/12=0,B443*(1+Simulador!$C$35),B443))","v":0},{"$f":"MAX(IF(A444=0,0,B444-IF(Simulador!$C$11=\"Individual\",0,Simulador!$C$14)),0)","v":0},null,0,0,0,0,0,0,null,0,0,0,0,0,0,null,0,0,0,0,0,null,{"$f":"IF(OR(Y443+1>(IF(AND(Simulador!$C$9<Simulador!$C$10,OR(Simulador!$E$7=\"Resgate\",Simulador!$E$7=\"Portabilidade\")),Simulador!$C$9,Simulador!$C$10)-Simulador!$C$8)*12,Y443=0),0,Y443+1)","v":440},{"$f":"IF($Y444=0,0,Z443*(1+Simulador!$D$34)+E444+L444)","v":0},{"$f":"IF($Y444=0,0,AA443*(1+Simulador!$D$34)+S444)","v":0},{"$f":"IF(OR(AB443+1>(IF(AND(Simulador!$C$9<Simulador!$C$10,OR(Simulador!$E$7=\"Resgate\",Simulador!$E$7=\"Portabilidade\")),Simulador!$C$9,Simulador!$C$50)-Simulador!$C$8)*12,AB443=0),0,AB443+1)","v":440},{"$f":"IF($AB444=0,0,AC443*(1+Simulador!$D$34)+F444+M444)","v":0},{"$f":"IF($AB444=0,0,AD443*(1+Simulador!$D$34)+T444)","v":0}]
[{"$f":"IF(OR(A444+1>(IF(Simulador!$E$7=\"Autopatrocínio\",Simulador!$C$10,Simulador!$C$9)-Simulador!$C$8)*12,A444=0),0,A444+1)","v":0},{"$f":"IF($A445=0,0,IF(INT($A444/12)-$A444/12=0,B444*(1+Simulador!$C$35),B444))","v":0},{"$f":"MAX(IF(A445=0,0,B445-IF(Simulador!$C$11=\"Individual\",0,Simulador!$C$14)),0)","v":0},null,{"$f":"E$4*$C445*(1+$J445)","v":0},0,0,0,0,0,null,{"$f":"L$4*$C445*$Q445","v":0},0,0,0,0,0,null,0,0,0,0,0,null,{"$f":"IF(OR(Y444+1>(IF(AND(Simulador!$C$9<Simulador!$C$10,OR(Simulador!$E$7=\"Resgate\",Simulador!$E$7=\"Portabilidade\")),Simulador!$C$9,Simulador!$C$10)-Simulador!$C$8)*12,Y444=0),0,Y444+1)","v":441},{"$f":"IF($Y445=0,0,Z444*(1+Simulador!$D$34)+E445+L445)","v":0},{"$f":"IF($Y445=0,0,AA444*(1+Simulador!$D$34)+S445)","v":0},{"$f":"IF(OR(AB444+1>(IF(AND(Simulador!$C$9<Simulador!$C$10,OR(Simulador!$E$7=\"Resgate\",Simulador!$E$7=\"Portabilidade\")),Simulador!$C$9,Simulador!$C$50)-Simulador!$C$8)*12,AB444=0),0,AB444+1)","v":441},{"$f":"IF($AB445=0,0,AC444*(1+Simulador!$D$34)+F445+M445)","v":0},{"$f":"IF($AB445=0,0,AD444*(1+Simulador!$D$34)+T445)","v":0}]
[{"$f":"IF(OR(A445+1>(IF(Simulador!$E$7=\"Autopatrocínio\",Simulador!$C$10,Simulador!$C$9)-Simulador!$C$8)*12,A445=0),0,A445+1)","v":0},{"$f":"IF($A446=0,0,IF(INT($A445/12)-$A445/12=0,B445*(1+Simulador!$C$35),B445))","v":0},{"$f":"MAX(IF(A446=0,0,B446-IF(Simulador!$C$11=\"Individual\",0,Simulador!$C$14)),0)","v":0},null,0,0,0,0,0,0,null,0,0,0,0,0,0,null,0,0,0,0,0,null,{"$f":"IF(OR(Y445+1>(IF(AND(Simulador!$C$9<Simulador!$C$10,OR(Simulador!$E$7=\"Resgate\",Simulador!$E$7=\"Portabilidade\")),Simulador!$C$9,Simulador!$C$10)-Simulador!$C$8)*12,Y445=0),0,Y445+1)","v":442},{"$f":"IF($Y446=0,0,Z445*(1+Simulador!$D$34)+E446+L446)","v":0},{"$f":"IF($Y446=0,0,AA445*(1+Simulador!$D$34)+S446)","v":0},{"$f":"IF(OR(AB445+1>(IF(AND(Simulador!$C$9<Simulador!$C$10,OR(Simulador!$E$7=\"Resgate\",Simulador!$E$7=\"Portabilidade\")),Simulador!$C$9,Simulador!$C$50)-Simulador!$C$8)*12,AB445=0),0,AB445+1)","v":442},{"$f":"IF($AB446=0,0,AC445*(1+Simulador!$D$34)+F446+M446)","v":0},{"$f":"IF($AB446=0,0,AD445*(1+Simulador!$D$34)+T446)","v":0}]
[{"$f":"IF(OR(A446+1>(IF(Simulador!$E$7=\"Autopatrocínio\",Simulador!$C$10,Simulador!$C$9)-Simulador!$C$8)*12,A446=0),0,A446+1)","v":0},{"$f":"IF($A447=0,0,IF(INT($A446/12)-$A446/12=0,B446*(1+Simulador!$C$35),B446))","v":0},{"$f":"MAX(IF(A447=0,0,B447-IF(Simulador!$C$11=\"Individual\",0,Simulador!$C$14)),0)","v":0},null,0,0,0,0,0,0,null,0,0,0,0,0,0,null,0,0,0,0,0,null,{"$f":"IF(OR(Y446+1>(IF(AND(Simulador!$C$9<Simulador!$C$10,OR(Simulador!$E$7=\"Resgate\",Simulador!$E$7=\"Portabilidade\")),Simulador!$C$9,Simulador!$C$10)-Simulador!$C$8)*12,Y446=0),0,Y446+1)","v":443},{"$f":"IF($Y447=0,0,Z446*(1+Simulador!$D$34)+E447+L447)","v":0},{"$f":"IF($Y447=0,0,AA446*(1+Simulador!$D$34)+S447)","v":0},{"$f":"IF(OR(AB446+1>(IF(AND(Simulador!$C$9<Simulador!$C$10,OR(Simulador!$E$7=\"Resgate\",Simulador!$E$7=\"Portabilidade\")),Simulador!$C$9,Simulador!$C$50)-Simulador!$C$8)*12,AB446=0),0,AB446+1)","v":443},{"$f":"IF($AB447=0,0,AC446*(1+Simulador!$D$34)+F447+M447)","v":0},{"$f":"IF($AB447=0,0,AD446*(1+Simulador!$D$34)+T447)","v":0}]
[{"$f":"IF(OR(A447+1>(IF(Simulador!$E$7=\"Autopatrocínio\",Simulador!$C$10,Simulador!$C$9)-Simulador!$C$8)*12,A447=0),0,A447+1)","v":0},{"$f":"IF($A448=0,0,IF(INT($A447/12)-$A447/12=0,B447*(1+Simulador!$C$35),B447))","v":0},{"$f":"MAX(IF(A448=0,0,B448-IF(Simulador!$C$11=\"Individual\",0,Simulador!$C$14)),0)","v":0},null,0,0,0,0,0,0,null,0,0,0,0,0,0,null,0,0,0,0,0,null,{"$f":"IF(OR(Y447+1>(IF(AND(Simulador!$C$9<Simulador!$C$10,OR(Simulador!$E$7=\"Resgate\",Simulador!$E$7=\"Portabilidade\")),Simulador!$C$9,Simulador!$C$10)-Simulador!$C$8)*12,Y447=0),0,Y447+1)","v":444},{"$f":"IF($Y448=0,0,Z447*(1+Simulador!$D$34)+E448+L448)","v":0},{"$f":"IF($Y448=0,0,AA447*(1+Simulador!$D$34)+S448)","v":0},{"$f":"IF(OR(AB447+1>(IF(AND(Simulador!$C$9<Simulador!$C$10,OR(Simulador!$E$7=\"Resgate\",Simulador!$E$7=\"Portabilidade\")),Simulador!$C$9,Simulador!$C$50)-Simulador!$C$8)*12,AB447=0),0,AB447+1)","v":444},{"$f":"IF($AB448=0,0,AC447*(1+Simulador!$D$34)+F448+M448)","v":0},{"$f":"IF($AB448=0,0,AD447*(1+Simulador!$D$34)+T448)","v":0}]
[{"$f":"IF(OR(A448+1>(IF(Simulador!$E$7=\"Autopatrocínio\",Simulador!$C$10,Simulador!$C$9)-Simulador!$C$8)*12,A448=0),0,A448+1)","v":0},{"$f":"IF($A449=0,0,IF(INT($A448/12)-$A448/12=0,B448*(1+Simulador!$C$35),B448))","v":0},{"$f":"MAX(IF(A449=0,0,B449-IF(Simulador!$C$11=\"Individual\",0,Simulador!$C$14)),0)","v":0},null,0,0,0,0,0,0,null,0,0,0,0,0,0,null,0,0,0,0,0,null,{"$f":"IF(OR(Y448+1>(IF(AND(Simulador!$C$9<Simulador!$C$10,OR(Simulador!$E$7=\"Resgate\",Simulador!$E$7=\"Portabilidade\")),Simulador!$C$9,Simulador!$C$10)-Simulador!$C$8)*12,Y448=0),0,Y448+1)","v":445},{"$f":"IF($Y449=0,0,Z448*(1+Simulador!$D$34)+E449+L449)","v":0},{"$f":"IF($Y449=0,0,AA448*(1+Simulador!$D$34)+S449)","v":0},{"$f":"IF(OR(AB448+1>(IF(AND(Simulador!$C$9<Simulador!$C$10,OR(Simulador!$E$7=\"Resgate\",Simulador!$E$7=\"Portabilidade\")),Simulador!$C$9,Simulador!$C$50)-Simulador!$C$8)*12,AB448=0),0,AB448+1)","v":445},{"$f":"IF($AB449=0,0,AC448*(1+Simulador!$D$34)+F449+M449)","v":0},{"$f":"IF($AB449=0,0,AD448*(1+Simulador!$D$34)+T449)","v":0}]
[{"$f":"IF(OR(A449+1>(IF(Simulador!$E$7=\"Autopatrocínio\",Simulador!$C$10,Simulador!$C$9)-Simulador!$C$8)*12,A449=0),0,A449+1)","v":0},{"$f":"IF($A450=0,0,IF(INT($A449/12)-$A449/12=0,B449*(1+Simulador!$C$35),B449))","v":0},{"$f":"MAX(IF(A450=0,0,B450-IF(Simulador!$C$11=\"Individual\",0,Simulador!$C$14)),0)","v":0},null,0,0,0,0,0,0,null,0,0,0,0,0,0,null,0,0,0,0,0,null,{"$f":"IF(OR(Y449+1>(IF(AND(Simulador!$C$9<Simulador!$C$10,OR(Simulador!$E$7=\"Resgate\",Simulador!$E$7=\"Portabilidade\")),Simulador!$C$9,Simulador!$C$10)-Simulador!$C$8)*12,Y449=0),0,Y449+1)","v":446},{"$f":"IF($Y450=0,0,Z449*(1+Simulador!$D$34)+E450+L450)","v":0},{"$f":"IF($Y450=0,0,AA449*(1+Simulador!$D$34)+S450)","v":0},{"$f":"IF(OR(AB449+1>(IF(AND(Simulador!$C$9<Simulador!$C$10,OR(Simulador!$E$7=\"Resgate\",Simulador!$E$7=\"Portabilidade\")),Simulador!$C$9,Simulador!$C$50)-Simulador!$C$8)*12,AB449=0),0,AB449+1)","v":446},{"$f":"IF($AB450=0,0,AC449*(1+Simulador!$D$34)+F450+M450)","v":0},{"$f":"IF($AB450=0,0,AD449*(1+Simulador!$D$34)+T450)","v":0}]
[{"$f":"IF(OR(A450+1>(IF(Simulador!$E$7=\"Autopatrocínio\",Simulador!$C$10,Simulador!$C$9)-Simulador!$C$8)*12,A450=0),0,A450+1)","v":0},{"$f":"IF($A451=0,0,IF(INT($A450/12)-$A450/12=0,B450*(1+Simulador!$C$35),B450))","v":0},{"$f":"MAX(IF(A451=0,0,B451-IF(Simulador!$C$11=\"Individual\",0,Simulador!$C$14)),0)","v":0},null,0,0,0,0,0,0,null,0,0,0,0,0,0,null,0,0,0,0,0,null,{"$f":"IF(OR(Y450+1>(IF(AND(Simulador!$C$9<Simulador!$C$10,OR(Simulador!$E$7=\"Resgate\",Simulador!$E$7=\"Portabilidade\")),Simulador!$C$9,Simulador!$C$10)-Simulador!$C$8)*12,Y450=0),0,Y450+1)","v":447},{"$f":"IF($Y451=0,0,Z450*(1+Simulador!$D$34)+E451+L451)","v":0},{"$f":"IF($Y451=0,0,AA450*(1+Simulador!$D$34)+S451)","v":0},{"$f":"IF(OR(AB450+1>(IF(AND(Simulador!$C$9<Simulador!$C$10,OR(Simulador!$E$7=\"Resgate\",Simulador!$E$7=\"Portabilidade\")),Simulador!$C$9,Simulador!$C$50)-Simulador!$C$8)*12,AB450=0),0,AB450+1)","v":447},{"$f":"IF($AB451=0,0,AC450*(1+Simulador!$D$34)+F451+M451)","v":0},{"$f":"IF($AB451=0,0,AD450*(1+Simulador!$D$34)+T451)","v":0}]
[{"$f":"IF(OR(A451+1>(IF(Simulador!$E$7=\"Autopatrocínio\",Simulador!$C$10,Simulador!$C$9)-Simulador!$C$8)*12,A451=0),0,A451+1)","v":0},{"$f":"IF($A452=0,0,IF(INT($A451/12)-$A451/12=0,B451*(1+Simulador!$C$35),B451))","v":0},{"$f":"MAX(IF(A452=0,0,B452-IF(Simulador!$C$11=\"Individual\",0,Simulador!$C$14)),0)","v":0},null,0,0,0,0,0,0,null,0,0,0,0,0,0,null,0,0,0,0,0,null,{"$f":"IF(OR(Y451+1>(IF(AND(Simulador!$C$9<Simulador!$C$10,OR(Simulador!$E$7=\"Resgate\",Simulador!$E$7=\"Portabilidade\")),Simulador!$C$9,Simulador!$C$10)-Simulador!$C$8)*12,Y451=0),0,Y451+1)","v":448},{"$f":"IF($Y452=0,0,Z451*(1+Simulador!$D$34)+E452+L452)","v":0},{"$f":"IF($Y452=0,0,AA451*(1+Simulador!$D$34)+S452)","v":0},{"$f":"IF(OR(AB451+1>(IF(AND(Simulador!$C$9<Simulador!$C$10,OR(Simulador!$E$7=\"Resgate\",Simulador!$E$7=\"Portabilidade\")),Simulador!$C$9,Simulador!$C$50)-Simulador!$C$8)*12,AB451=0),0,AB451+1)","v":448},{"$f":"IF($AB452=0,0,AC451*(1+Simulador!$D$34)+F452+M452)","v":0},{"$f":"IF($AB452=0,0,AD451*(1+Simulador!$D$34)+T452)","v":0}]
[{"$f":"IF(OR(A452+1>(IF(Simulador!$E$7=\"Autopatrocínio\",Simulador!$C$10,Simulador!$C$9)-Simulador!$C$8)*12,A452=0),0,A452+1)","v":0},{"$f":"IF($A453=0,0,IF(INT($A452/12)-$A452/12=0,B452*(1+Simulador!$C$35),B452))","v":0},{"$f":"MAX(IF(A453=0,0,B453-IF(Simulador!$C$11=\"Individual\",0,Simulador!$C$14)),0)","v":0},null,0,0,0,0,0,{"$f":"IF($A453=0,0,IF(INT($A453/12)-$A453/12=0,1,0))","v":0},null,0,0,0,0,0,{"$f":"IF($A453=0,0,IF($Q$4=\"Mensal\",1,IF($Q$4=\"Semestral\",IF(INT(($A453+5)/6)-($A453+5)/6=0,1,0),IF($Q$4=\"Anual\",IF(INT(($A453+11)/12)-($A453+11)/12=0,1,0)))))","v":0},null,{"$f":"S$4*$C453*(1+$J453)","v":0},0,0,0,0,null,{"$f":"IF(OR(Y452+1>(IF(AND(Simulador!$C$9<Simulador!$C$10,OR(Simulador!$E$7=\"Resgate\",Simulador!$E$7=\"Portabilidade\")),Simulador!$C$9,Simulador!$C$10)-Simulador!$C$8)*12,Y452=0),0,Y452+1)","v":449},{"$f":"IF($Y453=0,0,Z452*(1+Simulador!$D$34)+E453+L453)","v":0},{"$f":"IF($Y453=0,0,AA452*(1+Simulador!$D$34)+S453)","v":0},{"$f":"IF(OR(AB452+1>(IF(AND(Simulador!$C$9<Simulador!$C$10,OR(Simulador!$E$7=\"Resgate\",Simulador!$E$7=\"Portabilidade\")),Simulador!$C$9,Simulador!$C$50)-Simulador!$C$8)*12,AB452=0),0,AB452+1)","v":449},{"$f":"IF($AB453=0,0,AC452*(1+Simulador!$D$34)+F453+M453)","v":0},{"$f":"IF($AB453=0,0,AD452*(1+Simulador!$D$34)+T453)","v":0}]
[{"$f":"IF(OR(A453+1>(IF(Simulador!$E$7=\"Autopatrocínio\",Simulador!$C$10,Simulador!$C$9)-Simulador!$C$8)*12,A453=0),0,A453+1)","v":0},{"$f":"IF($A454=0,0,IF(INT($A453/12)-$A453/12=0,B453*(1+Simulador!$C$35),B453))","v":0},{"$f":"MAX(IF(A454=0,0,B454-IF(Simulador!$C$11=\"Individual\",0,Simulador!$C$14)),0)","v":0},null,0,0,0,0,0,0,null,0,0,0,0,0,0,null,0,0,0,0,0,null,{"$f":"IF(OR(Y453+1>(IF(AND(Simulador!$C$9<Simulador!$C$10,OR(Simulador!$E$7=\"Resgate\",Simulador!$E$7=\"Portabilidade\")),Simulador!$C$9,Simulador!$C$10)-Simulador!$C$8)*12,Y453=0),0,Y453+1)","v":450},{"$f":"IF($Y454=0,0,Z453*(1+Simulador!$D$34)+E454+L454)","v":0},{"$f":"IF($Y454=0,0,AA453*(1+Simulador!$D$34)+S454)","v":0},{"$f":"IF(OR(AB453+1>(IF(AND(Simulador!$C$9<Simulador!$C$10,OR(Simulador!$E$7=\"Resgate\",Simulador!$E$7=\"Portabilidade\")),Simulador!$C$9,Simulador!$C$50)-Simulador!$C$8)*12,AB453=0),0,AB453+1)","v":450},{"$f":"IF($AB454=0,0,AC453*(1+Simulador!$D$34)+F454+M454)","v":0},{"$f":"IF($AB454=0,0,AD453*(1+Simulador!$D$34)+T454)","v":0}]
[{"$f":"IF(OR(A454+1>(IF(Simulador!$E$7=\"Autopatrocínio\",Simulador!$C$10,Simulador!$C$9)-Simulador!$C$8)*12,A454=0),0,A454+1)","v":0},{"$f":"IF($A455=0,0,IF(INT($A454/12)-$A454/12=0,B454*(1+Simulador!$C$35),B454))","v":0},{"$f":"MAX(IF(A455=0,0,B455-IF(Simulador!$C$11=\"Individual\",0,Simulador!$C$14)),0)","v":0},null,{"$f":"E$4*$C455*(1+$J455)","v":0},0,0,0,0,0,null,{"$f":"L$4*$C455*$Q455","v":0},0,0,0,0,0,null,0,0,0,0,0,null,{"$f":"IF(OR(Y454+1>(IF(AND(Simulador!$C$9<Simulador!$C$10,OR(Simulador!$E$7=\"Resgate\",Simulador!$E$7=\"Portabilidade\")),Simulador!$C$9,Simulador!$C$10)-Simulador!$C$8)*12,Y454=0),0,Y454+1)","v":451},{"$f":"IF($Y455=0,0,Z454*(1+Simulador!$D$34)+E455+L455)","v":0},{"$f":"IF($Y455=0,0,AA454*(1+Simulador!$D$34)+S455)","v":0},{"$f":"IF(OR(AB454+1>(IF(AND(Simulador!$C$9<Simulador!$C$10,OR(Simulador!$E$7=\"Resgate\",Simulador!$E$7=\"Portabilidade\")),Simulador!$C$9,Simulador!$C$50)-Simulador!$C$8)*12,AB454=0),0,AB454+1)","v":451},{"$f":"IF($AB455=0,0,AC454*(1+Simulador!$D$34)+F455+M455)","v":0},{"$f":"IF($AB455=0,0,AD454*(1+Simulador!$D$34)+T455)","v":0}]
[{"$f":"IF(OR(A455+1>(IF(Simulador!$E$7=\"Autopatrocínio\",Simulador!$C$10,Simulador!$C$9)-Simulador!$C$8)*12,A455=0),0,A455+1)","v":0},{"$f":"IF($A456=0,0,IF(INT($A455/12)-$A455/12=0,B455*(1+Simulador!$C$35),B455))","v":0},{"$f":"MAX(IF(A456=0,0,B456-IF(Simulador!$C$11=\"Individual\",0,Simulador!$C$14)),0)","v":0},null,0,0,0,0,0,0,null,0,0,0,0,0,0,null,0,0,0,0,0,null,{"$f":"IF(OR(Y455+1>(IF(AND(Simulador!$C$9<Simulador!$C$10,OR(Simulador!$E$7=\"Resgate\",Simulador!$E$7=\"Portabilidade\")),Simulador!$C$9,Simulador!$C$10)-Simulador!$C$8)*12,Y455=0),0,Y455+1)","v":452},{"$f":"IF($Y456=0,0,Z455*(1+Simulador!$D$34)+E456+L456)","v":0},{"$f":"IF($Y456=0,0,AA455*(1+Simulador!$D$34)+S456)","v":0},{"$f":"IF(OR(AB455+1>(IF(AND(Simulador!$C$9<Simulador!$C$10,OR(Simulador!$E$7=\"Resgate\",Simulador!$E$7=\"Portabilidade\")),Simulador!$C$9,Simulador!$C$50)-Simulador!$C$8)*12,AB455=0),0,AB455+1)","v":452},{"$f":"IF($AB456=0,0,AC455*(1+Simulador!$D$34)+F456+M456)","v":0},{"$f":"IF($AB456=0,0,AD455*(1+Simulador!$D$34)+T456)","v":0}]
[{"$f":"IF(OR(A456+1>(IF(Simulador!$E$7=\"Autopatrocínio\",Simulador!$C$10,Simulador!$C$9)-Simulador!$C$8)*12,A456=0),0,A456+1)","v":0},{"$f":"IF($A457=0,0,IF(INT($A456/12)-$A456/12=0,B456*(1+Simulador!$C$35),B456))","v":0},{"$f":"MAX(IF(A457=0,0,B457-IF(Simulador!$C$11=\"Individual\",0,Simulador!$C$14)),0)","v":0},null,0,0,0,0,0,0,null,0,0,0,0,0,0,null,0,0,0,0,0,null,{"$f":"IF(OR(Y456+1>(IF(AND(Simulador!$C$9<Simulador!$C$10,OR(Simulador!$E$7=\"Resgate\",Simulador!$E$7=\"Portabilidade\")),Simulador!$C$9,Simulador!$C$10)-Simulador!$C$8)*12,Y456=0),0,Y456+1)","v":453},{"$f":"IF($Y457=0,0,Z456*(1+Simulador!$D$34)+E457+L457)","v":0},{"$f":"IF($Y457=0,0,AA456*(1+Simulador!$D$34)+S457)","v":0},{"$f":"IF(OR(AB456+1>(IF(AND(Simulador!$C$9<Simulador!$C$10,OR(Simulador!$E$7=\"Resgate\",Simulador!$E$7=\"Portabilidade\")),Simulador!$C$9,Simulador!$C$50)-Simulador!$C$8)*12,AB456=0),0,AB456+1)","v":453},{"$f":"IF($AB457=0,0,AC456*(1+Simulador!$D$34)+F457+M457)","v":0},{"$f":"IF($AB457=0,0,AD456*(1+Simulador!$D$34)+T457)","v":0}]
[{"$f":"IF(OR(A457+1>(IF(Simulador!$E$7=\"Autopatrocínio\",Simulador!$C$10,Simulador!$C$9)-Simulador!$C$8)*12,A457=0),0,A457+1)","v":0},{"$f":"IF($A458=0,0,IF(INT($A457/12)-$A457/12=0,B457*(1+Simulador!$C$35),B457))","v":0},{"$f":"MAX(IF(A458=0,0,B458-IF(Simulador!$C$11=\"Individual\",0,Simulador!$C$14)),0)","v":0},null,0,0,0,0,0,0,null,0,0,0,0,0,0,null,0,0,0,0,0,null,{"$f":"IF(OR(Y457+1>(IF(AND(Simulador!$C$9<Simulador!$C$10,OR(Simulador!$E$7=\"Resgate\",Simulador!$E$7=\"Portabilidade\")),Simulador!$C$9,Simulador!$C$10)-Simulador!$C$8)*12,Y457=0),0,Y457+1)","v":454},{"$f":"IF($Y458=0,0,Z457*(1+Simulador!$D$34)+E458+L458)","v":0},{"$f":"IF($Y458=0,0,AA457*(1+Simulador!$D$34)+S458)","v":0},{"$f":"IF(OR(AB457+1>(IF(AND(Simulador!$C$9<Simulador!$C$10,OR(Simulador!$E$7=\"Resgate\",Simulador!$E$7=\"Portabilidade\")),Simulador!$C$9,Simulador!$C$50)-Simulador!$C$8)*12,AB457=0),0,AB457+1)","v":454},{"$f":"IF($AB458=0,0,AC457*(1+Simulador!$D$34)+F458+M458)","v":0},{"$f":"IF($AB458=0,0,AD457*(1+Simulador!$D$34)+T458)","v":0}]
[{"$f":"IF(OR(A458+1>(IF(Simulador!$E$7=\"Autopatrocínio\",Simulador!$C$10,Simulador!$C$9)-Simulador!$C$8)*12,A458=0),0,A458+1)","v":0},{"$f":"IF($A459=0,0,IF(INT($A458/12)-$A458/12=0,B458*(1+Simulador!$C$35),B458))","v":0},{"$f":"MAX(IF(A459=0,0,B459-IF(Simulador!$C$11=\"Individual\",0,Simulador!$C$14)),0)","v":0},null,0,0,0,0,0,0,null,0,0,0,0,0,0,null,0,0,0,0,0,null,{"$f":"IF(OR(Y458+1>(IF(AND(Simulador!$C$9<Simulador!$C$10,OR(Simulador!$E$7=\"Resgate\",Simulador!$E$7=\"Portabilidade\")),Simulador!$C$9,Simulador!$C$10)-Simulador!$C$8)*12,Y458=0),0,Y458+1)","v":455},{"$f":"IF($Y459=0,0,Z458*(1+Simulador!$D$34)+E459+L459)","v":0},{"$f":"IF($Y459=0,0,AA458*(1+Simulador!$D$34)+S459)","v":0},{"$f":"IF(OR(AB458+1>(IF(AND(Simulador!$C$9<Simulador!$C$10,OR(Simulador!$E$7=\"Resgate\",Simulador!$E$7=\"Portabilidade\")),Simulador!$C$9,Simulador!$C$50)-Simulador!$C$8)*12,AB458=0),0,AB458+1)","v":455},{"$f":"IF($AB459=0,0,AC458*(1+Simulador!$D$34)+F459+M459)","v":0},{"$f":"IF($AB459=0,0,AD458*(1+Simulador!$D$34)+T459)","v":0}]
[{"$f":"IF(OR(A459+1>(IF(Simulador!$E$7=\"Autopatrocínio\",Simulador!$C$10,Simulador!$C$9)-Simulador!$C$8)*12,A459=0),0,A459+1)","v":0},{"$f":"IF($A460=0,0,IF(INT($A459/12)-$A459/12=0,B459*(1+Simulador!$C$35),B459))","v":0},{"$f":"MAX(IF(A460=0,0,B460-IF(Simulador!$C$11=\"Individual\",0,Simulador!$C$14)),0)","v":0},null,0,0,0,0,0,0,null,0,0,0,0,0,0,null,0,0,0,0,0,null,{"$f":"IF(OR(Y459+1>(IF(AND(Simulador!$C$9<Simulador!$C$10,OR(Simulador!$E$7=\"Resgate\",Simulador!$E$7=\"Portabilidade\")),Simulador!$C$9,Simulador!$C$10)-Simulador!$C$8)*12,Y459=0),0,Y459+1)","v":456},{"$f":"IF($Y460=0,0,Z459*(1+Simulador!$D$34)+E460+L460)","v":0},{"$f":"IF($Y460=0,0,AA459*(1+Simulador!$D$34)+S460)","v":0},{"$f":"IF(OR(AB459+1>(IF(AND(Simulador!$C$9<Simulador!$C$10,OR(Simulador!$E$7=\"Resgate\",Simulador!$E$7=\"Portabilidade\")),Simulador!$C$9,Simulador!$C$50)-Simulador!$C$8)*12,AB459=0),0,AB459+1)","v":456},{"$f":"IF($AB460=0,0,AC459*(1+Simulador!$D$34)+F460+M460)","v":0},{"$f":"IF($AB460=0,0,AD459*(1+Simulador!$D$34)+T460)","v":0}]
[{"$f":"IF(OR(A460+1>(IF(Simulador!$E$7=\"Autopatrocínio\",Simulador!$C$10,Simulador!$C$9)-Simulador!$C$8)*12,A460=0),0,A460+1)","v":0},{"$f":"IF($A461=0,0,IF(INT($A460/12)-$A460/12=0,B460*(1+Simulador!$C$35),B460))","v":0},{"$f":"MAX(IF(A461=0,0,B461-IF(Simulador!$C$11=\"Individual\",0,Simulador!$C$14)),0)","v":0},null,0,0,0,0,0,0,null,0,0,0,0,0,0,null,0,0,0,0,0,null,{"$f":"IF(OR(Y460+1>(IF(AND(Simulador!$C$9<Simulador!$C$10,OR(Simulador!$E$7=\"Resgate\",Simulador!$E$7=\"Portabilidade\")),Simulador!$C$9,Simulador!$C$10)-Simulador!$C$8)*12,Y460=0),0,Y460+1)","v":457},{"$f":"IF($Y461=0,0,Z460*(1+Simulador!$D$34)+E461+L461)","v":0},{"$f":"IF($Y461=0,0,AA460*(1+Simulador!$D$34)+S461)","v":0},{"$f":"IF(OR(AB460+1>(IF(AND(Simulador!$C$9<Simulador!$C$10,OR(Simulador!$E$7=\"Resgate\",Simulador!$E$7=\"Portabilidade\")),Simulador!$C$9,Simulador!$C$50)-Simulador!$C$8)*12,AB460=0),0,AB460+1)","v":457},{"$f":"IF($AB461=0,0,AC460*(1+Simulador!$D$34)+F461+M461)","v":0},{"$f":"IF($AB461=0,0,AD460*(1+Simulador!$D$34)+T461)","v":0}]
[{"$f":"IF(OR(A461+1>(IF(Simulador!$E$7=\"Autopatrocínio\",Simulador!$C$10,Simulador!$C$9)-Simulador!$C$8)*12,A461=0),0,A461+1)","v":0},{"$f":"IF($A462=0,0,IF(INT($A461/12)-$A461/12=0,B461*(1+Simulador!$C$35),B461))","v":0},{"$f":"MAX(IF(A462=0,0,B462-IF(Simulador!$C$11=\"Individual\",0,Simulador!$C$14)),0)","v":0},null,0,0,0,0,0,0,null,0,0,0,0,0,0,null,0,0,0,0,0,null,{"$f":"IF(OR(Y461+1>(IF(AND(Simulador!$C$9<Simulador!$C$10,OR(Simulador!$E$7=\"Resgate\",Simulador!$E$7=\"Portabilidade\")),Simulador!$C$9,Simulador!$C$10)-Simulador!$C$8)*12,Y461=0),0,Y461+1)","v":458},{"$f":"IF($Y462=0,0,Z461*(1+Simulador!$D$34)+E462+L462)","v":0},{"$f":"IF($Y462=0,0,AA461*(1+Simulador!$D$34)+S462)","v":0},{"$f":"IF(OR(AB461+1>(IF(AND(Simulador!$C$9<Simulador!$C$10,OR(Simulador!$E$7=\"Resgate\",Simulador!$E$7=\"Portabilidade\")),Simulador!$C$9,Simulador!$C$50)-Simulador!$C$8)*12,AB461=0),0,AB461+1)","v":458},{"$f":"IF($AB462=0,0,AC461*(1+Simulador!$D$34)+F462+M462)","v":0},{"$f":"IF($AB462=0,0,AD461*(1+Simulador!$D$34)+T462)","v":0}]
[{"$f":"IF(OR(A462+1>(IF(Simulador!$E$7=\"Autopatrocínio\",Simulador!$C$10,Simulador!$C$9)-Simulador!$C$8)*12,A462=0),0,A462+1)","v":0},{"$f":"IF($A463=0,0,IF(INT($A462/12)-$A462/12=0,B462*(1+Simulador!$C$35),B462))","v":0},{"$f":"MAX(IF(A463=0,0,B463-IF(Simulador!$C$11=\"Individual\",0,Simulador!$C$14)),0)","v":0},null,0,0,0,0,0,0,null,0,0,0,0,0,0,null,0,0,0,0,0,null,{"$f":"IF(OR(Y462+1>(IF(AND(Simulador!$C$9<Simulador!$C$10,OR(Simulador!$E$7=\"Resgate\",Simulador!$E$7=\"Portabilidade\")),Simulador!$C$9,Simulador!$C$10)-Simulador!$C$8)*12,Y462=0),0,Y462+1)","v":459},{"$f":"IF($Y463=0,0,Z462*(1+Simulador!$D$34)+E463+L463)","v":0},{"$f":"IF($Y463=0,0,AA462*(1+Simulador!$D$34)+S463)","v":0},{"$f":"IF(OR(AB462+1>(IF(AND(Simulador!$C$9<Simulador!$C$10,OR(Simulador!$E$7=\"Resgate\",Simulador!$E$7=\"Portabilidade\")),Simulador!$C$9,Simulador!$C$50)-Simulador!$C$8)*12,AB462=0),0,AB462+1)","v":459},{"$f":"IF($AB463=0,0,AC462*(1+Simulador!$D$34)+F463+M463)","v":0},{"$f":"IF($AB463=0,0,AD462*(1+Simulador!$D$34)+T463)","v":0}]
[{"$f":"IF(OR(A463+1>(IF(Simulador!$E$7=\"Autopatrocínio\",Simulador!$C$10,Simulador!$C$9)-Simulador!$C$8)*12,A463=0),0,A463+1)","v":0},{"$f":"IF($A464=0,0,IF(INT($A463/12)-$A463/12=0,B463*(1+Simulador!$C$35),B463))","v":0},{"$f":"MAX(IF(A464=0,0,B464-IF(Simulador!$C$11=\"Individual\",0,Simulador!$C$14)),0)","v":0},null,0,0,0,0,0,0,null,0,0,0,0,0,0,null,0,0,0,0,0,null,{"$f":"IF(OR(Y463+1>(IF(AND(Simulador!$C$9<Simulador!$C$10,OR(Simulador!$E$7=\"Resgate\",Simulador!$E$7=\"Portabilidade\")),Simulador!$C$9,Simulador!$C$10)-Simulador!$C$8)*12,Y463=0),0,Y463+1)","v":460},{"$f":"IF($Y464=0,0,Z463*(1+Simulador!$D$34)+E464+L464)","v":0},{"$f":"IF($Y464=0,0,AA463*(1+Simulador!$D$34)+S464)","v":0},{"$f":"IF(OR(AB463+1>(IF(AND(Simulador!$C$9<Simulador!$C$10,OR(Simulador!$E$7=\"Resgate\",Simulador!$E$7=\"Portabilidade\")),Simulador!$C$9,Simulador!$C$50)-Simulador!$C$8)*12,AB463=0),0,AB463+1)","v":460},{"$f":"IF($AB464=0,0,AC463*(1+Simulador!$D$34)+F464+M464)","v":0},{"$f":"IF($AB464=0,0,AD463*(1+Simulador!$D$34)+T464)","v":0}]
[{"$f":"IF(OR(A464+1>(IF(Simulador!$E$7=\"Autopatrocínio\",Simulador!$C$10,Simulador!$C$9)-Simulador!$C$8)*12,A464=0),0,A464+1)","v":0},{"$f":"IF($A465=0,0,IF(INT($A464/12)-$A464/12=0,B464*(1+Simulador!$C$35),B464))","v":0},{"$f":"MAX(IF(A465=0,0,B465-IF(Simulador!$C$11=\"Individual\",0,Simulador!$C$14)),0)","v":0},null,{"$f":"E$4*$C465*(1+$J465)","v":0},0,0,0,0,0,null,{"$f":"L$4*$C465*$Q465","v":0},0,0,0,0,0,null,0,0,0,0,0,null,{"$f":"IF(OR(Y464+1>(IF(AND(Simulador!$C$9<Simulador!$C$10,OR(Simulador!$E$7=\"Resgate\",Simulador!$E$7=\"Portabilidade\")),Simulador!$C$9,Simulador!$C$10)-Simulador!$C$8)*12,Y464=0),0,Y464+1)","v":461},{"$f":"IF($Y465=0,0,Z464*(1+Simulador!$D$34)+E465+L465)","v":0},{"$f":"IF($Y465=0,0,AA464*(1+Simulador!$D$34)+S465)","v":0},{"$f":"IF(OR(AB464+1>(IF(AND(Simulador!$C$9<Simulador!$C$10,OR(Simulador!$E$7=\"Resgate\",Simulador!$E$7=\"Portabilidade\")),Simulador!$C$9,Simulador!$C$50)-Simulador!$C$8)*12,AB464=0),0,AB464+1)","v":461},{"$f":"IF($AB465=0,0,AC464*(1+Simulador!$D$34)+F465+M465)","v":0},{"$f":"IF($AB465=0,0,AD464*(1+Simulador!$D$34)+T465)","v":0}]
[{"$f":"IF(OR(A465+1>(IF(Simulador!$E$7=\"Autopatrocínio\",Simulador!$C$10,Simulador!$C$9)-Simulador!$C$8)*12,A465=0),0,A465+1)","v":0},{"$f":"IF($A466=0,0,IF(INT($A465/12)-$A465/12=0,B465*(1+Simulador!$C$35),B465))","v":0},{"$f":"MAX(IF(A466=0,0,B466-IF(Simulador!$C$11=\"Individual\",0,Simulador!$C$14)),0)","v":0},null,0,0,0,0,0,0,null,0,0,0,0,0,0,null,0,0,0,0,0,null,{"$f":"IF(OR(Y465+1>(IF(AND(Simulador!$C$9<Simulador!$C$10,OR(Simulador!$E$7=\"Resgate\",Simulador!$E$7=\"Portabilidade\")),Simulador!$C$9,Simulador!$C$10)-Simulador!$C$8)*12,Y465=0),0,Y465+1)","v":462},{"$f":"IF($Y466=0,0,Z465*(1+Simulador!$D$34)+E466+L466)","v":0},{"$f":"IF($Y466=0,0,AA465*(1+Simulador!$D$34)+S466)","v":0},{"$f":"IF(OR(AB465+1>(IF(AND(Simulador!$C$9<Simulador!$C$10,OR(Simulador!$E$7=\"Resgate\",Simulador!$E$7=\"Portabilidade\")),Simulador!$C$9,Simulador!$C$50)-Simulador!$C$8)*12,AB465=0),0,AB465+1)","v":462},{"$f":"IF($AB466=0,0,AC465*(1+Simulador!$D$34)+F466+M466)","v":0},{"$f":"IF($AB466=0,0,AD465*(1+Simulador!$D$34)+T466)","v":0}]
[{"$f":"IF(OR(A466+1>(IF(Simulador!$E$7=\"Autopatrocínio\",Simulador!$C$10,Simulador!$C$9)-Simulador!$C$8)*12,A466=0),0,A466+1)","v":0},{"$f":"IF($A467=0,0,IF(INT($A466/12)-$A466/12=0,B466*(1+Simulador!$C$35),B466))","v":0},{"$f":"MAX(IF(A467=0,0,B467-IF(Simulador!$C$11=\"Individual\",0,Simulador!$C$14)),0)","v":0},null,0,0,0,0,0,0,null,0,0,0,0,0,0,null,0,0,0,0,0,null,{"$f":"IF(OR(Y466+1>(IF(AND(Simulador!$C$9<Simulador!$C$10,OR(Simulador!$E$7=\"Resgate\",Simulador!$E$7=\"Portabilidade\")),Simulador!$C$9,Simulador!$C$10)-Simulador!$C$8)*12,Y466=0),0,Y466+1)","v":463},{"$f":"IF($Y467=0,0,Z466*(1+Simulador!$D$34)+E467+L467)","v":0},{"$f":"IF($Y467=0,0,AA466*(1+Simulador!$D$34)+S467)","v":0},{"$f":"IF(OR(AB466+1>(IF(AND(Simulador!$C$9<Simulador!$C$10,OR(Simulador!$E$7=\"Resgate\",Simulador!$E$7=\"Portabilidade\")),Simulador!$C$9,Simulador!$C$50)-Simulador!$C$8)*12,AB466=0),0,AB466+1)","v":463},{"$f":"IF($AB467=0,0,AC466*(1+Simulador!$D$34)+F467+M467)","v":0},{"$f":"IF($AB467=0,0,AD466*(1+Simulador!$D$34)+T467)","v":0}]
[{"$f":"IF(OR(A467+1>(IF(Simulador!$E$7=\"Autopatrocínio\",Simulador!$C$10,Simulador!$C$9)-Simulador!$C$8)*12,A467=0),0,A467+1)","v":0},{"$f":"IF($A468=0,0,IF(INT($A467/12)-$A467/12=0,B467*(1+Simulador!$C$35),B467))","v":0},{"$f":"MAX(IF(A468=0,0,B468-IF(Simulador!$C$11=\"Individual\",0,Simulador!$C$14)),0)","v":0},null,0,0,0,0,0,0,null,0,0,0,0,0,0,null,0,0,0,0,0,null,{"$f":"IF(OR(Y467+1>(IF(AND(Simulador!$C$9<Simulador!$C$10,OR(Simulador!$E$7=\"Resgate\",Simulador!$E$7=\"Portabilidade\")),Simulador!$C$9,Simulador!$C$10)-Simulador!$C$8)*12,Y467=0),0,Y467+1)","v":464},{"$f":"IF($Y468=0,0,Z467*(1+Simulador!$D$34)+E468+L468)","v":0},{"$f":"IF($Y468=0,0,AA467*(1+Simulador!$D$34)+S468)","v":0},{"$f":"IF(OR(AB467+1>(IF(AND(Simulador!$C$9<Simulador!$C$10,OR(Simulador!$E$7=\"Resgate\",Simulador!$E$7=\"Portabilidade\")),Simulador!$C$9,Simulador!$C$50)-Simulador!$C$8)*12,AB467=0),0,AB467+1)","v":464},{"$f":"IF($AB468=0,0,AC467*(1+Simulador!$D$34)+F468+M468)","v":0},{"$f":"IF($AB468=0,0,AD467*(1+Simulador!$D$34)+T468)","v":0}]
[{"$f":"IF(OR(A468+1>(IF(Simulador!$E$7=\"Autopatrocínio\",Simulador!$C$10,Simulador!$C$9)-Simulador!$C$8)*12,A468=0),0,A468+1)","v":0},{"$f":"IF($A469=0,0,IF(INT($A468/12)-$A468/12=0,B468*(1+Simulador!$C$35),B468))","v":0},{"$f":"MAX(IF(A469=0,0,B469-IF(Simulador!$C$11=\"Individual\",0,Simulador!$C$14)),0)","v":0},null,0,0,0,0,0,0,null,0,0,0,0,0,0,null,{"$f":"S$4*$C469*(1+$J469)","v":0},0,0,0,0,null,{"$f":"IF(OR(Y468+1>(IF(AND(Simulador!$C$9<Simulador!$C$10,OR(Simulador!$E$7=\"Resgate\",Simulador!$E$7=\"Portabilidade\")),Simulador!$C$9,Simulador!$C$10)-Simulador!$C$8)*12,Y468=0),0,Y468+1)","v":465},{"$f":"IF($Y469=0,0,Z468*(1+Simulador!$D$34)+E469+L469)","v":0},{"$f":"IF($Y469=0,0,AA468*(1+Simulador!$D$34)+S469)","v":0},{"$f":"IF(OR(AB468+1>(IF(AND(Simulador!$C$9<Simulador!$C$10,OR(Simulador!$E$7=\"Resgate\",Simulador!$E$7=\"Portabilidade\")),Simulador!$C$9,Simulador!$C$50)-Simulador!$C$8)*12,AB468=0),0,AB468+1)","v":465},{"$f":"IF($AB469=0,0,AC468*(1+Simulador!$D$34)+F469+M469)","v":0},{"$f":"IF($AB469=0,0,AD468*(1+Simulador!$D$34)+T469)","v":0}]
[{"$f":"IF(OR(A469+1>(IF(Simulador!$E$7=\"Autopatrocínio\",Simulador!$C$10,Simulador!$C$9)-Simulador!$C$8)*12,A469=0),0,A469+1)","v":0},{"$f":"IF($A470=0,0,IF(INT($A469/12)-$A469/12=0,B469*(1+Simulador!$C$35),B469))","v":0},{"$f":"MAX(IF(A470=0,0,B470-IF(Simulador!$C$11=\"Individual\",0,Simulador!$C$14)),0)","v":0},null,0,0,0,0,0,0,null,0,0,0,0,0,0,null,0,0,0,0,0,null,{"$f":"IF(OR(Y469+1>(IF(AND(Simulador!$C$9<Simulador!$C$10,OR(Simulador!$E$7=\"Resgate\",Simulador!$E$7=\"Portabilidade\")),Simulador!$C$9,Simulador!$C$10)-Simulador!$C$8)*12,Y469=0),0,Y469+1)","v":466},{"$f":"IF($Y470=0,0,Z469*(1+Simulador!$D$34)+E470+L470)","v":0},{"$f":"IF($Y470=0,0,AA469*(1+Simulador!$D$34)+S470)","v":0},{"$f":"IF(OR(AB469+1>(IF(AND(Simulador!$C$9<Simulador!$C$10,OR(Simulador!$E$7=\"Resgate\",Simulador!$E$7=\"Portabilidade\")),Simulador!$C$9,Simulador!$C$50)-Simulador!$C$8)*12,AB469=0),0,AB469+1)","v":466},{"$f":"IF($AB470=0,0,AC469*(1+Simulador!$D$34)+F470+M470)","v":0},{"$f":"IF($AB470=0,0,AD469*(1+Simulador!$D$34)+T470)","v":0}]
[{"$f":"IF(OR(A470+1>(IF(Simulador!$E$7=\"Autopatrocínio\",Simulador!$C$10,Simulador!$C$9)-Simulador!$C$8)*12,A470=0),0,A470+1)","v":0},{"$f":"IF($A471=0,0,IF(INT($A470/12)-$A470/12=0,B470*(1+Simulador!$C$35),B470))","v":0},{"$f":"MAX(IF(A471=0,0,B471-IF(Simulador!$C$11=\"Individual\",0,Simulador!$C$14)),0)","v":0},null,0,0,0,0,0,0,null,0,0,0,0,0,0,null,0,0,0,0,0,null,{"$f":"IF(OR(Y470+1>(IF(AND(Simulador!$C$9<Simulador!$C$10,OR(Simulador!$E$7=\"Resgate\",Simulador!$E$7=\"Portabilidade\")),Simulador!$C$9,Simulador!$C$10)-Simulador!$C$8)*12,Y470=0),0,Y470+1)","v":467},{"$f":"IF($Y471=0,0,Z470*(1+Simulador!$D$34)+E471+L471)","v":0},{"$f":"IF($Y471=0,0,AA470*(1+Simulador!$D$34)+S471)","v":0},{"$f":"IF(OR(AB470+1>(IF(AND(Simulador!$C$9<Simulador!$C$10,OR(Simulador!$E$7=\"Resgate\",Simulador!$E$7=\"Portabilidade\")),Simulador!$C$9,Simulador!$C$50)-Simulador!$C$8)*12,AB470=0),0,AB470+1)","v":467},{"$f":"IF($AB471=0,0,AC470*(1+Simulador!$D$34)+F471+M471)","v":0},{"$f":"IF($AB471=0,0,AD470*(1+Simulador!$D$34)+T471)","v":0}]
[{"$f":"IF(OR(A471+1>(IF(Simulador!$E$7=\"Autopatrocínio\",Simulador!$C$10,Simulador!$C$9)-Simulador!$C$8)*12,A471=0),0,A471+1)","v":0},{"$f":"IF($A472=0,0,IF(INT($A471/12)-$A471/12=0,B471*(1+Simulador!$C$35),B471))","v":0},{"$f":"MAX(IF(A472=0,0,B472-IF(Simulador!$C$11=\"Individual\",0,Simulador!$C$14)),0)","v":0},null,0,0,0,0,0,0,null,0,0,0,0,0,0,null,0,0,0,0,0,null,{"$f":"IF(OR(Y471+1>(IF(AND(Simulador!$C$9<Simulador!$C$10,OR(Simulador!$E$7=\"Resgate\",Simulador!$E$7=\"Portabilidade\")),Simulador!$C$9,Simulador!$C$10)-Simulador!$C$8)*12,Y471=0),0,Y471+1)","v":468},{"$f":"IF($Y472=0,0,Z471*(1+Simulador!$D$34)+E472+L472)","v":0},{"$f":"IF($Y472=0,0,AA471*(1+Simulador!$D$34)+S472)","v":0},{"$f":"IF(OR(AB471+1>(IF(AND(Simulador!$C$9<Simulador!$C$10,OR(Simulador!$E$7=\"Resgate\",Simulador!$E$7=\"Portabilidade\")),Simulador!$C$9,Simulador!$C$50)-Simulador!$C$8)*12,AB471=0),0,AB471+1)","v":468},{"$f":"IF($AB472=0,0,AC471*(1+Simulador!$D$34)+F472+M472)","v":0},{"$f":"IF($AB472=0,0,AD471*(1+Simulador!$D$34)+T472)","v":0}]
[{"$f":"IF(OR(A472+1>(IF(Simulador!$E$7=\"Autopatrocínio\",Simulador!$C$10,Simulador!$C$9)-Simulador!$C$8)*12,A472=0),0,A472+1)","v":0},{"$f":"IF($A473=0,0,IF(INT($A472/12)-$A472/12=0,B472*(1+Simulador!$C$35),B472))","v":0},{"$f":"MAX(IF(A473=0,0,B473-IF(Simulador!$C$11=\"Individual\",0,Simulador!$C$14)),0)","v":0},null,0,0,0,0,0,0,null,0,0,0,0,0,0,null,0,0,0,0,0,null,{"$f":"IF(OR(Y472+1>(IF(AND(Simulador!$C$9<Simulador!$C$10,OR(Simulador!$E$7=\"Resgate\",Simulador!$E$7=\"Portabilidade\")),Simulador!$C$9,Simulador!$C$10)-Simulador!$C$8)*12,Y472=0),0,Y472+1)","v":469},{"$f":"IF($Y473=0,0,Z472*(1+Simulador!$D$34)+E473+L473)","v":0},{"$f":"IF($Y473=0,0,AA472*(1+Simulador!$D$34)+S473)","v":0},{"$f":"IF(OR(AB472+1>(IF(AND(Simulador!$C$9<Simulador!$C$10,OR(Simulador!$E$7=\"Resgate\",Simulador!$E$7=\"Portabilidade\")),Simulador!$C$9,Simulador!$C$50)-Simulador!$C$8)*12,AB472=0),0,AB472+1)","v":469},{"$f":"IF($AB473=0,0,AC472*(1+Simulador!$D$34)+F473+M473)","v":0},{"$f":"IF($AB473=0,0,AD472*(1+Simulador!$D$34)+T473)","v":0}]
[{"$f":"IF(OR(A473+1>(IF(Simulador!$E$7=\"Autopatrocínio\",Simulador!$C$10,Simulador!$C$9)-Simulador!$C$8)*12,A473=0),0,A473+1)","v":0},{"$f":"IF($A474=0,0,IF(INT($A473/12)-$A473/12=0,B473*(1+Simulador!$C$35),B473))","v":0},{"$f":"MAX(IF(A474=0,0,B474-IF(Simulador!$C$11=\"Individual\",0,Simulador!$C$14)),0)","v":0},null,0,0,0,0,0,0,null,0,0,0,0,0,0,null,0,0,0,0,0,null,{"$f":"IF(OR(Y473+1>(IF(AND(Simulador!$C$9<Simulador!$C$10,OR(Simulador!$E$7=\"Resgate\",Simulador!$E$7=\"Portabilidade\")),Simulador!$C$9,Simulador!$C$10)-Simulador!$C$8)*12,Y473=0),0,Y473+1)","v":470},{"$f":"IF($Y474=0,0,Z473*(1+Simulador!$D$34)+E474+L474)","v":0},{"$f":"IF($Y474=0,0,AA473*(1+Simulador!$D$34)+S474)","v":0},{"$f":"IF(OR(AB473+1>(IF(AND(Simulador!$C$9<Simulador!$C$10,OR(Simulador!$E$7=\"Resgate\",Simulador!$E$7=\"Portabilidade\")),Simulador!$C$9,Simulador!$C$50)-Simulador!$C$8)*12,AB473=0),0,AB473+1)","v":470},{"$f":"IF($AB474=0,0,AC473*(1+Simulador!$D$34)+F474+M474)","v":0},{"$f":"IF($AB474=0,0,AD473*(1+Simulador!$D$34)+T474)","v":0}]
[{"$f":"IF(OR(A474+1>(IF(Simulador!$E$7=\"Autopatrocínio\",Simulador!$C$10,Simulador!$C$9)-Simulador!$C$8)*12,A474=0),0,A474+1)","v":0},{"$f":"IF($A475=0,0,IF(INT($A474/12)-$A474/12=0,B474*(1+Simulador!$C$35),B474))","v":0},{"$f":"MAX(IF(A475=0,0,B475-IF(Simulador!$C$11=\"Individual\",0,Simulador!$C$14)),0)","v":0},null,{"$f":"E$4*$C475*(1+$J475)","v":0},0,0,0,0,0,null,{"$f":"L$4*$C475*$Q475","v":0},0,0,0,0,0,null,0,0,0,0,0,null,{"$f":"IF(OR(Y474+1>(IF(AND(Simulador!$C$9<Simulador!$C$10,OR(Simulador!$E$7=\"Resgate\",Simulador!$E$7=\"Portabilidade\")),Simulador!$C$9,Simulador!$C$10)-Simulador!$C$8)*12,Y474=0),0,Y474+1)","v":471},{"$f":"IF($Y475=0,0,Z474*(1+Simulador!$D$34)+E475+L475)","v":0},{"$f":"IF($Y475=0,0,AA474*(1+Simulador!$D$34)+S475)","v":0},{"$f":"IF(OR(AB474+1>(IF(AND(Simulador!$C$9<Simulador!$C$10,OR(Simulador!$E$7=\"Resgate\",Simulador!$E$7=\"Portabilidade\")),Simulador!$C$9,Simulador!$C$50)-Simulador!$C$8)*12,AB474=0),0,AB474+1)","v":471},{"$f":"IF($AB475=0,0,AC474*(1+Simulador!$D$34)+F475+M475)","v":0},{"$f":"IF($AB475=0,0,AD474*(1+Simulador!$D$34)+T475)","v":0}]
[{"$f":"IF(OR(A475+1>(IF(Simulador!$E$7=\"Autopatrocínio\",Simulador!$C$10,Simulador!$C$9)-Simulador!$C$8)*12,A475=0),0,A475+1)","v":0},{"$f":"IF($A476=0,0,IF(INT($A475/12)-$A475/12=0,B475*(1+Simulador!$C$35),B475))","v":0},{"$f":"MAX(IF(A476=0,0,B476-IF(Simulador!$C$11=\"Individual\",0,Simulador!$C$14)),0)","v":0},null,0,0,0,0,0,0,null,0,0,0,0,0,0,null,0,0,0,0,0,null,{"$f":"IF(OR(Y475+1>(IF(AND(Simulador!$C$9<Simulador!$C$10,OR(Simulador!$E$7=\"Resgate\",Simulador!$E$7=\"Portabilidade\")),Simulador!$C$9,Simulador!$C$10)-Simulador!$C$8)*12,Y475=0),0,Y475+1)","v":472},{"$f":"IF($Y476=0,0,Z475*(1+Simulador!$D$34)+E476+L476)","v":0},{"$f":"IF($Y476=0,0,AA475*(1+Simulador!$D$34)+S476)","v":0},{"$f":"IF(OR(AB475+1>(IF(AND(Simulador!$C$9<Simulador!$C$10,OR(Simulador!$E$7=\"Resgate\",Simulador!$E$7=\"Portabilidade\")),Simulador!$C$9,Simulador!$C$50)-Simulador!$C$8)*12,AB475=0),0,AB475+1)","v":472},{"$f":"IF($AB476=0,0,AC475*(1+Simulador!$D$34)+F476+M476)","v":0},{"$f":"IF($AB476=0,0,AD475*(1+Simulador!$D$34)+T476)","v":0}]
[{"$f":"IF(OR(A476+1>(IF(Simulador!$E$7=\"Autopatrocínio\",Simulador!$C$10,Simulador!$C$9)-Simulador!$C$8)*12,A476=0),0,A476+1)","v":0},{"$f":"IF($A477=0,0,IF(INT($A476/12)-$A476/12=0,B476*(1+Simulador!$C$35),B476))","v":0},{"$f":"MAX(IF(A477=0,0,B477-IF(Simulador!$C$11=\"Individual\",0,Simulador!$C$14)),0)","v":0},null,0,0,0,0,0,0,null,0,0,0,0,0,0,null,0,0,0,0,0,null,{"$f":"IF(OR(Y476+1>(IF(AND(Simulador!$C$9<Simulador!$C$10,OR(Simulador!$E$7=\"Resgate\",Simulador!$E$7=\"Portabilidade\")),Simulador!$C$9,Simulador!$C$10)-Simulador!$C$8)*12,Y476=0),0,Y476+1)","v":473},{"$f":"IF($Y477=0,0,Z476*(1+Simulador!$D$34)+E477+L477)","v":0},{"$f":"IF($Y477=0,0,AA476*(1+Simulador!$D$34)+S477)","v":0},{"$f":"IF(OR(AB476+1>(IF(AND(Simulador!$C$9<Simulador!$C$10,OR(Simulador!$E$7=\"Resgate\",Simulador!$E$7=\"Portabilidade\")),Simulador!$C$9,Simulador!$C$50)-Simulador!$C$8)*12,AB476=0),0,AB476+1)","v":473},{"$f":"IF($AB477=0,0,AC476*(1+Simulador!$D$34)+F477+M477)","v":0},{"$f":"IF($AB477=0,0,AD476*(1+Simulador!$D$34)+T477)","v":0}]
[{"$f":"IF(OR(A477+1>(IF(Simulador!$E$7=\"Autopatrocínio\",Simulador!$C$10,Simulador!$C$9)-Simulador!$C$8)*12,A477=0),0,A477+1)","v":0},{"$f":"IF($A478=0,0,IF(INT($A477/12)-$A477/12=0,B477*(1+Simulador!$C$35),B477))","v":0},{"$f":"MAX(IF(A478=0,0,B478-IF(Simulador!$C$11=\"Individual\",0,Simulador!$C$14)),0)","v":0},null,0,0,0,0,0,0,null,0,0,0,0,0,0,null,0,0,0,0,0,null,{"$f":"IF(OR(Y477+1>(IF(AND(Simulador!$C$9<Simulador!$C$10,OR(Simulador!$E$7=\"Resgate\",Simulador!$E$7=\"Portabilidade\")),Simulador!$C$9,Simulador!$C$10)-Simulador!$C$8)*12,Y477=0),0,Y477+1)","v":474},{"$f":"IF($Y478=0,0,Z477*(1+Simulador!$D$34)+E478+L478)","v":0},{"$f":"IF($Y478=0,0,AA477*(1+Simulador!$D$34)+S478)","v":0},{"$f":"IF(OR(AB477+1>(IF(AND(Simulador!$C$9<Simulador!$C$10,OR(Simulador!$E$7=\"Resgate\",Simulador!$E$7=\"Portabilidade\")),Simulador!$C$9,Simulador!$C$50)-Simulador!$C$8)*12,AB477=0),0,AB477+1)","v":474},{"$f":"IF($AB478=0,0,AC477*(1+Simulador!$D$34)+F478+M478)","v":0},{"$f":"IF($AB478=0,0,AD477*(1+Simulador!$D$34)+T478)","v":0}]
[{"$f":"IF(OR(A478+1>(IF(Simulador!$E$7=\"Autopatrocínio\",Simulador!$C$10,Simulador!$C$9)-Simulador!$C$8)*12,A478=0),0,A478+1)","v":0},{"$f":"IF($A479=0,0,IF(INT($A478/12)-$A478/12=0,B478*(1+Simulador!$C$35),B478))","v":0},{"$f":"MAX(IF(A479=0,0,B479-IF(Simulador!$C$11=\"Individual\",0,Simulador!$C$14)),0)","v":0},null,0,0,0,0,0,0,null,0,0,0,0,0,0,null,0,0,0,0,0,null,{"$f":"IF(OR(Y478+1>(IF(AND(Simulador!$C$9<Simulador!$C$10,OR(Simulador!$E$7=\"Resgate\",Simulador!$E$7=\"Portabilidade\")),Simulador!$C$9,Simulador!$C$10)-Simulador!$C$8)*12,Y478=0),0,Y478+1)","v":475},{"$f":"IF($Y479=0,0,Z478*(1+Simulador!$D$34)+E479+L479)","v":0},{"$f":"IF($Y479=0,0,AA478*(1+Simulador!$D$34)+S479)","v":0},{"$f":"IF(OR(AB478+1>(IF(AND(Simulador!$C$9<Simulador!$C$10,OR(Simulador!$E$7=\"Resgate\",Simulador!$E$7=\"Portabilidade\")),Simulador!$C$9,Simulador!$C$50)-Simulador!$C$8)*12,AB478=0),0,AB478+1)","v":475},{"$f":"IF($AB479=0,0,AC478*(1+Simulador!$D$34)+F479+M479)","v":0},{"$f":"IF($AB479=0,0,AD478*(1+Simulador!$D$34)+T479)","v":0}]
[{"$f":"IF(OR(A479+1>(IF(Simulador!$E$7=\"Autopatrocínio\",Simulador!$C$10,Simulador!$C$9)-Simulador!$C$8)*12,A479=0),0,A479+1)","v":0},{"$f":"IF($A480=0,0,IF(INT($A479/12)-$A479/12=0,B479*(1+Simulador!$C$35),B479))","v":0},{"$f":"MAX(IF(A480=0,0,B480-IF(Simulador!$C$11=\"Individual\",0,Simulador!$C$14)),0)","v":0},null,0,0,0,0,0,0,null,0,0,0,0,0,0,null,0,0,0,0,0,null,{"$f":"IF(OR(Y479+1>(IF(AND(Simulador!$C$9<Simulador!$C$10,OR(Simulador!$E$7=\"Resgate\",Simulador!$E$7=\"Portabilidade\")),Simulador!$C$9,Simulador!$C$10)-Simulador!$C$8)*12,Y479=0),0,Y479+1)","v":476},{"$f":"IF($Y480=0,0,Z479*(1+Simulador!$D$34)+E480+L480)","v":0},{"$f":"IF($Y480=0,0,AA479*(1+Simulador!$D$34)+S480)","v":0},{"$f":"IF(OR(AB479+1>(IF(AND(Simulador!$C$9<Simulador!$C$10,OR(Simulador!$E$7=\"Resgate\",Simulador!$E$7=\"Portabilidade\")),Simulador!$C$9,Simulador!$C$50)-Simulador!$C$8)*12,AB479=0),0,AB479+1)","v":476},{"$f":"IF($AB480=0,0,AC479*(1+Simulador!$D$34)+F480+M480)","v":0},{"$f":"IF($AB480=0,0,AD479*(1+Simulador!$D$34)+T480)","v":0}]
[{"$f":"IF(OR(A480+1>(IF(Simulador!$E$7=\"Autopatrocínio\",Simulador!$C$10,Simulador!$C$9)-Simulador!$C$8)*12,A480=0),0,A480+1)","v":0},{"$f":"IF($A481=0,0,IF(INT($A480/12)-$A480/12=0,B480*(1+Simulador!$C$35),B480))","v":0},{"$f":"MAX(IF(A481=0,0,B481-IF(Simulador!$C$11=\"Individual\",0,Simulador!$C$14)),0)","v":0},null,0,0,0,0,0,0,null,0,0,0,0,0,0,null,0,0,0,0,0,null,{"$f":"IF(OR(Y480+1>(IF(AND(Simulador!$C$9<Simulador!$C$10,OR(Simulador!$E$7=\"Resgate\",Simulador!$E$7=\"Portabilidade\")),Simulador!$C$9,Simulador!$C$10)-Simulador!$C$8)*12,Y480=0),0,Y480+1)","v":477},{"$f":"IF($Y481=0,0,Z480*(1+Simulador!$D$34)+E481+L481)","v":0},{"$f":"IF($Y481=0,0,AA480*(1+Simulador!$D$34)+S481)","v":0},{"$f":"IF(OR(AB480+1>(IF(AND(Simulador!$C$9<Simulador!$C$10,OR(Simulador!$E$7=\"Resgate\",Simulador!$E$7=\"Portabilidade\")),Simulador!$C$9,Simulador!$C$50)-Simulador!$C$8)*12,AB480=0),0,AB480+1)","v":477},{"$f":"IF($AB481=0,0,AC480*(1+Simulador!$D$34)+F481+M481)","v":0},{"$f":"IF($AB481=0,0,AD480*(1+Simulador!$D$34)+T481)","v":0}]
[{"$f":"IF(OR(A481+1>(IF(Simulador!$E$7=\"Autopatrocínio\",Simulador!$C$10,Simulador!$C$9)-Simulador!$C$8)*12,A481=0),0,A481+1)","v":0},{"$f":"IF($A482=0,0,IF(INT($A481/12)-$A481/12=0,B481*(1+Simulador!$C$35),B481))","v":0},{"$f":"MAX(IF(A482=0,0,B482-IF(Simulador!$C$11=\"Individual\",0,Simulador!$C$14)),0)","v":0},null,0,0,0,0,0,0,null,0,0,0,0,0,0,null,0,0,0,0,0,null,{"$f":"IF(OR(Y481+1>(IF(AND(Simulador!$C$9<Simulador!$C$10,OR(Simulador!$E$7=\"Resgate\",Simulador!$E$7=\"Portabilidade\")),Simulador!$C$9,Simulador!$C$10)-Simulador!$C$8)*12,Y481=0),0,Y481+1)","v":478},{"$f":"IF($Y482=0,0,Z481*(1+Simulador!$D$34)+E482+L482)","v":0},{"$f":"IF($Y482=0,0,AA481*(1+Simulador!$D$34)+S482)","v":0},{"$f":"IF(OR(AB481+1>(IF(AND(Simulador!$C$9<Simulador!$C$10,OR(Simulador!$E$7=\"Resgate\",Simulador!$E$7=\"Portabilidade\")),Simulador!$C$9,Simulador!$C$50)-Simulador!$C$8)*12,AB481=0),0,AB481+1)","v":478},{"$f":"IF($AB482=0,0,AC481*(1+Simulador!$D$34)+F482+M482)","v":0},{"$f":"IF($AB482=0,0,AD481*(1+Simulador!$D$34)+T482)","v":0}]
[{"$f":"IF(OR(A482+1>(IF(Simulador!$E$7=\"Autopatrocínio\",Simulador!$C$10,Simulador!$C$9)-Simulador!$C$8)*12,A482=0),0,A482+1)","v":0},{"$f":"IF($A483=0,0,IF(INT($A482/12)-$A482/12=0,B482*(1+Simulador!$C$35),B482))","v":0},{"$f":"MAX(IF(A483=0,0,B483-IF(Simulador!$C$11=\"Individual\",0,Simulador!$C$14)),0)","v":0},null,0,0,0,0,0,0,null,0,0,0,0,0,0,null,0,0,0,0,0,null,{"$f":"IF(OR(Y482+1>(IF(AND(Simulador!$C$9<Simulador!$C$10,OR(Simulador!$E$7=\"Resgate\",Simulador!$E$7=\"Portabilidade\")),Simulador!$C$9,Simulador!$C$10)-Simulador!$C$8)*12,Y482=0),0,Y482+1)","v":479},{"$f":"IF($Y483=0,0,Z482*(1+Simulador!$D$34)+E483+L483)","v":0},{"$f":"IF($Y483=0,0,AA482*(1+Simulador!$D$34)+S483)","v":0},{"$f":"IF(OR(AB482+1>(IF(AND(Simulador!$C$9<Simulador!$C$10,OR(Simulador!$E$7=\"Resgate\",Simulador!$E$7=\"Portabilidade\")),Simulador!$C$9,Simulador!$C$50)-Simulador!$C$8)*12,AB482=0),0,AB482+1)","v":479},{"$f":"IF($AB483=0,0,AC482*(1+Simulador!$D$34)+F483+M483)","v":0},{"$f":"IF($AB483=0,0,AD482*(1+Simulador!$D$34)+T483)","v":0}]
[{"$f":"IF(OR(A483+1>(IF(Simulador!$E$7=\"Autopatrocínio\",Simulador!$C$10,Simulador!$C$9)-Simulador!$C$8)*12,A483=0),0,A483+1)","v":0},{"$f":"IF($A484=0,0,IF(INT($A483/12)-$A483/12=0,B483*(1+Simulador!$C$35),B483))","v":0},{"$f":"MAX(IF(A484=0,0,B484-IF(Simulador!$C$11=\"Individual\",0,Simulador!$C$14)),0)","v":0},null,0,0,0,0,0,0,null,0,0,0,0,0,0,null,0,0,0,0,0,null,{"$f":"IF(OR(Y483+1>(IF(AND(Simulador!$C$9<Simulador!$C$10,OR(Simulador!$E$7=\"Resgate\",Simulador!$E$7=\"Portabilidade\")),Simulador!$C$9,Simulador!$C$10)-Simulador!$C$8)*12,Y483=0),0,Y483+1)","v":480},{"$f":"IF($Y484=0,0,Z483*(1+Simulador!$D$34)+E484+L484)","v":0},{"$f":"IF($Y484=0,0,AA483*(1+Simulador!$D$34)+S484)","v":0},{"$f":"IF(OR(AB483+1>(IF(AND(Simulador!$C$9<Simulador!$C$10,OR(Simulador!$E$7=\"Resgate\",Simulador!$E$7=\"Portabilidade\")),Simulador!$C$9,Simulador!$C$50)-Simulador!$C$8)*12,AB483=0),0,AB483+1)","v":480},{"$f":"IF($AB484=0,0,AC483*(1+Simulador!$D$34)+F484+M484)","v":0},{"$f":"IF($AB484=0,0,AD483*(1+Simulador!$D$34)+T484)","v":0}]
[{"$f":"IF(OR(A484+1>(IF(Simulador!$E$7=\"Autopatrocínio\",Simulador!$C$10,Simulador!$C$9)-Simulador!$C$8)*12,A484=0),0,A484+1)","v":0},{"$f":"IF($A485=0,0,IF(INT($A484/12)-$A484/12=0,B484*(1+Simulador!$C$35),B484))","v":0},{"$f":"MAX(IF(A485=0,0,B485-IF(Simulador!$C$11=\"Individual\",0,Simulador!$C$14)),0)","v":0},null,{"$f":"E$4*$C485*(1+$J485)","v":0},0,0,0,0,0,null,{"$f":"L$4*$C485*$Q485","v":0},0,0,0,0,0,null,{"$f":"S$4*$C485*(1+$J485)","v":0},0,0,0,0,null,{"$f":"IF(OR(Y484+1>(IF(AND(Simulador!$C$9<Simulador!$C$10,OR(Simulador!$E$7=\"Resgate\",Simulador!$E$7=\"Portabilidade\")),Simulador!$C$9,Simulador!$C$10)-Simulador!$C$8)*12,Y484=0),0,Y484+1)","v":481},{"$f":"IF($Y485=0,0,Z484*(1+Simulador!$D$34)+E485+L485)","v":0},{"$f":"IF($Y485=0,0,AA484*(1+Simulador!$D$34)+S485)","v":0},{"$f":"IF(OR(AB484+1>(IF(AND(Simulador!$C$9<Simulador!$C$10,OR(Simulador!$E$7=\"Resgate\",Simulador!$E$7=\"Portabilidade\")),Simulador!$C$9,Simulador!$C$50)-Simulador!$C$8)*12,AB484=0),0,AB484+1)","v":481},{"$f":"IF($AB485=0,0,AC484*(1+Simulador!$D$34)+F485+M485)","v":0},{"$f":"IF($AB485=0,0,AD484*(1+Simulador!$D$34)+T485)","v":0}]
[{"$f":"IF(OR(A485+1>(IF(Simulador!$E$7=\"Autopatrocínio\",Simulador!$C$10,Simulador!$C$9)-Simulador!$C$8)*12,A485=0),0,A485+1)","v":0},{"$f":"IF($A486=0,0,IF(INT($A485/12)-$A485/12=0,B485*(1+Simulador!$C$35),B485))","v":0},{"$f":"MAX(IF(A486=0,0,B486-IF(Simulador!$C$11=\"Individual\",0,Simulador!$C$14)),0)","v":0},null,0,0,0,0,0,0,null,0,0,0,0,0,0,null,0,0,0,0,0,null,{"$f":"IF(OR(Y485+1>(IF(AND(Simulador!$C$9<Simulador!$C$10,OR(Simulador!$E$7=\"Resgate\",Simulador!$E$7=\"Portabilidade\")),Simulador!$C$9,Simulador!$C$10)-Simulador!$C$8)*12,Y485=0),0,Y485+1)","v":482},{"$f":"IF($Y486=0,0,Z485*(1+Simulador!$D$34)+E486+L486)","v":0},{"$f":"IF($Y486=0,0,AA485*(1+Simulador!$D$34)+S486)","v":0},{"$f":"IF(OR(AB485+1>(IF(AND(Simulador!$C$9<Simulador!$C$10,OR(Simulador!$E$7=\"Resgate\",Simulador!$E$7=\"Portabilidade\")),Simulador!$C$9,Simulador!$C$50)-Simulador!$C$8)*12,AB485=0),0,AB485+1)","v":482},{"$f":"IF($AB486=0,0,AC485*(1+Simulador!$D$34)+F486+M486)","v":0},{"$f":"IF($AB486=0,0,AD485*(1+Simulador!$D$34)+T486)","v":0}]
[{"$f":"IF(OR(A486+1>(IF(Simulador!$E$7=\"Autopatrocínio\",Simulador!$C$10,Simulador!$C$9)-Simulador!$C$8)*12,A486=0),0,A486+1)","v":0},{"$f":"IF($A487=0,0,IF(INT($A486/12)-$A486/12=0,B486*(1+Simulador!$C$35),B486))","v":0},{"$f":"MAX(IF(A487=0,0,B487-IF(Simulador!$C$11=\"Individual\",0,Simulador!$C$14)),0)","v":0},null,0,0,0,0,0,0,null,0,0,0,0,0,0,null,0,0,0,0,0,null,{"$f":"IF(OR(Y486+1>(IF(AND(Simulador!$C$9<Simulador!$C$10,OR(Simulador!$E$7=\"Resgate\",Simulador!$E$7=\"Portabilidade\")),Simulador!$C$9,Simulador!$C$10)-Simulador!$C$8)*12,Y486=0),0,Y486+1)","v":483},{"$f":"IF($Y487=0,0,Z486*(1+Simulador!$D$34)+E487+L487)","v":0},{"$f":"IF($Y487=0,0,AA486*(1+Simulador!$D$34)+S487)","v":0},{"$f":"IF(OR(AB486+1>(IF(AND(Simulador!$C$9<Simulador!$C$10,OR(Simulador!$E$7=\"Resgate\",Simulador!$E$7=\"Portabilidade\")),Simulador!$C$9,Simulador!$C$50)-Simulador!$C$8)*12,AB486=0),0,AB486+1)","v":483},{"$f":"IF($AB487=0,0,AC486*(1+Simulador!$D$34)+F487+M487)","v":0},{"$f":"IF($AB487=0,0,AD486*(1+Simulador!$D$34)+T487)","v":0}]
[{"$f":"IF(OR(A487+1>(IF(Simulador!$E$7=\"Autopatrocínio\",Simulador!$C$10,Simulador!$C$9)-Simulador!$C$8)*12,A487=0),0,A487+1)","v":0},{"$f":"IF($A488=0,0,IF(INT($A487/12)-$A487/12=0,B487*(1+Simulador!$C$35),B487))","v":0},{"$f":"MAX(IF(A488=0,0,B488-IF(Simulador!$C$11=\"Individual\",0,Simulador!$C$14)),0)","v":0},null,0,0,0,0,0,0,null,0,0,0,0,0,0,null,0,0,0,0,0,null,{"$f":"IF(OR(Y487+1>(IF(AND(Simulador!$C$9<Simulador!$C$10,OR(Simulador!$E$7=\"Resgate\",Simulador!$E$7=\"Portabilidade\")),Simulador!$C$9,Simulador!$C$10)-Simulador!$C$8)*12,Y487=0),0,Y487+1)","v":484},{"$f":"IF($Y488=0,0,Z487*(1+Simulador!$D$34)+E488+L488)","v":0},{"$f":"IF($Y488=0,0,AA487*(1+Simulador!$D$34)+S488)","v":0},{"$f":"IF(OR(AB487+1>(IF(AND(Simulador!$C$9<Simulador!$C$10,OR(Simulador!$E$7=\"Resgate\",Simulador!$E$7=\"Portabilidade\")),Simulador!$C$9,Simulador!$C$50)-Simulador!$C$8)*12,AB487=0),0,AB487+1)","v":484},{"$f":"IF($AB488=0,0,AC487*(1+Simulador!$D$34)+F488+M488)","v":0},{"$f":"IF($AB488=0,0,AD487*(1+Simulador!$D$34)+T488)","v":0}]
[{"$f":"IF(OR(A488+1>(IF(Simulador!$E$7=\"Autopatrocínio\",Simulador!$C$10,Simulador!$C$9)-Simulador!$C$8)*12,A488=0),0,A488+1)","v":0},{"$f":"IF($A489=0,0,IF(INT($A488/12)-$A488/12=0,B488*(1+Simulador!$C$35),B488))","v":0},{"$f":"MAX(IF(A489=0,0,B489-IF(Simulador!$C$11=\"Individual\",0,Simulador!$C$14)),0)","v":0},null,0,0,0,0,0,0,null,0,0,0,0,0,0,null,0,0,0,0,0,null,{"$f":"IF(OR(Y488+1>(IF(AND(Simulador!$C$9<Simulador!$C$10,OR(Simulador!$E$7=\"Resgate\",Simulador!$E$7=\"Portabilidade\")),Simulador!$C$9,Simulador!$C$10)-Simulador!$C$8)*12,Y488=0),0,Y488+1)","v":485},{"$f":"IF($Y489=0,0,Z488*(1+Simulador!$D$34)+E489+L489)","v":0},{"$f":"IF($Y489=0,0,AA488*(1+Simulador!$D$34)+S489)","v":0},{"$f":"IF(OR(AB488+1>(IF(AND(Simulador!$C$9<Simulador!$C$10,OR(Simulador!$E$7=\"Resgate\",Simulador!$E$7=\"Portabilidade\")),Simulador!$C$9,Simulador!$C$50)-Simulador!$C$8)*12,AB488=0),0,AB488+1)","v":485},{"$f":"IF($AB489=0,0,AC488*(1+Simulador!$D$34)+F489+M489)","v":0},{"$f":"IF($AB489=0,0,AD488*(1+Simulador!$D$34)+T489)","v":0}]
[{"$f":"IF(OR(A489+1>(IF(Simulador!$E$7=\"Autopatrocínio\",Simulador!$C$10,Simulador!$C$9)-Simulador!$C$8)*12,A489=0),0,A489+1)","v":0},{"$f":"IF($A490=0,0,IF(INT($A489/12)-$A489/12=0,B489*(1+Simulador!$C$35),B489))","v":0},{"$f":"MAX(IF(A490=0,0,B490-IF(Simulador!$C$11=\"Individual\",0,Simulador!$C$14)),0)","v":0},null,0,0,0,0,0,0,null,0,0,0,0,0,0,null,0,0,0,0,0,null,{"$f":"IF(OR(Y489+1>(IF(AND(Simulador!$C$9<Simulador!$C$10,OR(Simulador!$E$7=\"Resgate\",Simulador!$E$7=\"Portabilidade\")),Simulador!$C$9,Simulador!$C$10)-Simulador!$C$8)*12,Y489=0),0,Y489+1)","v":486},{"$f":"IF($Y490=0,0,Z489*(1+Simulador!$D$34)+E490+L490)","v":0},{"$f":"IF($Y490=0,0,AA489*(1+Simulador!$D$34)+S490)","v":0},{"$f":"IF(OR(AB489+1>(IF(AND(Simulador!$C$9<Simulador!$C$10,OR(Simulador!$E$7=\"Resgate\",Simulador!$E$7=\"Portabilidade\")),Simulador!$C$9,Simulador!$C$50)-Simulador!$C$8)*12,AB489=0),0,AB489+1)","v":486},{"$f":"IF($AB490=0,0,AC489*(1+Simulador!$D$34)+F490+M490)","v":0},{"$f":"IF($AB490=0,0,AD489*(1+Simulador!$D$34)+T490)","v":0}]
[{"$f":"IF(OR(A490+1>(IF(Simulador!$E$7=\"Autopatrocínio\",Simulador!$C$10,Simulador!$C$9)-Simulador!$C$8)*12,A490=0),0,A490+1)","v":0},{"$f":"IF($A491=0,0,IF(INT($A490/12)-$A490/12=0,B490*(1+Simulador!$C$35),B490))","v":0},{"$f":"MAX(IF(A491=0,0,B491-IF(Simulador!$C$11=\"Individual\",0,Simulador!$C$14)),0)","v":0},null,0,0,0,0,0,0,null,0,0,0,0,0,0,null,0,0,0,0,0,null,{"$f":"IF(OR(Y490+1>(IF(AND(Simulador!$C$9<Simulador!$C$10,OR(Simulador!$E$7=\"Resgate\",Simulador!$E$7=\"Portabilidade\")),Simulador!$C$9,Simulador!$C$10)-Simulador!$C$8)*12,Y490=0),0,Y490+1)","v":487},{"$f":"IF($Y491=0,0,Z490*(1+Simulador!$D$34)+E491+L491)","v":0},{"$f":"IF($Y491=0,0,AA490*(1+Simulador!$D$34)+S491)","v":0},{"$f":"IF(OR(AB490+1>(IF(AND(Simulador!$C$9<Simulador!$C$10,OR(Simulador!$E$7=\"Resgate\",Simulador!$E$7=\"Portabilidade\")),Simulador!$C$9,Simulador!$C$50)-Simulador!$C$8)*12,AB490=0),0,AB490+1)","v":487},{"$f":"IF($AB491=0,0,AC490*(1+Simulador!$D$34)+F491+M491)","v":0},{"$f":"IF($AB491=0,0,AD490*(1+Simulador!$D$34)+T491)","v":0}]
[{"$f":"IF(OR(A491+1>(IF(Simulador!$E$7=\"Autopatrocínio\",Simulador!$C$10,Simulador!$C$9)-Simulador!$C$8)*12,A491=0),0,A491+1)","v":0},{"$f":"IF($A492=0,0,IF(INT($A491/12)-$A491/12=0,B491*(1+Simulador!$C$35),B491))","v":0},{"$f":"MAX(IF(A492=0,0,B492-IF(Simulador!$C$11=\"Individual\",0,Simulador!$C$14)),0)","v":0},null,0,0,0,0,0,0,null,0,0,0,0,0,0,null,0,0,0,0,0,null,{"$f":"IF(OR(Y491+1>(IF(AND(Simulador!$C$9<Simulador!$C$10,OR(Simulador!$E$7=\"Resgate\",Simulador!$E$7=\"Portabilidade\")),Simulador!$C$9,Simulador!$C$10)-Simulador!$C$8)*12,Y491=0),0,Y491+1)","v":488},{"$f":"IF($Y492=0,0,Z491*(1+Simulador!$D$34)+E492+L492)","v":0},{"$f":"IF($Y492=0,0,AA491*(1+Simulador!$D$34)+S492)","v":0},{"$f":"IF(OR(AB491+1>(IF(AND(Simulador!$C$9<Simulador!$C$10,OR(Simulador!$E$7=\"Resgate\",Simulador!$E$7=\"Portabilidade\")),Simulador!$C$9,Simulador!$C$50)-Simulador!$C$8)*12,AB491=0),0,AB491+1)","v":488},{"$f":"IF($AB492=0,0,AC491*(1+Simulador!$D$34)+F492+M492)","v":0},{"$f":"IF($AB492=0,0,AD491*(1+Simulador!$D$34)+T492)","v":0}]
[{"$f":"IF(OR(A492+1>(IF(Simulador!$E$7=\"Autopatrocínio\",Simulador!$C$10,Simulador!$C$9)-Simulador!$C$8)*12,A492=0),0,A492+1)","v":0},{"$f":"IF($A493=0,0,IF(INT($A492/12)-$A492/12=0,B492*(1+Simulador!$C$35),B492))","v":0},{"$f":"MAX(IF(A493=0,0,B493-IF(Simulador!$C$11=\"Individual\",0,Simulador!$C$14)),0)","v":0},null,0,0,0,0,0,0,null,0,0,0,0,0,0,null,0,0,0,0,0,null,{"$f":"IF(OR(Y492+1>(IF(AND(Simulador!$C$9<Simulador!$C$10,OR(Simulador!$E$7=\"Resgate\",Simulador!$E$7=\"Portabilidade\")),Simulador!$C$9,Simulador!$C$10)-Simulador!$C$8)*12,Y492=0),0,Y492+1)","v":489},{"$f":"IF($Y493=0,0,Z492*(1+Simulador!$D$34)+E493+L493)","v":0},{"$f":"IF($Y493=0,0,AA492*(1+Simulador!$D$34)+S493)","v":0},{"$f":"IF(OR(AB492+1>(IF(AND(Simulador!$C$9<Simulador!$C$10,OR(Simulador!$E$7=\"Resgate\",Simulador!$E$7=\"Portabilidade\")),Simulador!$C$9,Simulador!$C$50)-Simulador!$C$8)*12,AB492=0),0,AB492+1)","v":489},{"$f":"IF($AB493=0,0,AC492*(1+Simulador!$D$34)+F493+M493)","v":0},{"$f":"IF($AB493=0,0,AD492*(1+Simulador!$D$34)+T493)","v":0}]
[{"$f":"IF(OR(A493+1>(IF(Simulador!$E$7=\"Autopatrocínio\",Simulador!$C$10,Simulador!$C$9)-Simulador!$C$8)*12,A493=0),0,A493+1)","v":0},{"$f":"IF($A494=0,0,IF(INT($A493/12)-$A493/12=0,B493*(1+Simulador!$C$35),B493))","v":0},{"$f":"MAX(IF(A494=0,0,B494-IF(Simulador!$C$11=\"Individual\",0,Simulador!$C$14)),0)","v":0},null,0,0,0,0,0,0,null,0,0,0,0,0,0,null,0,0,0,0,0,null,{"$f":"IF(OR(Y493+1>(IF(AND(Simulador!$C$9<Simulador!$C$10,OR(Simulador!$E$7=\"Resgate\",Simulador!$E$7=\"Portabilidade\")),Simulador!$C$9,Simulador!$C$10)-Simulador!$C$8)*12,Y493=0),0,Y493+1)","v":490},{"$f":"IF($Y494=0,0,Z493*(1+Simulador!$D$34)+E494+L494)","v":0},{"$f":"IF($Y494=0,0,AA493*(1+Simulador!$D$34)+S494)","v":0},{"$f":"IF(OR(AB493+1>(IF(AND(Simulador!$C$9<Simulador!$C$10,OR(Simulador!$E$7=\"Resgate\",Simulador!$E$7=\"Portabilidade\")),Simulador!$C$9,Simulador!$C$50)-Simulador!$C$8)*12,AB493=0),0,AB493+1)","v":490},{"$f":"IF($AB494=0,0,AC493*(1+Simulador!$D$34)+F494+M494)","v":0},{"$f":"IF($AB494=0,0,AD493*(1+Simulador!$D$34)+T494)","v":0}]
[{"$f":"IF(OR(A494+1>(IF(Simulador!$E$7=\"Autopatrocínio\",Simulador!$C$10,Simulador!$C$9)-Simulador!$C$8)*12,A494=0),0,A494+1)","v":0},{"$f":"IF($A495=0,0,IF(INT($A494/12)-$A494/12=0,B494*(1+Simulador!$C$35),B494))","v":0},{"$f":"MAX(IF(A495=0,0,B495-IF(Simulador!$C$11=\"Individual\",0,Simulador!$C$14)),0)","v":0},null,0,0,0,0,0,0,null,0,0,0,0,0,0,null,0,0,0,0,0,null,{"$f":"IF(OR(Y494+1>(IF(AND(Simulador!$C$9<Simulador!$C$10,OR(Simulador!$E$7=\"Resgate\",Simulador!$E$7=\"Portabilidade\")),Simulador!$C$9,Simulador!$C$10)-Simulador!$C$8)*12,Y494=0),0,Y494+1)","v":491},{"$f":"IF($Y495=0,0,Z494*(1+Simulador!$D$34)+E495+L495)","v":0},{"$f":"IF($Y495=0,0,AA494*(1+Simulador!$D$34)+S495)","v":0},{"$f":"IF(OR(AB494+1>(IF(AND(Simulador!$C$9<Simulador!$C$10,OR(Simulador!$E$7=\"Resgate\",Simulador!$E$7=\"Portabilidade\")),Simulador!$C$9,Simulador!$C$50)-Simulador!$C$8)*12,AB494=0),0,AB494+1)","v":491},{"$f":"IF($AB495=0,0,AC494*(1+Simulador!$D$34)+F495+M495)","v":0},{"$f":"IF($AB495=0,0,AD494*(1+Simulador!$D$34)+T495)","v":0}]
[{"$f":"IF(OR(A495+1>(IF(Simulador!$E$7=\"Autopatrocínio\",Simulador!$C$10,Simulador!$C$9)-Simulador!$C$8)*12,A495=0),0,A495+1)","v":0},{"$f":"IF($A496=0,0,IF(INT($A495/12)-$A495/12=0,B495*(1+Simulador!$C$35),B495))","v":0},{"$f":"MAX(IF(A496=0,0,B496-IF(Simulador!$C$11=\"Individual\",0,Simulador!$C$14)),0)","v":0},null,0,0,0,0,0,0,null,0,0,0,0,0,0,null,0,0,0,0,0,null,{"$f":"IF(OR(Y495+1>(IF(AND(Simulador!$C$9<Simulador!$C$10,OR(Simulador!$E$7=\"Resgate\",Simulador!$E$7=\"Portabilidade\")),Simulador!$C$9,Simulador!$C$10)-Simulador!$C$8)*12,Y495=0),0,Y495+1)","v":492},{"$f":"IF($Y496=0,0,Z495*(1+Simulador!$D$34)+E496+L496)","v":0},{"$f":"IF($Y496=0,0,AA495*(1+Simulador!$D$34)+S496)","v":0},{"$f":"IF(OR(AB495+1>(IF(AND(Simulador!$C$9<Simulador!$C$10,OR(Simulador!$E$7=\"Resgate\",Simulador!$E$7=\"Portabilidade\")),Simulador!$C$9,Simulador!$C$50)-Simulador!$C$8)*12,AB495=0),0,AB495+1)","v":492},{"$f":"IF($AB496=0,0,AC495*(1+Simulador!$D$34)+F496+M496)","v":0},{"$f":"IF($AB496=0,0,AD495*(1+Simulador!$D$34)+T496)","v":0}]
[{"$f":"IF(OR(A496+1>(IF(Simulador!$E$7=\"Autopatrocínio\",Simulador!$C$10,Simulador!$C$9)-Simulador!$C$8)*12,A496=0),0,A496+1)","v":0},{"$f":"IF($A497=0,0,IF(INT($A496/12)-$A496/12=0,B496*(1+Simulador!$C$35),B496))","v":0},{"$f":"MAX(IF(A497=0,0,B497-IF(Simulador!$C$11=\"Individual\",0,Simulador!$C$14)),0)","v":0},null,0,0,0,0,0,0,null,0,0,0,0,0,0,null,0,0,0,0,0,null,{"$f":"IF(OR(Y496+1>(IF(AND(Simulador!$C$9<Simulador!$C$10,OR(Simulador!$E$7=\"Resgate\",Simulador!$E$7=\"Portabilidade\")),Simulador!$C$9,Simulador!$C$10)-Simulador!$C$8)*12,Y496=0),0,Y496+1)","v":493},{"$f":"IF($Y497=0,0,Z496*(1+Simulador!$D$34)+E497+L497)","v":0},{"$f":"IF($Y497=0,0,AA496*(1+Simulador!$D$34)+S497)","v":0},{"$f":"IF(OR(AB496+1>(IF(AND(Simulador!$C$9<Simulador!$C$10,OR(Simulador!$E$7=\"Resgate\",Simulador!$E$7=\"Portabilidade\")),Simulador!$C$9,Simulador!$C$50)-Simulador!$C$8)*12,AB496=0),0,AB496+1)","v":493},{"$f":"IF($AB497=0,0,AC496*(1+Simulador!$D$34)+F497+M497)","v":0},{"$f":"IF($AB497=0,0,AD496*(1+Simulador!$D$34)+T497)","v":0}]
[{"$f":"IF(OR(A497+1>(IF(Simulador!$E$7=\"Autopatrocínio\",Simulador!$C$10,Simulador!$C$9)-Simulador!$C$8)*12,A497=0),0,A497+1)","v":0},{"$f":"IF($A498=0,0,IF(INT($A497/12)-$A497/12=0,B497*(1+Simulador!$C$35),B497))","v":0},{"$f":"MAX(IF(A498=0,0,B498-IF(Simulador!$C$11=\"Individual\",0,Simulador!$C$14)),0)","v":0},null,0,0,0,0,0,0,null,0,0,0,0,0,0,null,0,0,0,0,0,null,{"$f":"IF(OR(Y497+1>(IF(AND(Simulador!$C$9<Simulador!$C$10,OR(Simulador!$E$7=\"Resgate\",Simulador!$E$7=\"Portabilidade\")),Simulador!$C$9,Simulador!$C$10)-Simulador!$C$8)*12,Y497=0),0,Y497+1)","v":494},{"$f":"IF($Y498=0,0,Z497*(1+Simulador!$D$34)+E498+L498)","v":0},{"$f":"IF($Y498=0,0,AA497*(1+Simulador!$D$34)+S498)","v":0},{"$f":"IF(OR(AB497+1>(IF(AND(Simulador!$C$9<Simulador!$C$10,OR(Simulador!$E$7=\"Resgate\",Simulador!$E$7=\"Portabilidade\")),Simulador!$C$9,Simulador!$C$50)-Simulador!$C$8)*12,AB497=0),0,AB497+1)","v":494},{"$f":"IF($AB498=0,0,AC497*(1+Simulador!$D$34)+F498+M498)","v":0},{"$f":"IF($AB498=0,0,AD497*(1+Simulador!$D$34)+T498)","v":0}]
[{"$f":"IF(OR(A498+1>(IF(Simulador!$E$7=\"Autopatrocínio\",Simulador!$C$10,Simulador!$C$9)-Simulador!$C$8)*12,A498=0),0,A498+1)","v":0},{"$f":"IF($A499=0,0,IF(INT($A498/12)-$A498/12=0,B498*(1+Simulador!$C$35),B498))","v":0},{"$f":"MAX(IF(A499=0,0,B499-IF(Simulador!$C$11=\"Individual\",0,Simulador!$C$14)),0)","v":0},null,0,0,0,0,0,0,null,0,0,0,0,0,0,null,0,0,0,0,0,null,{"$f":"IF(OR(Y498+1>(IF(AND(Simulador!$C$9<Simulador!$C$10,OR(Simulador!$E$7=\"Resgate\",Simulador!$E$7=\"Portabilidade\")),Simulador!$C$9,Simulador!$C$10)-Simulador!$C$8)*12,Y498=0),0,Y498+1)","v":495},{"$f":"IF($Y499=0,0,Z498*(1+Simulador!$D$34)+E499+L499)","v":0},{"$f":"IF($Y499=0,0,AA498*(1+Simulador!$D$34)+S499)","v":0},{"$f":"IF(OR(AB498+1>(IF(AND(Simulador!$C$9<Simulador!$C$10,OR(Simulador!$E$7=\"Resgate\",Simulador!$E$7=\"Portabilidade\")),Simulador!$C$9,Simulador!$C$50)-Simulador!$C$8)*12,AB498=0),0,AB498+1)","v":495},{"$f":"IF($AB499=0,0,AC498*(1+Simulador!$D$34)+F499+M499)","v":0},{"$f":"IF($AB499=0,0,AD498*(1+Simulador!$D$34)+T499)","v":0}]
[{"$f":"IF(OR(A499+1>(IF(Simulador!$E$7=\"Autopatrocínio\",Simulador!$C$10,Simulador!$C$9)-Simulador!$C$8)*12,A499=0),0,A499+1)","v":0},{"$f":"IF($A500=0,0,IF(INT($A499/12)-$A499/12=0,B499*(1+Simulador!$C$35),B499))","v":0},{"$f":"MAX(IF(A500=0,0,B500-IF(Simulador!$C$11=\"Individual\",0,Simulador!$C$14)),0)","v":0},null,0,0,0,0,0,0,null,0,0,0,0,0,0,null,0,0,0,0,0,null,{"$f":"IF(OR(Y499+1>(IF(AND(Simulador!$C$9<Simulador!$C$10,OR(Simulador!$E$7=\"Resgate\",Simulador!$E$7=\"Portabilidade\")),Simulador!$C$9,Simulador!$C$10)-Simulador!$C$8)*12,Y499=0),0,Y499+1)","v":496},{"$f":"IF($Y500=0,0,Z499*(1+Simulador!$D$34)+E500+L500)","v":0},{"$f":"IF($Y500=0,0,AA499*(1+Simulador!$D$34)+S500)","v":0},{"$f":"IF(OR(AB499+1>(IF(AND(Simulador!$C$9<Simulador!$C$10,OR(Simulador!$E$7=\"Resgate\",Simulador!$E$7=\"Portabilidade\")),Simulador!$C$9,Simulador!$C$50)-Simulador!$C$8)*12,AB499=0),0,AB499+1)","v":496},{"$f":"IF($AB500=0,0,AC499*(1+Simulador!$D$34)+F500+M500)","v":0},{"$f":"IF($AB500=0,0,AD499*(1+Simulador!$D$34)+T500)","v":0}]
[{"$f":"IF(OR(A500+1>(IF(Simulador!$E$7=\"Autopatrocínio\",Simulador!$C$10,Simulador!$C$9)-Simulador!$C$8)*12,A500=0),0,A500+1)","v":0},{"$f":"IF($A501=0,0,IF(INT($A500/12)-$A500/12=0,B500*(1+Simulador!$C$35),B500))","v":0},{"$f":"MAX(IF(A501=0,0,B501-IF(Simulador!$C$11=\"Individual\",0,Simulador!$C$14)),0)","v":0},null,{"$f":"E$4*$C501*(1+$J501)","v":0},0,0,0,0,0,null,{"$f":"L$4*$C501*$Q501","v":0},0,0,0,0,0,null,{"$f":"S$4*$C501*(1+$J501)","v":0},0,0,0,0,null,{"$f":"IF(OR(Y500+1>(IF(AND(Simulador!$C$9<Simulador!$C$10,OR(Simulador!$E$7=\"Resgate\",Simulador!$E$7=\"Portabilidade\")),Simulador!$C$9,Simulador!$C$10)-Simulador!$C$8)*12,Y500=0),0,Y500+1)","v":497},{"$f":"IF($Y501=0,0,Z500*(1+Simulador!$D$34)+E501+L501)","v":0},{"$f":"IF($Y501=0,0,AA500*(1+Simulador!$D$34)+S501)","v":0},{"$f":"IF(OR(AB500+1>(IF(AND(Simulador!$C$9<Simulador!$C$10,OR(Simulador!$E$7=\"Resgate\",Simulador!$E$7=\"Portabilidade\")),Simulador!$C$9,Simulador!$C$50)-Simulador!$C$8)*12,AB500=0),0,AB500+1)","v":497},{"$f":"IF($AB501=0,0,AC500*(1+Simulador!$D$34)+F501+M501)","v":0},{"$f":"IF($AB501=0,0,AD500*(1+Simulador!$D$34)+T501)","v":0}]
[{"$f":"IF(OR(A501+1>(IF(Simulador!$E$7=\"Autopatrocínio\",Simulador!$C$10,Simulador!$C$9)-Simulador!$C$8)*12,A501=0),0,A501+1)","v":0},{"$f":"IF($A502=0,0,IF(INT($A501/12)-$A501/12=0,B501*(1+Simulador!$C$35),B501))","v":0},{"$f":"MAX(IF(A502=0,0,B502-IF(Simulador!$C$11=\"Individual\",0,Simulador!$C$14)),0)","v":0},null,0,0,0,0,0,0,null,0,0,0,0,0,0,null,0,0,0,0,0,null,{"$f":"IF(OR(Y501+1>(IF(AND(Simulador!$C$9<Simulador!$C$10,OR(Simulador!$E$7=\"Resgate\",Simulador!$E$7=\"Portabilidade\")),Simulador!$C$9,Simulador!$C$10)-Simulador!$C$8)*12,Y501=0),0,Y501+1)","v":498},{"$f":"IF($Y502=0,0,Z501*(1+Simulador!$D$34)+E502+L502)","v":0},{"$f":"IF($Y502=0,0,AA501*(1+Simulador!$D$34)+S502)","v":0},{"$f":"IF(OR(AB501+1>(IF(AND(Simulador!$C$9<Simulador!$C$10,OR(Simulador!$E$7=\"Resgate\",Simulador!$E$7=\"Portabilidade\")),Simulador!$C$9,Simulador!$C$50)-Simulador!$C$8)*12,AB501=0),0,AB501+1)","v":498},{"$f":"IF($AB502=0,0,AC501*(1+Simulador!$D$34)+F502+M502)","v":0},{"$f":"IF($AB502=0,0,AD501*(1+Simulador!$D$34)+T502)","v":0}]
[{"$f":"IF(OR(A502+1>(IF(Simulador!$E$7=\"Autopatrocínio\",Simulador!$C$10,Simulador!$C$9)-Simulador!$C$8)*12,A502=0),0,A502+1)","v":0},{"$f":"IF($A503=0,0,IF(INT($A502/12)-$A502/12=0,B502*(1+Simulador!$C$35),B502))","v":0},{"$f":"MAX(IF(A503=0,0,B503-IF(Simulador!$C$11=\"Individual\",0,Simulador!$C$14)),0)","v":0},null,0,0,0,0,0,0,null,0,0,0,0,0,0,null,0,0,0,0,0,null,{"$f":"IF(OR(Y502+1>(IF(AND(Simulador!$C$9<Simulador!$C$10,OR(Simulador!$E$7=\"Resgate\",Simulador!$E$7=\"Portabilidade\")),Simulador!$C$9,Simulador!$C$10)-Simulador!$C$8)*12,Y502=0),0,Y502+1)","v":499},{"$f":"IF($Y503=0,0,Z502*(1+Simulador!$D$34)+E503+L503)","v":0},{"$f":"IF($Y503=0,0,AA502*(1+Simulador!$D$34)+S503)","v":0},{"$f":"IF(OR(AB502+1>(IF(AND(Simulador!$C$9<Simulador!$C$10,OR(Simulador!$E$7=\"Resgate\",Simulador!$E$7=\"Portabilidade\")),Simulador!$C$9,Simulador!$C$50)-Simulador!$C$8)*12,AB502=0),0,AB502+1)","v":499},{"$f":"IF($AB503=0,0,AC502*(1+Simulador!$D$34)+F503+M503)","v":0},{"$f":"IF($AB503=0,0,AD502*(1+Simulador!$D$34)+T503)","v":0}]
[{"$f":"IF(OR(A503+1>(IF(Simulador!$E$7=\"Autopatrocínio\",Simulador!$C$10,Simulador!$C$9)-Simulador!$C$8)*12,A503=0),0,A503+1)","v":0},{"$f":"IF($A504=0,0,IF(INT($A503/12)-$A503/12=0,B503*(1+Simulador!$C$35),B503))","v":0},{"$f":"MAX(IF(A504=0,0,B504-IF(Simulador!$C$11=\"Individual\",0,Simulador!$C$14)),0)","v":0},null,0,0,0,0,0,0,null,0,0,0,0,0,0,null,0,0,0,0,0,null,{"$f":"IF(OR(Y503+1>(IF(AND(Simulador!$C$9<Simulador!$C$10,OR(Simulador!$E$7=\"Resgate\",Simulador!$E$7=\"Portabilidade\")),Simulador!$C$9,Simulador!$C$10)-Simulador!$C$8)*12,Y503=0),0,Y503+1)","v":500},{"$f":"IF($Y504=0,0,Z503*(1+Simulador!$D$34)+E504+L504)","v":0},{"$f":"IF($Y504=0,0,AA503*(1+Simulador!$D$34)+S504)","v":0},{"$f":"IF(OR(AB503+1>(IF(AND(Simulador!$C$9<Simulador!$C$10,OR(Simulador!$E$7=\"Resgate\",Simulador!$E$7=\"Portabilidade\")),Simulador!$C$9,Simulador!$C$50)-Simulador!$C$8)*12,AB503=0),0,AB503+1)","v":500},{"$f":"IF($AB504=0,0,AC503*(1+Simulador!$D$34)+F504+M504)","v":0},{"$f":"IF($AB504=0,0,AD503*(1+Simulador!$D$34)+T504)","v":0}]
[{"$f":"IF(OR(A504+1>(IF(Simulador!$E$7=\"Autopatrocínio\",Simulador!$C$10,Simulador!$C$9)-Simulador!$C$8)*12,A504=0),0,A504+1)","v":0},{"$f":"IF($A505=0,0,IF(INT($A504/12)-$A504/12=0,B504*(1+Simulador!$C$35),B504))","v":0},{"$f":"MAX(IF(A505=0,0,B505-IF(Simulador!$C$11=\"Individual\",0,Simulador!$C$14)),0)","v":0},null,0,0,0,0,0,0,null,0,0,0,0,0,0,null,0,0,0,0,0,null,{"$f":"IF(OR(Y504+1>(IF(AND(Simulador!$C$9<Simulador!$C$10,OR(Simulador!$E$7=\"Resgate\",Simulador!$E$7=\"Portabilidade\")),Simulador!$C$9,Simulador!$C$10)-Simulador!$C$8)*12,Y504=0),0,Y504+1)","v":501},{"$f":"IF($Y505=0,0,Z504*(1+Simulador!$D$34)+E505+L505)","v":0},{"$f":"IF($Y505=0,0,AA504*(1+Simulador!$D$34)+S505)","v":0},{"$f":"IF(OR(AB504+1>(IF(AND(Simulador!$C$9<Simulador!$C$10,OR(Simulador!$E$7=\"Resgate\",Simulador!$E$7=\"Portabilidade\")),Simulador!$C$9,Simulador!$C$50)-Simulador!$C$8)*12,AB504=0),0,AB504+1)","v":501},{"$f":"IF($AB505=0,0,AC504*(1+Simulador!$D$34)+F505+M505)","v":0},{"$f":"IF($AB505=0,0,AD504*(1+Simulador!$D$34)+T505)","v":0}]
[{"$f":"IF(OR(A505+1>(IF(Simulador!$E$7=\"Autopatrocínio\",Simulador!$C$10,Simulador!$C$9)-Simulador!$C$8)*12,A505=0),0,A505+1)","v":0},{"$f":"IF($A506=0,0,IF(INT($A505/12)-$A505/12=0,B505*(1+Simulador!$C$35),B505))","v":0},{"$f":"MAX(IF(A506=0,0,B506-IF(Simulador!$C$11=\"Individual\",0,Simulador!$C$14)),0)","v":0},null,0,0,0,0,0,0,null,0,0,0,0,0,0,null,0,0,0,0,0,null,{"$f":"IF(OR(Y505+1>(IF(AND(Simulador!$C$9<Simulador!$C$10,OR(Simulador!$E$7=\"Resgate\",Simulador!$E$7=\"Portabilidade\")),Simulador!$C$9,Simulador!$C$10)-Simulador!$C$8)*12,Y505=0),0,Y505+1)","v":502},{"$f":"IF($Y506=0,0,Z505*(1+Simulador!$D$34)+E506+L506)","v":0},{"$f":"IF($Y506=0,0,AA505*(1+Simulador!$D$34)+S506)","v":0},{"$f":"IF(OR(AB505+1>(IF(AND(Simulador!$C$9<Simulador!$C$10,OR(Simulador!$E$7=\"Resgate\",Simulador!$E$7=\"Portabilidade\")),Simulador!$C$9,Simulador!$C$50)-Simulador!$C$8)*12,AB505=0),0,AB505+1)","v":502},{"$f":"IF($AB506=0,0,AC505*(1+Simulador!$D$34)+F506+M506)","v":0},{"$f":"IF($AB506=0,0,AD505*(1+Simulador!$D$34)+T506)","v":0}]
[{"$f":"IF(OR(A506+1>(IF(Simulador!$E$7=\"Autopatrocínio\",Simulador!$C$10,Simulador!$C$9)-Simulador!$C$8)*12,A506=0),0,A506+1)","v":0},{"$f":"IF($A507=0,0,IF(INT($A506/12)-$A506/12=0,B506*(1+Simulador!$C$35),B506))","v":0},{"$f":"MAX(IF(A507=0,0,B507-IF(Simulador!$C$11=\"Individual\",0,Simulador!$C$14)),0)","v":0},null,0,0,0,0,0,0,null,0,0,0,0,0,0,null,0,0,0,0,0,null,{"$f":"IF(OR(Y506+1>(IF(AND(Simulador!$C$9<Simulador!$C$10,OR(Simulador!$E$7=\"Resgate\",Simulador!$E$7=\"Portabilidade\")),Simulador!$C$9,Simulador!$C$10)-Simulador!$C$8)*12,Y506=0),0,Y506+1)","v":503},{"$f":"IF($Y507=0,0,Z506*(1+Simulador!$D$34)+E507+L507)","v":0},{"$f":"IF($Y507=0,0,AA506*(1+Simulador!$D$34)+S507)","v":0},{"$f":"IF(OR(AB506+1>(IF(AND(Simulador!$C$9<Simulador!$C$10,OR(Simulador!$E$7=\"Resgate\",Simulador!$E$7=\"Portabilidade\")),Simulador!$C$9,Simulador!$C$50)-Simulador!$C$8)*12,AB506=0),0,AB506+1)","v":503},{"$f":"IF($AB507=0,0,AC506*(1+Simulador!$D$34)+F507+M507)","v":0},{"$f":"IF($AB507=0,0,AD506*(1+Simulador!$D$34)+T507)","v":0}]
[{"$f":"IF(OR(A507+1>(IF(Simulador!$E$7=\"Autopatrocínio\",Simulador!$C$10,Simulador!$C$9)-Simulador!$C$8)*12,A507=0),0,A507+1)","v":0},{"$f":"IF($A508=0,0,IF(INT($A507/12)-$A507/12=0,B507*(1+Simulador!$C$35),B507))","v":0},{"$f":"MAX(IF(A508=0,0,B508-IF(Simulador!$C$11=\"Individual\",0,Simulador!$C$14)),0)","v":0},null,0,0,0,0,0,0,null,0,0,0,0,0,0,null,0,0,0,0,0,null,{"$f":"IF(OR(Y507+1>(IF(AND(Simulador!$C$9<Simulador!$C$10,OR(Simulador!$E$7=\"Resgate\",Simulador!$E$7=\"Portabilidade\")),Simulador!$C$9,Simulador!$C$10)-Simulador!$C$8)*12,Y507=0),0,Y507+1)","v":504},{"$f":"IF($Y508=0,0,Z507*(1+Simulador!$D$34)+E508+L508)","v":0},{"$f":"IF($Y508=0,0,AA507*(1+Simulador!$D$34)+S508)","v":0},{"$f":"IF(OR(AB507+1>(IF(AND(Simulador!$C$9<Simulador!$C$10,OR(Simulador!$E$7=\"Resgate\",Simulador!$E$7=\"Portabilidade\")),Simulador!$C$9,Simulador!$C$50)-Simulador!$C$8)*12,AB507=0),0,AB507+1)","v":504},{"$f":"IF($AB508=0,0,AC507*(1+Simulador!$D$34)+F508+M508)","v":0},{"$f":"IF($AB508=0,0,AD507*(1+Simulador!$D$34)+T508)","v":0}]
[{"$f":"IF(OR(A508+1>(IF(Simulador!$E$7=\"Autopatrocínio\",Simulador!$C$10,Simulador!$C$9)-Simulador!$C$8)*12,A508=0),0,A508+1)","v":0},{"$f":"IF($A509=0,0,IF(INT($A508/12)-$A508/12=0,B508*(1+Simulador!$C$35),B508))","v":0},{"$f":"MAX(IF(A509=0,0,B509-IF(Simulador!$C$11=\"Individual\",0,Simulador!$C$14)),0)","v":0},null,0,0,0,0,0,0,null,0,0,0,0,0,0,null,0,0,0,0,0,null,{"$f":"IF(OR(Y508+1>(IF(AND(Simulador!$C$9<Simulador!$C$10,OR(Simulador!$E$7=\"Resgate\",Simulador!$E$7=\"Portabilidade\")),Simulador!$C$9,Simulador!$C$10)-Simulador!$C$8)*12,Y508=0),0,Y508+1)","v":505},{"$f":"IF($Y509=0,0,Z508*(1+Simulador!$D$34)+E509+L509)","v":0},{"$f":"IF($Y509=0,0,AA508*(1+Simulador!$D$34)+S509)","v":0},{"$f":"IF(OR(AB508+1>(IF(AND(Simulador!$C$9<Simulador!$C$10,OR(Simulador!$E$7=\"Resgate\",Simulador!$E$7=\"Portabilidade\")),Simulador!$C$9,Simulador!$C$50)-Simulador!$C$8)*12,AB508=0),0,AB508+1)","v":505},{"$f":"IF($AB509=0,0,AC508*(1+Simulador!$D$34)+F509+M509)","v":0},{"$f":"IF($AB509=0,0,AD508*(1+Simulador!$D$34)+T509)","v":0}]
[{"$f":"IF(OR(A509+1>(IF(Simulador!$E$7=\"Autopatrocínio\",Simulador!$C$10,Simulador!$C$9)-Simulador!$C$8)*12,A509=0),0,A509+1)","v":0},{"$f":"IF($A510=0,0,IF(INT($A509/12)-$A509/12=0,B509*(1+Simulador!$C$35),B509))","v":0},{"$f":"MAX(IF(A510=0,0,B510-IF(Simulador!$C$11=\"Individual\",0,Simulador!$C$14)),0)","v":0},null,0,0,0,0,0,0,null,0,0,0,0,0,0,null,0,0,0,0,0,null,{"$f":"IF(OR(Y509+1>(IF(AND(Simulador!$C$9<Simulador!$C$10,OR(Simulador!$E$7=\"Resgate\",Simulador!$E$7=\"Portabilidade\")),Simulador!$C$9,Simulador!$C$10)-Simulador!$C$8)*12,Y509=0),0,Y509+1)","v":506},{"$f":"IF($Y510=0,0,Z509*(1+Simulador!$D$34)+E510+L510)","v":0},{"$f":"IF($Y510=0,0,AA509*(1+Simulador!$D$34)+S510)","v":0},{"$f":"IF(OR(AB509+1>(IF(AND(Simulador!$C$9<Simulador!$C$10,OR(Simulador!$E$7=\"Resgate\",Simulador!$E$7=\"Portabilidade\")),Simulador!$C$9,Simulador!$C$50)-Simulador!$C$8)*12,AB509=0),0,AB509+1)","v":506},{"$f":"IF($AB510=0,0,AC509*(1+Simulador!$D$34)+F510+M510)","v":0},{"$f":"IF($AB510=0,0,AD509*(1+Simulador!$D$34)+T510)","v":0}]
[{"$f":"IF(OR(A510+1>(IF(Simulador!$E$7=\"Autopatrocínio\",Simulador!$C$10,Simulador!$C$9)-Simulador!$C$8)*12,A510=0),0,A510+1)","v":0},{"$f":"IF($A511=0,0,IF(INT($A510/12)-$A510/12=0,B510*(1+Simulador!$C$35),B510))","v":0},{"$f":"MAX(IF(A511=0,0,B511-IF(Simulador!$C$11=\"Individual\",0,Simulador!$C$14)),0)","v":0},null,0,0,0,0,0,0,null,0,0,0,0,0,0,null,0,0,0,0,0,null,{"$f":"IF(OR(Y510+1>(IF(AND(Simulador!$C$9<Simulador!$C$10,OR(Simulador!$E$7=\"Resgate\",Simulador!$E$7=\"Portabilidade\")),Simulador!$C$9,Simulador!$C$10)-Simulador!$C$8)*12,Y510=0),0,Y510+1)","v":507},{"$f":"IF($Y511=0,0,Z510*(1+Simulador!$D$34)+E511+L511)","v":0},{"$f":"IF($Y511=0,0,AA510*(1+Simulador!$D$34)+S511)","v":0},{"$f":"IF(OR(AB510+1>(IF(AND(Simulador!$C$9<Simulador!$C$10,OR(Simulador!$E$7=\"Resgate\",Simulador!$E$7=\"Portabilidade\")),Simulador!$C$9,Simulador!$C$50)-Simulador!$C$8)*12,AB510=0),0,AB510+1)","v":507},{"$f":"IF($AB511=0,0,AC510*(1+Simulador!$D$34)+F511+M511)","v":0},{"$f":"IF($AB511=0,0,AD510*(1+Simulador!$D$34)+T511)","v":0}]
[{"$f":"IF(OR(A511+1>(IF(Simulador!$E$7=\"Autopatrocínio\",Simulador!$C$10,Simulador!$C$9)-Simulador!$C$8)*12,A511=0),0,A511+1)","v":0},{"$f":"IF($A512=0,0,IF(INT($A511/12)-$A511/12=0,B511*(1+Simulador!$C$35),B511))","v":0},{"$f":"MAX(IF(A512=0,0,B512-IF(Simulador!$C$11=\"Individual\",0,Simulador!$C$14)),0)","v":0},null,0,0,0,0,0,0,null,0,0,0,0,0,0,null,0,0,0,0,0,null,{"$f":"IF(OR(Y511+1>(IF(AND(Simulador!$C$9<Simulador!$C$10,OR(Simulador!$E$7=\"Resgate\",Simulador!$E$7=\"Portabilidade\")),Simulador!$C$9,Simulador!$C$10)-Simulador!$C$8)*12,Y511=0),0,Y511+1)","v":508},{"$f":"IF($Y512=0,0,Z511*(1+Simulador!$D$34)+E512+L512)","v":0},{"$f":"IF($Y512=0,0,AA511*(1+Simulador!$D$34)+S512)","v":0},{"$f":"IF(OR(AB511+1>(IF(AND(Simulador!$C$9<Simulador!$C$10,OR(Simulador!$E$7=\"Resgate\",Simulador!$E$7=\"Portabilidade\")),Simulador!$C$9,Simulador!$C$50)-Simulador!$C$8)*12,AB511=0),0,AB511+1)","v":508},{"$f":"IF($AB512=0,0,AC511*(1+Simulador!$D$34)+F512+M512)","v":0},{"$f":"IF($AB512=0,0,AD511*(1+Simulador!$D$34)+T512)","v":0}]
[{"$f":"IF(OR(A512+1>(IF(Simulador!$E$7=\"Autopatrocínio\",Simulador!$C$10,Simulador!$C$9)-Simulador!$C$8)*12,A512=0),0,A512+1)","v":0},{"$f":"IF($A513=0,0,IF(INT($A512/12)-$A512/12=0,B512*(1+Simulador!$C$35),B512))","v":0},{"$f":"MAX(IF(A513=0,0,B513-IF(Simulador!$C$11=\"Individual\",0,Simulador!$C$14)),0)","v":0},null,0,0,0,0,0,0,null,0,0,0,0,0,0,null,0,0,0,0,0,null,{"$f":"IF(OR(Y512+1>(IF(AND(Simulador!$C$9<Simulador!$C$10,OR(Simulador!$E$7=\"Resgate\",Simulador!$E$7=\"Portabilidade\")),Simulador!$C$9,Simulador!$C$10)-Simulador!$C$8)*12,Y512=0),0,Y512+1)","v":509},{"$f":"IF($Y513=0,0,Z512*(1+Simulador!$D$34)+E513+L513)","v":0},{"$f":"IF($Y513=0,0,AA512*(1+Simulador!$D$34)+S513)","v":0},{"$f":"IF(OR(AB512+1>(IF(AND(Simulador!$C$9<Simulador!$C$10,OR(Simulador!$E$7=\"Resgate\",Simulador!$E$7=\"Portabilidade\")),Simulador!$C$9,Simulador!$C$50)-Simulador!$C$8)*12,AB512=0),0,AB512+1)","v":509},{"$f":"IF($AB513=0,0,AC512*(1+Simulador!$D$34)+F513+M513)","v":0},{"$f":"IF($AB513=0,0,AD512*(1+Simulador!$D$34)+T513)","v":0}]
[{"$f":"IF(OR(A513+1>(IF(Simulador!$E$7=\"Autopatrocínio\",Simulador!$C$10,Simulador!$C$9)-Simulador!$C$8)*12,A513=0),0,A513+1)","v":0},{"$f":"IF($A514=0,0,IF(INT($A513/12)-$A513/12=0,B513*(1+Simulador!$C$35),B513))","v":0},{"$f":"MAX(IF(A514=0,0,B514-IF(Simulador!$C$11=\"Individual\",0,Simulador!$C$14)),0)","v":0},null,0,0,0,0,0,0,null,0,0,0,0,0,0,null,0,0,0,0,0,null,{"$f":"IF(OR(Y513+1>(IF(AND(Simulador!$C$9<Simulador!$C$10,OR(Simulador!$E$7=\"Resgate\",Simulador!$E$7=\"Portabilidade\")),Simulador!$C$9,Simulador!$C$10)-Simulador!$C$8)*12,Y513=0),0,Y513+1)","v":510},{"$f":"IF($Y514=0,0,Z513*(1+Simulador!$D$34)+E514+L514)","v":0},{"$f":"IF($Y514=0,0,AA513*(1+Simulador!$D$34)+S514)","v":0},{"$f":"IF(OR(AB513+1>(IF(AND(Simulador!$C$9<Simulador!$C$10,OR(Simulador!$E$7=\"Resgate\",Simulador!$E$7=\"Portabilidade\")),Simulador!$C$9,Simulador!$C$50)-Simulador!$C$8)*12,AB513=0),0,AB513+1)","v":510},{"$f":"IF($AB514=0,0,AC513*(1+Simulador!$D$34)+F514+M514)","v":0},{"$f":"IF($AB514=0,0,AD513*(1+Simulador!$D$34)+T514)","v":0}]
[{"$f":"IF(OR(A514+1>(IF(Simulador!$E$7=\"Autopatrocínio\",Simulador!$C$10,Simulador!$C$9)-Simulador!$C$8)*12,A514=0),0,A514+1)","v":0},{"$f":"IF($A515=0,0,IF(INT($A514/12)-$A514/12=0,B514*(1+Simulador!$C$35),B514))","v":0},{"$f":"MAX(IF(A515=0,0,B515-IF(Simulador!$C$11=\"Individual\",0,Simulador!$C$14)),0)","v":0},null,0,0,0,0,0,0,null,0,0,0,0,0,0,null,0,0,0,0,0,null,{"$f":"IF(OR(Y514+1>(IF(AND(Simulador!$C$9<Simulador!$C$10,OR(Simulador!$E$7=\"Resgate\",Simulador!$E$7=\"Portabilidade\")),Simulador!$C$9,Simulador!$C$10)-Simulador!$C$8)*12,Y514=0),0,Y514+1)","v":511},{"$f":"IF($Y515=0,0,Z514*(1+Simulador!$D$34)+E515+L515)","v":0},{"$f":"IF($Y515=0,0,AA514*(1+Simulador!$D$34)+S515)","v":0},{"$f":"IF(OR(AB514+1>(IF(AND(Simulador!$C$9<Simulador!$C$10,OR(Simulador!$E$7=\"Resgate\",Simulador!$E$7=\"Portabilidade\")),Simulador!$C$9,Simulador!$C$50)-Simulador!$C$8)*12,AB514=0),0,AB514+1)","v":511},{"$f":"IF($AB515=0,0,AC514*(1+Simulador!$D$34)+F515+M515)","v":0},{"$f":"IF($AB515=0,0,AD514*(1+Simulador!$D$34)+T515)","v":0}]
[{"$f":"IF(OR(A515+1>(IF(Simulador!$E$7=\"Autopatrocínio\",Simulador!$C$10,Simulador!$C$9)-Simulador!$C$8)*12,A515=0),0,A515+1)","v":0},{"$f":"IF($A516=0,0,IF(INT($A515/12)-$A515/12=0,B515*(1+Simulador!$C$35),B515))","v":0},{"$f":"MAX(IF(A516=0,0,B516-IF(Simulador!$C$11=\"Individual\",0,Simulador!$C$14)),0)","v":0},null,0,0,0,0,0,0,null,0,0,0,0,0,0,null,0,0,0,0,0,null,{"$f":"IF(OR(Y515+1>(IF(AND(Simulador!$C$9<Simulador!$C$10,OR(Simulador!$E$7=\"Resgate\",Simulador!$E$7=\"Portabilidade\")),Simulador!$C$9,Simulador!$C$10)-Simulador!$C$8)*12,Y515=0),0,Y515+1)","v":512},{"$f":"IF($Y516=0,0,Z515*(1+Simulador!$D$34)+E516+L516)","v":0},{"$f":"IF($Y516=0,0,AA515*(1+Simulador!$D$34)+S516)","v":0},{"$f":"IF(OR(AB515+1>(IF(AND(Simulador!$C$9<Simulador!$C$10,OR(Simulador!$E$7=\"Resgate\",Simulador!$E$7=\"Portabilidade\")),Simulador!$C$9,Simulador!$C$50)-Simulador!$C$8)*12,AB515=0),0,AB515+1)","v":512},{"$f":"IF($AB516=0,0,AC515*(1+Simulador!$D$34)+F516+M516)","v":0},{"$f":"IF($AB516=0,0,AD515*(1+Simulador!$D$34)+T516)","v":0}]
[{"$f":"IF(OR(A516+1>(IF(Simulador!$E$7=\"Autopatrocínio\",Simulador!$C$10,Simulador!$C$9)-Simulador!$C$8)*12,A516=0),0,A516+1)","v":0},{"$f":"IF($A517=0,0,IF(INT($A516/12)-$A516/12=0,B516*(1+Simulador!$C$35),B516))","v":0},{"$f":"MAX(IF(A517=0,0,B517-IF(Simulador!$C$11=\"Individual\",0,Simulador!$C$14)),0)","v":0},null,0,0,0,0,0,{"$f":"IF($A517=0,0,IF(INT($A517/12)-$A517/12=0,1,0))","v":0},null,0,0,0,0,0,{"$f":"IF($A517=0,0,IF($Q$4=\"Mensal\",1,IF($Q$4=\"Semestral\",IF(INT(($A517+5)/6)-($A517+5)/6=0,1,0),IF($Q$4=\"Anual\",IF(INT(($A517+11)/12)-($A517+11)/12=0,1,0)))))","v":0},null,0,0,0,0,0,null,{"$f":"IF(OR(Y516+1>(IF(AND(Simulador!$C$9<Simulador!$C$10,OR(Simulador!$E$7=\"Resgate\",Simulador!$E$7=\"Portabilidade\")),Simulador!$C$9,Simulador!$C$10)-Simulador!$C$8)*12,Y516=0),0,Y516+1)","v":513},{"$f":"IF($Y517=0,0,Z516*(1+Simulador!$D$34)+E517+L517)","v":0},{"$f":"IF($Y517=0,0,AA516*(1+Simulador!$D$34)+S517)","v":0},{"$f":"IF(OR(AB516+1>(IF(AND(Simulador!$C$9<Simulador!$C$10,OR(Simulador!$E$7=\"Resgate\",Simulador!$E$7=\"Portabilidade\")),Simulador!$C$9,Simulador!$C$50)-Simulador!$C$8)*12,AB516=0),0,AB516+1)","v":513},{"$f":"IF($AB517=0,0,AC516*(1+Simulador!$D$34)+F517+M517)","v":0},{"$f":"IF($AB517=0,0,AD516*(1+Simulador!$D$34)+T517)","v":0}]
[{"$f":"IF(OR(A517+1>(IF(Simulador!$E$7=\"Autopatrocínio\",Simulador!$C$10,Simulador!$C$9)-Simulador!$C$8)*12,A517=0),0,A517+1)","v":0},{"$f":"IF($A518=0,0,IF(INT($A517/12)-$A517/12=0,B517*(1+Simulador!$C$35),B517))","v":0},{"$f":"MAX(IF(A518=0,0,B518-IF(Simulador!$C$11=\"Individual\",0,Simulador!$C$14)),0)","v":0},null,0,0,0,0,0,0,null,0,0,0,0,0,0,null,0,0,0,0,0,null,{"$f":"IF(OR(Y517+1>(IF(AND(Simulador!$C$9<Simulador!$C$10,OR(Simulador!$E$7=\"Resgate\",Simulador!$E$7=\"Portabilidade\")),Simulador!$C$9,Simulador!$C$10)-Simulador!$C$8)*12,Y517=0),0,Y517+1)","v":514},{"$f":"IF($Y518=0,0,Z517*(1+Simulador!$D$34)+E518+L518)","v":0},{"$f":"IF($Y518=0,0,AA517*(1+Simulador!$D$34)+S518)","v":0},{"$f":"IF(OR(AB517+1>(IF(AND(Simulador!$C$9<Simulador!$C$10,OR(Simulador!$E$7=\"Resgate\",Simulador!$E$7=\"Portabilidade\")),Simulador!$C$9,Simulador!$C$50)-Simulador!$C$8)*12,AB517=0),0,AB517+1)","v":514},{"$f":"IF($AB518=0,0,AC517*(1+Simulador!$D$34)+F518+M518)","v":0},{"$f":"IF($AB518=0,0,AD517*(1+Simulador!$D$34)+T518)","v":0}]
[{"$f":"IF(OR(A518+1>(IF(Simulador!$E$7=\"Autopatrocínio\",Simulador!$C$10,Simulador!$C$9)-Simulador!$C$8)*12,A518=0),0,A518+1)","v":0},{"$f":"IF($A519=0,0,IF(INT($A518/12)-$A518/12=0,B518*(1+Simulador!$C$35),B518))","v":0},{"$f":"MAX(IF(A519=0,0,B519-IF(Simulador!$C$11=\"Individual\",0,Simulador!$C$14)),0)","v":0},null,0,0,0,0,0,0,null,0,0,0,0,0,0,null,0,0,0,0,0,null,{"$f":"IF(OR(Y518+1>(IF(AND(Simulador!$C$9<Simulador!$C$10,OR(Simulador!$E$7=\"Resgate\",Simulador!$E$7=\"Portabilidade\")),Simulador!$C$9,Simulador!$C$10)-Simulador!$C$8)*12,Y518=0),0,Y518+1)","v":515},{"$f":"IF($Y519=0,0,Z518*(1+Simulador!$D$34)+E519+L519)","v":0},{"$f":"IF($Y519=0,0,AA518*(1+Simulador!$D$34)+S519)","v":0},{"$f":"IF(OR(AB518+1>(IF(AND(Simulador!$C$9<Simulador!$C$10,OR(Simulador!$E$7=\"Resgate\",Simulador!$E$7=\"Portabilidade\")),Simulador!$C$9,Simulador!$C$50)-Simulador!$C$8)*12,AB518=0),0,AB518+1)","v":515},{"$f":"IF($AB519=0,0,AC518*(1+Simulador!$D$34)+F519+M519)","v":0},{"$f":"IF($AB519=0,0,AD518*(1+Simulador!$D$34)+T519)","v":0}]
[{"$f":"IF(OR(A519+1>(IF(Simulador!$E$7=\"Autopatrocínio\",Simulador!$C$10,Simulador!$C$9)-Simulador!$C$8)*12,A519=0),0,A519+1)","v":0},{"$f":"IF($A520=0,0,IF(INT($A519/12)-$A519/12=0,B519*(1+Simulador!$C$35),B519))","v":0},{"$f":"MAX(IF(A520=0,0,B520-IF(Simulador!$C$11=\"Individual\",0,Simulador!$C$14)),0)","v":0},null,0,0,0,0,0,0,null,0,0,0,0,0,0,null,0,0,0,0,0,null,{"$f":"IF(OR(Y519+1>(IF(AND(Simulador!$C$9<Simulador!$C$10,OR(Simulador!$E$7=\"Resgate\",Simulador!$E$7=\"Portabilidade\")),Simulador!$C$9,Simulador!$C$10)-Simulador!$C$8)*12,Y519=0),0,Y519+1)","v":516},{"$f":"IF($Y520=0,0,Z519*(1+Simulador!$D$34)+E520+L520)","v":0},{"$f":"IF($Y520=0,0,AA519*(1+Simulador!$D$34)+S520)","v":0},{"$f":"IF(OR(AB519+1>(IF(AND(Simulador!$C$9<Simulador!$C$10,OR(Simulador!$E$7=\"Resgate\",Simulador!$E$7=\"Portabilidade\")),Simulador!$C$9,Simulador!$C$50)-Simulador!$C$8)*12,AB519=0),0,AB519+1)","v":516},{"$f":"IF($AB520=0,0,AC519*(1+Simulador!$D$34)+F520+M520)","v":0},{"$f":"IF($AB520=0,0,AD519*(1+Simulador!$D$34)+T520)","v":0}]
[{"$f":"IF(OR(A520+1>(IF(Simulador!$E$7=\"Autopatrocínio\",Simulador!$C$10,Simulador!$C$9)-Simulador!$C$8)*12,A520=0),0,A520+1)","v":0},{"$f":"IF($A521=0,0,IF(INT($A520/12)-$A520/12=0,B520*(1+Simulador!$C$35),B520))","v":0},{"$f":"MAX(IF(A521=0,0,B521-IF(Simulador!$C$11=\"Individual\",0,Simulador!$C$14)),0)","v":0},null,0,0,0,0,0,0,null,0,0,0,0,0,0,null,0,0,0,0,0,null,{"$f":"IF(OR(Y520+1>(IF(AND(Simulador!$C$9<Simulador!$C$10,OR(Simulador!$E$7=\"Resgate\",Simulador!$E$7=\"Portabilidade\")),Simulador!$C$9,Simulador!$C$10)-Simulador!$C$8)*12,Y520=0),0,Y520+1)","v":517},{"$f":"IF($Y521=0,0,Z520*(1+Simulador!$D$34)+E521+L521)","v":0},{"$f":"IF($Y521=0,0,AA520*(1+Simulador!$D$34)+S521)","v":0},{"$f":"IF(OR(AB520+1>(IF(AND(Simulador!$C$9<Simulador!$C$10,OR(Simulador!$E$7=\"Resgate\",Simulador!$E$7=\"Portabilidade\")),Simulador!$C$9,Simulador!$C$50)-Simulador!$C$8)*12,AB520=0),0,AB520+1)","v":517},{"$f":"IF($AB521=0,0,AC520*(1+Simulador!$D$34)+F521+M521)","v":0},{"$f":"IF($AB521=0,0,AD520*(1+Simulador!$D$34)+T521)","v":0}]
[{"$f":"IF(OR(A521+1>(IF(Simulador!$E$7=\"Autopatrocínio\",Simulador!$C$10,Simulador!$C$9)-Simulador!$C$8)*12,A521=0),0,A521+1)","v":0},{"$f":"IF($A522=0,0,IF(INT($A521/12)-$A521/12=0,B521*(1+Simulador!$C$35),B521))","v":0},{"$f":"MAX(IF(A522=0,0,B522-IF(Simulador!$C$11=\"Individual\",0,Simulador!$C$14)),0)","v":0},null,0,0,0,0,0,0,null,0,0,0,0,0,0,null,0,0,0,0,0,null,{"$f":"IF(OR(Y521+1>(IF(AND(Simulador!$C$9<Simulador!$C$10,OR(Simulador!$E$7=\"Resgate\",Simulador!$E$7=\"Portabilidade\")),Simulador!$C$9,Simulador!$C$10)-Simulador!$C$8)*12,Y521=0),0,Y521+1)","v":518},{"$f":"IF($Y522=0,0,Z521*(1+Simulador!$D$34)+E522+L522)","v":0},{"$f":"IF($Y522=0,0,AA521*(1+Simulador!$D$34)+S522)","v":0},{"$f":"IF(OR(AB521+1>(IF(AND(Simulador!$C$9<Simulador!$C$10,OR(Simulador!$E$7=\"Resgate\",Simulador!$E$7=\"Portabilidade\")),Simulador!$C$9,Simulador!$C$50)-Simulador!$C$8)*12,AB521=0),0,AB521+1)","v":518},{"$f":"IF($AB522=0,0,AC521*(1+Simulador!$D$34)+F522+M522)","v":0},{"$f":"IF($AB522=0,0,AD521*(1+Simulador!$D$34)+T522)","v":0}]
[{"$f":"IF(OR(A522+1>(IF(Simulador!$E$7=\"Autopatrocínio\",Simulador!$C$10,Simulador!$C$9)-Simulador!$C$8)*12,A522=0),0,A522+1)","v":0},{"$f":"IF($A523=0,0,IF(INT($A522/12)-$A522/12=0,B522*(1+Simulador!$C$35),B522))","v":0},{"$f":"MAX(IF(A523=0,0,B523-IF(Simulador!$C$11=\"Individual\",0,Simulador!$C$14)),0)","v":0},null,0,0,0,0,0,0,null,0,0,0,0,0,0,null,0,0,0,0,0,null,{"$f":"IF(OR(Y522+1>(IF(AND(Simulador!$C$9<Simulador!$C$10,OR(Simulador!$E$7=\"Resgate\",Simulador!$E$7=\"Portabilidade\")),Simulador!$C$9,Simulador!$C$10)-Simulador!$C$8)*12,Y522=0),0,Y522+1)","v":519},{"$f":"IF($Y523=0,0,Z522*(1+Simulador!$D$34)+E523+L523)","v":0},{"$f":"IF($Y523=0,0,AA522*(1+Simulador!$D$34)+S523)","v":0},{"$f":"IF(OR(AB522+1>(IF(AND(Simulador!$C$9<Simulador!$C$10,OR(Simulador!$E$7=\"Resgate\",Simulador!$E$7=\"Portabilidade\")),Simulador!$C$9,Simulador!$C$50)-Simulador!$C$8)*12,AB522=0),0,AB522+1)","v":519},{"$f":"IF($AB523=0,0,AC522*(1+Simulador!$D$34)+F523+M523)","v":0},{"$f":"IF($AB523=0,0,AD522*(1+Simulador!$D$34)+T523)","v":0}]
[{"$f":"IF(OR(A523+1>(IF(Simulador!$E$7=\"Autopatrocínio\",Simulador!$C$10,Simulador!$C$9)-Simulador!$C$8)*12,A523=0),0,A523+1)","v":0},{"$f":"IF($A524=0,0,IF(INT($A523/12)-$A523/12=0,B523*(1+Simulador!$C$35),B523))","v":0},{"$f":"MAX(IF(A524=0,0,B524-IF(Simulador!$C$11=\"Individual\",0,Simulador!$C$14)),0)","v":0},null,0,0,0,0,0,0,null,0,0,0,0,0,0,null,0,0,0,0,0,null,{"$f":"IF(OR(Y523+1>(IF(AND(Simulador!$C$9<Simulador!$C$10,OR(Simulador!$E$7=\"Resgate\",Simulador!$E$7=\"Portabilidade\")),Simulador!$C$9,Simulador!$C$10)-Simulador!$C$8)*12,Y523=0),0,Y523+1)","v":520},{"$f":"IF($Y524=0,0,Z523*(1+Simulador!$D$34)+E524+L524)","v":0},{"$f":"IF($Y524=0,0,AA523*(1+Simulador!$D$34)+S524)","v":0},{"$f":"IF(OR(AB523+1>(IF(AND(Simulador!$C$9<Simulador!$C$10,OR(Simulador!$E$7=\"Resgate\",Simulador!$E$7=\"Portabilidade\")),Simulador!$C$9,Simulador!$C$50)-Simulador!$C$8)*12,AB523=0),0,AB523+1)","v":520},{"$f":"IF($AB524=0,0,AC523*(1+Simulador!$D$34)+F524+M524)","v":0},{"$f":"IF($AB524=0,0,AD523*(1+Simulador!$D$34)+T524)","v":0}]
[{"$f":"IF(OR(A524+1>(IF(Simulador!$E$7=\"Autopatrocínio\",Simulador!$C$10,Simulador!$C$9)-Simulador!$C$8)*12,A524=0),0,A524+1)","v":0},{"$f":"IF($A525=0,0,IF(INT($A524/12)-$A524/12=0,B524*(1+Simulador!$C$35),B524))","v":0},{"$f":"MAX(IF(A525=0,0,B525-IF(Simulador!$C$11=\"Individual\",0,Simulador!$C$14)),0)","v":0},null,0,0,0,0,0,0,null,0,0,0,0,0,0,null,0,0,0,0,0,null,{"$f":"IF(OR(Y524+1>(IF(AND(Simulador!$C$9<Simulador!$C$10,OR(Simulador!$E$7=\"Resgate\",Simulador!$E$7=\"Portabilidade\")),Simulador!$C$9,Simulador!$C$10)-Simulador!$C$8)*12,Y524=0),0,Y524+1)","v":521},{"$f":"IF($Y525=0,0,Z524*(1+Simulador!$D$34)+E525+L525)","v":0},{"$f":"IF($Y525=0,0,AA524*(1+Simulador!$D$34)+S525)","v":0},{"$f":"IF(OR(AB524+1>(IF(AND(Simulador!$C$9<Simulador!$C$10,OR(Simulador!$E$7=\"Resgate\",Simulador!$E$7=\"Portabilidade\")),Simulador!$C$9,Simulador!$C$50)-Simulador!$C$8)*12,AB524=0),0,AB524+1)","v":521},{"$f":"IF($AB525=0,0,AC524*(1+Simulador!$D$34)+F525+M525)","v":0},{"$f":"IF($AB525=0,0,AD524*(1+Simulador!$D$34)+T525)","v":0}]
[{"$f":"IF(OR(A525+1>(IF(Simulador!$E$7=\"Autopatrocínio\",Simulador!$C$10,Simulador!$C$9)-Simulador!$C$8)*12,A525=0),0,A525+1)","v":0},{"$f":"IF($A526=0,0,IF(INT($A525/12)-$A525/12=0,B525*(1+Simulador!$C$35),B525))","v":0},{"$f":"MAX(IF(A526=0,0,B526-IF(Simulador!$C$11=\"Individual\",0,Simulador!$C$14)),0)","v":0},null,0,0,0,0,0,0,null,0,0,0,0,0,0,null,0,0,0,0,0,null,{"$f":"IF(OR(Y525+1>(IF(AND(Simulador!$C$9<Simulador!$C$10,OR(Simulador!$E$7=\"Resgate\",Simulador!$E$7=\"Portabilidade\")),Simulador!$C$9,Simulador!$C$10)-Simulador!$C$8)*12,Y525=0),0,Y525+1)","v":522},{"$f":"IF($Y526=0,0,Z525*(1+Simulador!$D$34)+E526+L526)","v":0},{"$f":"IF($Y526=0,0,AA525*(1+Simulador!$D$34)+S526)","v":0},{"$f":"IF(OR(AB525+1>(IF(AND(Simulador!$C$9<Simulador!$C$10,OR(Simulador!$E$7=\"Resgate\",Simulador!$E$7=\"Portabilidade\")),Simulador!$C$9,Simulador!$C$50)-Simulador!$C$8)*12,AB525=0),0,AB525+1)","v":522},{"$f":"IF($AB526=0,0,AC525*(1+Simulador!$D$34)+F526+M526)","v":0},{"$f":"IF($AB526=0,0,AD525*(1+Simulador!$D$34)+T526)","v":0}]
[{"$f":"IF(OR(A526+1>(IF(Simulador!$E$7=\"Autopatrocínio\",Simulador!$C$10,Simulador!$C$9)-Simulador!$C$8)*12,A526=0),0,A526+1)","v":0},{"$f":"IF($A527=0,0,IF(INT($A526/12)-$A526/12=0,B526*(1+Simulador!$C$35),B526))","v":0},{"$f":"MAX(IF(A527=0,0,B527-IF(Simulador!$C$11=\"Individual\",0,Simulador!$C$14)),0)","v":0},null,0,0,0,0,0,0,null,0,0,0,0,0,0,null,0,0,0,0,0,null,{"$f":"IF(OR(Y526+1>(IF(AND(Simulador!$C$9<Simulador!$C$10,OR(Simulador!$E$7=\"Resgate\",Simulador!$E$7=\"Portabilidade\")),Simulador!$C$9,Simulador!$C$10)-Simulador!$C$8)*12,Y526=0),0,Y526+1)","v":523},{"$f":"IF($Y527=0,0,Z526*(1+Simulador!$D$34)+E527+L527)","v":0},{"$f":"IF($Y527=0,0,AA526*(1+Simulador!$D$34)+S527)","v":0},{"$f":"IF(OR(AB526+1>(IF(AND(Simulador!$C$9<Simulador!$C$10,OR(Simulador!$E$7=\"Resgate\",Simulador!$E$7=\"Portabilidade\")),Simulador!$C$9,Simulador!$C$50)-Simulador!$C$8)*12,AB526=0),0,AB526+1)","v":523},{"$f":"IF($AB527=0,0,AC526*(1+Simulador!$D$34)+F527+M527)","v":0},{"$f":"IF($AB527=0,0,AD526*(1+Simulador!$D$34)+T527)","v":0}]
[{"$f":"IF(OR(A527+1>(IF(Simulador!$E$7=\"Autopatrocínio\",Simulador!$C$10,Simulador!$C$9)-Simulador!$C$8)*12,A527=0),0,A527+1)","v":0},{"$f":"IF($A528=0,0,IF(INT($A527/12)-$A527/12=0,B527*(1+Simulador!$C$35),B527))","v":0},{"$f":"MAX(IF(A528=0,0,B528-IF(Simulador!$C$11=\"Individual\",0,Simulador!$C$14)),0)","v":0},null,0,0,0,0,0,0,null,0,0,0,0,0,0,null,0,0,0,0,0,null,{"$f":"IF(OR(Y527+1>(IF(AND(Simulador!$C$9<Simulador!$C$10,OR(Simulador!$E$7=\"Resgate\",Simulador!$E$7=\"Portabilidade\")),Simulador!$C$9,Simulador!$C$10)-Simulador!$C$8)*12,Y527=0),0,Y527+1)","v":524},{"$f":"IF($Y528=0,0,Z527*(1+Simulador!$D$34)+E528+L528)","v":0},{"$f":"IF($Y528=0,0,AA527*(1+Simulador!$D$34)+S528)","v":0},{"$f":"IF(OR(AB527+1>(IF(AND(Simulador!$C$9<Simulador!$C$10,OR(Simulador!$E$7=\"Resgate\",Simulador!$E$7=\"Portabilidade\")),Simulador!$C$9,Simulador!$C$50)-Simulador!$C$8)*12,AB527=0),0,AB527+1)","v":524},{"$f":"IF($AB528=0,0,AC527*(1+Simulador!$D$34)+F528+M528)","v":0},{"$f":"IF($AB528=0,0,AD527*(1+Simulador!$D$34)+T528)","v":0}]
[{"$f":"IF(OR(A528+1>(IF(Simulador!$E$7=\"Autopatrocínio\",Simulador!$C$10,Simulador!$C$9)-Simulador!$C$8)*12,A528=0),0,A528+1)","v":0},{"$f":"IF($A529=0,0,IF(INT($A528/12)-$A528/12=0,B528*(1+Simulador!$C$35),B528))","v":0},{"$f":"MAX(IF(A529=0,0,B529-IF(Simulador!$C$11=\"Individual\",0,Simulador!$C$14)),0)","v":0},null,0,0,0,0,0,0,null,0,0,0,0,0,0,null,0,0,0,0,0,null,{"$f":"IF(OR(Y528+1>(IF(AND(Simulador!$C$9<Simulador!$C$10,OR(Simulador!$E$7=\"Resgate\",Simulador!$E$7=\"Portabilidade\")),Simulador!$C$9,Simulador!$C$10)-Simulador!$C$8)*12,Y528=0),0,Y528+1)","v":525},{"$f":"IF($Y529=0,0,Z528*(1+Simulador!$D$34)+E529+L529)","v":0},{"$f":"IF($Y529=0,0,AA528*(1+Simulador!$D$34)+S529)","v":0},{"$f":"IF(OR(AB528+1>(IF(AND(Simulador!$C$9<Simulador!$C$10,OR(Simulador!$E$7=\"Resgate\",Simulador!$E$7=\"Portabilidade\")),Simulador!$C$9,Simulador!$C$50)-Simulador!$C$8)*12,AB528=0),0,AB528+1)","v":525},{"$f":"IF($AB529=0,0,AC528*(1+Simulador!$D$34)+F529+M529)","v":0},{"$f":"IF($AB529=0,0,AD528*(1+Simulador!$D$34)+T529)","v":0}]
[{"$f":"IF(OR(A529+1>(IF(Simulador!$E$7=\"Autopatrocínio\",Simulador!$C$10,Simulador!$C$9)-Simulador!$C$8)*12,A529=0),0,A529+1)","v":0},{"$f":"IF($A530=0,0,IF(INT($A529/12)-$A529/12=0,B529*(1+Simulador!$C$35),B529))","v":0},{"$f":"MAX(IF(A530=0,0,B530-IF(Simulador!$C$11=\"Individual\",0,Simulador!$C$14)),0)","v":0},null,0,0,0,0,0,0,null,0,0,0,0,0,0,null,0,0,0,0,0,null,{"$f":"IF(OR(Y529+1>(IF(AND(Simulador!$C$9<Simulador!$C$10,OR(Simulador!$E$7=\"Resgate\",Simulador!$E$7=\"Portabilidade\")),Simulador!$C$9,Simulador!$C$10)-Simulador!$C$8)*12,Y529=0),0,Y529+1)","v":526},{"$f":"IF($Y530=0,0,Z529*(1+Simulador!$D$34)+E530+L530)","v":0},{"$f":"IF($Y530=0,0,AA529*(1+Simulador!$D$34)+S530)","v":0},{"$f":"IF(OR(AB529+1>(IF(AND(Simulador!$C$9<Simulador!$C$10,OR(Simulador!$E$7=\"Resgate\",Simulador!$E$7=\"Portabilidade\")),Simulador!$C$9,Simulador!$C$50)-Simulador!$C$8)*12,AB529=0),0,AB529+1)","v":526},{"$f":"IF($AB530=0,0,AC529*(1+Simulador!$D$34)+F530+M530)","v":0},{"$f":"IF($AB530=0,0,AD529*(1+Simulador!$D$34)+T530)","v":0}]
[{"$f":"IF(OR(A530+1>(IF(Simulador!$E$7=\"Autopatrocínio\",Simulador!$C$10,Simulador!$C$9)-Simulador!$C$8)*12,A530=0),0,A530+1)","v":0},{"$f":"IF($A531=0,0,IF(INT($A530/12)-$A530/12=0,B530*(1+Simulador!$C$35),B530))","v":0},{"$f":"MAX(IF(A531=0,0,B531-IF(Simulador!$C$11=\"Individual\",0,Simulador!$C$14)),0)","v":0},null,0,0,0,0,0,0,null,0,0,0,0,0,0,null,0,0,0,0,0,null,{"$f":"IF(OR(Y530+1>(IF(AND(Simulador!$C$9<Simulador!$C$10,OR(Simulador!$E$7=\"Resgate\",Simulador!$E$7=\"Portabilidade\")),Simulador!$C$9,Simulador!$C$10)-Simulador!$C$8)*12,Y530=0),0,Y530+1)","v":527},{"$f":"IF($Y531=0,0,Z530*(1+Simulador!$D$34)+E531+L531)","v":0},{"$f":"IF($Y531=0,0,AA530*(1+Simulador!$D$34)+S531)","v":0},{"$f":"IF(OR(AB530+1>(IF(AND(Simulador!$C$9<Simulador!$C$10,OR(Simulador!$E$7=\"Resgate\",Simulador!$E$7=\"Portabilidade\")),Simulador!$C$9,Simulador!$C$50)-Simulador!$C$8)*12,AB530=0),0,AB530+1)","v":527},{"$f":"IF($AB531=0,0,AC530*(1+Simulador!$D$34)+F531+M531)","v":0},{"$f":"IF($AB531=0,0,AD530*(1+Simulador!$D$34)+T531)","v":0}]
[{"$f":"IF(OR(A531+1>(IF(Simulador!$E$7=\"Autopatrocínio\",Simulador!$C$10,Simulador!$C$9)-Simulador!$C$8)*12,A531=0),0,A531+1)","v":0},{"$f":"IF($A532=0,0,IF(INT($A531/12)-$A531/12=0,B531*(1+Simulador!$C$35),B531))","v":0},{"$f":"MAX(IF(A532=0,0,B532-IF(Simulador!$C$11=\"Individual\",0,Simulador!$C$14)),0)","v":0},null,0,0,0,0,0,0,null,0,0,0,0,0,0,null,0,0,0,0,0,null,{"$f":"IF(OR(Y531+1>(IF(AND(Simulador!$C$9<Simulador!$C$10,OR(Simulador!$E$7=\"Resgate\",Simulador!$E$7=\"Portabilidade\")),Simulador!$C$9,Simulador!$C$10)-Simulador!$C$8)*12,Y531=0),0,Y531+1)","v":528},{"$f":"IF($Y532=0,0,Z531*(1+Simulador!$D$34)+E532+L532)","v":0},{"$f":"IF($Y532=0,0,AA531*(1+Simulador!$D$34)+S532)","v":0},{"$f":"IF(OR(AB531+1>(IF(AND(Simulador!$C$9<Simulador!$C$10,OR(Simulador!$E$7=\"Resgate\",Simulador!$E$7=\"Portabilidade\")),Simulador!$C$9,Simulador!$C$50)-Simulador!$C$8)*12,AB531=0),0,AB531+1)","v":528},{"$f":"IF($AB532=0,0,AC531*(1+Simulador!$D$34)+F532+M532)","v":0},{"$f":"IF($AB532=0,0,AD531*(1+Simulador!$D$34)+T532)","v":0}]
[{"$f":"IF(OR(A532+1>(IF(Simulador!$E$7=\"Autopatrocínio\",Simulador!$C$10,Simulador!$C$9)-Simulador!$C$8)*12,A532=0),0,A532+1)","v":0},{"$f":"IF($A533=0,0,IF(INT($A532/12)-$A532/12=0,B532*(1+Simulador!$C$35),B532))","v":0},{"$f":"MAX(IF(A533=0,0,B533-IF(Simulador!$C$11=\"Individual\",0,Simulador!$C$14)),0)","v":0},null,0,0,0,0,0,0,null,0,0,0,0,0,0,null,0,0,0,0,0,null,{"$f":"IF(OR(Y532+1>(IF(AND(Simulador!$C$9<Simulador!$C$10,OR(Simulador!$E$7=\"Resgate\",Simulador!$E$7=\"Portabilidade\")),Simulador!$C$9,Simulador!$C$10)-Simulador!$C$8)*12,Y532=0),0,Y532+1)","v":529},{"$f":"IF($Y533=0,0,Z532*(1+Simulador!$D$34)+E533+L533)","v":0},{"$f":"IF($Y533=0,0,AA532*(1+Simulador!$D$34)+S533)","v":0},{"$f":"IF(OR(AB532+1>(IF(AND(Simulador!$C$9<Simulador!$C$10,OR(Simulador!$E$7=\"Resgate\",Simulador!$E$7=\"Portabilidade\")),Simulador!$C$9,Simulador!$C$50)-Simulador!$C$8)*12,AB532=0),0,AB532+1)","v":529},{"$f":"IF($AB533=0,0,AC532*(1+Simulador!$D$34)+F533+M533)","v":0},{"$f":"IF($AB533=0,0,AD532*(1+Simulador!$D$34)+T533)","v":0}]
[{"$f":"IF(OR(A533+1>(IF(Simulador!$E$7=\"Autopatrocínio\",Simulador!$C$10,Simulador!$C$9)-Simulador!$C$8)*12,A533=0),0,A533+1)","v":0},{"$f":"IF($A534=0,0,IF(INT($A533/12)-$A533/12=0,B533*(1+Simulador!$C$35),B533))","v":0},{"$f":"MAX(IF(A534=0,0,B534-IF(Simulador!$C$11=\"Individual\",0,Simulador!$C$14)),0)","v":0},null,0,0,0,0,0,0,null,0,0,0,0,0,0,null,0,0,0,0,0,null,{"$f":"IF(OR(Y533+1>(IF(AND(Simulador!$C$9<Simulador!$C$10,OR(Simulador!$E$7=\"Resgate\",Simulador!$E$7=\"Portabilidade\")),Simulador!$C$9,Simulador!$C$10)-Simulador!$C$8)*12,Y533=0),0,Y533+1)","v":530},{"$f":"IF($Y534=0,0,Z533*(1+Simulador!$D$34)+E534+L534)","v":0},{"$f":"IF($Y534=0,0,AA533*(1+Simulador!$D$34)+S534)","v":0},{"$f":"IF(OR(AB533+1>(IF(AND(Simulador!$C$9<Simulador!$C$10,OR(Simulador!$E$7=\"Resgate\",Simulador!$E$7=\"Portabilidade\")),Simulador!$C$9,Simulador!$C$50)-Simulador!$C$8)*12,AB533=0),0,AB533+1)","v":530},{"$f":"IF($AB534=0,0,AC533*(1+Simulador!$D$34)+F534+M534)","v":0},{"$f":"IF($AB534=0,0,AD533*(1+Simulador!$D$34)+T534)","v":0}]
[{"$f":"IF(OR(A534+1>(IF(Simulador!$E$7=\"Autopatrocínio\",Simulador!$C$10,Simulador!$C$9)-Simulador!$C$8)*12,A534=0),0,A534+1)","v":0},{"$f":"IF($A535=0,0,IF(INT($A534/12)-$A534/12=0,B534*(1+Simulador!$C$35),B534))","v":0},{"$f":"MAX(IF(A535=0,0,B535-IF(Simulador!$C$11=\"Individual\",0,Simulador!$C$14)),0)","v":0},null,0,0,0,0,0,0,null,0,0,0,0,0,0,null,0,0,0,0,0,null,{"$f":"IF(OR(Y534+1>(IF(AND(Simulador!$C$9<Simulador!$C$10,OR(Simulador!$E$7=\"Resgate\",Simulador!$E$7=\"Portabilidade\")),Simulador!$C$9,Simulador!$C$10)-Simulador!$C$8)*12,Y534=0),0,Y534+1)","v":531},{"$f":"IF($Y535=0,0,Z534*(1+Simulador!$D$34)+E535+L535)","v":0},{"$f":"IF($Y535=0,0,AA534*(1+Simulador!$D$34)+S535)","v":0},{"$f":"IF(OR(AB534+1>(IF(AND(Simulador!$C$9<Simulador!$C$10,OR(Simulador!$E$7=\"Resgate\",Simulador!$E$7=\"Portabilidade\")),Simulador!$C$9,Simulador!$C$50)-Simulador!$C$8)*12,AB534=0),0,AB534+1)","v":531},{"$f":"IF($AB535=0,0,AC534*(1+Simulador!$D$34)+F535+M535)","v":0},{"$f":"IF($AB535=0,0,AD534*(1+Simulador!$D$34)+T535)","v":0}]
[{"$f":"IF(OR(A535+1>(IF(Simulador!$E$7=\"Autopatrocínio\",Simulador!$C$10,Simulador!$C$9)-Simulador!$C$8)*12,A535=0),0,A535+1)","v":0},{"$f":"IF($A536=0,0,IF(INT($A535/12)-$A535/12=0,B535*(1+Simulador!$C$35),B535))","v":0},{"$f":"MAX(IF(A536=0,0,B536-IF(Simulador!$C$11=\"Individual\",0,Simulador!$C$14)),0)","v":0},null,0,0,0,0,0,0,null,0,0,0,0,0,0,null,0,0,0,0,0,null,{"$f":"IF(OR(Y535+1>(IF(AND(Simulador!$C$9<Simulador!$C$10,OR(Simulador!$E$7=\"Resgate\",Simulador!$E$7=\"Portabilidade\")),Simulador!$C$9,Simulador!$C$10)-Simulador!$C$8)*12,Y535=0),0,Y535+1)","v":532},{"$f":"IF($Y536=0,0,Z535*(1+Simulador!$D$34)+E536+L536)","v":0},{"$f":"IF($Y536=0,0,AA535*(1+Simulador!$D$34)+S536)","v":0},{"$f":"IF(OR(AB535+1>(IF(AND(Simulador!$C$9<Simulador!$C$10,OR(Simulador!$E$7=\"Resgate\",Simulador!$E$7=\"Portabilidade\")),Simulador!$C$9,Simulador!$C$50)-Simulador!$C$8)*12,AB535=0),0,AB535+1)","v":532},{"$f":"IF($AB536=0,0,AC535*(1+Simulador!$D$34)+F536+M536)","v":0},{"$f":"IF($AB536=0,0,AD535*(1+Simulador!$D$34)+T536)","v":0}]
[{"$f":"IF(OR(A536+1>(IF(Simulador!$E$7=\"Autopatrocínio\",Simulador!$C$10,Simulador!$C$9)-Simulador!$C$8)*12,A536=0),0,A536+1)","v":0},{"$f":"IF($A537=0,0,IF(INT($A536/12)-$A536/12=0,B536*(1+Simulador!$C$35),B536))","v":0},{"$f":"MAX(IF(A537=0,0,B537-IF(Simulador!$C$11=\"Individual\",0,Simulador!$C$14)),0)","v":0},null,0,0,0,0,0,0,null,0,0,0,0,0,0,null,0,0,0,0,0,null,{"$f":"IF(OR(Y536+1>(IF(AND(Simulador!$C$9<Simulador!$C$10,OR(Simulador!$E$7=\"Resgate\",Simulador!$E$7=\"Portabilidade\")),Simulador!$C$9,Simulador!$C$10)-Simulador!$C$8)*12,Y536=0),0,Y536+1)","v":533},{"$f":"IF($Y537=0,0,Z536*(1+Simulador!$D$34)+E537+L537)","v":0},{"$f":"IF($Y537=0,0,AA536*(1+Simulador!$D$34)+S537)","v":0},{"$f":"IF(OR(AB536+1>(IF(AND(Simulador!$C$9<Simulador!$C$10,OR(Simulador!$E$7=\"Resgate\",Simulador!$E$7=\"Portabilidade\")),Simulador!$C$9,Simulador!$C$50)-Simulador!$C$8)*12,AB536=0),0,AB536+1)","v":533},{"$f":"IF($AB537=0,0,AC536*(1+Simulador!$D$34)+F537+M537)","v":0},{"$f":"IF($AB537=0,0,AD536*(1+Simulador!$D$34)+T537)","v":0}]
[{"$f":"IF(OR(A537+1>(IF(Simulador!$E$7=\"Autopatrocínio\",Simulador!$C$10,Simulador!$C$9)-Simulador!$C$8)*12,A537=0),0,A537+1)","v":0},{"$f":"IF($A538=0,0,IF(INT($A537/12)-$A537/12=0,B537*(1+Simulador!$C$35),B537))","v":0},{"$f":"MAX(IF(A538=0,0,B538-IF(Simulador!$C$11=\"Individual\",0,Simulador!$C$14)),0)","v":0},null,0,0,0,0,0,0,null,0,0,0,0,0,0,null,0,0,0,0,0,null,{"$f":"IF(OR(Y537+1>(IF(AND(Simulador!$C$9<Simulador!$C$10,OR(Simulador!$E$7=\"Resgate\",Simulador!$E$7=\"Portabilidade\")),Simulador!$C$9,Simulador!$C$10)-Simulador!$C$8)*12,Y537=0),0,Y537+1)","v":534},{"$f":"IF($Y538=0,0,Z537*(1+Simulador!$D$34)+E538+L538)","v":0},{"$f":"IF($Y538=0,0,AA537*(1+Simulador!$D$34)+S538)","v":0},{"$f":"IF(OR(AB537+1>(IF(AND(Simulador!$C$9<Simulador!$C$10,OR(Simulador!$E$7=\"Resgate\",Simulador!$E$7=\"Portabilidade\")),Simulador!$C$9,Simulador!$C$50)-Simulador!$C$8)*12,AB537=0),0,AB537+1)","v":534},{"$f":"IF($AB538=0,0,AC537*(1+Simulador!$D$34)+F538+M538)","v":0},{"$f":"IF($AB538=0,0,AD537*(1+Simulador!$D$34)+T538)","v":0}]
[{"$f":"IF(OR(A538+1>(IF(Simulador!$E$7=\"Autopatrocínio\",Simulador!$C$10,Simulador!$C$9)-Simulador!$C$8)*12,A538=0),0,A538+1)","v":0},{"$f":"IF($A539=0,0,IF(INT($A538/12)-$A538/12=0,B538*(1+Simulador!$C$35),B538))","v":0},{"$f":"MAX(IF(A539=0,0,B539-IF(Simulador!$C$11=\"Individual\",0,Simulador!$C$14)),0)","v":0},null,0,0,0,0,0,0,null,0,0,0,0,0,0,null,0,0,0,0,0,null,{"$f":"IF(OR(Y538+1>(IF(AND(Simulador!$C$9<Simulador!$C$10,OR(Simulador!$E$7=\"Resgate\",Simulador!$E$7=\"Portabilidade\")),Simulador!$C$9,Simulador!$C$10)-Simulador!$C$8)*12,Y538=0),0,Y538+1)","v":535},{"$f":"IF($Y539=0,0,Z538*(1+Simulador!$D$34)+E539+L539)","v":0},{"$f":"IF($Y539=0,0,AA538*(1+Simulador!$D$34)+S539)","v":0},{"$f":"IF(OR(AB538+1>(IF(AND(Simulador!$C$9<Simulador!$C$10,OR(Simulador!$E$7=\"Resgate\",Simulador!$E$7=\"Portabilidade\")),Simulador!$C$9,Simulador!$C$50)-Simulador!$C$8)*12,AB538=0),0,AB538+1)","v":535},{"$f":"IF($AB539=0,0,AC538*(1+Simulador!$D$34)+F539+M539)","v":0},{"$f":"IF($AB539=0,0,AD538*(1+Simulador!$D$34)+T539)","v":0}]
[{"$f":"IF(OR(A539+1>(IF(Simulador!$E$7=\"Autopatrocínio\",Simulador!$C$10,Simulador!$C$9)-Simulador!$C$8)*12,A539=0),0,A539+1)","v":0},{"$f":"IF($A540=0,0,IF(INT($A539/12)-$A539/12=0,B539*(1+Simulador!$C$35),B539))","v":0},{"$f":"MAX(IF(A540=0,0,B540-IF(Simulador!$C$11=\"Individual\",0,Simulador!$C$14)),0)","v":0},null,0,0,0,0,0,0,null,0,0,0,0,0,0,null,0,0,0,0,0,null,{"$f":"IF(OR(Y539+1>(IF(AND(Simulador!$C$9<Simulador!$C$10,OR(Simulador!$E$7=\"Resgate\",Simulador!$E$7=\"Portabilidade\")),Simulador!$C$9,Simulador!$C$10)-Simulador!$C$8)*12,Y539=0),0,Y539+1)","v":536},{"$f":"IF($Y540=0,0,Z539*(1+Simulador!$D$34)+E540+L540)","v":0},{"$f":"IF($Y540=0,0,AA539*(1+Simulador!$D$34)+S540)","v":0},{"$f":"IF(OR(AB539+1>(IF(AND(Simulador!$C$9<Simulador!$C$10,OR(Simulador!$E$7=\"Resgate\",Simulador!$E$7=\"Portabilidade\")),Simulador!$C$9,Simulador!$C$50)-Simulador!$C$8)*12,AB539=0),0,AB539+1)","v":536},{"$f":"IF($AB540=0,0,AC539*(1+Simulador!$D$34)+F540+M540)","v":0},{"$f":"IF($AB540=0,0,AD539*(1+Simulador!$D$34)+T540)","v":0}]
[{"$f":"IF(OR(A540+1>(IF(Simulador!$E$7=\"Autopatrocínio\",Simulador!$C$10,Simulador!$C$9)-Simulador!$C$8)*12,A540=0),0,A540+1)","v":0},{"$f":"IF($A541=0,0,IF(INT($A540/12)-$A540/12=0,B540*(1+Simulador!$C$35),B540))","v":0},{"$f":"MAX(IF(A541=0,0,B541-IF(Simulador!$C$11=\"Individual\",0,Simulador!$C$14)),0)","v":0},null,0,0,0,0,0,0,null,0,0,0,0,0,0,null,0,0,0,0,0,null,{"$f":"IF(OR(Y540+1>(IF(AND(Simulador!$C$9<Simulador!$C$10,OR(Simulador!$E$7=\"Resgate\",Simulador!$E$7=\"Portabilidade\")),Simulador!$C$9,Simulador!$C$10)-Simulador!$C$8)*12,Y540=0),0,Y540+1)","v":537},{"$f":"IF($Y541=0,0,Z540*(1+Simulador!$D$34)+E541+L541)","v":0},{"$f":"IF($Y541=0,0,AA540*(1+Simulador!$D$34)+S541)","v":0},{"$f":"IF(OR(AB540+1>(IF(AND(Simulador!$C$9<Simulador!$C$10,OR(Simulador!$E$7=\"Resgate\",Simulador!$E$7=\"Portabilidade\")),Simulador!$C$9,Simulador!$C$50)-Simulador!$C$8)*12,AB540=0),0,AB540+1)","v":537},{"$f":"IF($AB541=0,0,AC540*(1+Simulador!$D$34)+F541+M541)","v":0},{"$f":"IF($AB541=0,0,AD540*(1+Simulador!$D$34)+T541)","v":0}]
[{"$f":"IF(OR(A541+1>(IF(Simulador!$E$7=\"Autopatrocínio\",Simulador!$C$10,Simulador!$C$9)-Simulador!$C$8)*12,A541=0),0,A541+1)","v":0},{"$f":"IF($A542=0,0,IF(INT($A541/12)-$A541/12=0,B541*(1+Simulador!$C$35),B541))","v":0},{"$f":"MAX(IF(A542=0,0,B542-IF(Simulador!$C$11=\"Individual\",0,Simulador!$C$14)),0)","v":0},null,0,0,0,0,0,0,null,0,0,0,0,0,0,null,0,0,0,0,0,null,{"$f":"IF(OR(Y541+1>(IF(AND(Simulador!$C$9<Simulador!$C$10,OR(Simulador!$E$7=\"Resgate\",Simulador!$E$7=\"Portabilidade\")),Simulador!$C$9,Simulador!$C$10)-Simulador!$C$8)*12,Y541=0),0,Y541+1)","v":538},{"$f":"IF($Y542=0,0,Z541*(1+Simulador!$D$34)+E542+L542)","v":0},{"$f":"IF($Y542=0,0,AA541*(1+Simulador!$D$34)+S542)","v":0},{"$f":"IF(OR(AB541+1>(IF(AND(Simulador!$C$9<Simulador!$C$10,OR(Simulador!$E$7=\"Resgate\",Simulador!$E$7=\"Portabilidade\")),Simulador!$C$9,Simulador!$C$50)-Simulador!$C$8)*12,AB541=0),0,AB541+1)","v":538},{"$f":"IF($AB542=0,0,AC541*(1+Simulador!$D$34)+F542+M542)","v":0},{"$f":"IF($AB542=0,0,AD541*(1+Simulador!$D$34)+T542)","v":0}]
[{"$f":"IF(OR(A542+1>(IF(Simulador!$E$7=\"Autopatrocínio\",Simulador!$C$10,Simulador!$C$9)-Simulador!$C$8)*12,A542=0),0,A542+1)","v":0},{"$f":"IF($A543=0,0,IF(INT($A542/12)-$A542/12=0,B542*(1+Simulador!$C$35),B542))","v":0},{"$f":"MAX(IF(A543=0,0,B543-IF(Simulador!$C$11=\"Individual\",0,Simulador!$C$14)),0)","v":0},null,0,0,0,0,0,0,null,0,0,0,0,0,0,null,0,0,0,0,0,null,{"$f":"IF(OR(Y542+1>(IF(AND(Simulador!$C$9<Simulador!$C$10,OR(Simulador!$E$7=\"Resgate\",Simulador!$E$7=\"Portabilidade\")),Simulador!$C$9,Simulador!$C$10)-Simulador!$C$8)*12,Y542=0),0,Y542+1)","v":539},{"$f":"IF($Y543=0,0,Z542*(1+Simulador!$D$34)+E543+L543)","v":0},{"$f":"IF($Y543=0,0,AA542*(1+Simulador!$D$34)+S543)","v":0},{"$f":"IF(OR(AB542+1>(IF(AND(Simulador!$C$9<Simulador!$C$10,OR(Simulador!$E$7=\"Resgate\",Simulador!$E$7=\"Portabilidade\")),Simulador!$C$9,Simulador!$C$50)-Simulador!$C$8)*12,AB542=0),0,AB542+1)","v":539},{"$f":"IF($AB543=0,0,AC542*(1+Simulador!$D$34)+F543+M543)","v":0},{"$f":"IF($AB543=0,0,AD542*(1+Simulador!$D$34)+T543)","v":0}]
[{"$f":"IF(OR(A543+1>(IF(Simulador!$E$7=\"Autopatrocínio\",Simulador!$C$10,Simulador!$C$9)-Simulador!$C$8)*12,A543=0),0,A543+1)","v":0},{"$f":"IF($A544=0,0,IF(INT($A543/12)-$A543/12=0,B543*(1+Simulador!$C$35),B543))","v":0},{"$f":"MAX(IF(A544=0,0,B544-IF(Simulador!$C$11=\"Individual\",0,Simulador!$C$14)),0)","v":0},null,0,0,0,0,0,0,null,0,0,0,0,0,0,null,0,0,0,0,0,null,{"$f":"IF(OR(Y543+1>(IF(AND(Simulador!$C$9<Simulador!$C$10,OR(Simulador!$E$7=\"Resgate\",Simulador!$E$7=\"Portabilidade\")),Simulador!$C$9,Simulador!$C$10)-Simulador!$C$8)*12,Y543=0),0,Y543+1)","v":540},{"$f":"IF($Y544=0,0,Z543*(1+Simulador!$D$34)+E544+L544)","v":0},{"$f":"IF($Y544=0,0,AA543*(1+Simulador!$D$34)+S544)","v":0},{"$f":"IF(OR(AB543+1>(IF(AND(Simulador!$C$9<Simulador!$C$10,OR(Simulador!$E$7=\"Resgate\",Simulador!$E$7=\"Portabilidade\")),Simulador!$C$9,Simulador!$C$50)-Simulador!$C$8)*12,AB543=0),0,AB543+1)","v":540},{"$f":"IF($AB544=0,0,AC543*(1+Simulador!$D$34)+F544+M544)","v":0},{"$f":"IF($AB544=0,0,AD543*(1+Simulador!$D$34)+T544)","v":0}]
[{"$f":"IF(OR(A544+1>(IF(Simulador!$E$7=\"Autopatrocínio\",Simulador!$C$10,Simulador!$C$9)-Simulador!$C$8)*12,A544=0),0,A544+1)","v":0},{"$f":"IF($A545=0,0,IF(INT($A544/12)-$A544/12=0,B544*(1+Simulador!$C$35),B544))","v":0},{"$f":"MAX(IF(A545=0,0,B545-IF(Simulador!$C$11=\"Individual\",0,Simulador!$C$14)),0)","v":0},null,0,0,0,0,0,0,null,0,0,0,0,0,0,null,0,0,0,0,0,null,{"$f":"IF(OR(Y544+1>(IF(AND(Simulador!$C$9<Simulador!$C$10,OR(Simulador!$E$7=\"Resgate\",Simulador!$E$7=\"Portabilidade\")),Simulador!$C$9,Simulador!$C$10)-Simulador!$C$8)*12,Y544=0),0,Y544+1)","v":541},{"$f":"IF($Y545=0,0,Z544*(1+Simulador!$D$34)+E545+L545)","v":0},{"$f":"IF($Y545=0,0,AA544*(1+Simulador!$D$34)+S545)","v":0},{"$f":"IF(OR(AB544+1>(IF(AND(Simulador!$C$9<Simulador!$C$10,OR(Simulador!$E$7=\"Resgate\",Simulador!$E$7=\"Portabilidade\")),Simulador!$C$9,Simulador!$C$50)-Simulador!$C$8)*12,AB544=0),0,AB544+1)","v":541},{"$f":"IF($AB545=0,0,AC544*(1+Simulador!$D$34)+F545+M545)","v":0},{"$f":"IF($AB545=0,0,AD544*(1+Simulador!$D$34)+T545)","v":0}]
[{"$f":"IF(OR(A545+1>(IF(Simulador!$E$7=\"Autopatrocínio\",Simulador!$C$10,Simulador!$C$9)-Simulador!$C$8)*12,A545=0),0,A545+1)","v":0},{"$f":"IF($A546=0,0,IF(INT($A545/12)-$A545/12=0,B545*(1+Simulador!$C$35),B545))","v":0},{"$f":"MAX(IF(A546=0,0,B546-IF(Simulador!$C$11=\"Individual\",0,Simulador!$C$14)),0)","v":0},null,0,0,0,0,0,0,null,0,0,0,0,0,0,null,0,0,0,0,0,null,{"$f":"IF(OR(Y545+1>(IF(AND(Simulador!$C$9<Simulador!$C$10,OR(Simulador!$E$7=\"Resgate\",Simulador!$E$7=\"Portabilidade\")),Simulador!$C$9,Simulador!$C$10)-Simulador!$C$8)*12,Y545=0),0,Y545+1)","v":542},{"$f":"IF($Y546=0,0,Z545*(1+Simulador!$D$34)+E546+L546)","v":0},{"$f":"IF($Y546=0,0,AA545*(1+Simulador!$D$34)+S546)","v":0},{"$f":"IF(OR(AB545+1>(IF(AND(Simulador!$C$9<Simulador!$C$10,OR(Simulador!$E$7=\"Resgate\",Simulador!$E$7=\"Portabilidade\")),Simulador!$C$9,Simulador!$C$50)-Simulador!$C$8)*12,AB545=0),0,AB545+1)","v":542},{"$f":"IF($AB546=0,0,AC545*(1+Simulador!$D$34)+F546+M546)","v":0},{"$f":"IF($AB546=0,0,AD545*(1+Simulador!$D$34)+T546)","v":0}]
[{"$f":"IF(OR(A546+1>(IF(Simulador!$E$7=\"Autopatrocínio\",Simulador!$C$10,Simulador!$C$9)-Simulador!$C$8)*12,A546=0),0,A546+1)","v":0},{"$f":"IF($A547=0,0,IF(INT($A546/12)-$A546/12=0,B546*(1+Simulador!$C$35),B546))","v":0},{"$f":"MAX(IF(A547=0,0,B547-IF(Simulador!$C$11=\"Individual\",0,Simulador!$C$14)),0)","v":0},null,0,0,0,0,0,0,null,0,0,0,0,0,0,null,0,0,0,0,0,null,{"$f":"IF(OR(Y546+1>(IF(AND(Simulador!$C$9<Simulador!$C$10,OR(Simulador!$E$7=\"Resgate\",Simulador!$E$7=\"Portabilidade\")),Simulador!$C$9,Simulador!$C$10)-Simulador!$C$8)*12,Y546=0),0,Y546+1)","v":543},{"$f":"IF($Y547=0,0,Z546*(1+Simulador!$D$34)+E547+L547)","v":0},{"$f":"IF($Y547=0,0,AA546*(1+Simulador!$D$34)+S547)","v":0},{"$f":"IF(OR(AB546+1>(IF(AND(Simulador!$C$9<Simulador!$C$10,OR(Simulador!$E$7=\"Resgate\",Simulador!$E$7=\"Portabilidade\")),Simulador!$C$9,Simulador!$C$50)-Simulador!$C$8)*12,AB546=0),0,AB546+1)","v":543},{"$f":"IF($AB547=0,0,AC546*(1+Simulador!$D$34)+F547+M547)","v":0},{"$f":"IF($AB547=0,0,AD546*(1+Simulador!$D$34)+T547)","v":0}]
[{"$f":"IF(OR(A547+1>(IF(Simulador!$E$7=\"Autopatrocínio\",Simulador!$C$10,Simulador!$C$9)-Simulador!$C$8)*12,A547=0),0,A547+1)","v":0},{"$f":"IF($A548=0,0,IF(INT($A547/12)-$A547/12=0,B547*(1+Simulador!$C$35),B547))","v":0},{"$f":"MAX(IF(A548=0,0,B548-IF(Simulador!$C$11=\"Individual\",0,Simulador!$C$14)),0)","v":0},null,0,0,0,0,0,0,null,0,0,0,0,0,0,null,0,0,0,0,0,null,{"$f":"IF(OR(Y547+1>(IF(AND(Simulador!$C$9<Simulador!$C$10,OR(Simulador!$E$7=\"Resgate\",Simulador!$E$7=\"Portabilidade\")),Simulador!$C$9,Simulador!$C$10)-Simulador!$C$8)*12,Y547=0),0,Y547+1)","v":544},{"$f":"IF($Y548=0,0,Z547*(1+Simulador!$D$34)+E548+L548)","v":0},{"$f":"IF($Y548=0,0,AA547*(1+Simulador!$D$34)+S548)","v":0},{"$f":"IF(OR(AB547+1>(IF(AND(Simulador!$C$9<Simulador!$C$10,OR(Simulador!$E$7=\"Resgate\",Simulador!$E$7=\"Portabilidade\")),Simulador!$C$9,Simulador!$C$50)-Simulador!$C$8)*12,AB547=0),0,AB547+1)","v":544},{"$f":"IF($AB548=0,0,AC547*(1+Simulador!$D$34)+F548+M548)","v":0},{"$f":"IF($AB548=0,0,AD547*(1+Simulador!$D$34)+T548)","v":0}]
[{"$f":"IF(OR(A548+1>(IF(Simulador!$E$7=\"Autopatrocínio\",Simulador!$C$10,Simulador!$C$9)-Simulador!$C$8)*12,A548=0),0,A548+1)","v":0},{"$f":"IF($A549=0,0,IF(INT($A548/12)-$A548/12=0,B548*(1+Simulador!$C$35),B548))","v":0},{"$f":"MAX(IF(A549=0,0,B549-IF(Simulador!$C$11=\"Individual\",0,Simulador!$C$14)),0)","v":0},null,0,0,0,0,0,0,null,0,0,0,0,0,0,null,0,0,0,0,0,null,{"$f":"IF(OR(Y548+1>(IF(AND(Simulador!$C$9<Simulador!$C$10,OR(Simulador!$E$7=\"Resgate\",Simulador!$E$7=\"Portabilidade\")),Simulador!$C$9,Simulador!$C$10)-Simulador!$C$8)*12,Y548=0),0,Y548+1)","v":545},{"$f":"IF($Y549=0,0,Z548*(1+Simulador!$D$34)+E549+L549)","v":0},{"$f":"IF($Y549=0,0,AA548*(1+Simulador!$D$34)+S549)","v":0},{"$f":"IF(OR(AB548+1>(IF(AND(Simulador!$C$9<Simulador!$C$10,OR(Simulador!$E$7=\"Resgate\",Simulador!$E$7=\"Portabilidade\")),Simulador!$C$9,Simulador!$C$50)-Simulador!$C$8)*12,AB548=0),0,AB548+1)","v":545},{"$f":"IF($AB549=0,0,AC548*(1+Simulador!$D$34)+F549+M549)","v":0},{"$f":"IF($AB549=0,0,AD548*(1+Simulador!$D$34)+T549)","v":0}]
[{"$f":"IF(OR(A549+1>(IF(Simulador!$E$7=\"Autopatrocínio\",Simulador!$C$10,Simulador!$C$9)-Simulador!$C$8)*12,A549=0),0,A549+1)","v":0},{"$f":"IF($A550=0,0,IF(INT($A549/12)-$A549/12=0,B549*(1+Simulador!$C$35),B549))","v":0},{"$f":"MAX(IF(A550=0,0,B550-IF(Simulador!$C$11=\"Individual\",0,Simulador!$C$14)),0)","v":0},null,0,0,0,0,0,0,null,0,0,0,0,0,0,null,0,0,0,0,0,null,{"$f":"IF(OR(Y549+1>(IF(AND(Simulador!$C$9<Simulador!$C$10,OR(Simulador!$E$7=\"Resgate\",Simulador!$E$7=\"Portabilidade\")),Simulador!$C$9,Simulador!$C$10)-Simulador!$C$8)*12,Y549=0),0,Y549+1)","v":546},{"$f":"IF($Y550=0,0,Z549*(1+Simulador!$D$34)+E550+L550)","v":0},{"$f":"IF($Y550=0,0,AA549*(1+Simulador!$D$34)+S550)","v":0},{"$f":"IF(OR(AB549+1>(IF(AND(Simulador!$C$9<Simulador!$C$10,OR(Simulador!$E$7=\"Resgate\",Simulador!$E$7=\"Portabilidade\")),Simulador!$C$9,Simulador!$C$50)-Simulador!$C$8)*12,AB549=0),0,AB549+1)","v":546},{"$f":"IF($AB550=0,0,AC549*(1+Simulador!$D$34)+F550+M550)","v":0},{"$f":"IF($AB550=0,0,AD549*(1+Simulador!$D$34)+T550)","v":0}]
[{"$f":"IF(OR(A550+1>(IF(Simulador!$E$7=\"Autopatrocínio\",Simulador!$C$10,Simulador!$C$9)-Simulador!$C$8)*12,A550=0),0,A550+1)","v":0},{"$f":"IF($A551=0,0,IF(INT($A550/12)-$A550/12=0,B550*(1+Simulador!$C$35),B550))","v":0},{"$f":"MAX(IF(A551=0,0,B551-IF(Simulador!$C$11=\"Individual\",0,Simulador!$C$14)),0)","v":0},null,0,0,0,0,0,0,null,0,0,0,0,0,0,null,0,0,0,0,0,null,{"$f":"IF(OR(Y550+1>(IF(AND(Simulador!$C$9<Simulador!$C$10,OR(Simulador!$E$7=\"Resgate\",Simulador!$E$7=\"Portabilidade\")),Simulador!$C$9,Simulador!$C$10)-Simulador!$C$8)*12,Y550=0),0,Y550+1)","v":547},{"$f":"IF($Y551=0,0,Z550*(1+Simulador!$D$34)+E551+L551)","v":0},{"$f":"IF($Y551=0,0,AA550*(1+Simulador!$D$34)+S551)","v":0},{"$f":"IF(OR(AB550+1>(IF(AND(Simulador!$C$9<Simulador!$C$10,OR(Simulador!$E$7=\"Resgate\",Simulador!$E$7=\"Portabilidade\")),Simulador!$C$9,Simulador!$C$50)-Simulador!$C$8)*12,AB550=0),0,AB550+1)","v":547},{"$f":"IF($AB551=0,0,AC550*(1+Simulador!$D$34)+F551+M551)","v":0},{"$f":"IF($AB551=0,0,AD550*(1+Simulador!$D$34)+T551)","v":0}]
[{"$f":"IF(OR(A551+1>(IF(Simulador!$E$7=\"Autopatrocínio\",Simulador!$C$10,Simulador!$C$9)-Simulador!$C$8)*12,A551=0),0,A551+1)","v":0},{"$f":"IF($A552=0,0,IF(INT($A551/12)-$A551/12=0,B551*(1+Simulador!$C$35),B551))","v":0},{"$f":"MAX(IF(A552=0,0,B552-IF(Simulador!$C$11=\"Individual\",0,Simulador!$C$14)),0)","v":0},null,{"$f":"E$4*$C552*(1+$J552)","v":0},0,0,0,0,0,null,{"$f":"L$4*$C552*$Q552","v":0},0,0,0,0,0,null,{"$f":"S$4*$C552*(1+$J552)","v":0},0,0,0,0,null,{"$f":"IF(OR(Y551+1>(IF(AND(Simulador!$C$9<Simulador!$C$10,OR(Simulador!$E$7=\"Resgate\",Simulador!$E$7=\"Portabilidade\")),Simulador!$C$9,Simulador!$C$10)-Simulador!$C$8)*12,Y551=0),0,Y551+1)","v":548},{"$f":"IF($Y552=0,0,Z551*(1+Simulador!$D$34)+E552+L552)","v":0},{"$f":"IF($Y552=0,0,AA551*(1+Simulador!$D$34)+S552)","v":0},{"$f":"IF(OR(AB551+1>(IF(AND(Simulador!$C$9<Simulador!$C$10,OR(Simulador!$E$7=\"Resgate\",Simulador!$E$7=\"Portabilidade\")),Simulador!$C$9,Simulador!$C$50)-Simulador!$C$8)*12,AB551=0),0,AB551+1)","v":548},{"$f":"IF($AB552=0,0,AC551*(1+Simulador!$D$34)+F552+M552)","v":0},{"$f":"IF($AB552=0,0,AD551*(1+Simulador!$D$34)+T552)","v":0}]
[{"$f":"IF(OR(A552+1>(IF(Simulador!$E$7=\"Autopatrocínio\",Simulador!$C$10,Simulador!$C$9)-Simulador!$C$8)*12,A552=0),0,A552+1)","v":0},{"$f":"IF($A553=0,0,IF(INT($A552/12)-$A552/12=0,B552*(1+Simulador!$C$35),B552))","v":0},{"$f":"MAX(IF(A553=0,0,B553-IF(Simulador!$C$11=\"Individual\",0,Simulador!$C$14)),0)","v":0},null,0,0,0,0,0,0,null,0,0,0,0,0,0,null,0,0,0,0,0,null,{"$f":"IF(OR(Y552+1>(IF(AND(Simulador!$C$9<Simulador!$C$10,OR(Simulador!$E$7=\"Resgate\",Simulador!$E$7=\"Portabilidade\")),Simulador!$C$9,Simulador!$C$10)-Simulador!$C$8)*12,Y552=0),0,Y552+1)","v":549},{"$f":"IF($Y553=0,0,Z552*(1+Simulador!$D$34)+E553+L553)","v":0},{"$f":"IF($Y553=0,0,AA552*(1+Simulador!$D$34)+S553)","v":0},{"$f":"IF(OR(AB552+1>(IF(AND(Simulador!$C$9<Simulador!$C$10,OR(Simulador!$E$7=\"Resgate\",Simulador!$E$7=\"Portabilidade\")),Simulador!$C$9,Simulador!$C$50)-Simulador!$C$8)*12,AB552=0),0,AB552+1)","v":549},{"$f":"IF($AB553=0,0,AC552*(1+Simulador!$D$34)+F553+M553)","v":0},{"$f":"IF($AB553=0,0,AD552*(1+Simulador!$D$34)+T553)","v":0}]
[{"$f":"IF(OR(A553+1>(IF(Simulador!$E$7=\"Autopatrocínio\",Simulador!$C$10,Simulador!$C$9)-Simulador!$C$8)*12,A553=0),0,A553+1)","v":0},{"$f":"IF($A554=0,0,IF(INT($A553/12)-$A553/12=0,B553*(1+Simulador!$C$35),B553))","v":0},{"$f":"MAX(IF(A554=0,0,B554-IF(Simulador!$C$11=\"Individual\",0,Simulador!$C$14)),0)","v":0},null,0,0,0,0,0,0,null,0,0,0,0,0,0,null,0,0,0,0,0,null,{"$f":"IF(OR(Y553+1>(IF(AND(Simulador!$C$9<Simulador!$C$10,OR(Simulador!$E$7=\"Resgate\",Simulador!$E$7=\"Portabilidade\")),Simulador!$C$9,Simulador!$C$10)-Simulador!$C$8)*12,Y553=0),0,Y553+1)","v":550},{"$f":"IF($Y554=0,0,Z553*(1+Simulador!$D$34)+E554+L554)","v":0},{"$f":"IF($Y554=0,0,AA553*(1+Simulador!$D$34)+S554)","v":0},{"$f":"IF(OR(AB553+1>(IF(AND(Simulador!$C$9<Simulador!$C$10,OR(Simulador!$E$7=\"Resgate\",Simulador!$E$7=\"Portabilidade\")),Simulador!$C$9,Simulador!$C$50)-Simulador!$C$8)*12,AB553=0),0,AB553+1)","v":550},{"$f":"IF($AB554=0,0,AC553*(1+Simulador!$D$34)+F554+M554)","v":0},{"$f":"IF($AB554=0,0,AD553*(1+Simulador!$D$34)+T554)","v":0}]
[{"$f":"IF(OR(A554+1>(IF(Simulador!$E$7=\"Autopatrocínio\",Simulador!$C$10,Simulador!$C$9)-Simulador!$C$8)*12,A554=0),0,A554+1)","v":0},{"$f":"IF($A555=0,0,IF(INT($A554/12)-$A554/12=0,B554*(1+Simulador!$C$35),B554))","v":0},{"$f":"MAX(IF(A555=0,0,B555-IF(Simulador!$C$11=\"Individual\",0,Simulador!$C$14)),0)","v":0},null,0,0,0,0,0,0,null,0,0,0,0,0,0,null,0,0,0,0,0,null,{"$f":"IF(OR(Y554+1>(IF(AND(Simulador!$C$9<Simulador!$C$10,OR(Simulador!$E$7=\"Resgate\",Simulador!$E$7=\"Portabilidade\")),Simulador!$C$9,Simulador!$C$10)-Simulador!$C$8)*12,Y554=0),0,Y554+1)","v":551},{"$f":"IF($Y555=0,0,Z554*(1+Simulador!$D$34)+E555+L555)","v":0},{"$f":"IF($Y555=0,0,AA554*(1+Simulador!$D$34)+S555)","v":0},{"$f":"IF(OR(AB554+1>(IF(AND(Simulador!$C$9<Simulador!$C$10,OR(Simulador!$E$7=\"Resgate\",Simulador!$E$7=\"Portabilidade\")),Simulador!$C$9,Simulador!$C$50)-Simulador!$C$8)*12,AB554=0),0,AB554+1)","v":551},{"$f":"IF($AB555=0,0,AC554*(1+Simulador!$D$34)+F555+M555)","v":0},{"$f":"IF($AB555=0,0,AD554*(1+Simulador!$D$34)+T555)","v":0}]
[{"$f":"IF(OR(A555+1>(IF(Simulador!$E$7=\"Autopatrocínio\",Simulador!$C$10,Simulador!$C$9)-Simulador!$C$8)*12,A555=0),0,A555+1)","v":0},{"$f":"IF($A556=0,0,IF(INT($A555/12)-$A555/12=0,B555*(1+Simulador!$C$35),B555))","v":0},{"$f":"MAX(IF(A556=0,0,B556-IF(Simulador!$C$11=\"Individual\",0,Simulador!$C$14)),0)","v":0},null,0,0,0,0,0,0,null,0,0,0,0,0,0,null,0,0,0,0,0,null,{"$f":"IF(OR(Y555+1>(IF(AND(Simulador!$C$9<Simulador!$C$10,OR(Simulador!$E$7=\"Resgate\",Simulador!$E$7=\"Portabilidade\")),Simulador!$C$9,Simulador!$C$10)-Simulador!$C$8)*12,Y555=0),0,Y555+1)","v":552},{"$f":"IF($Y556=0,0,Z555*(1+Simulador!$D$34)+E556+L556)","v":0},{"$f":"IF($Y556=0,0,AA555*(1+Simulador!$D$34)+S556)","v":0},{"$f":"IF(OR(AB555+1>(IF(AND(Simulador!$C$9<Simulador!$C$10,OR(Simulador!$E$7=\"Resgate\",Simulador!$E$7=\"Portabilidade\")),Simulador!$C$9,Simulador!$C$50)-Simulador!$C$8)*12,AB555=0),0,AB555+1)","v":552},{"$f":"IF($AB556=0,0,AC555*(1+Simulador!$D$34)+F556+M556)","v":0},{"$f":"IF($AB556=0,0,AD555*(1+Simulador!$D$34)+T556)","v":0}]
[{"$f":"IF(OR(A556+1>(IF(Simulador!$E$7=\"Autopatrocínio\",Simulador!$C$10,Simulador!$C$9)-Simulador!$C$8)*12,A556=0),0,A556+1)","v":0},{"$f":"IF($A557=0,0,IF(INT($A556/12)-$A556/12=0,B556*(1+Simulador!$C$35),B556))","v":0},{"$f":"MAX(IF(A557=0,0,B557-IF(Simulador!$C$11=\"Individual\",0,Simulador!$C$14)),0)","v":0},null,0,0,0,0,0,0,null,0,0,0,0,0,0,null,0,0,0,0,0,null,{"$f":"IF(OR(Y556+1>(IF(AND(Simulador!$C$9<Simulador!$C$10,OR(Simulador!$E$7=\"Resgate\",Simulador!$E$7=\"Portabilidade\")),Simulador!$C$9,Simulador!$C$10)-Simulador!$C$8)*12,Y556=0),0,Y556+1)","v":553},{"$f":"IF($Y557=0,0,Z556*(1+Simulador!$D$34)+E557+L557)","v":0},{"$f":"IF($Y557=0,0,AA556*(1+Simulador!$D$34)+S557)","v":0},{"$f":"IF(OR(AB556+1>(IF(AND(Simulador!$C$9<Simulador!$C$10,OR(Simulador!$E$7=\"Resgate\",Simulador!$E$7=\"Portabilidade\")),Simulador!$C$9,Simulador!$C$50)-Simulador!$C$8)*12,AB556=0),0,AB556+1)","v":553},{"$f":"IF($AB557=0,0,AC556*(1+Simulador!$D$34)+F557+M557)","v":0},{"$f":"IF($AB557=0,0,AD556*(1+Simulador!$D$34)+T557)","v":0}]
[{"$f":"IF(OR(A557+1>(IF(Simulador!$E$7=\"Autopatrocínio\",Simulador!$C$10,Simulador!$C$9)-Simulador!$C$8)*12,A557=0),0,A557+1)","v":0},{"$f":"IF($A558=0,0,IF(INT($A557/12)-$A557/12=0,B557*(1+Simulador!$C$35),B557))","v":0},{"$f":"MAX(IF(A558=0,0,B558-IF(Simulador!$C$11=\"Individual\",0,Simulador!$C$14)),0)","v":0},null,0,0,0,0,0,0,null,0,0,0,0,0,0,null,0,0,0,0,0,null,{"$f":"IF(OR(Y557+1>(IF(AND(Simulador!$C$9<Simulador!$C$10,OR(Simulador!$E$7=\"Resgate\",Simulador!$E$7=\"Portabilidade\")),Simulador!$C$9,Simulador!$C$10)-Simulador!$C$8)*12,Y557=0),0,Y557+1)","v":554},{"$f":"IF($Y558=0,0,Z557*(1+Simulador!$D$34)+E558+L558)","v":0},{"$f":"IF($Y558=0,0,AA557*(1+Simulador!$D$34)+S558)","v":0},{"$f":"IF(OR(AB557+1>(IF(AND(Simulador!$C$9<Simulador!$C$10,OR(Simulador!$E$7=\"Resgate\",Simulador!$E$7=\"Portabilidade\")),Simulador!$C$9,Simulador!$C$50)-Simulador!$C$8)*12,AB557=0),0,AB557+1)","v":554},{"$f":"IF($AB558=0,0,AC557*(1+Simulador!$D$34)+F558+M558)","v":0},{"$f":"IF($AB558=0,0,AD557*(1+Simulador!$D$34)+T558)","v":0}]
[{"$f":"IF(OR(A558+1>(IF(Simulador!$E$7=\"Autopatrocínio\",Simulador!$C$10,Simulador!$C$9)-Simulador!$C$8)*12,A558=0),0,A558+1)","v":0},{"$f":"IF($A559=0,0,IF(INT($A558/12)-$A558/12=0,B558*(1+Simulador!$C$35),B558))","v":0},{"$f":"MAX(IF(A559=0,0,B559-IF(Simulador!$C$11=\"Individual\",0,Simulador!$C$14)),0)","v":0},null,0,0,0,0,0,0,null,0,0,0,0,0,0,null,0,0,0,0,0,null,{"$f":"IF(OR(Y558+1>(IF(AND(Simulador!$C$9<Simulador!$C$10,OR(Simulador!$E$7=\"Resgate\",Simulador!$E$7=\"Portabilidade\")),Simulador!$C$9,Simulador!$C$10)-Simulador!$C$8)*12,Y558=0),0,Y558+1)","v":555},{"$f":"IF($Y559=0,0,Z558*(1+Simulador!$D$34)+E559+L559)","v":0},{"$f":"IF($Y559=0,0,AA558*(1+Simulador!$D$34)+S559)","v":0},{"$f":"IF(OR(AB558+1>(IF(AND(Simulador!$C$9<Simulador!$C$10,OR(Simulador!$E$7=\"Resgate\",Simulador!$E$7=\"Portabilidade\")),Simulador!$C$9,Simulador!$C$50)-Simulador!$C$8)*12,AB558=0),0,AB558+1)","v":555},{"$f":"IF($AB559=0,0,AC558*(1+Simulador!$D$34)+F559+M559)","v":0},{"$f":"IF($AB559=0,0,AD558*(1+Simulador!$D$34)+T559)","v":0}]
[{"$f":"IF(OR(A559+1>(IF(Simulador!$E$7=\"Autopatrocínio\",Simulador!$C$10,Simulador!$C$9)-Simulador!$C$8)*12,A559=0),0,A559+1)","v":0},{"$f":"IF($A560=0,0,IF(INT($A559/12)-$A559/12=0,B559*(1+Simulador!$C$35),B559))","v":0},{"$f":"MAX(IF(A560=0,0,B560-IF(Simulador!$C$11=\"Individual\",0,Simulador!$C$14)),0)","v":0},null,0,0,0,0,0,0,null,0,0,0,0,0,0,null,0,0,0,0,0,null,{"$f":"IF(OR(Y559+1>(IF(AND(Simulador!$C$9<Simulador!$C$10,OR(Simulador!$E$7=\"Resgate\",Simulador!$E$7=\"Portabilidade\")),Simulador!$C$9,Simulador!$C$10)-Simulador!$C$8)*12,Y559=0),0,Y559+1)","v":556},{"$f":"IF($Y560=0,0,Z559*(1+Simulador!$D$34)+E560+L560)","v":0},{"$f":"IF($Y560=0,0,AA559*(1+Simulador!$D$34)+S560)","v":0},{"$f":"IF(OR(AB559+1>(IF(AND(Simulador!$C$9<Simulador!$C$10,OR(Simulador!$E$7=\"Resgate\",Simulador!$E$7=\"Portabilidade\")),Simulador!$C$9,Simulador!$C$50)-Simulador!$C$8)*12,AB559=0),0,AB559+1)","v":556},{"$f":"IF($AB560=0,0,AC559*(1+Simulador!$D$34)+F560+M560)","v":0},{"$f":"IF($AB560=0,0,AD559*(1+Simulador!$D$34)+T560)","v":0}]
[{"$f":"IF(OR(A560+1>(IF(Simulador!$E$7=\"Autopatrocínio\",Simulador!$C$10,Simulador!$C$9)-Simulador!$C$8)*12,A560=0),0,A560+1)","v":0},{"$f":"IF($A561=0,0,IF(INT($A560/12)-$A560/12=0,B560*(1+Simulador!$C$35),B560))","v":0},{"$f":"MAX(IF(A561=0,0,B561-IF(Simulador!$C$11=\"Individual\",0,Simulador!$C$14)),0)","v":0},null,0,0,0,0,0,0,null,0,0,0,0,0,0,null,0,0,0,0,0,null,{"$f":"IF(OR(Y560+1>(IF(AND(Simulador!$C$9<Simulador!$C$10,OR(Simulador!$E$7=\"Resgate\",Simulador!$E$7=\"Portabilidade\")),Simulador!$C$9,Simulador!$C$10)-Simulador!$C$8)*12,Y560=0),0,Y560+1)","v":557},{"$f":"IF($Y561=0,0,Z560*(1+Simulador!$D$34)+E561+L561)","v":0},{"$f":"IF($Y561=0,0,AA560*(1+Simulador!$D$34)+S561)","v":0},{"$f":"IF(OR(AB560+1>(IF(AND(Simulador!$C$9<Simulador!$C$10,OR(Simulador!$E$7=\"Resgate\",Simulador!$E$7=\"Portabilidade\")),Simulador!$C$9,Simulador!$C$50)-Simulador!$C$8)*12,AB560=0),0,AB560+1)","v":557},{"$f":"IF($AB561=0,0,AC560*(1+Simulador!$D$34)+F561+M561)","v":0},{"$f":"IF($AB561=0,0,AD560*(1+Simulador!$D$34)+T561)","v":0}]
[{"$f":"IF(OR(A561+1>(IF(Simulador!$E$7=\"Autopatrocínio\",Simulador!$C$10,Simulador!$C$9)-Simulador!$C$8)*12,A561=0),0,A561+1)","v":0},{"$f":"IF($A562=0,0,IF(INT($A561/12)-$A561/12=0,B561*(1+Simulador!$C$35),B561))","v":0},{"$f":"MAX(IF(A562=0,0,B562-IF(Simulador!$C$11=\"Individual\",0,Simulador!$C$14)),0)","v":0},null,0,0,0,0,0,0,null,0,0,0,0,0,0,null,0,0,0,0,0,null,{"$f":"IF(OR(Y561+1>(IF(AND(Simulador!$C$9<Simulador!$C$10,OR(Simulador!$E$7=\"Resgate\",Simulador!$E$7=\"Portabilidade\")),Simulador!$C$9,Simulador!$C$10)-Simulador!$C$8)*12,Y561=0),0,Y561+1)","v":558},{"$f":"IF($Y562=0,0,Z561*(1+Simulador!$D$34)+E562+L562)","v":0},{"$f":"IF($Y562=0,0,AA561*(1+Simulador!$D$34)+S562)","v":0},{"$f":"IF(OR(AB561+1>(IF(AND(Simulador!$C$9<Simulador!$C$10,OR(Simulador!$E$7=\"Resgate\",Simulador!$E$7=\"Portabilidade\")),Simulador!$C$9,Simulador!$C$50)-Simulador!$C$8)*12,AB561=0),0,AB561+1)","v":558},{"$f":"IF($AB562=0,0,AC561*(1+Simulador!$D$34)+F562+M562)","v":0},{"$f":"IF($AB562=0,0,AD561*(1+Simulador!$D$34)+T562)","v":0}]
[{"$f":"IF(OR(A562+1>(IF(Simulador!$E$7=\"Autopatrocínio\",Simulador!$C$10,Simulador!$C$9)-Simulador!$C$8)*12,A562=0),0,A562+1)","v":0},{"$f":"IF($A563=0,0,IF(INT($A562/12)-$A562/12=0,B562*(1+Simulador!$C$35),B562))","v":0},{"$f":"MAX(IF(A563=0,0,B563-IF(Simulador!$C$11=\"Individual\",0,Simulador!$C$14)),0)","v":0},null,0,0,0,0,0,0,null,0,0,0,0,0,0,null,0,0,0,0,0,null,{"$f":"IF(OR(Y562+1>(IF(AND(Simulador!$C$9<Simulador!$C$10,OR(Simulador!$E$7=\"Resgate\",Simulador!$E$7=\"Portabilidade\")),Simulador!$C$9,Simulador!$C$10)-Simulador!$C$8)*12,Y562=0),0,Y562+1)","v":559},{"$f":"IF($Y563=0,0,Z562*(1+Simulador!$D$34)+E563+L563)","v":0},{"$f":"IF($Y563=0,0,AA562*(1+Simulador!$D$34)+S563)","v":0},{"$f":"IF(OR(AB562+1>(IF(AND(Simulador!$C$9<Simulador!$C$10,OR(Simulador!$E$7=\"Resgate\",Simulador!$E$7=\"Portabilidade\")),Simulador!$C$9,Simulador!$C$50)-Simulador!$C$8)*12,AB562=0),0,AB562+1)","v":559},{"$f":"IF($AB563=0,0,AC562*(1+Simulador!$D$34)+F563+M563)","v":0},{"$f":"IF($AB563=0,0,AD562*(1+Simulador!$D$34)+T563)","v":0}]
[{"$f":"IF(OR(A563+1>(IF(Simulador!$E$7=\"Autopatrocínio\",Simulador!$C$10,Simulador!$C$9)-Simulador!$C$8)*12,A563=0),0,A563+1)","v":0},{"$f":"IF($A564=0,0,IF(INT($A563/12)-$A563/12=0,B563*(1+Simulador!$C$35),B563))","v":0},{"$f":"MAX(IF(A564=0,0,B564-IF(Simulador!$C$11=\"Individual\",0,Simulador!$C$14)),0)","v":0},null,0,0,0,0,0,0,null,0,0,0,0,0,0,null,0,0,0,0,0,null,{"$f":"IF(OR(Y563+1>(IF(AND(Simulador!$C$9<Simulador!$C$10,OR(Simulador!$E$7=\"Resgate\",Simulador!$E$7=\"Portabilidade\")),Simulador!$C$9,Simulador!$C$10)-Simulador!$C$8)*12,Y563=0),0,Y563+1)","v":560},{"$f":"IF($Y564=0,0,Z563*(1+Simulador!$D$34)+E564+L564)","v":0},{"$f":"IF($Y564=0,0,AA563*(1+Simulador!$D$34)+S564)","v":0},{"$f":"IF(OR(AB563+1>(IF(AND(Simulador!$C$9<Simulador!$C$10,OR(Simulador!$E$7=\"Resgate\",Simulador!$E$7=\"Portabilidade\")),Simulador!$C$9,Simulador!$C$50)-Simulador!$C$8)*12,AB563=0),0,AB563+1)","v":560},{"$f":"IF($AB564=0,0,AC563*(1+Simulador!$D$34)+F564+M564)","v":0},{"$f":"IF($AB564=0,0,AD563*(1+Simulador!$D$34)+T564)","v":0}]
[{"$f":"IF(OR(A564+1>(IF(Simulador!$E$7=\"Autopatrocínio\",Simulador!$C$10,Simulador!$C$9)-Simulador!$C$8)*12,A564=0),0,A564+1)","v":0},{"$f":"IF($A565=0,0,IF(INT($A564/12)-$A564/12=0,B564*(1+Simulador!$C$35),B564))","v":0},{"$f":"MAX(IF(A565=0,0,B565-IF(Simulador!$C$11=\"Individual\",0,Simulador!$C$14)),0)","v":0},null,0,0,0,0,0,0,null,0,0,0,0,0,0,null,0,0,0,0,0,null,{"$f":"IF(OR(Y564+1>(IF(AND(Simulador!$C$9<Simulador!$C$10,OR(Simulador!$E$7=\"Resgate\",Simulador!$E$7=\"Portabilidade\")),Simulador!$C$9,Simulador!$C$10)-Simulador!$C$8)*12,Y564=0),0,Y564+1)","v":561},{"$f":"IF($Y565=0,0,Z564*(1+Simulador!$D$34)+E565+L565)","v":0},{"$f":"IF($Y565=0,0,AA564*(1+Simulador!$D$34)+S565)","v":0},{"$f":"IF(OR(AB564+1>(IF(AND(Simulador!$C$9<Simulador!$C$10,OR(Simulador!$E$7=\"Resgate\",Simulador!$E$7=\"Portabilidade\")),Simulador!$C$9,Simulador!$C$50)-Simulador!$C$8)*12,AB564=0),0,AB564+1)","v":561},{"$f":"IF($AB565=0,0,AC564*(1+Simulador!$D$34)+F565+M565)","v":0},{"$f":"IF($AB565=0,0,AD564*(1+Simulador!$D$34)+T565)","v":0}]
[{"$f":"IF(OR(A565+1>(IF(Simulador!$E$7=\"Autopatrocínio\",Simulador!$C$10,Simulador!$C$9)-Simulador!$C$8)*12,A565=0),0,A565+1)","v":0},{"$f":"IF($A566=0,0,IF(INT($A565/12)-$A565/12=0,B565*(1+Simulador!$C$35),B565))","v":0},{"$f":"MAX(IF(A566=0,0,B566-IF(Simulador!$C$11=\"Individual\",0,Simulador!$C$14)),0)","v":0},null,0,0,0,0,0,0,null,0,0,0,0,0,0,null,0,0,0,0,0,null,{"$f":"IF(OR(Y565+1>(IF(AND(Simulador!$C$9<Simulador!$C$10,OR(Simulador!$E$7=\"Resgate\",Simulador!$E$7=\"Portabilidade\")),Simulador!$C$9,Simulador!$C$10)-Simulador!$C$8)*12,Y565=0),0,Y565+1)","v":562},{"$f":"IF($Y566=0,0,Z565*(1+Simulador!$D$34)+E566+L566)","v":0},{"$f":"IF($Y566=0,0,AA565*(1+Simulador!$D$34)+S566)","v":0},{"$f":"IF(OR(AB565+1>(IF(AND(Simulador!$C$9<Simulador!$C$10,OR(Simulador!$E$7=\"Resgate\",Simulador!$E$7=\"Portabilidade\")),Simulador!$C$9,Simulador!$C$50)-Simulador!$C$8)*12,AB565=0),0,AB565+1)","v":562},{"$f":"IF($AB566=0,0,AC565*(1+Simulador!$D$34)+F566+M566)","v":0},{"$f":"IF($AB566=0,0,AD565*(1+Simulador!$D$34)+T566)","v":0}]
[{"$f":"IF(OR(A566+1>(IF(Simulador!$E$7=\"Autopatrocínio\",Simulador!$C$10,Simulador!$C$9)-Simulador!$C$8)*12,A566=0),0,A566+1)","v":0},{"$f":"IF($A567=0,0,IF(INT($A566/12)-$A566/12=0,B566*(1+Simulador!$C$35),B566))","v":0},{"$f":"MAX(IF(A567=0,0,B567-IF(Simulador!$C$11=\"Individual\",0,Simulador!$C$14)),0)","v":0},null,0,0,0,0,0,0,null,0,0,0,0,0,0,null,0,0,0,0,0,null,{"$f":"IF(OR(Y566+1>(IF(AND(Simulador!$C$9<Simulador!$C$10,OR(Simulador!$E$7=\"Resgate\",Simulador!$E$7=\"Portabilidade\")),Simulador!$C$9,Simulador!$C$10)-Simulador!$C$8)*12,Y566=0),0,Y566+1)","v":563},{"$f":"IF($Y567=0,0,Z566*(1+Simulador!$D$34)+E567+L567)","v":0},{"$f":"IF($Y567=0,0,AA566*(1+Simulador!$D$34)+S567)","v":0},{"$f":"IF(OR(AB566+1>(IF(AND(Simulador!$C$9<Simulador!$C$10,OR(Simulador!$E$7=\"Resgate\",Simulador!$E$7=\"Portabilidade\")),Simulador!$C$9,Simulador!$C$50)-Simulador!$C$8)*12,AB566=0),0,AB566+1)","v":563},{"$f":"IF($AB567=0,0,AC566*(1+Simulador!$D$34)+F567+M567)","v":0},{"$f":"IF($AB567=0,0,AD566*(1+Simulador!$D$34)+T567)","v":0}]
[{"$f":"IF(OR(A567+1>(IF(Simulador!$E$7=\"Autopatrocínio\",Simulador!$C$10,Simulador!$C$9)-Simulador!$C$8)*12,A567=0),0,A567+1)","v":0},{"$f":"IF($A568=0,0,IF(INT($A567/12)-$A567/12=0,B567*(1+Simulador!$C$35),B567))","v":0},{"$f":"MAX(IF(A568=0,0,B568-IF(Simulador!$C$11=\"Individual\",0,Simulador!$C$14)),0)","v":0},null,0,0,0,0,0,0,null,0,0,0,0,0,0,null,0,0,0,0,0,null,{"$f":"IF(OR(Y567+1>(IF(AND(Simulador!$C$9<Simulador!$C$10,OR(Simulador!$E$7=\"Resgate\",Simulador!$E$7=\"Portabilidade\")),Simulador!$C$9,Simulador!$C$10)-Simulador!$C$8)*12,Y567=0),0,Y567+1)","v":564},{"$f":"IF($Y568=0,0,Z567*(1+Simulador!$D$34)+E568+L568)","v":0},{"$f":"IF($Y568=0,0,AA567*(1+Simulador!$D$34)+S568)","v":0},{"$f":"IF(OR(AB567+1>(IF(AND(Simulador!$C$9<Simulador!$C$10,OR(Simulador!$E$7=\"Resgate\",Simulador!$E$7=\"Portabilidade\")),Simulador!$C$9,Simulador!$C$50)-Simulador!$C$8)*12,AB567=0),0,AB567+1)","v":564},{"$f":"IF($AB568=0,0,AC567*(1+Simulador!$D$34)+F568+M568)","v":0},{"$f":"IF($AB568=0,0,AD567*(1+Simulador!$D$34)+T568)","v":0}]
[{"$f":"IF(OR(A568+1>(IF(Simulador!$E$7=\"Autopatrocínio\",Simulador!$C$10,Simulador!$C$9)-Simulador!$C$8)*12,A568=0),0,A568+1)","v":0},{"$f":"IF($A569=0,0,IF(INT($A568/12)-$A568/12=0,B568*(1+Simulador!$C$35),B568))","v":0},{"$f":"MAX(IF(A569=0,0,B569-IF(Simulador!$C$11=\"Individual\",0,Simulador!$C$14)),0)","v":0},null,0,0,0,0,0,0,null,0,0,0,0,0,0,null,0,0,0,0,0,null,{"$f":"IF(OR(Y568+1>(IF(AND(Simulador!$C$9<Simulador!$C$10,OR(Simulador!$E$7=\"Resgate\",Simulador!$E$7=\"Portabilidade\")),Simulador!$C$9,Simulador!$C$10)-Simulador!$C$8)*12,Y568=0),0,Y568+1)","v":565},{"$f":"IF($Y569=0,0,Z568*(1+Simulador!$D$34)+E569+L569)","v":0},{"$f":"IF($Y569=0,0,AA568*(1+Simulador!$D$34)+S569)","v":0},{"$f":"IF(OR(AB568+1>(IF(AND(Simulador!$C$9<Simulador!$C$10,OR(Simulador!$E$7=\"Resgate\",Simulador!$E$7=\"Portabilidade\")),Simulador!$C$9,Simulador!$C$50)-Simulador!$C$8)*12,AB568=0),0,AB568+1)","v":565},{"$f":"IF($AB569=0,0,AC568*(1+Simulador!$D$34)+F569+M569)","v":0},{"$f":"IF($AB569=0,0,AD568*(1+Simulador!$D$34)+T569)","v":0}]
[{"$f":"IF(OR(A569+1>(IF(Simulador!$E$7=\"Autopatrocínio\",Simulador!$C$10,Simulador!$C$9)-Simulador!$C$8)*12,A569=0),0,A569+1)","v":0},{"$f":"IF($A570=0,0,IF(INT($A569/12)-$A569/12=0,B569*(1+Simulador!$C$35),B569))","v":0},{"$f":"MAX(IF(A570=0,0,B570-IF(Simulador!$C$11=\"Individual\",0,Simulador!$C$14)),0)","v":0},null,0,0,0,0,0,0,null,0,0,0,0,0,0,null,0,0,0,0,0,null,{"$f":"IF(OR(Y569+1>(IF(AND(Simulador!$C$9<Simulador!$C$10,OR(Simulador!$E$7=\"Resgate\",Simulador!$E$7=\"Portabilidade\")),Simulador!$C$9,Simulador!$C$10)-Simulador!$C$8)*12,Y569=0),0,Y569+1)","v":566},{"$f":"IF($Y570=0,0,Z569*(1+Simulador!$D$34)+E570+L570)","v":0},{"$f":"IF($Y570=0,0,AA569*(1+Simulador!$D$34)+S570)","v":0},{"$f":"IF(OR(AB569+1>(IF(AND(Simulador!$C$9<Simulador!$C$10,OR(Simulador!$E$7=\"Resgate\",Simulador!$E$7=\"Portabilidade\")),Simulador!$C$9,Simulador!$C$50)-Simulador!$C$8)*12,AB569=0),0,AB569+1)","v":566},{"$f":"IF($AB570=0,0,AC569*(1+Simulador!$D$34)+F570+M570)","v":0},{"$f":"IF($AB570=0,0,AD569*(1+Simulador!$D$34)+T570)","v":0}]
[{"$f":"IF(OR(A570+1>(IF(Simulador!$E$7=\"Autopatrocínio\",Simulador!$C$10,Simulador!$C$9)-Simulador!$C$8)*12,A570=0),0,A570+1)","v":0},{"$f":"IF($A571=0,0,IF(INT($A570/12)-$A570/12=0,B570*(1+Simulador!$C$35),B570))","v":0},{"$f":"MAX(IF(A571=0,0,B571-IF(Simulador!$C$11=\"Individual\",0,Simulador!$C$14)),0)","v":0},null,0,0,0,0,0,0,null,0,0,0,0,0,0,null,0,0,0,0,0,null,{"$f":"IF(OR(Y570+1>(IF(AND(Simulador!$C$9<Simulador!$C$10,OR(Simulador!$E$7=\"Resgate\",Simulador!$E$7=\"Portabilidade\")),Simulador!$C$9,Simulador!$C$10)-Simulador!$C$8)*12,Y570=0),0,Y570+1)","v":567},{"$f":"IF($Y571=0,0,Z570*(1+Simulador!$D$34)+E571+L571)","v":0},{"$f":"IF($Y571=0,0,AA570*(1+Simulador!$D$34)+S571)","v":0},{"$f":"IF(OR(AB570+1>(IF(AND(Simulador!$C$9<Simulador!$C$10,OR(Simulador!$E$7=\"Resgate\",Simulador!$E$7=\"Portabilidade\")),Simulador!$C$9,Simulador!$C$50)-Simulador!$C$8)*12,AB570=0),0,AB570+1)","v":567},{"$f":"IF($AB571=0,0,AC570*(1+Simulador!$D$34)+F571+M571)","v":0},{"$f":"IF($AB571=0,0,AD570*(1+Simulador!$D$34)+T571)","v":0}]
[{"$f":"IF(OR(A571+1>(IF(Simulador!$E$7=\"Autopatrocínio\",Simulador!$C$10,Simulador!$C$9)-Simulador!$C$8)*12,A571=0),0,A571+1)","v":0},{"$f":"IF($A572=0,0,IF(INT($A571/12)-$A571/12=0,B571*(1+Simulador!$C$35),B571))","v":0},{"$f":"MAX(IF(A572=0,0,B572-IF(Simulador!$C$11=\"Individual\",0,Simulador!$C$14)),0)","v":0},null,0,0,0,0,0,0,null,0,0,0,0,0,0,null,0,0,0,0,0,null,{"$f":"IF(OR(Y571+1>(IF(AND(Simulador!$C$9<Simulador!$C$10,OR(Simulador!$E$7=\"Resgate\",Simulador!$E$7=\"Portabilidade\")),Simulador!$C$9,Simulador!$C$10)-Simulador!$C$8)*12,Y571=0),0,Y571+1)","v":568},{"$f":"IF($Y572=0,0,Z571*(1+Simulador!$D$34)+E572+L572)","v":0},{"$f":"IF($Y572=0,0,AA571*(1+Simulador!$D$34)+S572)","v":0},{"$f":"IF(OR(AB571+1>(IF(AND(Simulador!$C$9<Simulador!$C$10,OR(Simulador!$E$7=\"Resgate\",Simulador!$E$7=\"Portabilidade\")),Simulador!$C$9,Simulador!$C$50)-Simulador!$C$8)*12,AB571=0),0,AB571+1)","v":568},{"$f":"IF($AB572=0,0,AC571*(1+Simulador!$D$34)+F572+M572)","v":0},{"$f":"IF($AB572=0,0,AD571*(1+Simulador!$D$34)+T572)","v":0}]
[{"$f":"IF(OR(A572+1>(IF(Simulador!$E$7=\"Autopatrocínio\",Simulador!$C$10,Simulador!$C$9)-Simulador!$C$8)*12,A572=0),0,A572+1)","v":0},{"$f":"IF($A573=0,0,IF(INT($A572/12)-$A572/12=0,B572*(1+Simulador!$C$35),B572))","v":0},{"$f":"MAX(IF(A573=0,0,B573-IF(Simulador!$C$11=\"Individual\",0,Simulador!$C$14)),0)","v":0},null,0,0,0,0,0,0,null,0,0,0,0,0,0,null,0,0,0,0,0,null,{"$f":"IF(OR(Y572+1>(IF(AND(Simulador!$C$9<Simulador!$C$10,OR(Simulador!$E$7=\"Resgate\",Simulador!$E$7=\"Portabilidade\")),Simulador!$C$9,Simulador!$C$10)-Simulador!$C$8)*12,Y572=0),0,Y572+1)","v":569},{"$f":"IF($Y573=0,0,Z572*(1+Simulador!$D$34)+E573+L573)","v":0},{"$f":"IF($Y573=0,0,AA572*(1+Simulador!$D$34)+S573)","v":0},{"$f":"IF(OR(AB572+1>(IF(AND(Simulador!$C$9<Simulador!$C$10,OR(Simulador!$E$7=\"Resgate\",Simulador!$E$7=\"Portabilidade\")),Simulador!$C$9,Simulador!$C$50)-Simulador!$C$8)*12,AB572=0),0,AB572+1)","v":569},{"$f":"IF($AB573=0,0,AC572*(1+Simulador!$D$34)+F573+M573)","v":0},{"$f":"IF($AB573=0,0,AD572*(1+Simulador!$D$34)+T573)","v":0}]
[{"$f":"IF(OR(A573+1>(IF(Simulador!$E$7=\"Autopatrocínio\",Simulador!$C$10,Simulador!$C$9)-Simulador!$C$8)*12,A573=0),0,A573+1)","v":0},{"$f":"IF($A574=0,0,IF(INT($A573/12)-$A573/12=0,B573*(1+Simulador!$C$35),B573))","v":0},{"$f":"MAX(IF(A574=0,0,B574-IF(Simulador!$C$11=\"Individual\",0,Simulador!$C$14)),0)","v":0},null,0,0,0,0,0,0,null,0,0,0,0,0,0,null,0,0,0,0,0,null,{"$f":"IF(OR(Y573+1>(IF(AND(Simulador!$C$9<Simulador!$C$10,OR(Simulador!$E$7=\"Resgate\",Simulador!$E$7=\"Portabilidade\")),Simulador!$C$9,Simulador!$C$10)-Simulador!$C$8)*12,Y573=0),0,Y573+1)","v":570},{"$f":"IF($Y574=0,0,Z573*(1+Simulador!$D$34)+E574+L574)","v":0},{"$f":"IF($Y574=0,0,AA573*(1+Simulador!$D$34)+S574)","v":0},{"$f":"IF(OR(AB573+1>(IF(AND(Simulador!$C$9<Simulador!$C$10,OR(Simulador!$E$7=\"Resgate\",Simulador!$E$7=\"Portabilidade\")),Simulador!$C$9,Simulador!$C$50)-Simulador!$C$8)*12,AB573=0),0,AB573+1)","v":570},{"$f":"IF($AB574=0,0,AC573*(1+Simulador!$D$34)+F574+M574)","v":0},{"$f":"IF($AB574=0,0,AD573*(1+Simulador!$D$34)+T574)","v":0}]
[{"$f":"IF(OR(A574+1>(IF(Simulador!$E$7=\"Autopatrocínio\",Simulador!$C$10,Simulador!$C$9)-Simulador!$C$8)*12,A574=0),0,A574+1)","v":0},{"$f":"IF($A575=0,0,IF(INT($A574/12)-$A574/12=0,B574*(1+Simulador!$C$35),B574))","v":0},{"$f":"MAX(IF(A575=0,0,B575-IF(Simulador!$C$11=\"Individual\",0,Simulador!$C$14)),0)","v":0},null,0,0,0,0,0,0,null,0,0,0,0,0,0,null,0,0,0,0,0,null,{"$f":"IF(OR(Y574+1>(IF(AND(Simulador!$C$9<Simulador!$C$10,OR(Simulador!$E$7=\"Resgate\",Simulador!$E$7=\"Portabilidade\")),Simulador!$C$9,Simulador!$C$10)-Simulador!$C$8)*12,Y574=0),0,Y574+1)","v":571},{"$f":"IF($Y575=0,0,Z574*(1+Simulador!$D$34)+E575+L575)","v":0},{"$f":"IF($Y575=0,0,AA574*(1+Simulador!$D$34)+S575)","v":0},{"$f":"IF(OR(AB574+1>(IF(AND(Simulador!$C$9<Simulador!$C$10,OR(Simulador!$E$7=\"Resgate\",Simulador!$E$7=\"Portabilidade\")),Simulador!$C$9,Simulador!$C$50)-Simulador!$C$8)*12,AB574=0),0,AB574+1)","v":571},{"$f":"IF($AB575=0,0,AC574*(1+Simulador!$D$34)+F575+M575)","v":0},{"$f":"IF($AB575=0,0,AD574*(1+Simulador!$D$34)+T575)","v":0}]
[{"$f":"IF(OR(A575+1>(IF(Simulador!$E$7=\"Autopatrocínio\",Simulador!$C$10,Simulador!$C$9)-Simulador!$C$8)*12,A575=0),0,A575+1)","v":0},{"$f":"IF($A576=0,0,IF(INT($A575/12)-$A575/12=0,B575*(1+Simulador!$C$35),B575))","v":0},{"$f":"MAX(IF(A576=0,0,B576-IF(Simulador!$C$11=\"Individual\",0,Simulador!$C$14)),0)","v":0},null,0,0,0,0,0,0,null,0,0,0,0,0,0,null,0,0,0,0,0,null,{"$f":"IF(OR(Y575+1>(IF(AND(Simulador!$C$9<Simulador!$C$10,OR(Simulador!$E$7=\"Resgate\",Simulador!$E$7=\"Portabilidade\")),Simulador!$C$9,Simulador!$C$10)-Simulador!$C$8)*12,Y575=0),0,Y575+1)","v":572},{"$f":"IF($Y576=0,0,Z575*(1+Simulador!$D$34)+E576+L576)","v":0},{"$f":"IF($Y576=0,0,AA575*(1+Simulador!$D$34)+S576)","v":0},{"$f":"IF(OR(AB575+1>(IF(AND(Simulador!$C$9<Simulador!$C$10,OR(Simulador!$E$7=\"Resgate\",Simulador!$E$7=\"Portabilidade\")),Simulador!$C$9,Simulador!$C$50)-Simulador!$C$8)*12,AB575=0),0,AB575+1)","v":572},{"$f":"IF($AB576=0,0,AC575*(1+Simulador!$D$34)+F576+M576)","v":0},{"$f":"IF($AB576=0,0,AD575*(1+Simulador!$D$34)+T576)","v":0}]
[{"$f":"IF(OR(A576+1>(IF(Simulador!$E$7=\"Autopatrocínio\",Simulador!$C$10,Simulador!$C$9)-Simulador!$C$8)*12,A576=0),0,A576+1)","v":0},{"$f":"IF($A577=0,0,IF(INT($A576/12)-$A576/12=0,B576*(1+Simulador!$C$35),B576))","v":0},{"$f":"MAX(IF(A577=0,0,B577-IF(Simulador!$C$11=\"Individual\",0,Simulador!$C$14)),0)","v":0},null,0,0,0,0,0,0,null,0,0,0,0,0,0,null,0,0,0,0,0,null,{"$f":"IF(OR(Y576+1>(IF(AND(Simulador!$C$9<Simulador!$C$10,OR(Simulador!$E$7=\"Resgate\",Simulador!$E$7=\"Portabilidade\")),Simulador!$C$9,Simulador!$C$10)-Simulador!$C$8)*12,Y576=0),0,Y576+1)","v":573},{"$f":"IF($Y577=0,0,Z576*(1+Simulador!$D$34)+E577+L577)","v":0},{"$f":"IF($Y577=0,0,AA576*(1+Simulador!$D$34)+S577)","v":0},{"$f":"IF(OR(AB576+1>(IF(AND(Simulador!$C$9<Simulador!$C$10,OR(Simulador!$E$7=\"Resgate\",Simulador!$E$7=\"Portabilidade\")),Simulador!$C$9,Simulador!$C$50)-Simulador!$C$8)*12,AB576=0),0,AB576+1)","v":573},{"$f":"IF($AB577=0,0,AC576*(1+Simulador!$D$34)+F577+M577)","v":0},{"$f":"IF($AB577=0,0,AD576*(1+Simulador!$D$34)+T577)","v":0}]
[{"$f":"IF(OR(A577+1>(IF(Simulador!$E$7=\"Autopatrocínio\",Simulador!$C$10,Simulador!$C$9)-Simulador!$C$8)*12,A577=0),0,A577+1)","v":0},{"$f":"IF($A578=0,0,IF(INT($A577/12)-$A577/12=0,B577*(1+Simulador!$C$35),B577))","v":0},{"$f":"MAX(IF(A578=0,0,B578-IF(Simulador!$C$11=\"Individual\",0,Simulador!$C$14)),0)","v":0},null,0,0,0,0,0,0,null,0,0,0,0,0,0,null,0,0,0,0,0,null,{"$f":"IF(OR(Y577+1>(IF(AND(Simulador!$C$9<Simulador!$C$10,OR(Simulador!$E$7=\"Resgate\",Simulador!$E$7=\"Portabilidade\")),Simulador!$C$9,Simulador!$C$10)-Simulador!$C$8)*12,Y577=0),0,Y577+1)","v":574},{"$f":"IF($Y578=0,0,Z577*(1+Simulador!$D$34)+E578+L578)","v":0},{"$f":"IF($Y578=0,0,AA577*(1+Simulador!$D$34)+S578)","v":0},{"$f":"IF(OR(AB577+1>(IF(AND(Simulador!$C$9<Simulador!$C$10,OR(Simulador!$E$7=\"Resgate\",Simulador!$E$7=\"Portabilidade\")),Simulador!$C$9,Simulador!$C$50)-Simulador!$C$8)*12,AB577=0),0,AB577+1)","v":574},{"$f":"IF($AB578=0,0,AC577*(1+Simulador!$D$34)+F578+M578)","v":0},{"$f":"IF($AB578=0,0,AD577*(1+Simulador!$D$34)+T578)","v":0}]
[{"$f":"IF(OR(A578+1>(IF(Simulador!$E$7=\"Autopatrocínio\",Simulador!$C$10,Simulador!$C$9)-Simulador!$C$8)*12,A578=0),0,A578+1)","v":0},{"$f":"IF($A579=0,0,IF(INT($A578/12)-$A578/12=0,B578*(1+Simulador!$C$35),B578))","v":0},{"$f":"MAX(IF(A579=0,0,B579-IF(Simulador!$C$11=\"Individual\",0,Simulador!$C$14)),0)","v":0},null,0,0,0,0,0,0,null,0,0,0,0,0,0,null,0,0,0,0,0,null,{"$f":"IF(OR(Y578+1>(IF(AND(Simulador!$C$9<Simulador!$C$10,OR(Simulador!$E$7=\"Resgate\",Simulador!$E$7=\"Portabilidade\")),Simulador!$C$9,Simulador!$C$10)-Simulador!$C$8)*12,Y578=0),0,Y578+1)","v":575},{"$f":"IF($Y579=0,0,Z578*(1+Simulador!$D$34)+E579+L579)","v":0},{"$f":"IF($Y579=0,0,AA578*(1+Simulador!$D$34)+S579)","v":0},{"$f":"IF(OR(AB578+1>(IF(AND(Simulador!$C$9<Simulador!$C$10,OR(Simulador!$E$7=\"Resgate\",Simulador!$E$7=\"Portabilidade\")),Simulador!$C$9,Simulador!$C$50)-Simulador!$C$8)*12,AB578=0),0,AB578+1)","v":575},{"$f":"IF($AB579=0,0,AC578*(1+Simulador!$D$34)+F579+M579)","v":0},{"$f":"IF($AB579=0,0,AD578*(1+Simulador!$D$34)+T579)","v":0}]
[{"$f":"IF(OR(A579+1>(IF(Simulador!$E$7=\"Autopatrocínio\",Simulador!$C$10,Simulador!$C$9)-Simulador!$C$8)*12,A579=0),0,A579+1)","v":0},{"$f":"IF($A580=0,0,IF(INT($A579/12)-$A579/12=0,B579*(1+Simulador!$C$35),B579))","v":0},{"$f":"MAX(IF(A580=0,0,B580-IF(Simulador!$C$11=\"Individual\",0,Simulador!$C$14)),0)","v":0},null,0,0,0,0,0,0,null,0,0,0,0,0,0,null,0,0,0,0,0,null,{"$f":"IF(OR(Y579+1>(IF(AND(Simulador!$C$9<Simulador!$C$10,OR(Simulador!$E$7=\"Resgate\",Simulador!$E$7=\"Portabilidade\")),Simulador!$C$9,Simulador!$C$10)-Simulador!$C$8)*12,Y579=0),0,Y579+1)","v":576},{"$f":"IF($Y580=0,0,Z579*(1+Simulador!$D$34)+E580+L580)","v":0},{"$f":"IF($Y580=0,0,AA579*(1+Simulador!$D$34)+S580)","v":0},{"$f":"IF(OR(AB579+1>(IF(AND(Simulador!$C$9<Simulador!$C$10,OR(Simulador!$E$7=\"Resgate\",Simulador!$E$7=\"Portabilidade\")),Simulador!$C$9,Simulador!$C$50)-Simulador!$C$8)*12,AB579=0),0,AB579+1)","v":576},{"$f":"IF($AB580=0,0,AC579*(1+Simulador!$D$34)+F580+M580)","v":0},{"$f":"IF($AB580=0,0,AD579*(1+Simulador!$D$34)+T580)","v":0}]
[{"$f":"IF(OR(A580+1>(IF(Simulador!$E$7=\"Autopatrocínio\",Simulador!$C$10,Simulador!$C$9)-Simulador!$C$8)*12,A580=0),0,A580+1)","v":0},{"$f":"IF($A581=0,0,IF(INT($A580/12)-$A580/12=0,B580*(1+Simulador!$C$35),B580))","v":0},{"$f":"MAX(IF(A581=0,0,B581-IF(Simulador!$C$11=\"Individual\",0,Simulador!$C$14)),0)","v":0},null,0,0,0,0,0,{"$f":"IF($A581=0,0,IF(INT($A581/12)-$A581/12=0,1,0))","v":0},null,0,0,0,0,0,{"$f":"IF($A581=0,0,IF($Q$4=\"Mensal\",1,IF($Q$4=\"Semestral\",IF(INT(($A581+5)/6)-($A581+5)/6=0,1,0),IF($Q$4=\"Anual\",IF(INT(($A581+11)/12)-($A581+11)/12=0,1,0)))))","v":0},null,0,0,0,0,0,null,{"$f":"IF(OR(Y580+1>(IF(AND(Simulador!$C$9<Simulador!$C$10,OR(Simulador!$E$7=\"Resgate\",Simulador!$E$7=\"Portabilidade\")),Simulador!$C$9,Simulador!$C$10)-Simulador!$C$8)*12,Y580=0),0,Y580+1)","v":577},{"$f":"IF($Y581=0,0,Z580*(1+Simulador!$D$34)+E581+L581)","v":0},{"$f":"IF($Y581=0,0,AA580*(1+Simulador!$D$34)+S581)","v":0},{"$f":"IF(OR(AB580+1>(IF(AND(Simulador!$C$9<Simulador!$C$10,OR(Simulador!$E$7=\"Resgate\",Simulador!$E$7=\"Portabilidade\")),Simulador!$C$9,Simulador!$C$50)-Simulador!$C$8)*12,AB580=0),0,AB580+1)","v":577},{"$f":"IF($AB581=0,0,AC580*(1+Simulador!$D$34)+F581+M581)","v":0},{"$f":"IF($AB581=0,0,AD580*(1+Simulador!$D$34)+T581)","v":0}]
[{"$f":"IF(OR(A581+1>(IF(Simulador!$E$7=\"Autopatrocínio\",Simulador!$C$10,Simulador!$C$9)-Simulador!$C$8)*12,A581=0),0,A581+1)","v":0},{"$f":"IF($A582=0,0,IF(INT($A581/12)-$A581/12=0,B581*(1+Simulador!$C$35),B581))","v":0},{"$f":"MAX(IF(A582=0,0,B582-IF(Simulador!$C$11=\"Individual\",0,Simulador!$C$14)),0)","v":0},null,0,0,0,0,0,0,null,0,0,0,0,0,0,null,0,0,0,0,0,null,{"$f":"IF(OR(Y581+1>(IF(AND(Simulador!$C$9<Simulador!$C$10,OR(Simulador!$E$7=\"Resgate\",Simulador!$E$7=\"Portabilidade\")),Simulador!$C$9,Simulador!$C$10)-Simulador!$C$8)*12,Y581=0),0,Y581+1)","v":578},{"$f":"IF($Y582=0,0,Z581*(1+Simulador!$D$34)+E582+L582)","v":0},{"$f":"IF($Y582=0,0,AA581*(1+Simulador!$D$34)+S582)","v":0},{"$f":"IF(OR(AB581+1>(IF(AND(Simulador!$C$9<Simulador!$C$10,OR(Simulador!$E$7=\"Resgate\",Simulador!$E$7=\"Portabilidade\")),Simulador!$C$9,Simulador!$C$50)-Simulador!$C$8)*12,AB581=0),0,AB581+1)","v":578},{"$f":"IF($AB582=0,0,AC581*(1+Simulador!$D$34)+F582+M582)","v":0},{"$f":"IF($AB582=0,0,AD581*(1+Simulador!$D$34)+T582)","v":0}]
[{"$f":"IF(OR(A582+1>(IF(Simulador!$E$7=\"Autopatrocínio\",Simulador!$C$10,Simulador!$C$9)-Simulador!$C$8)*12,A582=0),0,A582+1)","v":0},{"$f":"IF($A583=0,0,IF(INT($A582/12)-$A582/12=0,B582*(1+Simulador!$C$35),B582))","v":0},{"$f":"MAX(IF(A583=0,0,B583-IF(Simulador!$C$11=\"Individual\",0,Simulador!$C$14)),0)","v":0},null,0,0,0,0,0,0,null,0,0,0,0,0,0,null,0,0,0,0,0,null,{"$f":"IF(OR(Y582+1>(IF(AND(Simulador!$C$9<Simulador!$C$10,OR(Simulador!$E$7=\"Resgate\",Simulador!$E$7=\"Portabilidade\")),Simulador!$C$9,Simulador!$C$10)-Simulador!$C$8)*12,Y582=0),0,Y582+1)","v":579},{"$f":"IF($Y583=0,0,Z582*(1+Simulador!$D$34)+E583+L583)","v":0},{"$f":"IF($Y583=0,0,AA582*(1+Simulador!$D$34)+S583)","v":0},{"$f":"IF(OR(AB582+1>(IF(AND(Simulador!$C$9<Simulador!$C$10,OR(Simulador!$E$7=\"Resgate\",Simulador!$E$7=\"Portabilidade\")),Simulador!$C$9,Simulador!$C$50)-Simulador!$C$8)*12,AB582=0),0,AB582+1)","v":579},{"$f":"IF($AB583=0,0,AC582*(1+Simulador!$D$34)+F583+M583)","v":0},{"$f":"IF($AB583=0,0,AD582*(1+Simulador!$D$34)+T583)","v":0}]
[{"$f":"IF(OR(A583+1>(IF(Simulador!$E$7=\"Autopatrocínio\",Simulador!$C$10,Simulador!$C$9)-Simulador!$C$8)*12,A583=0),0,A583+1)","v":0},{"$f":"IF($A584=0,0,IF(INT($A583/12)-$A583/12=0,B583*(1+Simulador!$C$35),B583))","v":0},{"$f":"MAX(IF(A584=0,0,B584-IF(Simulador!$C$11=\"Individual\",0,Simulador!$C$14)),0)","v":0},null,0,0,0,0,0,0,null,0,0,0,0,0,0,null,0,0,0,0,0,null,{"$f":"IF(OR(Y583+1>(IF(AND(Simulador!$C$9<Simulador!$C$10,OR(Simulador!$E$7=\"Resgate\",Simulador!$E$7=\"Portabilidade\")),Simulador!$C$9,Simulador!$C$10)-Simulador!$C$8)*12,Y583=0),0,Y583+1)","v":580},{"$f":"IF($Y584=0,0,Z583*(1+Simulador!$D$34)+E584+L584)","v":0},{"$f":"IF($Y584=0,0,AA583*(1+Simulador!$D$34)+S584)","v":0},{"$f":"IF(OR(AB583+1>(IF(AND(Simulador!$C$9<Simulador!$C$10,OR(Simulador!$E$7=\"Resgate\",Simulador!$E$7=\"Portabilidade\")),Simulador!$C$9,Simulador!$C$50)-Simulador!$C$8)*12,AB583=0),0,AB583+1)","v":580},{"$f":"IF($AB584=0,0,AC583*(1+Simulador!$D$34)+F584+M584)","v":0},{"$f":"IF($AB584=0,0,AD583*(1+Simulador!$D$34)+T584)","v":0}]
[{"$f":"IF(OR(A584+1>(IF(Simulador!$E$7=\"Autopatrocínio\",Simulador!$C$10,Simulador!$C$9)-Simulador!$C$8)*12,A584=0),0,A584+1)","v":0},{"$f":"IF($A585=0,0,IF(INT($A584/12)-$A584/12=0,B584*(1+Simulador!$C$35),B584))","v":0},{"$f":"MAX(IF(A585=0,0,B585-IF(Simulador!$C$11=\"Individual\",0,Simulador!$C$14)),0)","v":0},null,0,0,0,0,0,0,null,0,0,0,0,0,0,null,0,0,0,0,0,null,{"$f":"IF(OR(Y584+1>(IF(AND(Simulador!$C$9<Simulador!$C$10,OR(Simulador!$E$7=\"Resgate\",Simulador!$E$7=\"Portabilidade\")),Simulador!$C$9,Simulador!$C$10)-Simulador!$C$8)*12,Y584=0),0,Y584+1)","v":581},{"$f":"IF($Y585=0,0,Z584*(1+Simulador!$D$34)+E585+L585)","v":0},{"$f":"IF($Y585=0,0,AA584*(1+Simulador!$D$34)+S585)","v":0},{"$f":"IF(OR(AB584+1>(IF(AND(Simulador!$C$9<Simulador!$C$10,OR(Simulador!$E$7=\"Resgate\",Simulador!$E$7=\"Portabilidade\")),Simulador!$C$9,Simulador!$C$50)-Simulador!$C$8)*12,AB584=0),0,AB584+1)","v":581},{"$f":"IF($AB585=0,0,AC584*(1+Simulador!$D$34)+F585+M585)","v":0},{"$f":"IF($AB585=0,0,AD584*(1+Simulador!$D$34)+T585)","v":0}]
[{"$f":"IF(OR(A585+1>(IF(Simulador!$E$7=\"Autopatrocínio\",Simulador!$C$10,Simulador!$C$9)-Simulador!$C$8)*12,A585=0),0,A585+1)","v":0},{"$f":"IF($A586=0,0,IF(INT($A585/12)-$A585/12=0,B585*(1+Simulador!$C$35),B585))","v":0},{"$f":"MAX(IF(A586=0,0,B586-IF(Simulador!$C$11=\"Individual\",0,Simulador!$C$14)),0)","v":0},null,0,0,0,0,0,0,null,0,0,0,0,0,0,null,0,0,0,0,0,null,{"$f":"IF(OR(Y585+1>(IF(AND(Simulador!$C$9<Simulador!$C$10,OR(Simulador!$E$7=\"Resgate\",Simulador!$E$7=\"Portabilidade\")),Simulador!$C$9,Simulador!$C$10)-Simulador!$C$8)*12,Y585=0),0,Y585+1)","v":582},{"$f":"IF($Y586=0,0,Z585*(1+Simulador!$D$34)+E586+L586)","v":0},{"$f":"IF($Y586=0,0,AA585*(1+Simulador!$D$34)+S586)","v":0},{"$f":"IF(OR(AB585+1>(IF(AND(Simulador!$C$9<Simulador!$C$10,OR(Simulador!$E$7=\"Resgate\",Simulador!$E$7=\"Portabilidade\")),Simulador!$C$9,Simulador!$C$50)-Simulador!$C$8)*12,AB585=0),0,AB585+1)","v":582},{"$f":"IF($AB586=0,0,AC585*(1+Simulador!$D$34)+F586+M586)","v":0},{"$f":"IF($AB586=0,0,AD585*(1+Simulador!$D$34)+T586)","v":0}]
[{"$f":"IF(OR(A586+1>(IF(Simulador!$E$7=\"Autopatrocínio\",Simulador!$C$10,Simulador!$C$9)-Simulador!$C$8)*12,A586=0),0,A586+1)","v":0},{"$f":"IF($A587=0,0,IF(INT($A586/12)-$A586/12=0,B586*(1+Simulador!$C$35),B586))","v":0},{"$f":"MAX(IF(A587=0,0,B587-IF(Simulador!$C$11=\"Individual\",0,Simulador!$C$14)),0)","v":0},null,0,0,0,0,0,0,null,0,0,0,0,0,0,null,0,0,0,0,0,null,{"$f":"IF(OR(Y586+1>(IF(AND(Simulador!$C$9<Simulador!$C$10,OR(Simulador!$E$7=\"Resgate\",Simulador!$E$7=\"Portabilidade\")),Simulador!$C$9,Simulador!$C$10)-Simulador!$C$8)*12,Y586=0),0,Y586+1)","v":583},{"$f":"IF($Y587=0,0,Z586*(1+Simulador!$D$34)+E587+L587)","v":0},{"$f":"IF($Y587=0,0,AA586*(1+Simulador!$D$34)+S587)","v":0},{"$f":"IF(OR(AB586+1>(IF(AND(Simulador!$C$9<Simulador!$C$10,OR(Simulador!$E$7=\"Resgate\",Simulador!$E$7=\"Portabilidade\")),Simulador!$C$9,Simulador!$C$50)-Simulador!$C$8)*12,AB586=0),0,AB586+1)","v":583},{"$f":"IF($AB587=0,0,AC586*(1+Simulador!$D$34)+F587+M587)","v":0},{"$f":"IF($AB587=0,0,AD586*(1+Simulador!$D$34)+T587)","v":0}]
[{"$f":"IF(OR(A587+1>(IF(Simulador!$E$7=\"Autopatrocínio\",Simulador!$C$10,Simulador!$C$9)-Simulador!$C$8)*12,A587=0),0,A587+1)","v":0},{"$f":"IF($A588=0,0,IF(INT($A587/12)-$A587/12=0,B587*(1+Simulador!$C$35),B587))","v":0},{"$f":"MAX(IF(A588=0,0,B588-IF(Simulador!$C$11=\"Individual\",0,Simulador!$C$14)),0)","v":0},null,0,0,0,0,0,0,null,0,0,0,0,0,0,null,0,0,0,0,0,null,{"$f":"IF(OR(Y587+1>(IF(AND(Simulador!$C$9<Simulador!$C$10,OR(Simulador!$E$7=\"Resgate\",Simulador!$E$7=\"Portabilidade\")),Simulador!$C$9,Simulador!$C$10)-Simulador!$C$8)*12,Y587=0),0,Y587+1)","v":584},{"$f":"IF($Y588=0,0,Z587*(1+Simulador!$D$34)+E588+L588)","v":0},{"$f":"IF($Y588=0,0,AA587*(1+Simulador!$D$34)+S588)","v":0},{"$f":"IF(OR(AB587+1>(IF(AND(Simulador!$C$9<Simulador!$C$10,OR(Simulador!$E$7=\"Resgate\",Simulador!$E$7=\"Portabilidade\")),Simulador!$C$9,Simulador!$C$50)-Simulador!$C$8)*12,AB587=0),0,AB587+1)","v":584},{"$f":"IF($AB588=0,0,AC587*(1+Simulador!$D$34)+F588+M588)","v":0},{"$f":"IF($AB588=0,0,AD587*(1+Simulador!$D$34)+T588)","v":0}]
[{"$f":"IF(OR(A588+1>(IF(Simulador!$E$7=\"Autopatrocínio\",Simulador!$C$10,Simulador!$C$9)-Simulador!$C$8)*12,A588=0),0,A588+1)","v":0},{"$f":"IF($A589=0,0,IF(INT($A588/12)-$A588/12=0,B588*(1+Simulador!$C$35),B588))","v":0},{"$f":"MAX(IF(A589=0,0,B589-IF(Simulador!$C$11=\"Individual\",0,Simulador!$C$14)),0)","v":0},null,0,0,0,0,0,0,null,0,0,0,0,0,0,null,0,0,0,0,0,null,{"$f":"IF(OR(Y588+1>(IF(AND(Simulador!$C$9<Simulador!$C$10,OR(Simulador!$E$7=\"Resgate\",Simulador!$E$7=\"Portabilidade\")),Simulador!$C$9,Simulador!$C$10)-Simulador!$C$8)*12,Y588=0),0,Y588+1)","v":585},{"$f":"IF($Y589=0,0,Z588*(1+Simulador!$D$34)+E589+L589)","v":0},{"$f":"IF($Y589=0,0,AA588*(1+Simulador!$D$34)+S589)","v":0},{"$f":"IF(OR(AB588+1>(IF(AND(Simulador!$C$9<Simulador!$C$10,OR(Simulador!$E$7=\"Resgate\",Simulador!$E$7=\"Portabilidade\")),Simulador!$C$9,Simulador!$C$50)-Simulador!$C$8)*12,AB588=0),0,AB588+1)","v":585},{"$f":"IF($AB589=0,0,AC588*(1+Simulador!$D$34)+F589+M589)","v":0},{"$f":"IF($AB589=0,0,AD588*(1+Simulador!$D$34)+T589)","v":0}]
[{"$f":"IF(OR(A589+1>(IF(Simulador!$E$7=\"Autopatrocínio\",Simulador!$C$10,Simulador!$C$9)-Simulador!$C$8)*12,A589=0),0,A589+1)","v":0},{"$f":"IF($A590=0,0,IF(INT($A589/12)-$A589/12=0,B589*(1+Simulador!$C$35),B589))","v":0},{"$f":"MAX(IF(A590=0,0,B590-IF(Simulador!$C$11=\"Individual\",0,Simulador!$C$14)),0)","v":0},null,0,0,0,0,0,0,null,0,0,0,0,0,0,null,0,0,0,0,0,null,{"$f":"IF(OR(Y589+1>(IF(AND(Simulador!$C$9<Simulador!$C$10,OR(Simulador!$E$7=\"Resgate\",Simulador!$E$7=\"Portabilidade\")),Simulador!$C$9,Simulador!$C$10)-Simulador!$C$8)*12,Y589=0),0,Y589+1)","v":586},{"$f":"IF($Y590=0,0,Z589*(1+Simulador!$D$34)+E590+L590)","v":0},{"$f":"IF($Y590=0,0,AA589*(1+Simulador!$D$34)+S590)","v":0},{"$f":"IF(OR(AB589+1>(IF(AND(Simulador!$C$9<Simulador!$C$10,OR(Simulador!$E$7=\"Resgate\",Simulador!$E$7=\"Portabilidade\")),Simulador!$C$9,Simulador!$C$50)-Simulador!$C$8)*12,AB589=0),0,AB589+1)","v":586},{"$f":"IF($AB590=0,0,AC589*(1+Simulador!$D$34)+F590+M590)","v":0},{"$f":"IF($AB590=0,0,AD589*(1+Simulador!$D$34)+T590)","v":0}]
[{"$f":"IF(OR(A590+1>(IF(Simulador!$E$7=\"Autopatrocínio\",Simulador!$C$10,Simulador!$C$9)-Simulador!$C$8)*12,A590=0),0,A590+1)","v":0},{"$f":"IF($A591=0,0,IF(INT($A590/12)-$A590/12=0,B590*(1+Simulador!$C$35),B590))","v":0},{"$f":"MAX(IF(A591=0,0,B591-IF(Simulador!$C$11=\"Individual\",0,Simulador!$C$14)),0)","v":0},null,0,0,0,0,0,0,null,0,0,0,0,0,0,null,0,0,0,0,0,null,{"$f":"IF(OR(Y590+1>(IF(AND(Simulador!$C$9<Simulador!$C$10,OR(Simulador!$E$7=\"Resgate\",Simulador!$E$7=\"Portabilidade\")),Simulador!$C$9,Simulador!$C$10)-Simulador!$C$8)*12,Y590=0),0,Y590+1)","v":587},{"$f":"IF($Y591=0,0,Z590*(1+Simulador!$D$34)+E591+L591)","v":0},{"$f":"IF($Y591=0,0,AA590*(1+Simulador!$D$34)+S591)","v":0},{"$f":"IF(OR(AB590+1>(IF(AND(Simulador!$C$9<Simulador!$C$10,OR(Simulador!$E$7=\"Resgate\",Simulador!$E$7=\"Portabilidade\")),Simulador!$C$9,Simulador!$C$50)-Simulador!$C$8)*12,AB590=0),0,AB590+1)","v":587},{"$f":"IF($AB591=0,0,AC590*(1+Simulador!$D$34)+F591+M591)","v":0},{"$f":"IF($AB591=0,0,AD590*(1+Simulador!$D$34)+T591)","v":0}]
[{"$f":"IF(OR(A591+1>(IF(Simulador!$E$7=\"Autopatrocínio\",Simulador!$C$10,Simulador!$C$9)-Simulador!$C$8)*12,A591=0),0,A591+1)","v":0},{"$f":"IF($A592=0,0,IF(INT($A591/12)-$A591/12=0,B591*(1+Simulador!$C$35),B591))","v":0},{"$f":"MAX(IF(A592=0,0,B592-IF(Simulador!$C$11=\"Individual\",0,Simulador!$C$14)),0)","v":0},null,0,0,0,0,0,0,null,0,0,0,0,0,0,null,0,0,0,0,0,null,{"$f":"IF(OR(Y591+1>(IF(AND(Simulador!$C$9<Simulador!$C$10,OR(Simulador!$E$7=\"Resgate\",Simulador!$E$7=\"Portabilidade\")),Simulador!$C$9,Simulador!$C$10)-Simulador!$C$8)*12,Y591=0),0,Y591+1)","v":588},{"$f":"IF($Y592=0,0,Z591*(1+Simulador!$D$34)+E592+L592)","v":0},{"$f":"IF($Y592=0,0,AA591*(1+Simulador!$D$34)+S592)","v":0},{"$f":"IF(OR(AB591+1>(IF(AND(Simulador!$C$9<Simulador!$C$10,OR(Simulador!$E$7=\"Resgate\",Simulador!$E$7=\"Portabilidade\")),Simulador!$C$9,Simulador!$C$50)-Simulador!$C$8)*12,AB591=0),0,AB591+1)","v":588},{"$f":"IF($AB592=0,0,AC591*(1+Simulador!$D$34)+F592+M592)","v":0},{"$f":"IF($AB592=0,0,AD591*(1+Simulador!$D$34)+T592)","v":0}]
[{"$f":"IF(OR(A592+1>(IF(Simulador!$E$7=\"Autopatrocínio\",Simulador!$C$10,Simulador!$C$9)-Simulador!$C$8)*12,A592=0),0,A592+1)","v":0},{"$f":"IF($A593=0,0,IF(INT($A592/12)-$A592/12=0,B592*(1+Simulador!$C$35),B592))","v":0},{"$f":"MAX(IF(A593=0,0,B593-IF(Simulador!$C$11=\"Individual\",0,Simulador!$C$14)),0)","v":0},null,0,0,0,0,0,0,null,0,0,0,0,0,0,null,0,0,0,0,0,null,{"$f":"IF(OR(Y592+1>(IF(AND(Simulador!$C$9<Simulador!$C$10,OR(Simulador!$E$7=\"Resgate\",Simulador!$E$7=\"Portabilidade\")),Simulador!$C$9,Simulador!$C$10)-Simulador!$C$8)*12,Y592=0),0,Y592+1)","v":589},{"$f":"IF($Y593=0,0,Z592*(1+Simulador!$D$34)+E593+L593)","v":0},{"$f":"IF($Y593=0,0,AA592*(1+Simulador!$D$34)+S593)","v":0},{"$f":"IF(OR(AB592+1>(IF(AND(Simulador!$C$9<Simulador!$C$10,OR(Simulador!$E$7=\"Resgate\",Simulador!$E$7=\"Portabilidade\")),Simulador!$C$9,Simulador!$C$50)-Simulador!$C$8)*12,AB592=0),0,AB592+1)","v":589},{"$f":"IF($AB593=0,0,AC592*(1+Simulador!$D$34)+F593+M593)","v":0},{"$f":"IF($AB593=0,0,AD592*(1+Simulador!$D$34)+T593)","v":0}]
[{"$f":"IF(OR(A593+1>(IF(Simulador!$E$7=\"Autopatrocínio\",Simulador!$C$10,Simulador!$C$9)-Simulador!$C$8)*12,A593=0),0,A593+1)","v":0},{"$f":"IF($A594=0,0,IF(INT($A593/12)-$A593/12=0,B593*(1+Simulador!$C$35),B593))","v":0},{"$f":"MAX(IF(A594=0,0,B594-IF(Simulador!$C$11=\"Individual\",0,Simulador!$C$14)),0)","v":0},null,0,0,0,0,0,0,null,0,0,0,0,0,0,null,0,0,0,0,0,null,{"$f":"IF(OR(Y593+1>(IF(AND(Simulador!$C$9<Simulador!$C$10,OR(Simulador!$E$7=\"Resgate\",Simulador!$E$7=\"Portabilidade\")),Simulador!$C$9,Simulador!$C$10)-Simulador!$C$8)*12,Y593=0),0,Y593+1)","v":590},{"$f":"IF($Y594=0,0,Z593*(1+Simulador!$D$34)+E594+L594)","v":0},{"$f":"IF($Y594=0,0,AA593*(1+Simulador!$D$34)+S594)","v":0},{"$f":"IF(OR(AB593+1>(IF(AND(Simulador!$C$9<Simulador!$C$10,OR(Simulador!$E$7=\"Resgate\",Simulador!$E$7=\"Portabilidade\")),Simulador!$C$9,Simulador!$C$50)-Simulador!$C$8)*12,AB593=0),0,AB593+1)","v":590},{"$f":"IF($AB594=0,0,AC593*(1+Simulador!$D$34)+F594+M594)","v":0},{"$f":"IF($AB594=0,0,AD593*(1+Simulador!$D$34)+T594)","v":0}]
[{"$f":"IF(OR(A594+1>(IF(Simulador!$E$7=\"Autopatrocínio\",Simulador!$C$10,Simulador!$C$9)-Simulador!$C$8)*12,A594=0),0,A594+1)","v":0},{"$f":"IF($A595=0,0,IF(INT($A594/12)-$A594/12=0,B594*(1+Simulador!$C$35),B594))","v":0},{"$f":"MAX(IF(A595=0,0,B595-IF(Simulador!$C$11=\"Individual\",0,Simulador!$C$14)),0)","v":0},null,0,0,0,0,0,0,null,0,0,0,0,0,0,null,0,0,0,0,0,null,{"$f":"IF(OR(Y594+1>(IF(AND(Simulador!$C$9<Simulador!$C$10,OR(Simulador!$E$7=\"Resgate\",Simulador!$E$7=\"Portabilidade\")),Simulador!$C$9,Simulador!$C$10)-Simulador!$C$8)*12,Y594=0),0,Y594+1)","v":591},{"$f":"IF($Y595=0,0,Z594*(1+Simulador!$D$34)+E595+L595)","v":0},{"$f":"IF($Y595=0,0,AA594*(1+Simulador!$D$34)+S595)","v":0},{"$f":"IF(OR(AB594+1>(IF(AND(Simulador!$C$9<Simulador!$C$10,OR(Simulador!$E$7=\"Resgate\",Simulador!$E$7=\"Portabilidade\")),Simulador!$C$9,Simulador!$C$50)-Simulador!$C$8)*12,AB594=0),0,AB594+1)","v":591},{"$f":"IF($AB595=0,0,AC594*(1+Simulador!$D$34)+F595+M595)","v":0},{"$f":"IF($AB595=0,0,AD594*(1+Simulador!$D$34)+T595)","v":0}]
[{"$f":"IF(OR(A595+1>(IF(Simulador!$E$7=\"Autopatrocínio\",Simulador!$C$10,Simulador!$C$9)-Simulador!$C$8)*12,A595=0),0,A595+1)","v":0},{"$f":"IF($A596=0,0,IF(INT($A595/12)-$A595/12=0,B595*(1+Simulador!$C$35),B595))","v":0},{"$f":"MAX(IF(A596=0,0,B596-IF(Simulador!$C$11=\"Individual\",0,Simulador!$C$14)),0)","v":0},null,0,0,0,0,0,0,null,0,0,0,0,0,0,null,0,0,0,0,0,null,{"$f":"IF(OR(Y595+1>(IF(AND(Simulador!$C$9<Simulador!$C$10,OR(Simulador!$E$7=\"Resgate\",Simulador!$E$7=\"Portabilidade\")),Simulador!$C$9,Simulador!$C$10)-Simulador!$C$8)*12,Y595=0),0,Y595+1)","v":592},{"$f":"IF($Y596=0,0,Z595*(1+Simulador!$D$34)+E596+L596)","v":0},{"$f":"IF($Y596=0,0,AA595*(1+Simulador!$D$34)+S596)","v":0},{"$f":"IF(OR(AB595+1>(IF(AND(Simulador!$C$9<Simulador!$C$10,OR(Simulador!$E$7=\"Resgate\",Simulador!$E$7=\"Portabilidade\")),Simulador!$C$9,Simulador!$C$50)-Simulador!$C$8)*12,AB595=0),0,AB595+1)","v":592},{"$f":"IF($AB596=0,0,AC595*(1+Simulador!$D$34)+F596+M596)","v":0},{"$f":"IF($AB596=0,0,AD595*(1+Simulador!$D$34)+T596)","v":0}]
[{"$f":"IF(OR(A596+1>(IF(Simulador!$E$7=\"Autopatrocínio\",Simulador!$C$10,Simulador!$C$9)-Simulador!$C$8)*12,A596=0),0,A596+1)","v":0},{"$f":"IF($A597=0,0,IF(INT($A596/12)-$A596/12=0,B596*(1+Simulador!$C$35),B596))","v":0},{"$f":"MAX(IF(A597=0,0,B597-IF(Simulador!$C$11=\"Individual\",0,Simulador!$C$14)),0)","v":0},null,0,0,0,0,0,0,null,0,0,0,0,0,0,null,0,0,0,0,0,null,{"$f":"IF(OR(Y596+1>(IF(AND(Simulador!$C$9<Simulador!$C$10,OR(Simulador!$E$7=\"Resgate\",Simulador!$E$7=\"Portabilidade\")),Simulador!$C$9,Simulador!$C$10)-Simulador!$C$8)*12,Y596=0),0,Y596+1)","v":593},{"$f":"IF($Y597=0,0,Z596*(1+Simulador!$D$34)+E597+L597)","v":0},{"$f":"IF($Y597=0,0,AA596*(1+Simulador!$D$34)+S597)","v":0},{"$f":"IF(OR(AB596+1>(IF(AND(Simulador!$C$9<Simulador!$C$10,OR(Simulador!$E$7=\"Resgate\",Simulador!$E$7=\"Portabilidade\")),Simulador!$C$9,Simulador!$C$50)-Simulador!$C$8)*12,AB596=0),0,AB596+1)","v":593},{"$f":"IF($AB597=0,0,AC596*(1+Simulador!$D$34)+F597+M597)","v":0},{"$f":"IF($AB597=0,0,AD596*(1+Simulador!$D$34)+T597)","v":0}]
[{"$f":"IF(OR(A597+1>(IF(Simulador!$E$7=\"Autopatrocínio\",Simulador!$C$10,Simulador!$C$9)-Simulador!$C$8)*12,A597=0),0,A597+1)","v":0},{"$f":"IF($A598=0,0,IF(INT($A597/12)-$A597/12=0,B597*(1+Simulador!$C$35),B597))","v":0},{"$f":"MAX(IF(A598=0,0,B598-IF(Simulador!$C$11=\"Individual\",0,Simulador!$C$14)),0)","v":0},null,0,0,0,0,0,0,null,0,0,0,0,0,0,null,0,0,0,0,0,null,{"$f":"IF(OR(Y597+1>(IF(AND(Simulador!$C$9<Simulador!$C$10,OR(Simulador!$E$7=\"Resgate\",Simulador!$E$7=\"Portabilidade\")),Simulador!$C$9,Simulador!$C$10)-Simulador!$C$8)*12,Y597=0),0,Y597+1)","v":594},{"$f":"IF($Y598=0,0,Z597*(1+Simulador!$D$34)+E598+L598)","v":0},{"$f":"IF($Y598=0,0,AA597*(1+Simulador!$D$34)+S598)","v":0},{"$f":"IF(OR(AB597+1>(IF(AND(Simulador!$C$9<Simulador!$C$10,OR(Simulador!$E$7=\"Resgate\",Simulador!$E$7=\"Portabilidade\")),Simulador!$C$9,Simulador!$C$50)-Simulador!$C$8)*12,AB597=0),0,AB597+1)","v":594},{"$f":"IF($AB598=0,0,AC597*(1+Simulador!$D$34)+F598+M598)","v":0},{"$f":"IF($AB598=0,0,AD597*(1+Simulador!$D$34)+T598)","v":0}]
[{"$f":"IF(OR(A598+1>(IF(Simulador!$E$7=\"Autopatrocínio\",Simulador!$C$10,Simulador!$C$9)-Simulador!$C$8)*12,A598=0),0,A598+1)","v":0},{"$f":"IF($A599=0,0,IF(INT($A598/12)-$A598/12=0,B598*(1+Simulador!$C$35),B598))","v":0},{"$f":"MAX(IF(A599=0,0,B599-IF(Simulador!$C$11=\"Individual\",0,Simulador!$C$14)),0)","v":0},null,0,0,0,0,0,0,null,0,0,0,0,0,0,null,0,0,0,0,0,null,{"$f":"IF(OR(Y598+1>(IF(AND(Simulador!$C$9<Simulador!$C$10,OR(Simulador!$E$7=\"Resgate\",Simulador!$E$7=\"Portabilidade\")),Simulador!$C$9,Simulador!$C$10)-Simulador!$C$8)*12,Y598=0),0,Y598+1)","v":595},{"$f":"IF($Y599=0,0,Z598*(1+Simulador!$D$34)+E599+L599)","v":0},{"$f":"IF($Y599=0,0,AA598*(1+Simulador!$D$34)+S599)","v":0},{"$f":"IF(OR(AB598+1>(IF(AND(Simulador!$C$9<Simulador!$C$10,OR(Simulador!$E$7=\"Resgate\",Simulador!$E$7=\"Portabilidade\")),Simulador!$C$9,Simulador!$C$50)-Simulador!$C$8)*12,AB598=0),0,AB598+1)","v":595},{"$f":"IF($AB599=0,0,AC598*(1+Simulador!$D$34)+F599+M599)","v":0},{"$f":"IF($AB599=0,0,AD598*(1+Simulador!$D$34)+T599)","v":0}]
[{"$f":"IF(OR(A599+1>(IF(Simulador!$E$7=\"Autopatrocínio\",Simulador!$C$10,Simulador!$C$9)-Simulador!$C$8)*12,A599=0),0,A599+1)","v":0},{"$f":"IF($A600=0,0,IF(INT($A599/12)-$A599/12=0,B599*(1+Simulador!$C$35),B599))","v":0},{"$f":"MAX(IF(A600=0,0,B600-IF(Simulador!$C$11=\"Individual\",0,Simulador!$C$14)),0)","v":0},null,0,0,0,0,0,0,null,0,0,0,0,0,0,null,0,0,0,0,0,null,{"$f":"IF(OR(Y599+1>(IF(AND(Simulador!$C$9<Simulador!$C$10,OR(Simulador!$E$7=\"Resgate\",Simulador!$E$7=\"Portabilidade\")),Simulador!$C$9,Simulador!$C$10)-Simulador!$C$8)*12,Y599=0),0,Y599+1)","v":596},{"$f":"IF($Y600=0,0,Z599*(1+Simulador!$D$34)+E600+L600)","v":0},{"$f":"IF($Y600=0,0,AA599*(1+Simulador!$D$34)+S600)","v":0},{"$f":"IF(OR(AB599+1>(IF(AND(Simulador!$C$9<Simulador!$C$10,OR(Simulador!$E$7=\"Resgate\",Simulador!$E$7=\"Portabilidade\")),Simulador!$C$9,Simulador!$C$50)-Simulador!$C$8)*12,AB599=0),0,AB599+1)","v":596},{"$f":"IF($AB600=0,0,AC599*(1+Simulador!$D$34)+F600+M600)","v":0},{"$f":"IF($AB600=0,0,AD599*(1+Simulador!$D$34)+T600)","v":0}]
[{"$f":"IF(OR(A600+1>(IF(Simulador!$E$7=\"Autopatrocínio\",Simulador!$C$10,Simulador!$C$9)-Simulador!$C$8)*12,A600=0),0,A600+1)","v":0},{"$f":"IF($A601=0,0,IF(INT($A600/12)-$A600/12=0,B600*(1+Simulador!$C$35),B600))","v":0},{"$f":"MAX(IF(A601=0,0,B601-IF(Simulador!$C$11=\"Individual\",0,Simulador!$C$14)),0)","v":0},null,0,0,0,0,0,0,null,0,0,0,0,0,0,null,0,0,0,0,0,null,{"$f":"IF(OR(Y600+1>(IF(AND(Simulador!$C$9<Simulador!$C$10,OR(Simulador!$E$7=\"Resgate\",Simulador!$E$7=\"Portabilidade\")),Simulador!$C$9,Simulador!$C$10)-Simulador!$C$8)*12,Y600=0),0,Y600+1)","v":597},{"$f":"IF($Y601=0,0,Z600*(1+Simulador!$D$34)+E601+L601)","v":0},{"$f":"IF($Y601=0,0,AA600*(1+Simulador!$D$34)+S601)","v":0},{"$f":"IF(OR(AB600+1>(IF(AND(Simulador!$C$9<Simulador!$C$10,OR(Simulador!$E$7=\"Resgate\",Simulador!$E$7=\"Portabilidade\")),Simulador!$C$9,Simulador!$C$50)-Simulador!$C$8)*12,AB600=0),0,AB600+1)","v":597},{"$f":"IF($AB601=0,0,AC600*(1+Simulador!$D$34)+F601+M601)","v":0},{"$f":"IF($AB601=0,0,AD600*(1+Simulador!$D$34)+T601)","v":0}]
[{"$f":"IF(OR(A601+1>(IF(Simulador!$E$7=\"Autopatrocínio\",Simulador!$C$10,Simulador!$C$9)-Simulador!$C$8)*12,A601=0),0,A601+1)","v":0},{"$f":"IF($A602=0,0,IF(INT($A601/12)-$A601/12=0,B601*(1+Simulador!$C$35),B601))","v":0},{"$f":"MAX(IF(A602=0,0,B602-IF(Simulador!$C$11=\"Individual\",0,Simulador!$C$14)),0)","v":0},null,0,0,0,0,0,0,null,0,0,0,0,0,0,null,0,0,0,0,0,null,{"$f":"IF(OR(Y601+1>(IF(AND(Simulador!$C$9<Simulador!$C$10,OR(Simulador!$E$7=\"Resgate\",Simulador!$E$7=\"Portabilidade\")),Simulador!$C$9,Simulador!$C$10)-Simulador!$C$8)*12,Y601=0),0,Y601+1)","v":598},{"$f":"IF($Y602=0,0,Z601*(1+Simulador!$D$34)+E602+L602)","v":0},{"$f":"IF($Y602=0,0,AA601*(1+Simulador!$D$34)+S602)","v":0},{"$f":"IF(OR(AB601+1>(IF(AND(Simulador!$C$9<Simulador!$C$10,OR(Simulador!$E$7=\"Resgate\",Simulador!$E$7=\"Portabilidade\")),Simulador!$C$9,Simulador!$C$50)-Simulador!$C$8)*12,AB601=0),0,AB601+1)","v":598},{"$f":"IF($AB602=0,0,AC601*(1+Simulador!$D$34)+F602+M602)","v":0},{"$f":"IF($AB602=0,0,AD601*(1+Simulador!$D$34)+T602)","v":0}]
[{"$f":"IF(OR(A602+1>(IF(Simulador!$E$7=\"Autopatrocínio\",Simulador!$C$10,Simulador!$C$9)-Simulador!$C$8)*12,A602=0),0,A602+1)","v":0},{"$f":"IF($A603=0,0,IF(INT($A602/12)-$A602/12=0,B602*(1+Simulador!$C$35),B602))","v":0},{"$f":"MAX(IF(A603=0,0,B603-IF(Simulador!$C$11=\"Individual\",0,Simulador!$C$14)),0)","v":0},null,{"$f":"E$4*$C603*(1+$J603)","v":0},0,0,0,0,0,null,{"$f":"L$4*$C603*$Q603","v":0},0,0,0,0,0,null,{"$f":"S$4*$C603*(1+$J603)","v":0},0,0,0,0,null,{"$f":"IF(OR(Y602+1>(IF(AND(Simulador!$C$9<Simulador!$C$10,OR(Simulador!$E$7=\"Resgate\",Simulador!$E$7=\"Portabilidade\")),Simulador!$C$9,Simulador!$C$10)-Simulador!$C$8)*12,Y602=0),0,Y602+1)","v":599},{"$f":"IF($Y603=0,0,Z602*(1+Simulador!$D$34)+E603+L603)","v":0},{"$f":"IF($Y603=0,0,AA602*(1+Simulador!$D$34)+S603)","v":0},{"$f":"IF(OR(AB602+1>(IF(AND(Simulador!$C$9<Simulador!$C$10,OR(Simulador!$E$7=\"Resgate\",Simulador!$E$7=\"Portabilidade\")),Simulador!$C$9,Simulador!$C$50)-Simulador!$C$8)*12,AB602=0),0,AB602+1)","v":599},{"$f":"IF($AB603=0,0,AC602*(1+Simulador!$D$34)+F603+M603)","v":0},{"$f":"IF($AB603=0,0,AD602*(1+Simulador!$D$34)+T603)","v":0}]
[{"$f":"IF(OR(A603+1>(IF(Simulador!$E$7=\"Autopatrocínio\",Simulador!$C$10,Simulador!$C$9)-Simulador!$C$8)*12,A603=0),0,A603+1)","v":0},{"$f":"IF($A604=0,0,IF(INT($A603/12)-$A603/12=0,B603*(1+Simulador!$C$35),B603))","v":0},{"$f":"MAX(IF(A604=0,0,B604-IF(Simulador!$C$11=\"Individual\",0,Simulador!$C$14)),0)","v":0},null,0,0,0,0,0,0,null,0,0,0,0,0,0,null,0,0,0,0,0,null,{"$f":"IF(OR(Y603+1>(IF(AND(Simulador!$C$9<Simulador!$C$10,OR(Simulador!$E$7=\"Resgate\",Simulador!$E$7=\"Portabilidade\")),Simulador!$C$9,Simulador!$C$10)-Simulador!$C$8)*12,Y603=0),0,Y603+1)","v":600},{"$f":"IF($Y604=0,0,Z603*(1+Simulador!$D$34)+E604+L604)","v":0},{"$f":"IF($Y604=0,0,AA603*(1+Simulador!$D$34)+S604)","v":0},{"$f":"IF(OR(AB603+1>(IF(AND(Simulador!$C$9<Simulador!$C$10,OR(Simulador!$E$7=\"Resgate\",Simulador!$E$7=\"Portabilidade\")),Simulador!$C$9,Simulador!$C$50)-Simulador!$C$8)*12,AB603=0),0,AB603+1)","v":600},{"$f":"IF($AB604=0,0,AC603*(1+Simulador!$D$34)+F604+M604)","v":0},{"$f":"IF($AB604=0,0,AD603*(1+Simulador!$D$34)+T604)","v":0}]
[{"$f":"IF(OR(A604+1>(IF(Simulador!$E$7=\"Autopatrocínio\",Simulador!$C$10,Simulador!$C$9)-Simulador!$C$8)*12,A604=0),0,A604+1)","v":0},{"$f":"IF($A605=0,0,IF(INT($A604/12)-$A604/12=0,B604*(1+Simulador!$C$35),B604))","v":0},{"$f":"MAX(IF(A605=0,0,B605-IF(Simulador!$C$11=\"Individual\",0,Simulador!$C$14)),0)","v":0},null,0,0,0,0,0,0,null,0,0,0,0,0,0,null,0,0,0,0,0,null,{"$f":"IF(OR(Y604+1>(IF(AND(Simulador!$C$9<Simulador!$C$10,OR(Simulador!$E$7=\"Resgate\",Simulador!$E$7=\"Portabilidade\")),Simulador!$C$9,Simulador!$C$10)-Simulador!$C$8)*12,Y604=0),0,Y604+1)","v":601},{"$f":"IF($Y605=0,0,Z604*(1+Simulador!$D$34)+E605+L605)","v":0},{"$f":"IF($Y605=0,0,AA604*(1+Simulador!$D$34)+S605)","v":0},{"$f":"IF(OR(AB604+1>(IF(AND(Simulador!$C$9<Simulador!$C$10,OR(Simulador!$E$7=\"Resgate\",Simulador!$E$7=\"Portabilidade\")),Simulador!$C$9,Simulador!$C$50)-Simulador!$C$8)*12,AB604=0),0,AB604+1)","v":601},{"$f":"IF($AB605=0,0,AC604*(1+Simulador!$D$34)+F605+M605)","v":0},{"$f":"IF($AB605=0,0,AD604*(1+Simulador!$D$34)+T605)","v":0}]
[{"$f":"IF(OR(A605+1>(IF(Simulador!$E$7=\"Autopatrocínio\",Simulador!$C$10,Simulador!$C$9)-Simulador!$C$8)*12,A605=0),0,A605+1)","v":0},{"$f":"IF($A606=0,0,IF(INT($A605/12)-$A605/12=0,B605*(1+Simulador!$C$35),B605))","v":0},{"$f":"MAX(IF(A606=0,0,B606-IF(Simulador!$C$11=\"Individual\",0,Simulador!$C$14)),0)","v":0},null,0,0,0,0,0,0,null,0,0,0,0,0,0,null,0,0,0,0,0,null,{"$f":"IF(OR(Y605+1>(IF(AND(Simulador!$C$9<Simulador!$C$10,OR(Simulador!$E$7=\"Resgate\",Simulador!$E$7=\"Portabilidade\")),Simulador!$C$9,Simulador!$C$10)-Simulador!$C$8)*12,Y605=0),0,Y605+1)","v":602},{"$f":"IF($Y606=0,0,Z605*(1+Simulador!$D$34)+E606+L606)","v":0},{"$f":"IF($Y606=0,0,AA605*(1+Simulador!$D$34)+S606)","v":0},{"$f":"IF(OR(AB605+1>(IF(AND(Simulador!$C$9<Simulador!$C$10,OR(Simulador!$E$7=\"Resgate\",Simulador!$E$7=\"Portabilidade\")),Simulador!$C$9,Simulador!$C$50)-Simulador!$C$8)*12,AB605=0),0,AB605+1)","v":602},{"$f":"IF($AB606=0,0,AC605*(1+Simulador!$D$34)+F606+M606)","v":0},{"$f":"IF($AB606=0,0,AD605*(1+Simulador!$D$34)+T606)","v":0}]
[{"$f":"IF(OR(A606+1>(IF(Simulador!$E$7=\"Autopatrocínio\",Simulador!$C$10,Simulador!$C$9)-Simulador!$C$8)*12,A606=0),0,A606+1)","v":0},{"$f":"IF($A607=0,0,IF(INT($A606/12)-$A606/12=0,B606*(1+Simulador!$C$35),B606))","v":0},{"$f":"MAX(IF(A607=0,0,B607-IF(Simulador!$C$11=\"Individual\",0,Simulador!$C$14)),0)","v":0},null,0,0,0,0,0,0,null,0,0,0,0,0,0,null,0,0,0,0,0,null,{"$f":"IF(OR(Y606+1>(IF(AND(Simulador!$C$9<Simulador!$C$10,OR(Simulador!$E$7=\"Resgate\",Simulador!$E$7=\"Portabilidade\")),Simulador!$C$9,Simulador!$C$10)-Simulador!$C$8)*12,Y606=0),0,Y606+1)","v":603},{"$f":"IF($Y607=0,0,Z606*(1+Simulador!$D$34)+E607+L607)","v":0},{"$f":"IF($Y607=0,0,AA606*(1+Simulador!$D$34)+S607)","v":0},{"$f":"IF(OR(AB606+1>(IF(AND(Simulador!$C$9<Simulador!$C$10,OR(Simulador!$E$7=\"Resgate\",Simulador!$E$7=\"Portabilidade\")),Simulador!$C$9,Simulador!$C$50)-Simulador!$C$8)*12,AB606=0),0,AB606+1)","v":603},{"$f":"IF($AB607=0,0,AC606*(1+Simulador!$D$34)+F607+M607)","v":0},{"$f":"IF($AB607=0,0,AD606*(1+Simulador!$D$34)+T607)","v":0}]
[{"$f":"IF(OR(A607+1>(IF(Simulador!$E$7=\"Autopatrocínio\",Simulador!$C$10,Simulador!$C$9)-Simulador!$C$8)*12,A607=0),0,A607+1)","v":0},{"$f":"IF($A608=0,0,IF(INT($A607/12)-$A607/12=0,B607*(1+Simulador!$C$35),B607))","v":0},{"$f":"MAX(IF(A608=0,0,B608-IF(Simulador!$C$11=\"Individual\",0,Simulador!$C$14)),0)","v":0},null,0,0,0,0,0,0,null,0,0,0,0,0,0,null,0,0,0,0,0,null,{"$f":"IF(OR(Y607+1>(IF(AND(Simulador!$C$9<Simulador!$C$10,OR(Simulador!$E$7=\"Resgate\",Simulador!$E$7=\"Portabilidade\")),Simulador!$C$9,Simulador!$C$10)-Simulador!$C$8)*12,Y607=0),0,Y607+1)","v":604},{"$f":"IF($Y608=0,0,Z607*(1+Simulador!$D$34)+E608+L608)","v":0},{"$f":"IF($Y608=0,0,AA607*(1+Simulador!$D$34)+S608)","v":0},{"$f":"IF(OR(AB607+1>(IF(AND(Simulador!$C$9<Simulador!$C$10,OR(Simulador!$E$7=\"Resgate\",Simulador!$E$7=\"Portabilidade\")),Simulador!$C$9,Simulador!$C$50)-Simulador!$C$8)*12,AB607=0),0,AB607+1)","v":604},{"$f":"IF($AB608=0,0,AC607*(1+Simulador!$D$34)+F608+M608)","v":0},{"$f":"IF($AB608=0,0,AD607*(1+Simulador!$D$34)+T608)","v":0}]
[{"$f":"IF(OR(A608+1>(IF(Simulador!$E$7=\"Autopatrocínio\",Simulador!$C$10,Simulador!$C$9)-Simulador!$C$8)*12,A608=0),0,A608+1)","v":0},{"$f":"IF($A609=0,0,IF(INT($A608/12)-$A608/12=0,B608*(1+Simulador!$C$35),B608))","v":0},{"$f":"MAX(IF(A609=0,0,B609-IF(Simulador!$C$11=\"Individual\",0,Simulador!$C$14)),0)","v":0},null,0,0,0,0,0,0,null,0,0,0,0,0,0,null,0,0,0,0,0,null,{"$f":"IF(OR(Y608+1>(IF(AND(Simulador!$C$9<Simulador!$C$10,OR(Simulador!$E$7=\"Resgate\",Simulador!$E$7=\"Portabilidade\")),Simulador!$C$9,Simulador!$C$10)-Simulador!$C$8)*12,Y608=0),0,Y608+1)","v":605},{"$f":"IF($Y609=0,0,Z608*(1+Simulador!$D$34)+E609+L609)","v":0},{"$f":"IF($Y609=0,0,AA608*(1+Simulador!$D$34)+S609)","v":0},{"$f":"IF(OR(AB608+1>(IF(AND(Simulador!$C$9<Simulador!$C$10,OR(Simulador!$E$7=\"Resgate\",Simulador!$E$7=\"Portabilidade\")),Simulador!$C$9,Simulador!$C$50)-Simulador!$C$8)*12,AB608=0),0,AB608+1)","v":605},{"$f":"IF($AB609=0,0,AC608*(1+Simulador!$D$34)+F609+M609)","v":0},{"$f":"IF($AB609=0,0,AD608*(1+Simulador!$D$34)+T609)","v":0}]
[{"$f":"IF(OR(A609+1>(IF(Simulador!$E$7=\"Autopatrocínio\",Simulador!$C$10,Simulador!$C$9)-Simulador!$C$8)*12,A609=0),0,A609+1)","v":0},{"$f":"IF($A610=0,0,IF(INT($A609/12)-$A609/12=0,B609*(1+Simulador!$C$35),B609))","v":0},{"$f":"MAX(IF(A610=0,0,B610-IF(Simulador!$C$11=\"Individual\",0,Simulador!$C$14)),0)","v":0},null,0,0,0,0,0,0,null,0,0,0,0,0,0,null,0,0,0,0,0,null,{"$f":"IF(OR(Y609+1>(IF(AND(Simulador!$C$9<Simulador!$C$10,OR(Simulador!$E$7=\"Resgate\",Simulador!$E$7=\"Portabilidade\")),Simulador!$C$9,Simulador!$C$10)-Simulador!$C$8)*12,Y609=0),0,Y609+1)","v":606},{"$f":"IF($Y610=0,0,Z609*(1+Simulador!$D$34)+E610+L610)","v":0},{"$f":"IF($Y610=0,0,AA609*(1+Simulador!$D$34)+S610)","v":0},{"$f":"IF(OR(AB609+1>(IF(AND(Simulador!$C$9<Simulador!$C$10,OR(Simulador!$E$7=\"Resgate\",Simulador!$E$7=\"Portabilidade\")),Simulador!$C$9,Simulador!$C$50)-Simulador!$C$8)*12,AB609=0),0,AB609+1)","v":606},{"$f":"IF($AB610=0,0,AC609*(1+Simulador!$D$34)+F610+M610)","v":0},{"$f":"IF($AB610=0,0,AD609*(1+Simulador!$D$34)+T610)","v":0}]
[{"$f":"IF(OR(A610+1>(IF(Simulador!$E$7=\"Autopatrocínio\",Simulador!$C$10,Simulador!$C$9)-Simulador!$C$8)*12,A610=0),0,A610+1)","v":0},{"$f":"IF($A611=0,0,IF(INT($A610/12)-$A610/12=0,B610*(1+Simulador!$C$35),B610))","v":0},{"$f":"MAX(IF(A611=0,0,B611-IF(Simulador!$C$11=\"Individual\",0,Simulador!$C$14)),0)","v":0},null,0,0,0,0,0,0,null,0,0,0,0,0,0,null,0,0,0,0,0,null,{"$f":"IF(OR(Y610+1>(IF(AND(Simulador!$C$9<Simulador!$C$10,OR(Simulador!$E$7=\"Resgate\",Simulador!$E$7=\"Portabilidade\")),Simulador!$C$9,Simulador!$C$10)-Simulador!$C$8)*12,Y610=0),0,Y610+1)","v":607},{"$f":"IF($Y611=0,0,Z610*(1+Simulador!$D$34)+E611+L611)","v":0},{"$f":"IF($Y611=0,0,AA610*(1+Simulador!$D$34)+S611)","v":0},{"$f":"IF(OR(AB610+1>(IF(AND(Simulador!$C$9<Simulador!$C$10,OR(Simulador!$E$7=\"Resgate\",Simulador!$E$7=\"Portabilidade\")),Simulador!$C$9,Simulador!$C$50)-Simulador!$C$8)*12,AB610=0),0,AB610+1)","v":607},{"$f":"IF($AB611=0,0,AC610*(1+Simulador!$D$34)+F611+M611)","v":0},{"$f":"IF($AB611=0,0,AD610*(1+Simulador!$D$34)+T611)","v":0}]
[{"$f":"IF(OR(A611+1>(IF(Simulador!$E$7=\"Autopatrocínio\",Simulador!$C$10,Simulador!$C$9)-Simulador!$C$8)*12,A611=0),0,A611+1)","v":0},{"$f":"IF($A612=0,0,IF(INT($A611/12)-$A611/12=0,B611*(1+Simulador!$C$35),B611))","v":0},{"$f":"MAX(IF(A612=0,0,B612-IF(Simulador!$C$11=\"Individual\",0,Simulador!$C$14)),0)","v":0},null,0,0,0,0,0,0,null,0,0,0,0,0,0,null,0,0,0,0,0,null,{"$f":"IF(OR(Y611+1>(IF(AND(Simulador!$C$9<Simulador!$C$10,OR(Simulador!$E$7=\"Resgate\",Simulador!$E$7=\"Portabilidade\")),Simulador!$C$9,Simulador!$C$10)-Simulador!$C$8)*12,Y611=0),0,Y611+1)","v":608},{"$f":"IF($Y612=0,0,Z611*(1+Simulador!$D$34)+E612+L612)","v":0},{"$f":"IF($Y612=0,0,AA611*(1+Simulador!$D$34)+S612)","v":0},{"$f":"IF(OR(AB611+1>(IF(AND(Simulador!$C$9<Simulador!$C$10,OR(Simulador!$E$7=\"Resgate\",Simulador!$E$7=\"Portabilidade\")),Simulador!$C$9,Simulador!$C$50)-Simulador!$C$8)*12,AB611=0),0,AB611+1)","v":608},{"$f":"IF($AB612=0,0,AC611*(1+Simulador!$D$34)+F612+M612)","v":0},{"$f":"IF($AB612=0,0,AD611*(1+Simulador!$D$34)+T612)","v":0}]
[{"$f":"IF(OR(A612+1>(IF(Simulador!$E$7=\"Autopatrocínio\",Simulador!$C$10,Simulador!$C$9)-Simulador!$C$8)*12,A612=0),0,A612+1)","v":0},{"$f":"IF($A613=0,0,IF(INT($A612/12)-$A612/12=0,B612*(1+Simulador!$C$35),B612))","v":0},{"$f":"MAX(IF(A613=0,0,B613-IF(Simulador!$C$11=\"Individual\",0,Simulador!$C$14)),0)","v":0},null,0,0,0,0,0,0,null,0,0,0,0,0,0,null,0,0,0,0,0,null,{"$f":"IF(OR(Y612+1>(IF(AND(Simulador!$C$9<Simulador!$C$10,OR(Simulador!$E$7=\"Resgate\",Simulador!$E$7=\"Portabilidade\")),Simulador!$C$9,Simulador!$C$10)-Simulador!$C$8)*12,Y612=0),0,Y612+1)","v":609},{"$f":"IF($Y613=0,0,Z612*(1+Simulador!$D$34)+E613+L613)","v":0},{"$f":"IF($Y613=0,0,AA612*(1+Simulador!$D$34)+S613)","v":0},{"$f":"IF(OR(AB612+1>(IF(AND(Simulador!$C$9<Simulador!$C$10,OR(Simulador!$E$7=\"Resgate\",Simulador!$E$7=\"Portabilidade\")),Simulador!$C$9,Simulador!$C$50)-Simulador!$C$8)*12,AB612=0),0,AB612+1)","v":609},{"$f":"IF($AB613=0,0,AC612*(1+Simulador!$D$34)+F613+M613)","v":0},{"$f":"IF($AB613=0,0,AD612*(1+Simulador!$D$34)+T613)","v":0}]
[{"$f":"IF(OR(A613+1>(IF(Simulador!$E$7=\"Autopatrocínio\",Simulador!$C$10,Simulador!$C$9)-Simulador!$C$8)*12,A613=0),0,A613+1)","v":0},{"$f":"IF($A614=0,0,IF(INT($A613/12)-$A613/12=0,B613*(1+Simulador!$C$35),B613))","v":0},{"$f":"MAX(IF(A614=0,0,B614-IF(Simulador!$C$11=\"Individual\",0,Simulador!$C$14)),0)","v":0},null,0,0,0,0,0,0,null,0,0,0,0,0,0,null,0,0,0,0,0,null,{"$f":"IF(OR(Y613+1>(IF(AND(Simulador!$C$9<Simulador!$C$10,OR(Simulador!$E$7=\"Resgate\",Simulador!$E$7=\"Portabilidade\")),Simulador!$C$9,Simulador!$C$10)-Simulador!$C$8)*12,Y613=0),0,Y613+1)","v":610},{"$f":"IF($Y614=0,0,Z613*(1+Simulador!$D$34)+E614+L614)","v":0},{"$f":"IF($Y614=0,0,AA613*(1+Simulador!$D$34)+S614)","v":0},{"$f":"IF(OR(AB613+1>(IF(AND(Simulador!$C$9<Simulador!$C$10,OR(Simulador!$E$7=\"Resgate\",Simulador!$E$7=\"Portabilidade\")),Simulador!$C$9,Simulador!$C$50)-Simulador!$C$8)*12,AB613=0),0,AB613+1)","v":610},{"$f":"IF($AB614=0,0,AC613*(1+Simulador!$D$34)+F614+M614)","v":0},{"$f":"IF($AB614=0,0,AD613*(1+Simulador!$D$34)+T614)","v":0}]
[{"$f":"IF(OR(A614+1>(IF(Simulador!$E$7=\"Autopatrocínio\",Simulador!$C$10,Simulador!$C$9)-Simulador!$C$8)*12,A614=0),0,A614+1)","v":0},{"$f":"IF($A615=0,0,IF(INT($A614/12)-$A614/12=0,B614*(1+Simulador!$C$35),B614))","v":0},{"$f":"MAX(IF(A615=0,0,B615-IF(Simulador!$C$11=\"Individual\",0,Simulador!$C$14)),0)","v":0},null,0,0,0,0,0,0,null,0,0,0,0,0,0,null,0,0,0,0,0,null,{"$f":"IF(OR(Y614+1>(IF(AND(Simulador!$C$9<Simulador!$C$10,OR(Simulador!$E$7=\"Resgate\",Simulador!$E$7=\"Portabilidade\")),Simulador!$C$9,Simulador!$C$10)-Simulador!$C$8)*12,Y614=0),0,Y614+1)","v":611},{"$f":"IF($Y615=0,0,Z614*(1+Simulador!$D$34)+E615+L615)","v":0},{"$f":"IF($Y615=0,0,AA614*(1+Simulador!$D$34)+S615)","v":0},{"$f":"IF(OR(AB614+1>(IF(AND(Simulador!$C$9<Simulador!$C$10,OR(Simulador!$E$7=\"Resgate\",Simulador!$E$7=\"Portabilidade\")),Simulador!$C$9,Simulador!$C$50)-Simulador!$C$8)*12,AB614=0),0,AB614+1)","v":611},{"$f":"IF($AB615=0,0,AC614*(1+Simulador!$D$34)+F615+M615)","v":0},{"$f":"IF($AB615=0,0,AD614*(1+Simulador!$D$34)+T615)","v":0}]
[{"$f":"IF(OR(A615+1>(IF(Simulador!$E$7=\"Autopatrocínio\",Simulador!$C$10,Simulador!$C$9)-Simulador!$C$8)*12,A615=0),0,A615+1)","v":0},{"$f":"IF($A616=0,0,IF(INT($A615/12)-$A615/12=0,B615*(1+Simulador!$C$35),B615))","v":0},{"$f":"MAX(IF(A616=0,0,B616-IF(Simulador!$C$11=\"Individual\",0,Simulador!$C$14)),0)","v":0},null,0,0,0,0,0,0,null,0,0,0,0,0,0,null,0,0,0,0,0,null,{"$f":"IF(OR(Y615+1>(IF(AND(Simulador!$C$9<Simulador!$C$10,OR(Simulador!$E$7=\"Resgate\",Simulador!$E$7=\"Portabilidade\")),Simulador!$C$9,Simulador!$C$10)-Simulador!$C$8)*12,Y615=0),0,Y615+1)","v":612},{"$f":"IF($Y616=0,0,Z615*(1+Simulador!$D$34)+E616+L616)","v":0},{"$f":"IF($Y616=0,0,AA615*(1+Simulador!$D$34)+S616)","v":0},{"$f":"IF(OR(AB615+1>(IF(AND(Simulador!$C$9<Simulador!$C$10,OR(Simulador!$E$7=\"Resgate\",Simulador!$E$7=\"Portabilidade\")),Simulador!$C$9,Simulador!$C$50)-Simulador!$C$8)*12,AB615=0),0,AB615+1)","v":612},{"$f":"IF($AB616=0,0,AC615*(1+Simulador!$D$34)+F616+M616)","v":0},{"$f":"IF($AB616=0,0,AD615*(1+Simulador!$D$34)+T616)","v":0}]
[{"$f":"IF(OR(A616+1>(IF(Simulador!$E$7=\"Autopatrocínio\",Simulador!$C$10,Simulador!$C$9)-Simulador!$C$8)*12,A616=0),0,A616+1)","v":0},{"$f":"IF($A617=0,0,IF(INT($A616/12)-$A616/12=0,B616*(1+Simulador!$C$35),B616))","v":0},{"$f":"MAX(IF(A617=0,0,B617-IF(Simulador!$C$11=\"Individual\",0,Simulador!$C$14)),0)","v":0},null,0,0,0,0,0,0,null,0,0,0,0,0,0,null,0,0,0,0,0,null,{"$f":"IF(OR(Y616+1>(IF(AND(Simulador!$C$9<Simulador!$C$10,OR(Simulador!$E$7=\"Resgate\",Simulador!$E$7=\"Portabilidade\")),Simulador!$C$9,Simulador!$C$10)-Simulador!$C$8)*12,Y616=0),0,Y616+1)","v":613},{"$f":"IF($Y617=0,0,Z616*(1+Simulador!$D$34)+E617+L617)","v":0},{"$f":"IF($Y617=0,0,AA616*(1+Simulador!$D$34)+S617)","v":0},{"$f":"IF(OR(AB616+1>(IF(AND(Simulador!$C$9<Simulador!$C$10,OR(Simulador!$E$7=\"Resgate\",Simulador!$E$7=\"Portabilidade\")),Simulador!$C$9,Simulador!$C$50)-Simulador!$C$8)*12,AB616=0),0,AB616+1)","v":613},{"$f":"IF($AB617=0,0,AC616*(1+Simulador!$D$34)+F617+M617)","v":0},{"$f":"IF($AB617=0,0,AD616*(1+Simulador!$D$34)+T617)","v":0}]
[{"$f":"IF(OR(A617+1>(IF(Simulador!$E$7=\"Autopatrocínio\",Simulador!$C$10,Simulador!$C$9)-Simulador!$C$8)*12,A617=0),0,A617+1)","v":0},{"$f":"IF($A618=0,0,IF(INT($A617/12)-$A617/12=0,B617*(1+Simulador!$C$35),B617))","v":0},{"$f":"MAX(IF(A618=0,0,B618-IF(Simulador!$C$11=\"Individual\",0,Simulador!$C$14)),0)","v":0},null,0,0,0,0,0,0,null,0,0,0,0,0,0,null,0,0,0,0,0,null,{"$f":"IF(OR(Y617+1>(IF(AND(Simulador!$C$9<Simulador!$C$10,OR(Simulador!$E$7=\"Resgate\",Simulador!$E$7=\"Portabilidade\")),Simulador!$C$9,Simulador!$C$10)-Simulador!$C$8)*12,Y617=0),0,Y617+1)","v":614},{"$f":"IF($Y618=0,0,Z617*(1+Simulador!$D$34)+E618+L618)","v":0},{"$f":"IF($Y618=0,0,AA617*(1+Simulador!$D$34)+S618)","v":0},{"$f":"IF(OR(AB617+1>(IF(AND(Simulador!$C$9<Simulador!$C$10,OR(Simulador!$E$7=\"Resgate\",Simulador!$E$7=\"Portabilidade\")),Simulador!$C$9,Simulador!$C$50)-Simulador!$C$8)*12,AB617=0),0,AB617+1)","v":614},{"$f":"IF($AB618=0,0,AC617*(1+Simulador!$D$34)+F618+M618)","v":0},{"$f":"IF($AB618=0,0,AD617*(1+Simulador!$D$34)+T618)","v":0}]
[{"$f":"IF(OR(A618+1>(IF(Simulador!$E$7=\"Autopatrocínio\",Simulador!$C$10,Simulador!$C$9)-Simulador!$C$8)*12,A618=0),0,A618+1)","v":0},{"$f":"IF($A619=0,0,IF(INT($A618/12)-$A618/12=0,B618*(1+Simulador!$C$35),B618))","v":0},{"$f":"MAX(IF(A619=0,0,B619-IF(Simulador!$C$11=\"Individual\",0,Simulador!$C$14)),0)","v":0},null,0,0,0,0,0,0,null,0,0,0,0,0,0,null,0,0,0,0,0,null,{"$f":"IF(OR(Y618+1>(IF(AND(Simulador!$C$9<Simulador!$C$10,OR(Simulador!$E$7=\"Resgate\",Simulador!$E$7=\"Portabilidade\")),Simulador!$C$9,Simulador!$C$10)-Simulador!$C$8)*12,Y618=0),0,Y618+1)","v":615},{"$f":"IF($Y619=0,0,Z618*(1+Simulador!$D$34)+E619+L619)","v":0},{"$f":"IF($Y619=0,0,AA618*(1+Simulador!$D$34)+S619)","v":0},{"$f":"IF(OR(AB618+1>(IF(AND(Simulador!$C$9<Simulador!$C$10,OR(Simulador!$E$7=\"Resgate\",Simulador!$E$7=\"Portabilidade\")),Simulador!$C$9,Simulador!$C$50)-Simulador!$C$8)*12,AB618=0),0,AB618+1)","v":615},{"$f":"IF($AB619=0,0,AC618*(1+Simulador!$D$34)+F619+M619)","v":0},{"$f":"IF($AB619=0,0,AD618*(1+Simulador!$D$34)+T619)","v":0}]
[{"$f":"IF(OR(A619+1>(IF(Simulador!$E$7=\"Autopatrocínio\",Simulador!$C$10,Simulador!$C$9)-Simulador!$C$8)*12,A619=0),0,A619+1)","v":0},{"$f":"IF($A620=0,0,IF(INT($A619/12)-$A619/12=0,B619*(1+Simulador!$C$35),B619))","v":0},{"$f":"MAX(IF(A620=0,0,B620-IF(Simulador!$C$11=\"Individual\",0,Simulador!$C$14)),0)","v":0},null,0,0,0,0,0,0,null,0,0,0,0,0,0,null,0,0,0,0,0,null,{"$f":"IF(OR(Y619+1>(IF(AND(Simulador!$C$9<Simulador!$C$10,OR(Simulador!$E$7=\"Resgate\",Simulador!$E$7=\"Portabilidade\")),Simulador!$C$9,Simulador!$C$10)-Simulador!$C$8)*12,Y619=0),0,Y619+1)","v":616},{"$f":"IF($Y620=0,0,Z619*(1+Simulador!$D$34)+E620+L620)","v":0},{"$f":"IF($Y620=0,0,AA619*(1+Simulador!$D$34)+S620)","v":0},{"$f":"IF(OR(AB619+1>(IF(AND(Simulador!$C$9<Simulador!$C$10,OR(Simulador!$E$7=\"Resgate\",Simulador!$E$7=\"Portabilidade\")),Simulador!$C$9,Simulador!$C$50)-Simulador!$C$8)*12,AB619=0),0,AB619+1)","v":616},{"$f":"IF($AB620=0,0,AC619*(1+Simulador!$D$34)+F620+M620)","v":0},{"$f":"IF($AB620=0,0,AD619*(1+Simulador!$D$34)+T620)","v":0}]
[{"$f":"IF(OR(A620+1>(IF(Simulador!$E$7=\"Autopatrocínio\",Simulador!$C$10,Simulador!$C$9)-Simulador!$C$8)*12,A620=0),0,A620+1)","v":0},{"$f":"IF($A621=0,0,IF(INT($A620/12)-$A620/12=0,B620*(1+Simulador!$C$35),B620))","v":0},{"$f":"MAX(IF(A621=0,0,B621-IF(Simulador!$C$11=\"Individual\",0,Simulador!$C$14)),0)","v":0},null,0,0,0,0,0,0,null,0,0,0,0,0,0,null,0,0,0,0,0,null,{"$f":"IF(OR(Y620+1>(IF(AND(Simulador!$C$9<Simulador!$C$10,OR(Simulador!$E$7=\"Resgate\",Simulador!$E$7=\"Portabilidade\")),Simulador!$C$9,Simulador!$C$10)-Simulador!$C$8)*12,Y620=0),0,Y620+1)","v":617},{"$f":"IF($Y621=0,0,Z620*(1+Simulador!$D$34)+E621+L621)","v":0},{"$f":"IF($Y621=0,0,AA620*(1+Simulador!$D$34)+S621)","v":0},{"$f":"IF(OR(AB620+1>(IF(AND(Simulador!$C$9<Simulador!$C$10,OR(Simulador!$E$7=\"Resgate\",Simulador!$E$7=\"Portabilidade\")),Simulador!$C$9,Simulador!$C$50)-Simulador!$C$8)*12,AB620=0),0,AB620+1)","v":617},{"$f":"IF($AB621=0,0,AC620*(1+Simulador!$D$34)+F621+M621)","v":0},{"$f":"IF($AB621=0,0,AD620*(1+Simulador!$D$34)+T621)","v":0}]
[{"$f":"IF(OR(A621+1>(IF(Simulador!$E$7=\"Autopatrocínio\",Simulador!$C$10,Simulador!$C$9)-Simulador!$C$8)*12,A621=0),0,A621+1)","v":0},{"$f":"IF($A622=0,0,IF(INT($A621/12)-$A621/12=0,B621*(1+Simulador!$C$35),B621))","v":0},{"$f":"MAX(IF(A622=0,0,B622-IF(Simulador!$C$11=\"Individual\",0,Simulador!$C$14)),0)","v":0},null,0,0,0,0,0,0,null,0,0,0,0,0,0,null,0,0,0,0,0,null,{"$f":"IF(OR(Y621+1>(IF(AND(Simulador!$C$9<Simulador!$C$10,OR(Simulador!$E$7=\"Resgate\",Simulador!$E$7=\"Portabilidade\")),Simulador!$C$9,Simulador!$C$10)-Simulador!$C$8)*12,Y621=0),0,Y621+1)","v":618},{"$f":"IF($Y622=0,0,Z621*(1+Simulador!$D$34)+E622+L622)","v":0},{"$f":"IF($Y622=0,0,AA621*(1+Simulador!$D$34)+S622)","v":0},{"$f":"IF(OR(AB621+1>(IF(AND(Simulador!$C$9<Simulador!$C$10,OR(Simulador!$E$7=\"Resgate\",Simulador!$E$7=\"Portabilidade\")),Simulador!$C$9,Simulador!$C$50)-Simulador!$C$8)*12,AB621=0),0,AB621+1)","v":618},{"$f":"IF($AB622=0,0,AC621*(1+Simulador!$D$34)+F622+M622)","v":0},{"$f":"IF($AB622=0,0,AD621*(1+Simulador!$D$34)+T622)","v":0}]
[{"$f":"IF(OR(A622+1>(IF(Simulador!$E$7=\"Autopatrocínio\",Simulador!$C$10,Simulador!$C$9)-Simulador!$C$8)*12,A622=0),0,A622+1)","v":0},{"$f":"IF($A623=0,0,IF(INT($A622/12)-$A622/12=0,B622*(1+Simulador!$C$35),B622))","v":0},{"$f":"MAX(IF(A623=0,0,B623-IF(Simulador!$C$11=\"Individual\",0,Simulador!$C$14)),0)","v":0},null,0,0,0,0,0,0,null,0,0,0,0,0,0,null,0,0,0,0,0,null,{"$f":"IF(OR(Y622+1>(IF(AND(Simulador!$C$9<Simulador!$C$10,OR(Simulador!$E$7=\"Resgate\",Simulador!$E$7=\"Portabilidade\")),Simulador!$C$9,Simulador!$C$10)-Simulador!$C$8)*12,Y622=0),0,Y622+1)","v":619},{"$f":"IF($Y623=0,0,Z622*(1+Simulador!$D$34)+E623+L623)","v":0},{"$f":"IF($Y623=0,0,AA622*(1+Simulador!$D$34)+S623)","v":0},{"$f":"IF(OR(AB622+1>(IF(AND(Simulador!$C$9<Simulador!$C$10,OR(Simulador!$E$7=\"Resgate\",Simulador!$E$7=\"Portabilidade\")),Simulador!$C$9,Simulador!$C$50)-Simulador!$C$8)*12,AB622=0),0,AB622+1)","v":619},{"$f":"IF($AB623=0,0,AC622*(1+Simulador!$D$34)+F623+M623)","v":0},{"$f":"IF($AB623=0,0,AD622*(1+Simulador!$D$34)+T623)","v":0}]
[{"$f":"IF(OR(A623+1>(IF(Simulador!$E$7=\"Autopatrocínio\",Simulador!$C$10,Simulador!$C$9)-Simulador!$C$8)*12,A623=0),0,A623+1)","v":0},{"$f":"IF($A624=0,0,IF(INT($A623/12)-$A623/12=0,B623*(1+Simulador!$C$35),B623))","v":0},{"$f":"MAX(IF(A624=0,0,B624-IF(Simulador!$C$11=\"Individual\",0,Simulador!$C$14)),0)","v":0},null,0,0,0,0,0,0,null,0,0,0,0,0,0,null,0,0,0,0,0,null,{"$f":"IF(OR(Y623+1>(IF(AND(Simulador!$C$9<Simulador!$C$10,OR(Simulador!$E$7=\"Resgate\",Simulador!$E$7=\"Portabilidade\")),Simulador!$C$9,Simulador!$C$10)-Simulador!$C$8)*12,Y623=0),0,Y623+1)","v":620},{"$f":"IF($Y624=0,0,Z623*(1+Simulador!$D$34)+E624+L624)","v":0},{"$f":"IF($Y624=0,0,AA623*(1+Simulador!$D$34)+S624)","v":0},{"$f":"IF(OR(AB623+1>(IF(AND(Simulador!$C$9<Simulador!$C$10,OR(Simulador!$E$7=\"Resgate\",Simulador!$E$7=\"Portabilidade\")),Simulador!$C$9,Simulador!$C$50)-Simulador!$C$8)*12,AB623=0),0,AB623+1)","v":620},{"$f":"IF($AB624=0,0,AC623*(1+Simulador!$D$34)+F624+M624)","v":0},{"$f":"IF($AB624=0,0,AD623*(1+Simulador!$D$34)+T624)","v":0}]
[{"$f":"IF(OR(A624+1>(IF(Simulador!$E$7=\"Autopatrocínio\",Simulador!$C$10,Simulador!$C$9)-Simulador!$C$8)*12,A624=0),0,A624+1)","v":0},{"$f":"IF($A625=0,0,IF(INT($A624/12)-$A624/12=0,B624*(1+Simulador!$C$35),B624))","v":0},{"$f":"MAX(IF(A625=0,0,B625-IF(Simulador!$C$11=\"Individual\",0,Simulador!$C$14)),0)","v":0},null,0,0,0,0,0,0,null,0,0,0,0,0,0,null,0,0,0,0,0,null,{"$f":"IF(OR(Y624+1>(IF(AND(Simulador!$C$9<Simulador!$C$10,OR(Simulador!$E$7=\"Resgate\",Simulador!$E$7=\"Portabilidade\")),Simulador!$C$9,Simulador!$C$10)-Simulador!$C$8)*12,Y624=0),0,Y624+1)","v":621},{"$f":"IF($Y625=0,0,Z624*(1+Simulador!$D$34)+E625+L625)","v":0},{"$f":"IF($Y625=0,0,AA624*(1+Simulador!$D$34)+S625)","v":0},{"$f":"IF(OR(AB624+1>(IF(AND(Simulador!$C$9<Simulador!$C$10,OR(Simulador!$E$7=\"Resgate\",Simulador!$E$7=\"Portabilidade\")),Simulador!$C$9,Simulador!$C$50)-Simulador!$C$8)*12,AB624=0),0,AB624+1)","v":621},{"$f":"IF($AB625=0,0,AC624*(1+Simulador!$D$34)+F625+M625)","v":0},{"$f":"IF($AB625=0,0,AD624*(1+Simulador!$D$34)+T625)","v":0}]
[{"$f":"IF(OR(A625+1>(IF(Simulador!$E$7=\"Autopatrocínio\",Simulador!$C$10,Simulador!$C$9)-Simulador!$C$8)*12,A625=0),0,A625+1)","v":0},{"$f":"IF($A626=0,0,IF(INT($A625/12)-$A625/12=0,B625*(1+Simulador!$C$35),B625))","v":0},{"$f":"MAX(IF(A626=0,0,B626-IF(Simulador!$C$11=\"Individual\",0,Simulador!$C$14)),0)","v":0},null,0,0,0,0,0,0,null,0,0,0,0,0,0,null,0,0,0,0,0,null,{"$f":"IF(OR(Y625+1>(IF(AND(Simulador!$C$9<Simulador!$C$10,OR(Simulador!$E$7=\"Resgate\",Simulador!$E$7=\"Portabilidade\")),Simulador!$C$9,Simulador!$C$10)-Simulador!$C$8)*12,Y625=0),0,Y625+1)","v":622},{"$f":"IF($Y626=0,0,Z625*(1+Simulador!$D$34)+E626+L626)","v":0},{"$f":"IF($Y626=0,0,AA625*(1+Simulador!$D$34)+S626)","v":0},{"$f":"IF(OR(AB625+1>(IF(AND(Simulador!$C$9<Simulador!$C$10,OR(Simulador!$E$7=\"Resgate\",Simulador!$E$7=\"Portabilidade\")),Simulador!$C$9,Simulador!$C$50)-Simulador!$C$8)*12,AB625=0),0,AB625+1)","v":622},{"$f":"IF($AB626=0,0,AC625*(1+Simulador!$D$34)+F626+M626)","v":0},{"$f":"IF($AB626=0,0,AD625*(1+Simulador!$D$34)+T626)","v":0}]
[{"$f":"IF(OR(A626+1>(IF(Simulador!$E$7=\"Autopatrocínio\",Simulador!$C$10,Simulador!$C$9)-Simulador!$C$8)*12,A626=0),0,A626+1)","v":0},{"$f":"IF($A627=0,0,IF(INT($A626/12)-$A626/12=0,B626*(1+Simulador!$C$35),B626))","v":0},{"$f":"MAX(IF(A627=0,0,B627-IF(Simulador!$C$11=\"Individual\",0,Simulador!$C$14)),0)","v":0},null,0,0,0,0,0,0,null,0,0,0,0,0,0,null,0,0,0,0,0,null,{"$f":"IF(OR(Y626+1>(IF(AND(Simulador!$C$9<Simulador!$C$10,OR(Simulador!$E$7=\"Resgate\",Simulador!$E$7=\"Portabilidade\")),Simulador!$C$9,Simulador!$C$10)-Simulador!$C$8)*12,Y626=0),0,Y626+1)","v":623},{"$f":"IF($Y627=0,0,Z626*(1+Simulador!$D$34)+E627+L627)","v":0},{"$f":"IF($Y627=0,0,AA626*(1+Simulador!$D$34)+S627)","v":0},{"$f":"IF(OR(AB626+1>(IF(AND(Simulador!$C$9<Simulador!$C$10,OR(Simulador!$E$7=\"Resgate\",Simulador!$E$7=\"Portabilidade\")),Simulador!$C$9,Simulador!$C$50)-Simulador!$C$8)*12,AB626=0),0,AB626+1)","v":623},{"$f":"IF($AB627=0,0,AC626*(1+Simulador!$D$34)+F627+M627)","v":0},{"$f":"IF($AB627=0,0,AD626*(1+Simulador!$D$34)+T627)","v":0}]
[{"$f":"IF(OR(A627+1>(IF(Simulador!$E$7=\"Autopatrocínio\",Simulador!$C$10,Simulador!$C$9)-Simulador!$C$8)*12,A627=0),0,A627+1)","v":0},{"$f":"IF($A628=0,0,IF(INT($A627/12)-$A627/12=0,B627*(1+Simulador!$C$35),B627))","v":0},{"$f":"MAX(IF(A628=0,0,B628-IF(Simulador!$C$11=\"Individual\",0,Simulador!$C$14)),0)","v":0},null,0,0,0,0,0,0,null,0,0,0,0,0,0,null,0,0,0,0,0,null,{"$f":"IF(OR(Y627+1>(IF(AND(Simulador!$C$9<Simulador!$C$10,OR(Simulador!$E$7=\"Resgate\",Simulador!$E$7=\"Portabilidade\")),Simulador!$C$9,Simulador!$C$10)-Simulador!$C$8)*12,Y627=0),0,Y627+1)","v":624},{"$f":"IF($Y628=0,0,Z627*(1+Simulador!$D$34)+E628+L628)","v":0},{"$f":"IF($Y628=0,0,AA627*(1+Simulador!$D$34)+S628)","v":0},{"$f":"IF(OR(AB627+1>(IF(AND(Simulador!$C$9<Simulador!$C$10,OR(Simulador!$E$7=\"Resgate\",Simulador!$E$7=\"Portabilidade\")),Simulador!$C$9,Simulador!$C$50)-Simulador!$C$8)*12,AB627=0),0,AB627+1)","v":624},{"$f":"IF($AB628=0,0,AC627*(1+Simulador!$D$34)+F628+M628)","v":0},{"$f":"IF($AB628=0,0,AD627*(1+Simulador!$D$34)+T628)","v":0}]
[{"$f":"IF(OR(A628+1>(IF(Simulador!$E$7=\"Autopatrocínio\",Simulador!$C$10,Simulador!$C$9)-Simulador!$C$8)*12,A628=0),0,A628+1)","v":0},{"$f":"IF($A629=0,0,IF(INT($A628/12)-$A628/12=0,B628*(1+Simulador!$C$35),B628))","v":0},{"$f":"MAX(IF(A629=0,0,B629-IF(Simulador!$C$11=\"Individual\",0,Simulador!$C$14)),0)","v":0},null,0,0,0,0,0,0,null,0,0,0,0,0,0,null,0,0,0,0,0,null,{"$f":"IF(OR(Y628+1>(IF(AND(Simulador!$C$9<Simulador!$C$10,OR(Simulador!$E$7=\"Resgate\",Simulador!$E$7=\"Portabilidade\")),Simulador!$C$9,Simulador!$C$10)-Simulador!$C$8)*12,Y628=0),0,Y628+1)","v":625},{"$f":"IF($Y629=0,0,Z628*(1+Simulador!$D$34)+E629+L629)","v":0},{"$f":"IF($Y629=0,0,AA628*(1+Simulador!$D$34)+S629)","v":0},{"$f":"IF(OR(AB628+1>(IF(AND(Simulador!$C$9<Simulador!$C$10,OR(Simulador!$E$7=\"Resgate\",Simulador!$E$7=\"Portabilidade\")),Simulador!$C$9,Simulador!$C$50)-Simulador!$C$8)*12,AB628=0),0,AB628+1)","v":625},{"$f":"IF($AB629=0,0,AC628*(1+Simulador!$D$34)+F629+M629)","v":0},{"$f":"IF($AB629=0,0,AD628*(1+Simulador!$D$34)+T629)","v":0}]
[{"$f":"IF(OR(A629+1>(IF(Simulador!$E$7=\"Autopatrocínio\",Simulador!$C$10,Simulador!$C$9)-Simulador!$C$8)*12,A629=0),0,A629+1)","v":0},{"$f":"IF($A630=0,0,IF(INT($A629/12)-$A629/12=0,B629*(1+Simulador!$C$35),B629))","v":0},{"$f":"MAX(IF(A630=0,0,B630-IF(Simulador!$C$11=\"Individual\",0,Simulador!$C$14)),0)","v":0},null,0,0,0,0,0,0,null,0,0,0,0,0,0,null,0,0,0,0,0,null,{"$f":"IF(OR(Y629+1>(IF(AND(Simulador!$C$9<Simulador!$C$10,OR(Simulador!$E$7=\"Resgate\",Simulador!$E$7=\"Portabilidade\")),Simulador!$C$9,Simulador!$C$10)-Simulador!$C$8)*12,Y629=0),0,Y629+1)","v":626},{"$f":"IF($Y630=0,0,Z629*(1+Simulador!$D$34)+E630+L630)","v":0},{"$f":"IF($Y630=0,0,AA629*(1+Simulador!$D$34)+S630)","v":0},{"$f":"IF(OR(AB629+1>(IF(AND(Simulador!$C$9<Simulador!$C$10,OR(Simulador!$E$7=\"Resgate\",Simulador!$E$7=\"Portabilidade\")),Simulador!$C$9,Simulador!$C$50)-Simulador!$C$8)*12,AB629=0),0,AB629+1)","v":626},{"$f":"IF($AB630=0,0,AC629*(1+Simulador!$D$34)+F630+M630)","v":0},{"$f":"IF($AB630=0,0,AD629*(1+Simulador!$D$34)+T630)","v":0}]
[{"$f":"IF(OR(A630+1>(IF(Simulador!$E$7=\"Autopatrocínio\",Simulador!$C$10,Simulador!$C$9)-Simulador!$C$8)*12,A630=0),0,A630+1)","v":0},{"$f":"IF($A631=0,0,IF(INT($A630/12)-$A630/12=0,B630*(1+Simulador!$C$35),B630))","v":0},{"$f":"MAX(IF(A631=0,0,B631-IF(Simulador!$C$11=\"Individual\",0,Simulador!$C$14)),0)","v":0},null,0,0,0,0,0,0,null,0,0,0,0,0,0,null,0,0,0,0,0,null,{"$f":"IF(OR(Y630+1>(IF(AND(Simulador!$C$9<Simulador!$C$10,OR(Simulador!$E$7=\"Resgate\",Simulador!$E$7=\"Portabilidade\")),Simulador!$C$9,Simulador!$C$10)-Simulador!$C$8)*12,Y630=0),0,Y630+1)","v":627},{"$f":"IF($Y631=0,0,Z630*(1+Simulador!$D$34)+E631+L631)","v":0},{"$f":"IF($Y631=0,0,AA630*(1+Simulador!$D$34)+S631)","v":0},{"$f":"IF(OR(AB630+1>(IF(AND(Simulador!$C$9<Simulador!$C$10,OR(Simulador!$E$7=\"Resgate\",Simulador!$E$7=\"Portabilidade\")),Simulador!$C$9,Simulador!$C$50)-Simulador!$C$8)*12,AB630=0),0,AB630+1)","v":627},{"$f":"IF($AB631=0,0,AC630*(1+Simulador!$D$34)+F631+M631)","v":0},{"$f":"IF($AB631=0,0,AD630*(1+Simulador!$D$34)+T631)","v":0}]
[{"$f":"IF(OR(A631+1>(IF(Simulador!$E$7=\"Autopatrocínio\",Simulador!$C$10,Simulador!$C$9)-Simulador!$C$8)*12,A631=0),0,A631+1)","v":0},{"$f":"IF($A632=0,0,IF(INT($A631/12)-$A631/12=0,B631*(1+Simulador!$C$35),B631))","v":0},{"$f":"MAX(IF(A632=0,0,B632-IF(Simulador!$C$11=\"Individual\",0,Simulador!$C$14)),0)","v":0},null,0,0,0,0,0,0,null,0,0,0,0,0,0,null,0,0,0,0,0,null,{"$f":"IF(OR(Y631+1>(IF(AND(Simulador!$C$9<Simulador!$C$10,OR(Simulador!$E$7=\"Resgate\",Simulador!$E$7=\"Portabilidade\")),Simulador!$C$9,Simulador!$C$10)-Simulador!$C$8)*12,Y631=0),0,Y631+1)","v":628},{"$f":"IF($Y632=0,0,Z631*(1+Simulador!$D$34)+E632+L632)","v":0},{"$f":"IF($Y632=0,0,AA631*(1+Simulador!$D$34)+S632)","v":0},{"$f":"IF(OR(AB631+1>(IF(AND(Simulador!$C$9<Simulador!$C$10,OR(Simulador!$E$7=\"Resgate\",Simulador!$E$7=\"Portabilidade\")),Simulador!$C$9,Simulador!$C$50)-Simulador!$C$8)*12,AB631=0),0,AB631+1)","v":628},{"$f":"IF($AB632=0,0,AC631*(1+Simulador!$D$34)+F632+M632)","v":0},{"$f":"IF($AB632=0,0,AD631*(1+Simulador!$D$34)+T632)","v":0}]
[{"$f":"IF(OR(A632+1>(IF(Simulador!$E$7=\"Autopatrocínio\",Simulador!$C$10,Simulador!$C$9)-Simulador!$C$8)*12,A632=0),0,A632+1)","v":0},{"$f":"IF($A633=0,0,IF(INT($A632/12)-$A632/12=0,B632*(1+Simulador!$C$35),B632))","v":0},{"$f":"MAX(IF(A633=0,0,B633-IF(Simulador!$C$11=\"Individual\",0,Simulador!$C$14)),0)","v":0},null,0,0,0,0,0,0,null,0,0,0,0,0,0,null,0,0,0,0,0,null,{"$f":"IF(OR(Y632+1>(IF(AND(Simulador!$C$9<Simulador!$C$10,OR(Simulador!$E$7=\"Resgate\",Simulador!$E$7=\"Portabilidade\")),Simulador!$C$9,Simulador!$C$10)-Simulador!$C$8)*12,Y632=0),0,Y632+1)","v":629},{"$f":"IF($Y633=0,0,Z632*(1+Simulador!$D$34)+E633+L633)","v":0},{"$f":"IF($Y633=0,0,AA632*(1+Simulador!$D$34)+S633)","v":0},{"$f":"IF(OR(AB632+1>(IF(AND(Simulador!$C$9<Simulador!$C$10,OR(Simulador!$E$7=\"Resgate\",Simulador!$E$7=\"Portabilidade\")),Simulador!$C$9,Simulador!$C$50)-Simulador!$C$8)*12,AB632=0),0,AB632+1)","v":629},{"$f":"IF($AB633=0,0,AC632*(1+Simulador!$D$34)+F633+M633)","v":0},{"$f":"IF($AB633=0,0,AD632*(1+Simulador!$D$34)+T633)","v":0}]
[{"$f":"IF(OR(A633+1>(IF(Simulador!$E$7=\"Autopatrocínio\",Simulador!$C$10,Simulador!$C$9)-Simulador!$C$8)*12,A633=0),0,A633+1)","v":0},{"$f":"IF($A634=0,0,IF(INT($A633/12)-$A633/12=0,B633*(1+Simulador!$C$35),B633))","v":0},{"$f":"MAX(IF(A634=0,0,B634-IF(Simulador!$C$11=\"Individual\",0,Simulador!$C$14)),0)","v":0},null,0,0,0,0,0,0,null,0,0,0,0,0,0,null,0,0,0,0,0,null,{"$f":"IF(OR(Y633+1>(IF(AND(Simulador!$C$9<Simulador!$C$10,OR(Simulador!$E$7=\"Resgate\",Simulador!$E$7=\"Portabilidade\")),Simulador!$C$9,Simulador!$C$10)-Simulador!$C$8)*12,Y633=0),0,Y633+1)","v":630},{"$f":"IF($Y634=0,0,Z633*(1+Simulador!$D$34)+E634+L634)","v":0},{"$f":"IF($Y634=0,0,AA633*(1+Simulador!$D$34)+S634)","v":0},{"$f":"IF(OR(AB633+1>(IF(AND(Simulador!$C$9<Simulador!$C$10,OR(Simulador!$E$7=\"Resgate\",Simulador!$E$7=\"Portabilidade\")),Simulador!$C$9,Simulador!$C$50)-Simulador!$C$8)*12,AB633=0),0,AB633+1)","v":630},{"$f":"IF($AB634=0,0,AC633*(1+Simulador!$D$34)+F634+M634)","v":0},{"$f":"IF($AB634=0,0,AD633*(1+Simulador!$D$34)+T634)","v":0}]
[{"$f":"IF(OR(A634+1>(IF(Simulador!$E$7=\"Autopatrocínio\",Simulador!$C$10,Simulador!$C$9)-Simulador!$C$8)*12,A634=0),0,A634+1)","v":0},{"$f":"IF($A635=0,0,IF(INT($A634/12)-$A634/12=0,B634*(1+Simulador!$C$35),B634))","v":0},{"$f":"MAX(IF(A635=0,0,B635-IF(Simulador!$C$11=\"Individual\",0,Simulador!$C$14)),0)","v":0},null,0,0,0,0,0,0,null,0,0,0,0,0,0,null,0,0,0,0,0,null,{"$f":"IF(OR(Y634+1>(IF(AND(Simulador!$C$9<Simulador!$C$10,OR(Simulador!$E$7=\"Resgate\",Simulador!$E$7=\"Portabilidade\")),Simulador!$C$9,Simulador!$C$10)-Simulador!$C$8)*12,Y634=0),0,Y634+1)","v":631},{"$f":"IF($Y635=0,0,Z634*(1+Simulador!$D$34)+E635+L635)","v":0},{"$f":"IF($Y635=0,0,AA634*(1+Simulador!$D$34)+S635)","v":0},{"$f":"IF(OR(AB634+1>(IF(AND(Simulador!$C$9<Simulador!$C$10,OR(Simulador!$E$7=\"Resgate\",Simulador!$E$7=\"Portabilidade\")),Simulador!$C$9,Simulador!$C$50)-Simulador!$C$8)*12,AB634=0),0,AB634+1)","v":631},{"$f":"IF($AB635=0,0,AC634*(1+Simulador!$D$34)+F635+M635)","v":0},{"$f":"IF($AB635=0,0,AD634*(1+Simulador!$D$34)+T635)","v":0}]
[{"$f":"IF(OR(A635+1>(IF(Simulador!$E$7=\"Autopatrocínio\",Simulador!$C$10,Simulador!$C$9)-Simulador!$C$8)*12,A635=0),0,A635+1)","v":0},{"$f":"IF($A636=0,0,IF(INT($A635/12)-$A635/12=0,B635*(1+Simulador!$C$35),B635))","v":0},{"$f":"MAX(IF(A636=0,0,B636-IF(Simulador!$C$11=\"Individual\",0,Simulador!$C$14)),0)","v":0},null,0,0,0,0,0,0,null,0,0,0,0,0,0,null,0,0,0,0,0,null,{"$f":"IF(OR(Y635+1>(IF(AND(Simulador!$C$9<Simulador!$C$10,OR(Simulador!$E$7=\"Resgate\",Simulador!$E$7=\"Portabilidade\")),Simulador!$C$9,Simulador!$C$10)-Simulador!$C$8)*12,Y635=0),0,Y635+1)","v":632},{"$f":"IF($Y636=0,0,Z635*(1+Simulador!$D$34)+E636+L636)","v":0},{"$f":"IF($Y636=0,0,AA635*(1+Simulador!$D$34)+S636)","v":0},{"$f":"IF(OR(AB635+1>(IF(AND(Simulador!$C$9<Simulador!$C$10,OR(Simulador!$E$7=\"Resgate\",Simulador!$E$7=\"Portabilidade\")),Simulador!$C$9,Simulador!$C$50)-Simulador!$C$8)*12,AB635=0),0,AB635+1)","v":632},{"$f":"IF($AB636=0,0,AC635*(1+Simulador!$D$34)+F636+M636)","v":0},{"$f":"IF($AB636=0,0,AD635*(1+Simulador!$D$34)+T636)","v":0}]
[{"$f":"IF(OR(A636+1>(IF(Simulador!$E$7=\"Autopatrocínio\",Simulador!$C$10,Simulador!$C$9)-Simulador!$C$8)*12,A636=0),0,A636+1)","v":0},{"$f":"IF($A637=0,0,IF(INT($A636/12)-$A636/12=0,B636*(1+Simulador!$C$35),B636))","v":0},{"$f":"MAX(IF(A637=0,0,B637-IF(Simulador!$C$11=\"Individual\",0,Simulador!$C$14)),0)","v":0},null,0,0,0,0,0,0,null,0,0,0,0,0,0,null,0,0,0,0,0,null,{"$f":"IF(OR(Y636+1>(IF(AND(Simulador!$C$9<Simulador!$C$10,OR(Simulador!$E$7=\"Resgate\",Simulador!$E$7=\"Portabilidade\")),Simulador!$C$9,Simulador!$C$10)-Simulador!$C$8)*12,Y636=0),0,Y636+1)","v":633},{"$f":"IF($Y637=0,0,Z636*(1+Simulador!$D$34)+E637+L637)","v":0},{"$f":"IF($Y637=0,0,AA636*(1+Simulador!$D$34)+S637)","v":0},{"$f":"IF(OR(AB636+1>(IF(AND(Simulador!$C$9<Simulador!$C$10,OR(Simulador!$E$7=\"Resgate\",Simulador!$E$7=\"Portabilidade\")),Simulador!$C$9,Simulador!$C$50)-Simulador!$C$8)*12,AB636=0),0,AB636+1)","v":633},{"$f":"IF($AB637=0,0,AC636*(1+Simulador!$D$34)+F637+M637)","v":0},{"$f":"IF($AB637=0,0,AD636*(1+Simulador!$D$34)+T637)","v":0}]
[{"$f":"IF(OR(A637+1>(IF(Simulador!$E$7=\"Autopatrocínio\",Simulador!$C$10,Simulador!$C$9)-Simulador!$C$8)*12,A637=0),0,A637+1)","v":0},{"$f":"IF($A638=0,0,IF(INT($A637/12)-$A637/12=0,B637*(1+Simulador!$C$35),B637))","v":0},{"$f":"MAX(IF(A638=0,0,B638-IF(Simulador!$C$11=\"Individual\",0,Simulador!$C$14)),0)","v":0},null,0,0,0,0,0,0,null,0,0,0,0,0,0,null,0,0,0,0,0,null,{"$f":"IF(OR(Y637+1>(IF(AND(Simulador!$C$9<Simulador!$C$10,OR(Simulador!$E$7=\"Resgate\",Simulador!$E$7=\"Portabilidade\")),Simulador!$C$9,Simulador!$C$10)-Simulador!$C$8)*12,Y637=0),0,Y637+1)","v":634},{"$f":"IF($Y638=0,0,Z637*(1+Simulador!$D$34)+E638+L638)","v":0},{"$f":"IF($Y638=0,0,AA637*(1+Simulador!$D$34)+S638)","v":0},{"$f":"IF(OR(AB637+1>(IF(AND(Simulador!$C$9<Simulador!$C$10,OR(Simulador!$E$7=\"Resgate\",Simulador!$E$7=\"Portabilidade\")),Simulador!$C$9,Simulador!$C$50)-Simulador!$C$8)*12,AB637=0),0,AB637+1)","v":634},{"$f":"IF($AB638=0,0,AC637*(1+Simulador!$D$34)+F638+M638)","v":0},{"$f":"IF($AB638=0,0,AD637*(1+Simulador!$D$34)+T638)","v":0}]
[{"$f":"IF(OR(A638+1>(IF(Simulador!$E$7=\"Autopatrocínio\",Simulador!$C$10,Simulador!$C$9)-Simulador!$C$8)*12,A638=0),0,A638+1)","v":0},{"$f":"IF($A639=0,0,IF(INT($A638/12)-$A638/12=0,B638*(1+Simulador!$C$35),B638))","v":0},{"$f":"MAX(IF(A639=0,0,B639-IF(Simulador!$C$11=\"Individual\",0,Simulador!$C$14)),0)","v":0},null,0,0,0,0,0,0,null,0,0,0,0,0,0,null,0,0,0,0,0,null,{"$f":"IF(OR(Y638+1>(IF(AND(Simulador!$C$9<Simulador!$C$10,OR(Simulador!$E$7=\"Resgate\",Simulador!$E$7=\"Portabilidade\")),Simulador!$C$9,Simulador!$C$10)-Simulador!$C$8)*12,Y638=0),0,Y638+1)","v":635},{"$f":"IF($Y639=0,0,Z638*(1+Simulador!$D$34)+E639+L639)","v":0},{"$f":"IF($Y639=0,0,AA638*(1+Simulador!$D$34)+S639)","v":0},{"$f":"IF(OR(AB638+1>(IF(AND(Simulador!$C$9<Simulador!$C$10,OR(Simulador!$E$7=\"Resgate\",Simulador!$E$7=\"Portabilidade\")),Simulador!$C$9,Simulador!$C$50)-Simulador!$C$8)*12,AB638=0),0,AB638+1)","v":635},{"$f":"IF($AB639=0,0,AC638*(1+Simulador!$D$34)+F639+M639)","v":0},{"$f":"IF($AB639=0,0,AD638*(1+Simulador!$D$34)+T639)","v":0}]
[{"$f":"IF(OR(A639+1>(IF(Simulador!$E$7=\"Autopatrocínio\",Simulador!$C$10,Simulador!$C$9)-Simulador!$C$8)*12,A639=0),0,A639+1)","v":0},{"$f":"IF($A640=0,0,IF(INT($A639/12)-$A639/12=0,B639*(1+Simulador!$C$35),B639))","v":0},{"$f":"MAX(IF(A640=0,0,B640-IF(Simulador!$C$11=\"Individual\",0,Simulador!$C$14)),0)","v":0},null,0,0,0,0,0,0,null,0,0,0,0,0,0,null,0,0,0,0,0,null,{"$f":"IF(OR(Y639+1>(IF(AND(Simulador!$C$9<Simulador!$C$10,OR(Simulador!$E$7=\"Resgate\",Simulador!$E$7=\"Portabilidade\")),Simulador!$C$9,Simulador!$C$10)-Simulador!$C$8)*12,Y639=0),0,Y639+1)","v":636},{"$f":"IF($Y640=0,0,Z639*(1+Simulador!$D$34)+E640+L640)","v":0},{"$f":"IF($Y640=0,0,AA639*(1+Simulador!$D$34)+S640)","v":0},{"$f":"IF(OR(AB639+1>(IF(AND(Simulador!$C$9<Simulador!$C$10,OR(Simulador!$E$7=\"Resgate\",Simulador!$E$7=\"Portabilidade\")),Simulador!$C$9,Simulador!$C$50)-Simulador!$C$8)*12,AB639=0),0,AB639+1)","v":636},{"$f":"IF($AB640=0,0,AC639*(1+Simulador!$D$34)+F640+M640)","v":0},{"$f":"IF($AB640=0,0,AD639*(1+Simulador!$D$34)+T640)","v":0}]
[{"$f":"IF(OR(A640+1>(IF(Simulador!$E$7=\"Autopatrocínio\",Simulador!$C$10,Simulador!$C$9)-Simulador!$C$8)*12,A640=0),0,A640+1)","v":0},{"$f":"IF($A641=0,0,IF(INT($A640/12)-$A640/12=0,B640*(1+Simulador!$C$35),B640))","v":0},{"$f":"MAX(IF(A641=0,0,B641-IF(Simulador!$C$11=\"Individual\",0,Simulador!$C$14)),0)","v":0},null,0,0,0,0,0,0,null,0,0,0,0,0,0,null,0,0,0,0,0,null,{"$f":"IF(OR(Y640+1>(IF(AND(Simulador!$C$9<Simulador!$C$10,OR(Simulador!$E$7=\"Resgate\",Simulador!$E$7=\"Portabilidade\")),Simulador!$C$9,Simulador!$C$10)-Simulador!$C$8)*12,Y640=0),0,Y640+1)","v":637},{"$f":"IF($Y641=0,0,Z640*(1+Simulador!$D$34)+E641+L641)","v":0},{"$f":"IF($Y641=0,0,AA640*(1+Simulador!$D$34)+S641)","v":0},{"$f":"IF(OR(AB640+1>(IF(AND(Simulador!$C$9<Simulador!$C$10,OR(Simulador!$E$7=\"Resgate\",Simulador!$E$7=\"Portabilidade\")),Simulador!$C$9,Simulador!$C$50)-Simulador!$C$8)*12,AB640=0),0,AB640+1)","v":637},{"$f":"IF($AB641=0,0,AC640*(1+Simulador!$D$34)+F641+M641)","v":0},{"$f":"IF($AB641=0,0,AD640*(1+Simulador!$D$34)+T641)","v":0}]
[{"$f":"IF(OR(A641+1>(IF(Simulador!$E$7=\"Autopatrocínio\",Simulador!$C$10,Simulador!$C$9)-Simulador!$C$8)*12,A641=0),0,A641+1)","v":0},{"$f":"IF($A642=0,0,IF(INT($A641/12)-$A641/12=0,B641*(1+Simulador!$C$35),B641))","v":0},{"$f":"MAX(IF(A642=0,0,B642-IF(Simulador!$C$11=\"Individual\",0,Simulador!$C$14)),0)","v":0},null,0,0,0,0,0,0,null,0,0,0,0,0,0,null,0,0,0,0,0,null,{"$f":"IF(OR(Y641+1>(IF(AND(Simulador!$C$9<Simulador!$C$10,OR(Simulador!$E$7=\"Resgate\",Simulador!$E$7=\"Portabilidade\")),Simulador!$C$9,Simulador!$C$10)-Simulador!$C$8)*12,Y641=0),0,Y641+1)","v":638},{"$f":"IF($Y642=0,0,Z641*(1+Simulador!$D$34)+E642+L642)","v":0},{"$f":"IF($Y642=0,0,AA641*(1+Simulador!$D$34)+S642)","v":0},{"$f":"IF(OR(AB641+1>(IF(AND(Simulador!$C$9<Simulador!$C$10,OR(Simulador!$E$7=\"Resgate\",Simulador!$E$7=\"Portabilidade\")),Simulador!$C$9,Simulador!$C$50)-Simulador!$C$8)*12,AB641=0),0,AB641+1)","v":638},{"$f":"IF($AB642=0,0,AC641*(1+Simulador!$D$34)+F642+M642)","v":0},{"$f":"IF($AB642=0,0,AD641*(1+Simulador!$D$34)+T642)","v":0}]
[{"$f":"IF(OR(A642+1>(IF(Simulador!$E$7=\"Autopatrocínio\",Simulador!$C$10,Simulador!$C$9)-Simulador!$C$8)*12,A642=0),0,A642+1)","v":0},{"$f":"IF($A643=0,0,IF(INT($A642/12)-$A642/12=0,B642*(1+Simulador!$C$35),B642))","v":0},{"$f":"MAX(IF(A643=0,0,B643-IF(Simulador!$C$11=\"Individual\",0,Simulador!$C$14)),0)","v":0},null,0,0,0,0,0,0,null,0,0,0,0,0,0,null,0,0,0,0,0,null,{"$f":"IF(OR(Y642+1>(IF(AND(Simulador!$C$9<Simulador!$C$10,OR(Simulador!$E$7=\"Resgate\",Simulador!$E$7=\"Portabilidade\")),Simulador!$C$9,Simulador!$C$10)-Simulador!$C$8)*12,Y642=0),0,Y642+1)","v":639},{"$f":"IF($Y643=0,0,Z642*(1+Simulador!$D$34)+E643+L643)","v":0},{"$f":"IF($Y643=0,0,AA642*(1+Simulador!$D$34)+S643)","v":0},{"$f":"IF(OR(AB642+1>(IF(AND(Simulador!$C$9<Simulador!$C$10,OR(Simulador!$E$7=\"Resgate\",Simulador!$E$7=\"Portabilidade\")),Simulador!$C$9,Simulador!$C$50)-Simulador!$C$8)*12,AB642=0),0,AB642+1)","v":639},{"$f":"IF($AB643=0,0,AC642*(1+Simulador!$D$34)+F643+M643)","v":0},{"$f":"IF($AB643=0,0,AD642*(1+Simulador!$D$34)+T643)","v":0}]
[{"$f":"IF(OR(A643+1>(IF(Simulador!$E$7=\"Autopatrocínio\",Simulador!$C$10,Simulador!$C$9)-Simulador!$C$8)*12,A643=0),0,A643+1)","v":0},{"$f":"IF($A644=0,0,IF(INT($A643/12)-$A643/12=0,B643*(1+Simulador!$C$35),B643))","v":0},{"$f":"MAX(IF(A644=0,0,B644-IF(Simulador!$C$11=\"Individual\",0,Simulador!$C$14)),0)","v":0},null,0,0,0,0,0,0,null,0,0,0,0,0,0,null,0,0,0,0,0,null,{"$f":"IF(OR(Y643+1>(IF(AND(Simulador!$C$9<Simulador!$C$10,OR(Simulador!$E$7=\"Resgate\",Simulador!$E$7=\"Portabilidade\")),Simulador!$C$9,Simulador!$C$10)-Simulador!$C$8)*12,Y643=0),0,Y643+1)","v":640},{"$f":"IF($Y644=0,0,Z643*(1+Simulador!$D$34)+E644+L644)","v":0},{"$f":"IF($Y644=0,0,AA643*(1+Simulador!$D$34)+S644)","v":0},{"$f":"IF(OR(AB643+1>(IF(AND(Simulador!$C$9<Simulador!$C$10,OR(Simulador!$E$7=\"Resgate\",Simulador!$E$7=\"Portabilidade\")),Simulador!$C$9,Simulador!$C$50)-Simulador!$C$8)*12,AB643=0),0,AB643+1)","v":640},{"$f":"IF($AB644=0,0,AC643*(1+Simulador!$D$34)+F644+M644)","v":0},{"$f":"IF($AB644=0,0,AD643*(1+Simulador!$D$34)+T644)","v":0}]
[{"$f":"IF(OR(A644+1>(IF(Simulador!$E$7=\"Autopatrocínio\",Simulador!$C$10,Simulador!$C$9)-Simulador!$C$8)*12,A644=0),0,A644+1)","v":0},{"$f":"IF($A645=0,0,IF(INT($A644/12)-$A644/12=0,B644*(1+Simulador!$C$35),B644))","v":0},{"$f":"MAX(IF(A645=0,0,B645-IF(Simulador!$C$11=\"Individual\",0,Simulador!$C$14)),0)","v":0},null,0,0,0,0,0,{"$f":"IF($A645=0,0,IF(INT($A645/12)-$A645/12=0,1,0))","v":0},null,0,0,0,0,0,{"$f":"IF($A645=0,0,IF($Q$4=\"Mensal\",1,IF($Q$4=\"Semestral\",IF(INT(($A645+5)/6)-($A645+5)/6=0,1,0),IF($Q$4=\"Anual\",IF(INT(($A645+11)/12)-($A645+11)/12=0,1,0)))))","v":0},null,0,0,0,0,0,null,{"$f":"IF(OR(Y644+1>(IF(AND(Simulador!$C$9<Simulador!$C$10,OR(Simulador!$E$7=\"Resgate\",Simulador!$E$7=\"Portabilidade\")),Simulador!$C$9,Simulador!$C$10)-Simulador!$C$8)*12,Y644=0),0,Y644+1)","v":641},{"$f":"IF($Y645=0,0,Z644*(1+Simulador!$D$34)+E645+L645)","v":0},{"$f":"IF($Y645=0,0,AA644*(1+Simulador!$D$34)+S645)","v":0},{"$f":"IF(OR(AB644+1>(IF(AND(Simulador!$C$9<Simulador!$C$10,OR(Simulador!$E$7=\"Resgate\",Simulador!$E$7=\"Portabilidade\")),Simulador!$C$9,Simulador!$C$50)-Simulador!$C$8)*12,AB644=0),0,AB644+1)","v":641},{"$f":"IF($AB645=0,0,AC644*(1+Simulador!$D$34)+F645+M645)","v":0},{"$f":"IF($AB645=0,0,AD644*(1+Simulador!$D$34)+T645)","v":0}]
[{"$f":"IF(OR(A645+1>(IF(Simulador!$E$7=\"Autopatrocínio\",Simulador!$C$10,Simulador!$C$9)-Simulador!$C$8)*12,A645=0),0,A645+1)","v":0},{"$f":"IF($A646=0,0,IF(INT($A645/12)-$A645/12=0,B645*(1+Simulador!$C$35),B645))","v":0},{"$f":"MAX(IF(A646=0,0,B646-IF(Simulador!$C$11=\"Individual\",0,Simulador!$C$14)),0)","v":0},null,0,0,0,0,0,0,null,0,0,0,0,0,0,null,0,0,0,0,0,null,{"$f":"IF(OR(Y645+1>(IF(AND(Simulador!$C$9<Simulador!$C$10,OR(Simulador!$E$7=\"Resgate\",Simulador!$E$7=\"Portabilidade\")),Simulador!$C$9,Simulador!$C$10)-Simulador!$C$8)*12,Y645=0),0,Y645+1)","v":642},{"$f":"IF($Y646=0,0,Z645*(1+Simulador!$D$34)+E646+L646)","v":0},{"$f":"IF($Y646=0,0,AA645*(1+Simulador!$D$34)+S646)","v":0},{"$f":"IF(OR(AB645+1>(IF(AND(Simulador!$C$9<Simulador!$C$10,OR(Simulador!$E$7=\"Resgate\",Simulador!$E$7=\"Portabilidade\")),Simulador!$C$9,Simulador!$C$50)-Simulador!$C$8)*12,AB645=0),0,AB645+1)","v":642},{"$f":"IF($AB646=0,0,AC645*(1+Simulador!$D$34)+F646+M646)","v":0},{"$f":"IF($AB646=0,0,AD645*(1+Simulador!$D$34)+T646)","v":0}]
[{"$f":"IF(OR(A646+1>(IF(Simulador!$E$7=\"Autopatrocínio\",Simulador!$C$10,Simulador!$C$9)-Simulador!$C$8)*12,A646=0),0,A646+1)","v":0},{"$f":"IF($A647=0,0,IF(INT($A646/12)-$A646/12=0,B646*(1+Simulador!$C$35),B646))","v":0},{"$f":"MAX(IF(A647=0,0,B647-IF(Simulador!$C$11=\"Individual\",0,Simulador!$C$14)),0)","v":0},null,0,0,0,0,0,0,null,0,0,0,0,0,0,null,0,0,0,0,0,null,{"$f":"IF(OR(Y646+1>(IF(AND(Simulador!$C$9<Simulador!$C$10,OR(Simulador!$E$7=\"Resgate\",Simulador!$E$7=\"Portabilidade\")),Simulador!$C$9,Simulador!$C$10)-Simulador!$C$8)*12,Y646=0),0,Y646+1)","v":643},{"$f":"IF($Y647=0,0,Z646*(1+Simulador!$D$34)+E647+L647)","v":0},{"$f":"IF($Y647=0,0,AA646*(1+Simulador!$D$34)+S647)","v":0},{"$f":"IF(OR(AB646+1>(IF(AND(Simulador!$C$9<Simulador!$C$10,OR(Simulador!$E$7=\"Resgate\",Simulador!$E$7=\"Portabilidade\")),Simulador!$C$9,Simulador!$C$50)-Simulador!$C$8)*12,AB646=0),0,AB646+1)","v":643},{"$f":"IF($AB647=0,0,AC646*(1+Simulador!$D$34)+F647+M647)","v":0},{"$f":"IF($AB647=0,0,AD646*(1+Simulador!$D$34)+T647)","v":0}]
[{"$f":"IF(OR(A647+1>(IF(Simulador!$E$7=\"Autopatrocínio\",Simulador!$C$10,Simulador!$C$9)-Simulador!$C$8)*12,A647=0),0,A647+1)","v":0},{"$f":"IF($A648=0,0,IF(INT($A647/12)-$A647/12=0,B647*(1+Simulador!$C$35),B647))","v":0},{"$f":"MAX(IF(A648=0,0,B648-IF(Simulador!$C$11=\"Individual\",0,Simulador!$C$14)),0)","v":0},null,0,0,0,0,0,0,null,0,0,0,0,0,0,null,0,0,0,0,0,null,{"$f":"IF(OR(Y647+1>(IF(AND(Simulador!$C$9<Simulador!$C$10,OR(Simulador!$E$7=\"Resgate\",Simulador!$E$7=\"Portabilidade\")),Simulador!$C$9,Simulador!$C$10)-Simulador!$C$8)*12,Y647=0),0,Y647+1)","v":644},{"$f":"IF($Y648=0,0,Z647*(1+Simulador!$D$34)+E648+L648)","v":0},{"$f":"IF($Y648=0,0,AA647*(1+Simulador!$D$34)+S648)","v":0},{"$f":"IF(OR(AB647+1>(IF(AND(Simulador!$C$9<Simulador!$C$10,OR(Simulador!$E$7=\"Resgate\",Simulador!$E$7=\"Portabilidade\")),Simulador!$C$9,Simulador!$C$50)-Simulador!$C$8)*12,AB647=0),0,AB647+1)","v":644},{"$f":"IF($AB648=0,0,AC647*(1+Simulador!$D$34)+F648+M648)","v":0},{"$f":"IF($AB648=0,0,AD647*(1+Simulador!$D$34)+T648)","v":0}]
[{"$f":"IF(OR(A648+1>(IF(Simulador!$E$7=\"Autopatrocínio\",Simulador!$C$10,Simulador!$C$9)-Simulador!$C$8)*12,A648=0),0,A648+1)","v":0},{"$f":"IF($A649=0,0,IF(INT($A648/12)-$A648/12=0,B648*(1+Simulador!$C$35),B648))","v":0},{"$f":"MAX(IF(A649=0,0,B649-IF(Simulador!$C$11=\"Individual\",0,Simulador!$C$14)),0)","v":0},null,0,0,0,0,0,0,null,0,0,0,0,0,0,null,0,0,0,0,0,null,{"$f":"IF(OR(Y648+1>(IF(AND(Simulador!$C$9<Simulador!$C$10,OR(Simulador!$E$7=\"Resgate\",Simulador!$E$7=\"Portabilidade\")),Simulador!$C$9,Simulador!$C$10)-Simulador!$C$8)*12,Y648=0),0,Y648+1)","v":645},{"$f":"IF($Y649=0,0,Z648*(1+Simulador!$D$34)+E649+L649)","v":0},{"$f":"IF($Y649=0,0,AA648*(1+Simulador!$D$34)+S649)","v":0},{"$f":"IF(OR(AB648+1>(IF(AND(Simulador!$C$9<Simulador!$C$10,OR(Simulador!$E$7=\"Resgate\",Simulador!$E$7=\"Portabilidade\")),Simulador!$C$9,Simulador!$C$50)-Simulador!$C$8)*12,AB648=0),0,AB648+1)","v":645},{"$f":"IF($AB649=0,0,AC648*(1+Simulador!$D$34)+F649+M649)","v":0},{"$f":"IF($AB649=0,0,AD648*(1+Simulador!$D$34)+T649)","v":0}]
[{"$f":"IF(OR(A649+1>(IF(Simulador!$E$7=\"Autopatrocínio\",Simulador!$C$10,Simulador!$C$9)-Simulador!$C$8)*12,A649=0),0,A649+1)","v":0},{"$f":"IF($A650=0,0,IF(INT($A649/12)-$A649/12=0,B649*(1+Simulador!$C$35),B649))","v":0},{"$f":"MAX(IF(A650=0,0,B650-IF(Simulador!$C$11=\"Individual\",0,Simulador!$C$14)),0)","v":0},null,0,0,0,0,0,0,null,0,0,0,0,0,0,null,0,0,0,0,0,null,{"$f":"IF(OR(Y649+1>(IF(AND(Simulador!$C$9<Simulador!$C$10,OR(Simulador!$E$7=\"Resgate\",Simulador!$E$7=\"Portabilidade\")),Simulador!$C$9,Simulador!$C$10)-Simulador!$C$8)*12,Y649=0),0,Y649+1)","v":646},{"$f":"IF($Y650=0,0,Z649*(1+Simulador!$D$34)+E650+L650)","v":0},{"$f":"IF($Y650=0,0,AA649*(1+Simulador!$D$34)+S650)","v":0},{"$f":"IF(OR(AB649+1>(IF(AND(Simulador!$C$9<Simulador!$C$10,OR(Simulador!$E$7=\"Resgate\",Simulador!$E$7=\"Portabilidade\")),Simulador!$C$9,Simulador!$C$50)-Simulador!$C$8)*12,AB649=0),0,AB649+1)","v":646},{"$f":"IF($AB650=0,0,AC649*(1+Simulador!$D$34)+F650+M650)","v":0},{"$f":"IF($AB650=0,0,AD649*(1+Simulador!$D$34)+T650)","v":0}]
[{"$f":"IF(OR(A650+1>(IF(Simulador!$E$7=\"Autopatrocínio\",Simulador!$C$10,Simulador!$C$9)-Simulador!$C$8)*12,A650=0),0,A650+1)","v":0},{"$f":"IF($A651=0,0,IF(INT($A650/12)-$A650/12=0,B650*(1+Simulador!$C$35),B650))","v":0},{"$f":"MAX(IF(A651=0,0,B651-IF(Simulador!$C$11=\"Individual\",0,Simulador!$C$14)),0)","v":0},null,0,0,0,0,0,0,null,0,0,0,0,0,0,null,0,0,0,0,0,null,{"$f":"IF(OR(Y650+1>(IF(AND(Simulador!$C$9<Simulador!$C$10,OR(Simulador!$E$7=\"Resgate\",Simulador!$E$7=\"Portabilidade\")),Simulador!$C$9,Simulador!$C$10)-Simulador!$C$8)*12,Y650=0),0,Y650+1)","v":647},{"$f":"IF($Y651=0,0,Z650*(1+Simulador!$D$34)+E651+L651)","v":0},{"$f":"IF($Y651=0,0,AA650*(1+Simulador!$D$34)+S651)","v":0},{"$f":"IF(OR(AB650+1>(IF(AND(Simulador!$C$9<Simulador!$C$10,OR(Simulador!$E$7=\"Resgate\",Simulador!$E$7=\"Portabilidade\")),Simulador!$C$9,Simulador!$C$50)-Simulador!$C$8)*12,AB650=0),0,AB650+1)","v":647},{"$f":"IF($AB651=0,0,AC650*(1+Simulador!$D$34)+F651+M651)","v":0},{"$f":"IF($AB651=0,0,AD650*(1+Simulador!$D$34)+T651)","v":0}]
[{"$f":"IF(OR(A651+1>(IF(Simulador!$E$7=\"Autopatrocínio\",Simulador!$C$10,Simulador!$C$9)-Simulador!$C$8)*12,A651=0),0,A651+1)","v":0},{"$f":"IF($A652=0,0,IF(INT($A651/12)-$A651/12=0,B651*(1+Simulador!$C$35),B651))","v":0},{"$f":"MAX(IF(A652=0,0,B652-IF(Simulador!$C$11=\"Individual\",0,Simulador!$C$14)),0)","v":0},null,0,0,0,0,0,0,null,0,0,0,0,0,0,null,0,0,0,0,0,null,{"$f":"IF(OR(Y651+1>(IF(AND(Simulador!$C$9<Simulador!$C$10,OR(Simulador!$E$7=\"Resgate\",Simulador!$E$7=\"Portabilidade\")),Simulador!$C$9,Simulador!$C$10)-Simulador!$C$8)*12,Y651=0),0,Y651+1)","v":648},{"$f":"IF($Y652=0,0,Z651*(1+Simulador!$D$34)+E652+L652)","v":0},{"$f":"IF($Y652=0,0,AA651*(1+Simulador!$D$34)+S652)","v":0},{"$f":"IF(OR(AB651+1>(IF(AND(Simulador!$C$9<Simulador!$C$10,OR(Simulador!$E$7=\"Resgate\",Simulador!$E$7=\"Portabilidade\")),Simulador!$C$9,Simulador!$C$50)-Simulador!$C$8)*12,AB651=0),0,AB651+1)","v":648},{"$f":"IF($AB652=0,0,AC651*(1+Simulador!$D$34)+F652+M652)","v":0},{"$f":"IF($AB652=0,0,AD651*(1+Simulador!$D$34)+T652)","v":0}]
[{"$f":"IF(OR(A652+1>(IF(Simulador!$E$7=\"Autopatrocínio\",Simulador!$C$10,Simulador!$C$9)-Simulador!$C$8)*12,A652=0),0,A652+1)","v":0},{"$f":"IF($A653=0,0,IF(INT($A652/12)-$A652/12=0,B652*(1+Simulador!$C$35),B652))","v":0},{"$f":"MAX(IF(A653=0,0,B653-IF(Simulador!$C$11=\"Individual\",0,Simulador!$C$14)),0)","v":0},null,0,0,0,0,0,0,null,0,0,0,0,0,0,null,0,0,0,0,0,null,{"$f":"IF(OR(Y652+1>(IF(AND(Simulador!$C$9<Simulador!$C$10,OR(Simulador!$E$7=\"Resgate\",Simulador!$E$7=\"Portabilidade\")),Simulador!$C$9,Simulador!$C$10)-Simulador!$C$8)*12,Y652=0),0,Y652+1)","v":649},{"$f":"IF($Y653=0,0,Z652*(1+Simulador!$D$34)+E653+L653)","v":0},{"$f":"IF($Y653=0,0,AA652*(1+Simulador!$D$34)+S653)","v":0},{"$f":"IF(OR(AB652+1>(IF(AND(Simulador!$C$9<Simulador!$C$10,OR(Simulador!$E$7=\"Resgate\",Simulador!$E$7=\"Portabilidade\")),Simulador!$C$9,Simulador!$C$50)-Simulador!$C$8)*12,AB652=0),0,AB652+1)","v":649},{"$f":"IF($AB653=0,0,AC652*(1+Simulador!$D$34)+F653+M653)","v":0},{"$f":"IF($AB653=0,0,AD652*(1+Simulador!$D$34)+T653)","v":0}]
[{"$f":"IF(OR(A653+1>(IF(Simulador!$E$7=\"Autopatrocínio\",Simulador!$C$10,Simulador!$C$9)-Simulador!$C$8)*12,A653=0),0,A653+1)","v":0},{"$f":"IF($A654=0,0,IF(INT($A653/12)-$A653/12=0,B653*(1+Simulador!$C$35),B653))","v":0},{"$f":"MAX(IF(A654=0,0,B654-IF(Simulador!$C$11=\"Individual\",0,Simulador!$C$14)),0)","v":0},null,{"$f":"E$4*$C654*(1+$J654)","v":0},0,0,0,0,0,null,{"$f":"L$4*$C654*$Q654","v":0},0,0,0,0,0,null,{"$f":"S$4*$C654*(1+$J654)","v":0},0,0,0,0,null,{"$f":"IF(OR(Y653+1>(IF(AND(Simulador!$C$9<Simulador!$C$10,OR(Simulador!$E$7=\"Resgate\",Simulador!$E$7=\"Portabilidade\")),Simulador!$C$9,Simulador!$C$10)-Simulador!$C$8)*12,Y653=0),0,Y653+1)","v":650},{"$f":"IF($Y654=0,0,Z653*(1+Simulador!$D$34)+E654+L654)","v":0},{"$f":"IF($Y654=0,0,AA653*(1+Simulador!$D$34)+S654)","v":0},{"$f":"IF(OR(AB653+1>(IF(AND(Simulador!$C$9<Simulador!$C$10,OR(Simulador!$E$7=\"Resgate\",Simulador!$E$7=\"Portabilidade\")),Simulador!$C$9,Simulador!$C$50)-Simulador!$C$8)*12,AB653=0),0,AB653+1)","v":650},{"$f":"IF($AB654=0,0,AC653*(1+Simulador!$D$34)+F654+M654)","v":0},{"$f":"IF($AB654=0,0,AD653*(1+Simulador!$D$34)+T654)","v":0}]
[{"$f":"IF(OR(A654+1>(IF(Simulador!$E$7=\"Autopatrocínio\",Simulador!$C$10,Simulador!$C$9)-Simulador!$C$8)*12,A654=0),0,A654+1)","v":0},{"$f":"IF($A655=0,0,IF(INT($A654/12)-$A654/12=0,B654*(1+Simulador!$C$35),B654))","v":0},{"$f":"MAX(IF(A655=0,0,B655-IF(Simulador!$C$11=\"Individual\",0,Simulador!$C$14)),0)","v":0},null,0,0,0,0,0,0,null,0,0,0,0,0,0,null,0,0,0,0,0,null,{"$f":"IF(OR(Y654+1>(IF(AND(Simulador!$C$9<Simulador!$C$10,OR(Simulador!$E$7=\"Resgate\",Simulador!$E$7=\"Portabilidade\")),Simulador!$C$9,Simulador!$C$10)-Simulador!$C$8)*12,Y654=0),0,Y654+1)","v":651},{"$f":"IF($Y655=0,0,Z654*(1+Simulador!$D$34)+E655+L655)","v":0},{"$f":"IF($Y655=0,0,AA654*(1+Simulador!$D$34)+S655)","v":0},{"$f":"IF(OR(AB654+1>(IF(AND(Simulador!$C$9<Simulador!$C$10,OR(Simulador!$E$7=\"Resgate\",Simulador!$E$7=\"Portabilidade\")),Simulador!$C$9,Simulador!$C$50)-Simulador!$C$8)*12,AB654=0),0,AB654+1)","v":651},{"$f":"IF($AB655=0,0,AC654*(1+Simulador!$D$34)+F655+M655)","v":0},{"$f":"IF($AB655=0,0,AD654*(1+Simulador!$D$34)+T655)","v":0}]
[{"$f":"IF(OR(A655+1>(IF(Simulador!$E$7=\"Autopatrocínio\",Simulador!$C$10,Simulador!$C$9)-Simulador!$C$8)*12,A655=0),0,A655+1)","v":0},{"$f":"IF($A656=0,0,IF(INT($A655/12)-$A655/12=0,B655*(1+Simulador!$C$35),B655))","v":0},{"$f":"MAX(IF(A656=0,0,B656-IF(Simulador!$C$11=\"Individual\",0,Simulador!$C$14)),0)","v":0},null,0,0,0,0,0,0,null,0,0,0,0,0,0,null,0,0,0,0,0,null,{"$f":"IF(OR(Y655+1>(IF(AND(Simulador!$C$9<Simulador!$C$10,OR(Simulador!$E$7=\"Resgate\",Simulador!$E$7=\"Portabilidade\")),Simulador!$C$9,Simulador!$C$10)-Simulador!$C$8)*12,Y655=0),0,Y655+1)","v":652},{"$f":"IF($Y656=0,0,Z655*(1+Simulador!$D$34)+E656+L656)","v":0},{"$f":"IF($Y656=0,0,AA655*(1+Simulador!$D$34)+S656)","v":0},{"$f":"IF(OR(AB655+1>(IF(AND(Simulador!$C$9<Simulador!$C$10,OR(Simulador!$E$7=\"Resgate\",Simulador!$E$7=\"Portabilidade\")),Simulador!$C$9,Simulador!$C$50)-Simulador!$C$8)*12,AB655=0),0,AB655+1)","v":652},{"$f":"IF($AB656=0,0,AC655*(1+Simulador!$D$34)+F656+M656)","v":0},{"$f":"IF($AB656=0,0,AD655*(1+Simulador!$D$34)+T656)","v":0}]
[{"$f":"IF(OR(A656+1>(IF(Simulador!$E$7=\"Autopatrocínio\",Simulador!$C$10,Simulador!$C$9)-Simulador!$C$8)*12,A656=0),0,A656+1)","v":0},{"$f":"IF($A657=0,0,IF(INT($A656/12)-$A656/12=0,B656*(1+Simulador!$C$35),B656))","v":0},{"$f":"MAX(IF(A657=0,0,B657-IF(Simulador!$C$11=\"Individual\",0,Simulador!$C$14)),0)","v":0},null,0,0,0,0,0,0,null,0,0,0,0,0,0,null,0,0,0,0,0,null,{"$f":"IF(OR(Y656+1>(IF(AND(Simulador!$C$9<Simulador!$C$10,OR(Simulador!$E$7=\"Resgate\",Simulador!$E$7=\"Portabilidade\")),Simulador!$C$9,Simulador!$C$10)-Simulador!$C$8)*12,Y656=0),0,Y656+1)","v":653},{"$f":"IF($Y657=0,0,Z656*(1+Simulador!$D$34)+E657+L657)","v":0},{"$f":"IF($Y657=0,0,AA656*(1+Simulador!$D$34)+S657)","v":0},{"$f":"IF(OR(AB656+1>(IF(AND(Simulador!$C$9<Simulador!$C$10,OR(Simulador!$E$7=\"Resgate\",Simulador!$E$7=\"Portabilidade\")),Simulador!$C$9,Simulador!$C$50)-Simulador!$C$8)*12,AB656=0),0,AB656+1)","v":653},{"$f":"IF($AB657=0,0,AC656*(1+Simulador!$D$34)+F657+M657)","v":0},{"$f":"IF($AB657=0,0,AD656*(1+Simulador!$D$34)+T657)","v":0}]
[{"$f":"IF(OR(A657+1>(IF(Simulador!$E$7=\"Autopatrocínio\",Simulador!$C$10,Simulador!$C$9)-Simulador!$C$8)*12,A657=0),0,A657+1)","v":0},{"$f":"IF($A658=0,0,IF(INT($A657/12)-$A657/12=0,B657*(1+Simulador!$C$35),B657))","v":0},{"$f":"MAX(IF(A658=0,0,B658-IF(Simulador!$C$11=\"Individual\",0,Simulador!$C$14)),0)","v":0},null,0,0,0,0,0,0,null,0,0,0,0,0,0,null,0,0,0,0,0,null,{"$f":"IF(OR(Y657+1>(IF(AND(Simulador!$C$9<Simulador!$C$10,OR(Simulador!$E$7=\"Resgate\",Simulador!$E$7=\"Portabilidade\")),Simulador!$C$9,Simulador!$C$10)-Simulador!$C$8)*12,Y657=0),0,Y657+1)","v":654},{"$f":"IF($Y658=0,0,Z657*(1+Simulador!$D$34)+E658+L658)","v":0},{"$f":"IF($Y658=0,0,AA657*(1+Simulador!$D$34)+S658)","v":0},{"$f":"IF(OR(AB657+1>(IF(AND(Simulador!$C$9<Simulador!$C$10,OR(Simulador!$E$7=\"Resgate\",Simulador!$E$7=\"Portabilidade\")),Simulador!$C$9,Simulador!$C$50)-Simulador!$C$8)*12,AB657=0),0,AB657+1)","v":654},{"$f":"IF($AB658=0,0,AC657*(1+Simulador!$D$34)+F658+M658)","v":0},{"$f":"IF($AB658=0,0,AD657*(1+Simulador!$D$34)+T658)","v":0}]
[{"$f":"IF(OR(A658+1>(IF(Simulador!$E$7=\"Autopatrocínio\",Simulador!$C$10,Simulador!$C$9)-Simulador!$C$8)*12,A658=0),0,A658+1)","v":0},{"$f":"IF($A659=0,0,IF(INT($A658/12)-$A658/12=0,B658*(1+Simulador!$C$35),B658))","v":0},{"$f":"MAX(IF(A659=0,0,B659-IF(Simulador!$C$11=\"Individual\",0,Simulador!$C$14)),0)","v":0},null,0,0,0,0,0,0,null,0,0,0,0,0,0,null,0,0,0,0,0,null,{"$f":"IF(OR(Y658+1>(IF(AND(Simulador!$C$9<Simulador!$C$10,OR(Simulador!$E$7=\"Resgate\",Simulador!$E$7=\"Portabilidade\")),Simulador!$C$9,Simulador!$C$10)-Simulador!$C$8)*12,Y658=0),0,Y658+1)","v":655},{"$f":"IF($Y659=0,0,Z658*(1+Simulador!$D$34)+E659+L659)","v":0},{"$f":"IF($Y659=0,0,AA658*(1+Simulador!$D$34)+S659)","v":0},{"$f":"IF(OR(AB658+1>(IF(AND(Simulador!$C$9<Simulador!$C$10,OR(Simulador!$E$7=\"Resgate\",Simulador!$E$7=\"Portabilidade\")),Simulador!$C$9,Simulador!$C$50)-Simulador!$C$8)*12,AB658=0),0,AB658+1)","v":655},{"$f":"IF($AB659=0,0,AC658*(1+Simulador!$D$34)+F659+M659)","v":0},{"$f":"IF($AB659=0,0,AD658*(1+Simulador!$D$34)+T659)","v":0}]
[{"$f":"IF(OR(A659+1>(IF(Simulador!$E$7=\"Autopatrocínio\",Simulador!$C$10,Simulador!$C$9)-Simulador!$C$8)*12,A659=0),0,A659+1)","v":0},{"$f":"IF($A660=0,0,IF(INT($A659/12)-$A659/12=0,B659*(1+Simulador!$C$35),B659))","v":0},{"$f":"MAX(IF(A660=0,0,B660-IF(Simulador!$C$11=\"Individual\",0,Simulador!$C$14)),0)","v":0},null,0,0,0,0,0,0,null,0,0,0,0,0,0,null,0,0,0,0,0,null,{"$f":"IF(OR(Y659+1>(IF(AND(Simulador!$C$9<Simulador!$C$10,OR(Simulador!$E$7=\"Resgate\",Simulador!$E$7=\"Portabilidade\")),Simulador!$C$9,Simulador!$C$10)-Simulador!$C$8)*12,Y659=0),0,Y659+1)","v":656},{"$f":"IF($Y660=0,0,Z659*(1+Simulador!$D$34)+E660+L660)","v":0},{"$f":"IF($Y660=0,0,AA659*(1+Simulador!$D$34)+S660)","v":0},{"$f":"IF(OR(AB659+1>(IF(AND(Simulador!$C$9<Simulador!$C$10,OR(Simulador!$E$7=\"Resgate\",Simulador!$E$7=\"Portabilidade\")),Simulador!$C$9,Simulador!$C$50)-Simulador!$C$8)*12,AB659=0),0,AB659+1)","v":656},{"$f":"IF($AB660=0,0,AC659*(1+Simulador!$D$34)+F660+M660)","v":0},{"$f":"IF($AB660=0,0,AD659*(1+Simulador!$D$34)+T660)","v":0}]
[{"$f":"IF(OR(A660+1>(IF(Simulador!$E$7=\"Autopatrocínio\",Simulador!$C$10,Simulador!$C$9)-Simulador!$C$8)*12,A660=0),0,A660+1)","v":0},{"$f":"IF($A661=0,0,IF(INT($A660/12)-$A660/12=0,B660*(1+Simulador!$C$35),B660))","v":0},{"$f":"MAX(IF(A661=0,0,B661-IF(Simulador!$C$11=\"Individual\",0,Simulador!$C$14)),0)","v":0},null,0,0,0,0,0,0,null,0,0,0,0,0,0,null,0,0,0,0,0,null,{"$f":"IF(OR(Y660+1>(IF(AND(Simulador!$C$9<Simulador!$C$10,OR(Simulador!$E$7=\"Resgate\",Simulador!$E$7=\"Portabilidade\")),Simulador!$C$9,Simulador!$C$10)-Simulador!$C$8)*12,Y660=0),0,Y660+1)","v":657},{"$f":"IF($Y661=0,0,Z660*(1+Simulador!$D$34)+E661+L661)","v":0},{"$f":"IF($Y661=0,0,AA660*(1+Simulador!$D$34)+S661)","v":0},{"$f":"IF(OR(AB660+1>(IF(AND(Simulador!$C$9<Simulador!$C$10,OR(Simulador!$E$7=\"Resgate\",Simulador!$E$7=\"Portabilidade\")),Simulador!$C$9,Simulador!$C$50)-Simulador!$C$8)*12,AB660=0),0,AB660+1)","v":657},{"$f":"IF($AB661=0,0,AC660*(1+Simulador!$D$34)+F661+M661)","v":0},{"$f":"IF($AB661=0,0,AD660*(1+Simulador!$D$34)+T661)","v":0}]
[{"$f":"IF(OR(A661+1>(IF(Simulador!$E$7=\"Autopatrocínio\",Simulador!$C$10,Simulador!$C$9)-Simulador!$C$8)*12,A661=0),0,A661+1)","v":0},{"$f":"IF($A662=0,0,IF(INT($A661/12)-$A661/12=0,B661*(1+Simulador!$C$35),B661))","v":0},{"$f":"MAX(IF(A662=0,0,B662-IF(Simulador!$C$11=\"Individual\",0,Simulador!$C$14)),0)","v":0},null,0,0,0,0,0,0,null,0,0,0,0,0,0,null,0,0,0,0,0,null,{"$f":"IF(OR(Y661+1>(IF(AND(Simulador!$C$9<Simulador!$C$10,OR(Simulador!$E$7=\"Resgate\",Simulador!$E$7=\"Portabilidade\")),Simulador!$C$9,Simulador!$C$10)-Simulador!$C$8)*12,Y661=0),0,Y661+1)","v":658},{"$f":"IF($Y662=0,0,Z661*(1+Simulador!$D$34)+E662+L662)","v":0},{"$f":"IF($Y662=0,0,AA661*(1+Simulador!$D$34)+S662)","v":0},{"$f":"IF(OR(AB661+1>(IF(AND(Simulador!$C$9<Simulador!$C$10,OR(Simulador!$E$7=\"Resgate\",Simulador!$E$7=\"Portabilidade\")),Simulador!$C$9,Simulador!$C$50)-Simulador!$C$8)*12,AB661=0),0,AB661+1)","v":658},{"$f":"IF($AB662=0,0,AC661*(1+Simulador!$D$34)+F662+M662)","v":0},{"$f":"IF($AB662=0,0,AD661*(1+Simulador!$D$34)+T662)","v":0}]
[{"$f":"IF(OR(A662+1>(IF(Simulador!$E$7=\"Autopatrocínio\",Simulador!$C$10,Simulador!$C$9)-Simulador!$C$8)*12,A662=0),0,A662+1)","v":0},{"$f":"IF($A663=0,0,IF(INT($A662/12)-$A662/12=0,B662*(1+Simulador!$C$35),B662))","v":0},{"$f":"MAX(IF(A663=0,0,B663-IF(Simulador!$C$11=\"Individual\",0,Simulador!$C$14)),0)","v":0},null,0,0,0,0,0,0,null,0,0,0,0,0,0,null,0,0,0,0,0,null,{"$f":"IF(OR(Y662+1>(IF(AND(Simulador!$C$9<Simulador!$C$10,OR(Simulador!$E$7=\"Resgate\",Simulador!$E$7=\"Portabilidade\")),Simulador!$C$9,Simulador!$C$10)-Simulador!$C$8)*12,Y662=0),0,Y662+1)","v":659},{"$f":"IF($Y663=0,0,Z662*(1+Simulador!$D$34)+E663+L663)","v":0},{"$f":"IF($Y663=0,0,AA662*(1+Simulador!$D$34)+S663)","v":0},{"$f":"IF(OR(AB662+1>(IF(AND(Simulador!$C$9<Simulador!$C$10,OR(Simulador!$E$7=\"Resgate\",Simulador!$E$7=\"Portabilidade\")),Simulador!$C$9,Simulador!$C$50)-Simulador!$C$8)*12,AB662=0),0,AB662+1)","v":659},{"$f":"IF($AB663=0,0,AC662*(1+Simulador!$D$34)+F663+M663)","v":0},{"$f":"IF($AB663=0,0,AD662*(1+Simulador!$D$34)+T663)","v":0}]
[{"$f":"IF(OR(A663+1>(IF(Simulador!$E$7=\"Autopatrocínio\",Simulador!$C$10,Simulador!$C$9)-Simulador!$C$8)*12,A663=0),0,A663+1)","v":0},{"$f":"IF($A664=0,0,IF(INT($A663/12)-$A663/12=0,B663*(1+Simulador!$C$35),B663))","v":0},{"$f":"MAX(IF(A664=0,0,B664-IF(Simulador!$C$11=\"Individual\",0,Simulador!$C$14)),0)","v":0},null,0,0,0,0,0,0,null,0,0,0,0,0,0,null,0,0,0,0,0,null,{"$f":"IF(OR(Y663+1>(IF(AND(Simulador!$C$9<Simulador!$C$10,OR(Simulador!$E$7=\"Resgate\",Simulador!$E$7=\"Portabilidade\")),Simulador!$C$9,Simulador!$C$10)-Simulador!$C$8)*12,Y663=0),0,Y663+1)","v":660},{"$f":"IF($Y664=0,0,Z663*(1+Simulador!$D$34)+E664+L664)","v":0},{"$f":"IF($Y664=0,0,AA663*(1+Simulador!$D$34)+S664)","v":0},{"$f":"IF(OR(AB663+1>(IF(AND(Simulador!$C$9<Simulador!$C$10,OR(Simulador!$E$7=\"Resgate\",Simulador!$E$7=\"Portabilidade\")),Simulador!$C$9,Simulador!$C$50)-Simulador!$C$8)*12,AB663=0),0,AB663+1)","v":660},{"$f":"IF($AB664=0,0,AC663*(1+Simulador!$D$34)+F664+M664)","v":0},{"$f":"IF($AB664=0,0,AD663*(1+Simulador!$D$34)+T664)","v":0}]
[{"$f":"IF(OR(A664+1>(IF(Simulador!$E$7=\"Autopatrocínio\",Simulador!$C$10,Simulador!$C$9)-Simulador!$C$8)*12,A664=0),0,A664+1)","v":0},{"$f":"IF($A665=0,0,IF(INT($A664/12)-$A664/12=0,B664*(1+Simulador!$C$35),B664))","v":0},{"$f":"MAX(IF(A665=0,0,B665-IF(Simulador!$C$11=\"Individual\",0,Simulador!$C$14)),0)","v":0},null,0,0,0,0,0,0,null,0,0,0,0,0,0,null,0,0,0,0,0,null,{"$f":"IF(OR(Y664+1>(IF(AND(Simulador!$C$9<Simulador!$C$10,OR(Simulador!$E$7=\"Resgate\",Simulador!$E$7=\"Portabilidade\")),Simulador!$C$9,Simulador!$C$10)-Simulador!$C$8)*12,Y664=0),0,Y664+1)","v":661},{"$f":"IF($Y665=0,0,Z664*(1+Simulador!$D$34)+E665+L665)","v":0},{"$f":"IF($Y665=0,0,AA664*(1+Simulador!$D$34)+S665)","v":0},{"$f":"IF(OR(AB664+1>(IF(AND(Simulador!$C$9<Simulador!$C$10,OR(Simulador!$E$7=\"Resgate\",Simulador!$E$7=\"Portabilidade\")),Simulador!$C$9,Simulador!$C$50)-Simulador!$C$8)*12,AB664=0),0,AB664+1)","v":661},{"$f":"IF($AB665=0,0,AC664*(1+Simulador!$D$34)+F665+M665)","v":0},{"$f":"IF($AB665=0,0,AD664*(1+Simulador!$D$34)+T665)","v":0}]
[{"$f":"IF(OR(A665+1>(IF(Simulador!$E$7=\"Autopatrocínio\",Simulador!$C$10,Simulador!$C$9)-Simulador!$C$8)*12,A665=0),0,A665+1)","v":0},{"$f":"IF($A666=0,0,IF(INT($A665/12)-$A665/12=0,B665*(1+Simulador!$C$35),B665))","v":0},{"$f":"MAX(IF(A666=0,0,B666-IF(Simulador!$C$11=\"Individual\",0,Simulador!$C$14)),0)","v":0},null,0,0,0,0,0,0,null,0,0,0,0,0,0,null,0,0,0,0,0,null,{"$f":"IF(OR(Y665+1>(IF(AND(Simulador!$C$9<Simulador!$C$10,OR(Simulador!$E$7=\"Resgate\",Simulador!$E$7=\"Portabilidade\")),Simulador!$C$9,Simulador!$C$10)-Simulador!$C$8)*12,Y665=0),0,Y665+1)","v":662},{"$f":"IF($Y666=0,0,Z665*(1+Simulador!$D$34)+E666+L666)","v":0},{"$f":"IF($Y666=0,0,AA665*(1+Simulador!$D$34)+S666)","v":0},{"$f":"IF(OR(AB665+1>(IF(AND(Simulador!$C$9<Simulador!$C$10,OR(Simulador!$E$7=\"Resgate\",Simulador!$E$7=\"Portabilidade\")),Simulador!$C$9,Simulador!$C$50)-Simulador!$C$8)*12,AB665=0),0,AB665+1)","v":662},{"$f":"IF($AB666=0,0,AC665*(1+Simulador!$D$34)+F666+M666)","v":0},{"$f":"IF($AB666=0,0,AD665*(1+Simulador!$D$34)+T666)","v":0}]
[{"$f":"IF(OR(A666+1>(IF(Simulador!$E$7=\"Autopatrocínio\",Simulador!$C$10,Simulador!$C$9)-Simulador!$C$8)*12,A666=0),0,A666+1)","v":0},{"$f":"IF($A667=0,0,IF(INT($A666/12)-$A666/12=0,B666*(1+Simulador!$C$35),B666))","v":0},{"$f":"MAX(IF(A667=0,0,B667-IF(Simulador!$C$11=\"Individual\",0,Simulador!$C$14)),0)","v":0},null,0,0,0,0,0,0,null,0,0,0,0,0,0,null,0,0,0,0,0,null,{"$f":"IF(OR(Y666+1>(IF(AND(Simulador!$C$9<Simulador!$C$10,OR(Simulador!$E$7=\"Resgate\",Simulador!$E$7=\"Portabilidade\")),Simulador!$C$9,Simulador!$C$10)-Simulador!$C$8)*12,Y666=0),0,Y666+1)","v":663},{"$f":"IF($Y667=0,0,Z666*(1+Simulador!$D$34)+E667+L667)","v":0},{"$f":"IF($Y667=0,0,AA666*(1+Simulador!$D$34)+S667)","v":0},{"$f":"IF(OR(AB666+1>(IF(AND(Simulador!$C$9<Simulador!$C$10,OR(Simulador!$E$7=\"Resgate\",Simulador!$E$7=\"Portabilidade\")),Simulador!$C$9,Simulador!$C$50)-Simulador!$C$8)*12,AB666=0),0,AB666+1)","v":663},{"$f":"IF($AB667=0,0,AC666*(1+Simulador!$D$34)+F667+M667)","v":0},{"$f":"IF($AB667=0,0,AD666*(1+Simulador!$D$34)+T667)","v":0}]
[{"$f":"IF(OR(A667+1>(IF(Simulador!$E$7=\"Autopatrocínio\",Simulador!$C$10,Simulador!$C$9)-Simulador!$C$8)*12,A667=0),0,A667+1)","v":0},{"$f":"IF($A668=0,0,IF(INT($A667/12)-$A667/12=0,B667*(1+Simulador!$C$35),B667))","v":0},{"$f":"MAX(IF(A668=0,0,B668-IF(Simulador!$C$11=\"Individual\",0,Simulador!$C$14)),0)","v":0},null,0,0,0,0,0,0,null,0,0,0,0,0,0,null,0,0,0,0,0,null,{"$f":"IF(OR(Y667+1>(IF(AND(Simulador!$C$9<Simulador!$C$10,OR(Simulador!$E$7=\"Resgate\",Simulador!$E$7=\"Portabilidade\")),Simulador!$C$9,Simulador!$C$10)-Simulador!$C$8)*12,Y667=0),0,Y667+1)","v":664},{"$f":"IF($Y668=0,0,Z667*(1+Simulador!$D$34)+E668+L668)","v":0},{"$f":"IF($Y668=0,0,AA667*(1+Simulador!$D$34)+S668)","v":0},{"$f":"IF(OR(AB667+1>(IF(AND(Simulador!$C$9<Simulador!$C$10,OR(Simulador!$E$7=\"Resgate\",Simulador!$E$7=\"Portabilidade\")),Simulador!$C$9,Simulador!$C$50)-Simulador!$C$8)*12,AB667=0),0,AB667+1)","v":664},{"$f":"IF($AB668=0,0,AC667*(1+Simulador!$D$34)+F668+M668)","v":0},{"$f":"IF($AB668=0,0,AD667*(1+Simulador!$D$34)+T668)","v":0}]
[{"$f":"IF(OR(A668+1>(IF(Simulador!$E$7=\"Autopatrocínio\",Simulador!$C$10,Simulador!$C$9)-Simulador!$C$8)*12,A668=0),0,A668+1)","v":0},{"$f":"IF($A669=0,0,IF(INT($A668/12)-$A668/12=0,B668*(1+Simulador!$C$35),B668))","v":0},{"$f":"MAX(IF(A669=0,0,B669-IF(Simulador!$C$11=\"Individual\",0,Simulador!$C$14)),0)","v":0},null,0,0,0,0,0,0,null,0,0,0,0,0,0,null,0,0,0,0,0,null,{"$f":"IF(OR(Y668+1>(IF(AND(Simulador!$C$9<Simulador!$C$10,OR(Simulador!$E$7=\"Resgate\",Simulador!$E$7=\"Portabilidade\")),Simulador!$C$9,Simulador!$C$10)-Simulador!$C$8)*12,Y668=0),0,Y668+1)","v":665},{"$f":"IF($Y669=0,0,Z668*(1+Simulador!$D$34)+E669+L669)","v":0},{"$f":"IF($Y669=0,0,AA668*(1+Simulador!$D$34)+S669)","v":0},{"$f":"IF(OR(AB668+1>(IF(AND(Simulador!$C$9<Simulador!$C$10,OR(Simulador!$E$7=\"Resgate\",Simulador!$E$7=\"Portabilidade\")),Simulador!$C$9,Simulador!$C$50)-Simulador!$C$8)*12,AB668=0),0,AB668+1)","v":665},{"$f":"IF($AB669=0,0,AC668*(1+Simulador!$D$34)+F669+M669)","v":0},{"$f":"IF($AB669=0,0,AD668*(1+Simulador!$D$34)+T669)","v":0}]
[{"$f":"IF(OR(A669+1>(IF(Simulador!$E$7=\"Autopatrocínio\",Simulador!$C$10,Simulador!$C$9)-Simulador!$C$8)*12,A669=0),0,A669+1)","v":0},{"$f":"IF($A670=0,0,IF(INT($A669/12)-$A669/12=0,B669*(1+Simulador!$C$35),B669))","v":0},{"$f":"MAX(IF(A670=0,0,B670-IF(Simulador!$C$11=\"Individual\",0,Simulador!$C$14)),0)","v":0},null,0,0,0,0,0,0,null,0,0,0,0,0,0,null,0,0,0,0,0,null,{"$f":"IF(OR(Y669+1>(IF(AND(Simulador!$C$9<Simulador!$C$10,OR(Simulador!$E$7=\"Resgate\",Simulador!$E$7=\"Portabilidade\")),Simulador!$C$9,Simulador!$C$10)-Simulador!$C$8)*12,Y669=0),0,Y669+1)","v":666},{"$f":"IF($Y670=0,0,Z669*(1+Simulador!$D$34)+E670+L670)","v":0},{"$f":"IF($Y670=0,0,AA669*(1+Simulador!$D$34)+S670)","v":0},{"$f":"IF(OR(AB669+1>(IF(AND(Simulador!$C$9<Simulador!$C$10,OR(Simulador!$E$7=\"Resgate\",Simulador!$E$7=\"Portabilidade\")),Simulador!$C$9,Simulador!$C$50)-Simulador!$C$8)*12,AB669=0),0,AB669+1)","v":666},{"$f":"IF($AB670=0,0,AC669*(1+Simulador!$D$34)+F670+M670)","v":0},{"$f":"IF($AB670=0,0,AD669*(1+Simulador!$D$34)+T670)","v":0}]
[{"$f":"IF(OR(A670+1>(IF(Simulador!$E$7=\"Autopatrocínio\",Simulador!$C$10,Simulador!$C$9)-Simulador!$C$8)*12,A670=0),0,A670+1)","v":0},{"$f":"IF($A671=0,0,IF(INT($A670/12)-$A670/12=0,B670*(1+Simulador!$C$35),B670))","v":0},{"$f":"MAX(IF(A671=0,0,B671-IF(Simulador!$C$11=\"Individual\",0,Simulador!$C$14)),0)","v":0},null,0,0,0,0,0,0,null,0,0,0,0,0,0,null,0,0,0,0,0,null,{"$f":"IF(OR(Y670+1>(IF(AND(Simulador!$C$9<Simulador!$C$10,OR(Simulador!$E$7=\"Resgate\",Simulador!$E$7=\"Portabilidade\")),Simulador!$C$9,Simulador!$C$10)-Simulador!$C$8)*12,Y670=0),0,Y670+1)","v":667},{"$f":"IF($Y671=0,0,Z670*(1+Simulador!$D$34)+E671+L671)","v":0},{"$f":"IF($Y671=0,0,AA670*(1+Simulador!$D$34)+S671)","v":0},{"$f":"IF(OR(AB670+1>(IF(AND(Simulador!$C$9<Simulador!$C$10,OR(Simulador!$E$7=\"Resgate\",Simulador!$E$7=\"Portabilidade\")),Simulador!$C$9,Simulador!$C$50)-Simulador!$C$8)*12,AB670=0),0,AB670+1)","v":667},{"$f":"IF($AB671=0,0,AC670*(1+Simulador!$D$34)+F671+M671)","v":0},{"$f":"IF($AB671=0,0,AD670*(1+Simulador!$D$34)+T671)","v":0}]
[{"$f":"IF(OR(A671+1>(IF(Simulador!$E$7=\"Autopatrocínio\",Simulador!$C$10,Simulador!$C$9)-Simulador!$C$8)*12,A671=0),0,A671+1)","v":0},{"$f":"IF($A672=0,0,IF(INT($A671/12)-$A671/12=0,B671*(1+Simulador!$C$35),B671))","v":0},{"$f":"MAX(IF(A672=0,0,B672-IF(Simulador!$C$11=\"Individual\",0,Simulador!$C$14)),0)","v":0},null,0,0,0,0,0,0,null,0,0,0,0,0,0,null,0,0,0,0,0,null,{"$f":"IF(OR(Y671+1>(IF(AND(Simulador!$C$9<Simulador!$C$10,OR(Simulador!$E$7=\"Resgate\",Simulador!$E$7=\"Portabilidade\")),Simulador!$C$9,Simulador!$C$10)-Simulador!$C$8)*12,Y671=0),0,Y671+1)","v":668},{"$f":"IF($Y672=0,0,Z671*(1+Simulador!$D$34)+E672+L672)","v":0},{"$f":"IF($Y672=0,0,AA671*(1+Simulador!$D$34)+S672)","v":0},{"$f":"IF(OR(AB671+1>(IF(AND(Simulador!$C$9<Simulador!$C$10,OR(Simulador!$E$7=\"Resgate\",Simulador!$E$7=\"Portabilidade\")),Simulador!$C$9,Simulador!$C$50)-Simulador!$C$8)*12,AB671=0),0,AB671+1)","v":668},{"$f":"IF($AB672=0,0,AC671*(1+Simulador!$D$34)+F672+M672)","v":0},{"$f":"IF($AB672=0,0,AD671*(1+Simulador!$D$34)+T672)","v":0}]
[{"$f":"IF(OR(A672+1>(IF(Simulador!$E$7=\"Autopatrocínio\",Simulador!$C$10,Simulador!$C$9)-Simulador!$C$8)*12,A672=0),0,A672+1)","v":0},{"$f":"IF($A673=0,0,IF(INT($A672/12)-$A672/12=0,B672*(1+Simulador!$C$35),B672))","v":0},{"$f":"MAX(IF(A673=0,0,B673-IF(Simulador!$C$11=\"Individual\",0,Simulador!$C$14)),0)","v":0},null,0,0,0,0,0,0,null,0,0,0,0,0,0,null,0,0,0,0,0,null,{"$f":"IF(OR(Y672+1>(IF(AND(Simulador!$C$9<Simulador!$C$10,OR(Simulador!$E$7=\"Resgate\",Simulador!$E$7=\"Portabilidade\")),Simulador!$C$9,Simulador!$C$10)-Simulador!$C$8)*12,Y672=0),0,Y672+1)","v":669},{"$f":"IF($Y673=0,0,Z672*(1+Simulador!$D$34)+E673+L673)","v":0},{"$f":"IF($Y673=0,0,AA672*(1+Simulador!$D$34)+S673)","v":0},{"$f":"IF(OR(AB672+1>(IF(AND(Simulador!$C$9<Simulador!$C$10,OR(Simulador!$E$7=\"Resgate\",Simulador!$E$7=\"Portabilidade\")),Simulador!$C$9,Simulador!$C$50)-Simulador!$C$8)*12,AB672=0),0,AB672+1)","v":669},{"$f":"IF($AB673=0,0,AC672*(1+Simulador!$D$34)+F673+M673)","v":0},{"$f":"IF($AB673=0,0,AD672*(1+Simulador!$D$34)+T673)","v":0}]
[{"$f":"IF(OR(A673+1>(IF(Simulador!$E$7=\"Autopatrocínio\",Simulador!$C$10,Simulador!$C$9)-Simulador!$C$8)*12,A673=0),0,A673+1)","v":0},{"$f":"IF($A674=0,0,IF(INT($A673/12)-$A673/12=0,B673*(1+Simulador!$C$35),B673))","v":0},{"$f":"MAX(IF(A674=0,0,B674-IF(Simulador!$C$11=\"Individual\",0,Simulador!$C$14)),0)","v":0},null,0,0,0,0,0,0,null,0,0,0,0,0,0,null,0,0,0,0,0,null,{"$f":"IF(OR(Y673+1>(IF(AND(Simulador!$C$9<Simulador!$C$10,OR(Simulador!$E$7=\"Resgate\",Simulador!$E$7=\"Portabilidade\")),Simulador!$C$9,Simulador!$C$10)-Simulador!$C$8)*12,Y673=0),0,Y673+1)","v":670},{"$f":"IF($Y674=0,0,Z673*(1+Simulador!$D$34)+E674+L674)","v":0},{"$f":"IF($Y674=0,0,AA673*(1+Simulador!$D$34)+S674)","v":0},{"$f":"IF(OR(AB673+1>(IF(AND(Simulador!$C$9<Simulador!$C$10,OR(Simulador!$E$7=\"Resgate\",Simulador!$E$7=\"Portabilidade\")),Simulador!$C$9,Simulador!$C$50)-Simulador!$C$8)*12,AB673=0),0,AB673+1)","v":670},{"$f":"IF($AB674=0,0,AC673*(1+Simulador!$D$34)+F674+M674)","v":0},{"$f":"IF($AB674=0,0,AD673*(1+Simulador!$D$34)+T674)","v":0}]
[{"$f":"IF(OR(A674+1>(IF(Simulador!$E$7=\"Autopatrocínio\",Simulador!$C$10,Simulador!$C$9)-Simulador!$C$8)*12,A674=0),0,A674+1)","v":0},{"$f":"IF($A675=0,0,IF(INT($A674/12)-$A674/12=0,B674*(1+Simulador!$C$35),B674))","v":0},{"$f":"MAX(IF(A675=0,0,B675-IF(Simulador!$C$11=\"Individual\",0,Simulador!$C$14)),0)","v":0},null,0,0,0,0,0,0,null,0,0,0,0,0,0,null,0,0,0,0,0,null,{"$f":"IF(OR(Y674+1>(IF(AND(Simulador!$C$9<Simulador!$C$10,OR(Simulador!$E$7=\"Resgate\",Simulador!$E$7=\"Portabilidade\")),Simulador!$C$9,Simulador!$C$10)-Simulador!$C$8)*12,Y674=0),0,Y674+1)","v":671},{"$f":"IF($Y675=0,0,Z674*(1+Simulador!$D$34)+E675+L675)","v":0},{"$f":"IF($Y675=0,0,AA674*(1+Simulador!$D$34)+S675)","v":0},{"$f":"IF(OR(AB674+1>(IF(AND(Simulador!$C$9<Simulador!$C$10,OR(Simulador!$E$7=\"Resgate\",Simulador!$E$7=\"Portabilidade\")),Simulador!$C$9,Simulador!$C$50)-Simulador!$C$8)*12,AB674=0),0,AB674+1)","v":671},{"$f":"IF($AB675=0,0,AC674*(1+Simulador!$D$34)+F675+M675)","v":0},{"$f":"IF($AB675=0,0,AD674*(1+Simulador!$D$34)+T675)","v":0}]
[{"$f":"IF(OR(A675+1>(IF(Simulador!$E$7=\"Autopatrocínio\",Simulador!$C$10,Simulador!$C$9)-Simulador!$C$8)*12,A675=0),0,A675+1)","v":0},{"$f":"IF($A676=0,0,IF(INT($A675/12)-$A675/12=0,B675*(1+Simulador!$C$35),B675))","v":0},{"$f":"MAX(IF(A676=0,0,B676-IF(Simulador!$C$11=\"Individual\",0,Simulador!$C$14)),0)","v":0},null,0,0,0,0,0,0,null,0,0,0,0,0,0,null,0,0,0,0,0,null,{"$f":"IF(OR(Y675+1>(IF(AND(Simulador!$C$9<Simulador!$C$10,OR(Simulador!$E$7=\"Resgate\",Simulador!$E$7=\"Portabilidade\")),Simulador!$C$9,Simulador!$C$10)-Simulador!$C$8)*12,Y675=0),0,Y675+1)","v":672},{"$f":"IF($Y676=0,0,Z675*(1+Simulador!$D$34)+E676+L676)","v":0},{"$f":"IF($Y676=0,0,AA675*(1+Simulador!$D$34)+S676)","v":0},{"$f":"IF(OR(AB675+1>(IF(AND(Simulador!$C$9<Simulador!$C$10,OR(Simulador!$E$7=\"Resgate\",Simulador!$E$7=\"Portabilidade\")),Simulador!$C$9,Simulador!$C$50)-Simulador!$C$8)*12,AB675=0),0,AB675+1)","v":672},{"$f":"IF($AB676=0,0,AC675*(1+Simulador!$D$34)+F676+M676)","v":0},{"$f":"IF($AB676=0,0,AD675*(1+Simulador!$D$34)+T676)","v":0}]
[{"$f":"IF(OR(A676+1>(IF(Simulador!$E$7=\"Autopatrocínio\",Simulador!$C$10,Simulador!$C$9)-Simulador!$C$8)*12,A676=0),0,A676+1)","v":0},{"$f":"IF($A677=0,0,IF(INT($A676/12)-$A676/12=0,B676*(1+Simulador!$C$35),B676))","v":0},{"$f":"MAX(IF(A677=0,0,B677-IF(Simulador!$C$11=\"Individual\",0,Simulador!$C$14)),0)","v":0},null,0,0,0,0,0,0,null,0,0,0,0,0,0,null,0,0,0,0,0,null,{"$f":"IF(OR(Y676+1>(IF(AND(Simulador!$C$9<Simulador!$C$10,OR(Simulador!$E$7=\"Resgate\",Simulador!$E$7=\"Portabilidade\")),Simulador!$C$9,Simulador!$C$10)-Simulador!$C$8)*12,Y676=0),0,Y676+1)","v":673},{"$f":"IF($Y677=0,0,Z676*(1+Simulador!$D$34)+E677+L677)","v":0},{"$f":"IF($Y677=0,0,AA676*(1+Simulador!$D$34)+S677)","v":0},{"$f":"IF(OR(AB676+1>(IF(AND(Simulador!$C$9<Simulador!$C$10,OR(Simulador!$E$7=\"Resgate\",Simulador!$E$7=\"Portabilidade\")),Simulador!$C$9,Simulador!$C$50)-Simulador!$C$8)*12,AB676=0),0,AB676+1)","v":673},{"$f":"IF($AB677=0,0,AC676*(1+Simulador!$D$34)+F677+M677)","v":0},{"$f":"IF($AB677=0,0,AD676*(1+Simulador!$D$34)+T677)","v":0}]
[{"$f":"IF(OR(A677+1>(IF(Simulador!$E$7=\"Autopatrocínio\",Simulador!$C$10,Simulador!$C$9)-Simulador!$C$8)*12,A677=0),0,A677+1)","v":0},{"$f":"IF($A678=0,0,IF(INT($A677/12)-$A677/12=0,B677*(1+Simulador!$C$35),B677))","v":0},{"$f":"MAX(IF(A678=0,0,B678-IF(Simulador!$C$11=\"Individual\",0,Simulador!$C$14)),0)","v":0},null,0,0,0,0,0,0,null,0,0,0,0,0,0,null,0,0,0,0,0,null,{"$f":"IF(OR(Y677+1>(IF(AND(Simulador!$C$9<Simulador!$C$10,OR(Simulador!$E$7=\"Resgate\",Simulador!$E$7=\"Portabilidade\")),Simulador!$C$9,Simulador!$C$10)-Simulador!$C$8)*12,Y677=0),0,Y677+1)","v":674},{"$f":"IF($Y678=0,0,Z677*(1+Simulador!$D$34)+E678+L678)","v":0},{"$f":"IF($Y678=0,0,AA677*(1+Simulador!$D$34)+S678)","v":0},{"$f":"IF(OR(AB677+1>(IF(AND(Simulador!$C$9<Simulador!$C$10,OR(Simulador!$E$7=\"Resgate\",Simulador!$E$7=\"Portabilidade\")),Simulador!$C$9,Simulador!$C$50)-Simulador!$C$8)*12,AB677=0),0,AB677+1)","v":674},{"$f":"IF($AB678=0,0,AC677*(1+Simulador!$D$34)+F678+M678)","v":0},{"$f":"IF($AB678=0,0,AD677*(1+Simulador!$D$34)+T678)","v":0}]
[{"$f":"IF(OR(A678+1>(IF(Simulador!$E$7=\"Autopatrocínio\",Simulador!$C$10,Simulador!$C$9)-Simulador!$C$8)*12,A678=0),0,A678+1)","v":0},{"$f":"IF($A679=0,0,IF(INT($A678/12)-$A678/12=0,B678*(1+Simulador!$C$35),B678))","v":0},{"$f":"MAX(IF(A679=0,0,B679-IF(Simulador!$C$11=\"Individual\",0,Simulador!$C$14)),0)","v":0},null,0,0,0,0,0,0,null,0,0,0,0,0,0,null,0,0,0,0,0,null,{"$f":"IF(OR(Y678+1>(IF(AND(Simulador!$C$9<Simulador!$C$10,OR(Simulador!$E$7=\"Resgate\",Simulador!$E$7=\"Portabilidade\")),Simulador!$C$9,Simulador!$C$10)-Simulador!$C$8)*12,Y678=0),0,Y678+1)","v":675},{"$f":"IF($Y679=0,0,Z678*(1+Simulador!$D$34)+E679+L679)","v":0},{"$f":"IF($Y679=0,0,AA678*(1+Simulador!$D$34)+S679)","v":0},{"$f":"IF(OR(AB678+1>(IF(AND(Simulador!$C$9<Simulador!$C$10,OR(Simulador!$E$7=\"Resgate\",Simulador!$E$7=\"Portabilidade\")),Simulador!$C$9,Simulador!$C$50)-Simulador!$C$8)*12,AB678=0),0,AB678+1)","v":675},{"$f":"IF($AB679=0,0,AC678*(1+Simulador!$D$34)+F679+M679)","v":0},{"$f":"IF($AB679=0,0,AD678*(1+Simulador!$D$34)+T679)","v":0}]
[{"$f":"IF(OR(A679+1>(IF(Simulador!$E$7=\"Autopatrocínio\",Simulador!$C$10,Simulador!$C$9)-Simulador!$C$8)*12,A679=0),0,A679+1)","v":0},{"$f":"IF($A680=0,0,IF(INT($A679/12)-$A679/12=0,B679*(1+Simulador!$C$35),B679))","v":0},{"$f":"MAX(IF(A680=0,0,B680-IF(Simulador!$C$11=\"Individual\",0,Simulador!$C$14)),0)","v":0},null,0,0,0,0,0,0,null,0,0,0,0,0,0,null,0,0,0,0,0,null,{"$f":"IF(OR(Y679+1>(IF(AND(Simulador!$C$9<Simulador!$C$10,OR(Simulador!$E$7=\"Resgate\",Simulador!$E$7=\"Portabilidade\")),Simulador!$C$9,Simulador!$C$10)-Simulador!$C$8)*12,Y679=0),0,Y679+1)","v":676},{"$f":"IF($Y680=0,0,Z679*(1+Simulador!$D$34)+E680+L680)","v":0},{"$f":"IF($Y680=0,0,AA679*(1+Simulador!$D$34)+S680)","v":0},{"$f":"IF(OR(AB679+1>(IF(AND(Simulador!$C$9<Simulador!$C$10,OR(Simulador!$E$7=\"Resgate\",Simulador!$E$7=\"Portabilidade\")),Simulador!$C$9,Simulador!$C$50)-Simulador!$C$8)*12,AB679=0),0,AB679+1)","v":676},{"$f":"IF($AB680=0,0,AC679*(1+Simulador!$D$34)+F680+M680)","v":0},{"$f":"IF($AB680=0,0,AD679*(1+Simulador!$D$34)+T680)","v":0}]
[{"$f":"IF(OR(A680+1>(IF(Simulador!$E$7=\"Autopatrocínio\",Simulador!$C$10,Simulador!$C$9)-Simulador!$C$8)*12,A680=0),0,A680+1)","v":0},{"$f":"IF($A681=0,0,IF(INT($A680/12)-$A680/12=0,B680*(1+Simulador!$C$35),B680))","v":0},{"$f":"MAX(IF(A681=0,0,B681-IF(Simulador!$C$11=\"Individual\",0,Simulador!$C$14)),0)","v":0},null,0,0,0,0,0,0,null,0,0,0,0,0,0,null,0,0,0,0,0,null,{"$f":"IF(OR(Y680+1>(IF(AND(Simulador!$C$9<Simulador!$C$10,OR(Simulador!$E$7=\"Resgate\",Simulador!$E$7=\"Portabilidade\")),Simulador!$C$9,Simulador!$C$10)-Simulador!$C$8)*12,Y680=0),0,Y680+1)","v":677},{"$f":"IF($Y681=0,0,Z680*(1+Simulador!$D$34)+E681+L681)","v":0},{"$f":"IF($Y681=0,0,AA680*(1+Simulador!$D$34)+S681)","v":0},{"$f":"IF(OR(AB680+1>(IF(AND(Simulador!$C$9<Simulador!$C$10,OR(Simulador!$E$7=\"Resgate\",Simulador!$E$7=\"Portabilidade\")),Simulador!$C$9,Simulador!$C$50)-Simulador!$C$8)*12,AB680=0),0,AB680+1)","v":677},{"$f":"IF($AB681=0,0,AC680*(1+Simulador!$D$34)+F681+M681)","v":0},{"$f":"IF($AB681=0,0,AD680*(1+Simulador!$D$34)+T681)","v":0}]
[{"$f":"IF(OR(A681+1>(IF(Simulador!$E$7=\"Autopatrocínio\",Simulador!$C$10,Simulador!$C$9)-Simulador!$C$8)*12,A681=0),0,A681+1)","v":0},{"$f":"IF($A682=0,0,IF(INT($A681/12)-$A681/12=0,B681*(1+Simulador!$C$35),B681))","v":0},{"$f":"MAX(IF(A682=0,0,B682-IF(Simulador!$C$11=\"Individual\",0,Simulador!$C$14)),0)","v":0},null,0,0,0,0,0,0,null,0,0,0,0,0,0,null,0,0,0,0,0,null,{"$f":"IF(OR(Y681+1>(IF(AND(Simulador!$C$9<Simulador!$C$10,OR(Simulador!$E$7=\"Resgate\",Simulador!$E$7=\"Portabilidade\")),Simulador!$C$9,Simulador!$C$10)-Simulador!$C$8)*12,Y681=0),0,Y681+1)","v":678},{"$f":"IF($Y682=0,0,Z681*(1+Simulador!$D$34)+E682+L682)","v":0},{"$f":"IF($Y682=0,0,AA681*(1+Simulador!$D$34)+S682)","v":0},{"$f":"IF(OR(AB681+1>(IF(AND(Simulador!$C$9<Simulador!$C$10,OR(Simulador!$E$7=\"Resgate\",Simulador!$E$7=\"Portabilidade\")),Simulador!$C$9,Simulador!$C$50)-Simulador!$C$8)*12,AB681=0),0,AB681+1)","v":678},{"$f":"IF($AB682=0,0,AC681*(1+Simulador!$D$34)+F682+M682)","v":0},{"$f":"IF($AB682=0,0,AD681*(1+Simulador!$D$34)+T682)","v":0}]
[{"$f":"IF(OR(A682+1>(IF(Simulador!$E$7=\"Autopatrocínio\",Simulador!$C$10,Simulador!$C$9)-Simulador!$C$8)*12,A682=0),0,A682+1)","v":0},{"$f":"IF($A683=0,0,IF(INT($A682/12)-$A682/12=0,B682*(1+Simulador!$C$35),B682))","v":0},{"$f":"MAX(IF(A683=0,0,B683-IF(Simulador!$C$11=\"Individual\",0,Simulador!$C$14)),0)","v":0},null,0,0,0,0,0,0,null,0,0,0,0,0,0,null,0,0,0,0,0,null,{"$f":"IF(OR(Y682+1>(IF(AND(Simulador!$C$9<Simulador!$C$10,OR(Simulador!$E$7=\"Resgate\",Simulador!$E$7=\"Portabilidade\")),Simulador!$C$9,Simulador!$C$10)-Simulador!$C$8)*12,Y682=0),0,Y682+1)","v":679},{"$f":"IF($Y683=0,0,Z682*(1+Simulador!$D$34)+E683+L683)","v":0},{"$f":"IF($Y683=0,0,AA682*(1+Simulador!$D$34)+S683)","v":0},{"$f":"IF(OR(AB682+1>(IF(AND(Simulador!$C$9<Simulador!$C$10,OR(Simulador!$E$7=\"Resgate\",Simulador!$E$7=\"Portabilidade\")),Simulador!$C$9,Simulador!$C$50)-Simulador!$C$8)*12,AB682=0),0,AB682+1)","v":679},{"$f":"IF($AB683=0,0,AC682*(1+Simulador!$D$34)+F683+M683)","v":0},{"$f":"IF($AB683=0,0,AD682*(1+Simulador!$D$34)+T683)","v":0}]
[{"$f":"IF(OR(A683+1>(IF(Simulador!$E$7=\"Autopatrocínio\",Simulador!$C$10,Simulador!$C$9)-Simulador!$C$8)*12,A683=0),0,A683+1)","v":0},{"$f":"IF($A684=0,0,IF(INT($A683/12)-$A683/12=0,B683*(1+Simulador!$C$35),B683))","v":0},{"$f":"MAX(IF(A684=0,0,B684-IF(Simulador!$C$11=\"Individual\",0,Simulador!$C$14)),0)","v":0},null,0,0,0,0,0,0,null,0,0,0,0,0,0,null,0,0,0,0,0,null,{"$f":"IF(OR(Y683+1>(IF(AND(Simulador!$C$9<Simulador!$C$10,OR(Simulador!$E$7=\"Resgate\",Simulador!$E$7=\"Portabilidade\")),Simulador!$C$9,Simulador!$C$10)-Simulador!$C$8)*12,Y683=0),0,Y683+1)","v":680},{"$f":"IF($Y684=0,0,Z683*(1+Simulador!$D$34)+E684+L684)","v":0},{"$f":"IF($Y684=0,0,AA683*(1+Simulador!$D$34)+S684)","v":0},{"$f":"IF(OR(AB683+1>(IF(AND(Simulador!$C$9<Simulador!$C$10,OR(Simulador!$E$7=\"Resgate\",Simulador!$E$7=\"Portabilidade\")),Simulador!$C$9,Simulador!$C$50)-Simulador!$C$8)*12,AB683=0),0,AB683+1)","v":680},{"$f":"IF($AB684=0,0,AC683*(1+Simulador!$D$34)+F684+M684)","v":0},{"$f":"IF($AB684=0,0,AD683*(1+Simulador!$D$34)+T684)","v":0}]
[{"$f":"IF(OR(A684+1>(IF(Simulador!$E$7=\"Autopatrocínio\",Simulador!$C$10,Simulador!$C$9)-Simulador!$C$8)*12,A684=0),0,A684+1)","v":0},{"$f":"IF($A685=0,0,IF(INT($A684/12)-$A684/12=0,B684*(1+Simulador!$C$35),B684))","v":0},{"$f":"MAX(IF(A685=0,0,B685-IF(Simulador!$C$11=\"Individual\",0,Simulador!$C$14)),0)","v":0},null,0,0,0,0,0,0,null,0,0,0,0,0,0,null,0,0,0,0,0,null,{"$f":"IF(OR(Y684+1>(IF(AND(Simulador!$C$9<Simulador!$C$10,OR(Simulador!$E$7=\"Resgate\",Simulador!$E$7=\"Portabilidade\")),Simulador!$C$9,Simulador!$C$10)-Simulador!$C$8)*12,Y684=0),0,Y684+1)","v":681},{"$f":"IF($Y685=0,0,Z684*(1+Simulador!$D$34)+E685+L685)","v":0},{"$f":"IF($Y685=0,0,AA684*(1+Simulador!$D$34)+S685)","v":0},{"$f":"IF(OR(AB684+1>(IF(AND(Simulador!$C$9<Simulador!$C$10,OR(Simulador!$E$7=\"Resgate\",Simulador!$E$7=\"Portabilidade\")),Simulador!$C$9,Simulador!$C$50)-Simulador!$C$8)*12,AB684=0),0,AB684+1)","v":681},{"$f":"IF($AB685=0,0,AC684*(1+Simulador!$D$34)+F685+M685)","v":0},{"$f":"IF($AB685=0,0,AD684*(1+Simulador!$D$34)+T685)","v":0}]
[{"$f":"IF(OR(A685+1>(IF(Simulador!$E$7=\"Autopatrocínio\",Simulador!$C$10,Simulador!$C$9)-Simulador!$C$8)*12,A685=0),0,A685+1)","v":0},{"$f":"IF($A686=0,0,IF(INT($A685/12)-$A685/12=0,B685*(1+Simulador!$C$35),B685))","v":0},{"$f":"MAX(IF(A686=0,0,B686-IF(Simulador!$C$11=\"Individual\",0,Simulador!$C$14)),0)","v":0},null,0,0,0,0,0,0,null,0,0,0,0,0,0,null,0,0,0,0,0,null,{"$f":"IF(OR(Y685+1>(IF(AND(Simulador!$C$9<Simulador!$C$10,OR(Simulador!$E$7=\"Resgate\",Simulador!$E$7=\"Portabilidade\")),Simulador!$C$9,Simulador!$C$10)-Simulador!$C$8)*12,Y685=0),0,Y685+1)","v":682},{"$f":"IF($Y686=0,0,Z685*(1+Simulador!$D$34)+E686+L686)","v":0},{"$f":"IF($Y686=0,0,AA685*(1+Simulador!$D$34)+S686)","v":0},{"$f":"IF(OR(AB685+1>(IF(AND(Simulador!$C$9<Simulador!$C$10,OR(Simulador!$E$7=\"Resgate\",Simulador!$E$7=\"Portabilidade\")),Simulador!$C$9,Simulador!$C$50)-Simulador!$C$8)*12,AB685=0),0,AB685+1)","v":682},{"$f":"IF($AB686=0,0,AC685*(1+Simulador!$D$34)+F686+M686)","v":0},{"$f":"IF($AB686=0,0,AD685*(1+Simulador!$D$34)+T686)","v":0}]
[{"$f":"IF(OR(A686+1>(IF(Simulador!$E$7=\"Autopatrocínio\",Simulador!$C$10,Simulador!$C$9)-Simulador!$C$8)*12,A686=0),0,A686+1)","v":0},{"$f":"IF($A687=0,0,IF(INT($A686/12)-$A686/12=0,B686*(1+Simulador!$C$35),B686))","v":0},{"$f":"MAX(IF(A687=0,0,B687-IF(Simulador!$C$11=\"Individual\",0,Simulador!$C$14)),0)","v":0},null,0,0,0,0,0,0,null,0,0,0,0,0,0,null,0,0,0,0,0,null,{"$f":"IF(OR(Y686+1>(IF(AND(Simulador!$C$9<Simulador!$C$10,OR(Simulador!$E$7=\"Resgate\",Simulador!$E$7=\"Portabilidade\")),Simulador!$C$9,Simulador!$C$10)-Simulador!$C$8)*12,Y686=0),0,Y686+1)","v":683},{"$f":"IF($Y687=0,0,Z686*(1+Simulador!$D$34)+E687+L687)","v":0},{"$f":"IF($Y687=0,0,AA686*(1+Simulador!$D$34)+S687)","v":0},{"$f":"IF(OR(AB686+1>(IF(AND(Simulador!$C$9<Simulador!$C$10,OR(Simulador!$E$7=\"Resgate\",Simulador!$E$7=\"Portabilidade\")),Simulador!$C$9,Simulador!$C$50)-Simulador!$C$8)*12,AB686=0),0,AB686+1)","v":683},{"$f":"IF($AB687=0,0,AC686*(1+Simulador!$D$34)+F687+M687)","v":0},{"$f":"IF($AB687=0,0,AD686*(1+Simulador!$D$34)+T687)","v":0}]
[{"$f":"IF(OR(A687+1>(IF(Simulador!$E$7=\"Autopatrocínio\",Simulador!$C$10,Simulador!$C$9)-Simulador!$C$8)*12,A687=0),0,A687+1)","v":0},{"$f":"IF($A688=0,0,IF(INT($A687/12)-$A687/12=0,B687*(1+Simulador!$C$35),B687))","v":0},{"$f":"MAX(IF(A688=0,0,B688-IF(Simulador!$C$11=\"Individual\",0,Simulador!$C$14)),0)","v":0},null,0,0,0,0,0,0,null,0,0,0,0,0,0,null,0,0,0,0,0,null,{"$f":"IF(OR(Y687+1>(IF(AND(Simulador!$C$9<Simulador!$C$10,OR(Simulador!$E$7=\"Resgate\",Simulador!$E$7=\"Portabilidade\")),Simulador!$C$9,Simulador!$C$10)-Simulador!$C$8)*12,Y687=0),0,Y687+1)","v":684},{"$f":"IF($Y688=0,0,Z687*(1+Simulador!$D$34)+E688+L688)","v":0},{"$f":"IF($Y688=0,0,AA687*(1+Simulador!$D$34)+S688)","v":0},{"$f":"IF(OR(AB687+1>(IF(AND(Simulador!$C$9<Simulador!$C$10,OR(Simulador!$E$7=\"Resgate\",Simulador!$E$7=\"Portabilidade\")),Simulador!$C$9,Simulador!$C$50)-Simulador!$C$8)*12,AB687=0),0,AB687+1)","v":684},{"$f":"IF($AB688=0,0,AC687*(1+Simulador!$D$34)+F688+M688)","v":0},{"$f":"IF($AB688=0,0,AD687*(1+Simulador!$D$34)+T688)","v":0}]
[{"$f":"IF(OR(A688+1>(IF(Simulador!$E$7=\"Autopatrocínio\",Simulador!$C$10,Simulador!$C$9)-Simulador!$C$8)*12,A688=0),0,A688+1)","v":0},{"$f":"IF($A689=0,0,IF(INT($A688/12)-$A688/12=0,B688*(1+Simulador!$C$35),B688))","v":0},{"$f":"MAX(IF(A689=0,0,B689-IF(Simulador!$C$11=\"Individual\",0,Simulador!$C$14)),0)","v":0},null,0,0,0,0,0,0,null,0,0,0,0,0,0,null,0,0,0,0,0,null,{"$f":"IF(OR(Y688+1>(IF(AND(Simulador!$C$9<Simulador!$C$10,OR(Simulador!$E$7=\"Resgate\",Simulador!$E$7=\"Portabilidade\")),Simulador!$C$9,Simulador!$C$10)-Simulador!$C$8)*12,Y688=0),0,Y688+1)","v":685},{"$f":"IF($Y689=0,0,Z688*(1+Simulador!$D$34)+E689+L689)","v":0},{"$f":"IF($Y689=0,0,AA688*(1+Simulador!$D$34)+S689)","v":0},{"$f":"IF(OR(AB688+1>(IF(AND(Simulador!$C$9<Simulador!$C$10,OR(Simulador!$E$7=\"Resgate\",Simulador!$E$7=\"Portabilidade\")),Simulador!$C$9,Simulador!$C$50)-Simulador!$C$8)*12,AB688=0),0,AB688+1)","v":685},{"$f":"IF($AB689=0,0,AC688*(1+Simulador!$D$34)+F689+M689)","v":0},{"$f":"IF($AB689=0,0,AD688*(1+Simulador!$D$34)+T689)","v":0}]
[{"$f":"IF(OR(A689+1>(IF(Simulador!$E$7=\"Autopatrocínio\",Simulador!$C$10,Simulador!$C$9)-Simulador!$C$8)*12,A689=0),0,A689+1)","v":0},{"$f":"IF($A690=0,0,IF(INT($A689/12)-$A689/12=0,B689*(1+Simulador!$C$35),B689))","v":0},{"$f":"MAX(IF(A690=0,0,B690-IF(Simulador!$C$11=\"Individual\",0,Simulador!$C$14)),0)","v":0},null,0,0,0,0,0,0,null,0,0,0,0,0,0,null,0,0,0,0,0,null,{"$f":"IF(OR(Y689+1>(IF(AND(Simulador!$C$9<Simulador!$C$10,OR(Simulador!$E$7=\"Resgate\",Simulador!$E$7=\"Portabilidade\")),Simulador!$C$9,Simulador!$C$10)-Simulador!$C$8)*12,Y689=0),0,Y689+1)","v":686},{"$f":"IF($Y690=0,0,Z689*(1+Simulador!$D$34)+E690+L690)","v":0},{"$f":"IF($Y690=0,0,AA689*(1+Simulador!$D$34)+S690)","v":0},{"$f":"IF(OR(AB689+1>(IF(AND(Simulador!$C$9<Simulador!$C$10,OR(Simulador!$E$7=\"Resgate\",Simulador!$E$7=\"Portabilidade\")),Simulador!$C$9,Simulador!$C$50)-Simulador!$C$8)*12,AB689=0),0,AB689+1)","v":686},{"$f":"IF($AB690=0,0,AC689*(1+Simulador!$D$34)+F690+M690)","v":0},{"$f":"IF($AB690=0,0,AD689*(1+Simulador!$D$34)+T690)","v":0}]
[{"$f":"IF(OR(A690+1>(IF(Simulador!$E$7=\"Autopatrocínio\",Simulador!$C$10,Simulador!$C$9)-Simulador!$C$8)*12,A690=0),0,A690+1)","v":0},{"$f":"IF($A691=0,0,IF(INT($A690/12)-$A690/12=0,B690*(1+Simulador!$C$35),B690))","v":0},{"$f":"MAX(IF(A691=0,0,B691-IF(Simulador!$C$11=\"Individual\",0,Simulador!$C$14)),0)","v":0},null,0,0,0,0,0,0,null,0,0,0,0,0,0,null,0,0,0,0,0,null,{"$f":"IF(OR(Y690+1>(IF(AND(Simulador!$C$9<Simulador!$C$10,OR(Simulador!$E$7=\"Resgate\",Simulador!$E$7=\"Portabilidade\")),Simulador!$C$9,Simulador!$C$10)-Simulador!$C$8)*12,Y690=0),0,Y690+1)","v":687},{"$f":"IF($Y691=0,0,Z690*(1+Simulador!$D$34)+E691+L691)","v":0},{"$f":"IF($Y691=0,0,AA690*(1+Simulador!$D$34)+S691)","v":0},{"$f":"IF(OR(AB690+1>(IF(AND(Simulador!$C$9<Simulador!$C$10,OR(Simulador!$E$7=\"Resgate\",Simulador!$E$7=\"Portabilidade\")),Simulador!$C$9,Simulador!$C$50)-Simulador!$C$8)*12,AB690=0),0,AB690+1)","v":687},{"$f":"IF($AB691=0,0,AC690*(1+Simulador!$D$34)+F691+M691)","v":0},{"$f":"IF($AB691=0,0,AD690*(1+Simulador!$D$34)+T691)","v":0}]
[{"$f":"IF(OR(A691+1>(IF(Simulador!$E$7=\"Autopatrocínio\",Simulador!$C$10,Simulador!$C$9)-Simulador!$C$8)*12,A691=0),0,A691+1)","v":0},{"$f":"IF($A692=0,0,IF(INT($A691/12)-$A691/12=0,B691*(1+Simulador!$C$35),B691))","v":0},{"$f":"MAX(IF(A692=0,0,B692-IF(Simulador!$C$11=\"Individual\",0,Simulador!$C$14)),0)","v":0},null,0,0,0,0,0,0,null,0,0,0,0,0,0,null,0,0,0,0,0,null,{"$f":"IF(OR(Y691+1>(IF(AND(Simulador!$C$9<Simulador!$C$10,OR(Simulador!$E$7=\"Resgate\",Simulador!$E$7=\"Portabilidade\")),Simulador!$C$9,Simulador!$C$10)-Simulador!$C$8)*12,Y691=0),0,Y691+1)","v":688},{"$f":"IF($Y692=0,0,Z691*(1+Simulador!$D$34)+E692+L692)","v":0},{"$f":"IF($Y692=0,0,AA691*(1+Simulador!$D$34)+S692)","v":0},{"$f":"IF(OR(AB691+1>(IF(AND(Simulador!$C$9<Simulador!$C$10,OR(Simulador!$E$7=\"Resgate\",Simulador!$E$7=\"Portabilidade\")),Simulador!$C$9,Simulador!$C$50)-Simulador!$C$8)*12,AB691=0),0,AB691+1)","v":688},{"$f":"IF($AB692=0,0,AC691*(1+Simulador!$D$34)+F692+M692)","v":0},{"$f":"IF($AB692=0,0,AD691*(1+Simulador!$D$34)+T692)","v":0}]
[{"$f":"IF(OR(A692+1>(IF(Simulador!$E$7=\"Autopatrocínio\",Simulador!$C$10,Simulador!$C$9)-Simulador!$C$8)*12,A692=0),0,A692+1)","v":0},{"$f":"IF($A693=0,0,IF(INT($A692/12)-$A692/12=0,B692*(1+Simulador!$C$35),B692))","v":0},{"$f":"MAX(IF(A693=0,0,B693-IF(Simulador!$C$11=\"Individual\",0,Simulador!$C$14)),0)","v":0},null,0,0,0,0,0,0,null,0,0,0,0,0,0,null,0,0,0,0,0,null,{"$f":"IF(OR(Y692+1>(IF(AND(Simulador!$C$9<Simulador!$C$10,OR(Simulador!$E$7=\"Resgate\",Simulador!$E$7=\"Portabilidade\")),Simulador!$C$9,Simulador!$C$10)-Simulador!$C$8)*12,Y692=0),0,Y692+1)","v":689},{"$f":"IF($Y693=0,0,Z692*(1+Simulador!$D$34)+E693+L693)","v":0},{"$f":"IF($Y693=0,0,AA692*(1+Simulador!$D$34)+S693)","v":0},{"$f":"IF(OR(AB692+1>(IF(AND(Simulador!$C$9<Simulador!$C$10,OR(Simulador!$E$7=\"Resgate\",Simulador!$E$7=\"Portabilidade\")),Simulador!$C$9,Simulador!$C$50)-Simulador!$C$8)*12,AB692=0),0,AB692+1)","v":689},{"$f":"IF($AB693=0,0,AC692*(1+Simulador!$D$34)+F693+M693)","v":0},{"$f":"IF($AB693=0,0,AD692*(1+Simulador!$D$34)+T693)","v":0}]
[{"$f":"IF(OR(A693+1>(IF(Simulador!$E$7=\"Autopatrocínio\",Simulador!$C$10,Simulador!$C$9)-Simulador!$C$8)*12,A693=0),0,A693+1)","v":0},{"$f":"IF($A694=0,0,IF(INT($A693/12)-$A693/12=0,B693*(1+Simulador!$C$35),B693))","v":0},{"$f":"MAX(IF(A694=0,0,B694-IF(Simulador!$C$11=\"Individual\",0,Simulador!$C$14)),0)","v":0},null,0,0,0,0,0,0,null,0,0,0,0,0,0,null,0,0,0,0,0,null,{"$f":"IF(OR(Y693+1>(IF(AND(Simulador!$C$9<Simulador!$C$10,OR(Simulador!$E$7=\"Resgate\",Simulador!$E$7=\"Portabilidade\")),Simulador!$C$9,Simulador!$C$10)-Simulador!$C$8)*12,Y693=0),0,Y693+1)","v":690},{"$f":"IF($Y694=0,0,Z693*(1+Simulador!$D$34)+E694+L694)","v":0},{"$f":"IF($Y694=0,0,AA693*(1+Simulador!$D$34)+S694)","v":0},{"$f":"IF(OR(AB693+1>(IF(AND(Simulador!$C$9<Simulador!$C$10,OR(Simulador!$E$7=\"Resgate\",Simulador!$E$7=\"Portabilidade\")),Simulador!$C$9,Simulador!$C$50)-Simulador!$C$8)*12,AB693=0),0,AB693+1)","v":690},{"$f":"IF($AB694=0,0,AC693*(1+Simulador!$D$34)+F694+M694)","v":0},{"$f":"IF($AB694=0,0,AD693*(1+Simulador!$D$34)+T694)","v":0}]
[{"$f":"IF(OR(A694+1>(IF(Simulador!$E$7=\"Autopatrocínio\",Simulador!$C$10,Simulador!$C$9)-Simulador!$C$8)*12,A694=0),0,A694+1)","v":0},{"$f":"IF($A695=0,0,IF(INT($A694/12)-$A694/12=0,B694*(1+Simulador!$C$35),B694))","v":0},{"$f":"MAX(IF(A695=0,0,B695-IF(Simulador!$C$11=\"Individual\",0,Simulador!$C$14)),0)","v":0},null,0,0,0,0,0,0,null,0,0,0,0,0,0,null,0,0,0,0,0,null,{"$f":"IF(OR(Y694+1>(IF(AND(Simulador!$C$9<Simulador!$C$10,OR(Simulador!$E$7=\"Resgate\",Simulador!$E$7=\"Portabilidade\")),Simulador!$C$9,Simulador!$C$10)-Simulador!$C$8)*12,Y694=0),0,Y694+1)","v":691},{"$f":"IF($Y695=0,0,Z694*(1+Simulador!$D$34)+E695+L695)","v":0},{"$f":"IF($Y695=0,0,AA694*(1+Simulador!$D$34)+S695)","v":0},{"$f":"IF(OR(AB694+1>(IF(AND(Simulador!$C$9<Simulador!$C$10,OR(Simulador!$E$7=\"Resgate\",Simulador!$E$7=\"Portabilidade\")),Simulador!$C$9,Simulador!$C$50)-Simulador!$C$8)*12,AB694=0),0,AB694+1)","v":691},{"$f":"IF($AB695=0,0,AC694*(1+Simulador!$D$34)+F695+M695)","v":0},{"$f":"IF($AB695=0,0,AD694*(1+Simulador!$D$34)+T695)","v":0}]
[{"$f":"IF(OR(A695+1>(IF(Simulador!$E$7=\"Autopatrocínio\",Simulador!$C$10,Simulador!$C$9)-Simulador!$C$8)*12,A695=0),0,A695+1)","v":0},{"$f":"IF($A696=0,0,IF(INT($A695/12)-$A695/12=0,B695*(1+Simulador!$C$35),B695))","v":0},{"$f":"MAX(IF(A696=0,0,B696-IF(Simulador!$C$11=\"Individual\",0,Simulador!$C$14)),0)","v":0},null,0,0,0,0,0,0,null,0,0,0,0,0,0,null,0,0,0,0,0,null,{"$f":"IF(OR(Y695+1>(IF(AND(Simulador!$C$9<Simulador!$C$10,OR(Simulador!$E$7=\"Resgate\",Simulador!$E$7=\"Portabilidade\")),Simulador!$C$9,Simulador!$C$10)-Simulador!$C$8)*12,Y695=0),0,Y695+1)","v":692},{"$f":"IF($Y696=0,0,Z695*(1+Simulador!$D$34)+E696+L696)","v":0},{"$f":"IF($Y696=0,0,AA695*(1+Simulador!$D$34)+S696)","v":0},{"$f":"IF(OR(AB695+1>(IF(AND(Simulador!$C$9<Simulador!$C$10,OR(Simulador!$E$7=\"Resgate\",Simulador!$E$7=\"Portabilidade\")),Simulador!$C$9,Simulador!$C$50)-Simulador!$C$8)*12,AB695=0),0,AB695+1)","v":692},{"$f":"IF($AB696=0,0,AC695*(1+Simulador!$D$34)+F696+M696)","v":0},{"$f":"IF($AB696=0,0,AD695*(1+Simulador!$D$34)+T696)","v":0}]
[{"$f":"IF(OR(A696+1>(IF(Simulador!$E$7=\"Autopatrocínio\",Simulador!$C$10,Simulador!$C$9)-Simulador!$C$8)*12,A696=0),0,A696+1)","v":0},{"$f":"IF($A697=0,0,IF(INT($A696/12)-$A696/12=0,B696*(1+Simulador!$C$35),B696))","v":0},{"$f":"MAX(IF(A697=0,0,B697-IF(Simulador!$C$11=\"Individual\",0,Simulador!$C$14)),0)","v":0},null,0,0,0,0,0,0,null,0,0,0,0,0,0,null,0,0,0,0,0,null,{"$f":"IF(OR(Y696+1>(IF(AND(Simulador!$C$9<Simulador!$C$10,OR(Simulador!$E$7=\"Resgate\",Simulador!$E$7=\"Portabilidade\")),Simulador!$C$9,Simulador!$C$10)-Simulador!$C$8)*12,Y696=0),0,Y696+1)","v":693},{"$f":"IF($Y697=0,0,Z696*(1+Simulador!$D$34)+E697+L697)","v":0},{"$f":"IF($Y697=0,0,AA696*(1+Simulador!$D$34)+S697)","v":0},{"$f":"IF(OR(AB696+1>(IF(AND(Simulador!$C$9<Simulador!$C$10,OR(Simulador!$E$7=\"Resgate\",Simulador!$E$7=\"Portabilidade\")),Simulador!$C$9,Simulador!$C$50)-Simulador!$C$8)*12,AB696=0),0,AB696+1)","v":693},{"$f":"IF($AB697=0,0,AC696*(1+Simulador!$D$34)+F697+M697)","v":0},{"$f":"IF($AB697=0,0,AD696*(1+Simulador!$D$34)+T697)","v":0}]
[{"$f":"IF(OR(A697+1>(IF(Simulador!$E$7=\"Autopatrocínio\",Simulador!$C$10,Simulador!$C$9)-Simulador!$C$8)*12,A697=0),0,A697+1)","v":0},{"$f":"IF($A698=0,0,IF(INT($A697/12)-$A697/12=0,B697*(1+Simulador!$C$35),B697))","v":0},{"$f":"MAX(IF(A698=0,0,B698-IF(Simulador!$C$11=\"Individual\",0,Simulador!$C$14)),0)","v":0},null,0,0,0,0,0,0,null,0,0,0,0,0,0,null,0,0,0,0,0,null,{"$f":"IF(OR(Y697+1>(IF(AND(Simulador!$C$9<Simulador!$C$10,OR(Simulador!$E$7=\"Resgate\",Simulador!$E$7=\"Portabilidade\")),Simulador!$C$9,Simulador!$C$10)-Simulador!$C$8)*12,Y697=0),0,Y697+1)","v":694},{"$f":"IF($Y698=0,0,Z697*(1+Simulador!$D$34)+E698+L698)","v":0},{"$f":"IF($Y698=0,0,AA697*(1+Simulador!$D$34)+S698)","v":0},{"$f":"IF(OR(AB697+1>(IF(AND(Simulador!$C$9<Simulador!$C$10,OR(Simulador!$E$7=\"Resgate\",Simulador!$E$7=\"Portabilidade\")),Simulador!$C$9,Simulador!$C$50)-Simulador!$C$8)*12,AB697=0),0,AB697+1)","v":694},{"$f":"IF($AB698=0,0,AC697*(1+Simulador!$D$34)+F698+M698)","v":0},{"$f":"IF($AB698=0,0,AD697*(1+Simulador!$D$34)+T698)","v":0}]
[{"$f":"IF(OR(A698+1>(IF(Simulador!$E$7=\"Autopatrocínio\",Simulador!$C$10,Simulador!$C$9)-Simulador!$C$8)*12,A698=0),0,A698+1)","v":0},{"$f":"IF($A699=0,0,IF(INT($A698/12)-$A698/12=0,B698*(1+Simulador!$C$35),B698))","v":0},{"$f":"MAX(IF(A699=0,0,B699-IF(Simulador!$C$11=\"Individual\",0,Simulador!$C$14)),0)","v":0},null,0,0,0,0,0,0,null,0,0,0,0,0,0,null,0,0,0,0,0,null,{"$f":"IF(OR(Y698+1>(IF(AND(Simulador!$C$9<Simulador!$C$10,OR(Simulador!$E$7=\"Resgate\",Simulador!$E$7=\"Portabilidade\")),Simulador!$C$9,Simulador!$C$10)-Simulador!$C$8)*12,Y698=0),0,Y698+1)","v":695},{"$f":"IF($Y699=0,0,Z698*(1+Simulador!$D$34)+E699+L699)","v":0},{"$f":"IF($Y699=0,0,AA698*(1+Simulador!$D$34)+S699)","v":0},{"$f":"IF(OR(AB698+1>(IF(AND(Simulador!$C$9<Simulador!$C$10,OR(Simulador!$E$7=\"Resgate\",Simulador!$E$7=\"Portabilidade\")),Simulador!$C$9,Simulador!$C$50)-Simulador!$C$8)*12,AB698=0),0,AB698+1)","v":695},{"$f":"IF($AB699=0,0,AC698*(1+Simulador!$D$34)+F699+M699)","v":0},{"$f":"IF($AB699=0,0,AD698*(1+Simulador!$D$34)+T699)","v":0}]
[{"$f":"IF(OR(A699+1>(IF(Simulador!$E$7=\"Autopatrocínio\",Simulador!$C$10,Simulador!$C$9)-Simulador!$C$8)*12,A699=0),0,A699+1)","v":0},{"$f":"IF($A700=0,0,IF(INT($A699/12)-$A699/12=0,B699*(1+Simulador!$C$35),B699))","v":0},{"$f":"MAX(IF(A700=0,0,B700-IF(Simulador!$C$11=\"Individual\",0,Simulador!$C$14)),0)","v":0},null,0,0,0,0,0,0,null,0,0,0,0,0,0,null,0,0,0,0,0,null,{"$f":"IF(OR(Y699+1>(IF(AND(Simulador!$C$9<Simulador!$C$10,OR(Simulador!$E$7=\"Resgate\",Simulador!$E$7=\"Portabilidade\")),Simulador!$C$9,Simulador!$C$10)-Simulador!$C$8)*12,Y699=0),0,Y699+1)","v":696},{"$f":"IF($Y700=0,0,Z699*(1+Simulador!$D$34)+E700+L700)","v":0},{"$f":"IF($Y700=0,0,AA699*(1+Simulador!$D$34)+S700)","v":0},{"$f":"IF(OR(AB699+1>(IF(AND(Simulador!$C$9<Simulador!$C$10,OR(Simulador!$E$7=\"Resgate\",Simulador!$E$7=\"Portabilidade\")),Simulador!$C$9,Simulador!$C$50)-Simulador!$C$8)*12,AB699=0),0,AB699+1)","v":696},{"$f":"IF($AB700=0,0,AC699*(1+Simulador!$D$34)+F700+M700)","v":0},{"$f":"IF($AB700=0,0,AD699*(1+Simulador!$D$34)+T700)","v":0}]
[{"$f":"IF(OR(A700+1>(IF(Simulador!$E$7=\"Autopatrocínio\",Simulador!$C$10,Simulador!$C$9)-Simulador!$C$8)*12,A700=0),0,A700+1)","v":0},{"$f":"IF($A701=0,0,IF(INT($A700/12)-$A700/12=0,B700*(1+Simulador!$C$35),B700))","v":0},{"$f":"MAX(IF(A701=0,0,B701-IF(Simulador!$C$11=\"Individual\",0,Simulador!$C$14)),0)","v":0},null,0,0,0,0,0,0,null,0,0,0,0,0,0,null,0,0,0,0,0,null,{"$f":"IF(OR(Y700+1>(IF(AND(Simulador!$C$9<Simulador!$C$10,OR(Simulador!$E$7=\"Resgate\",Simulador!$E$7=\"Portabilidade\")),Simulador!$C$9,Simulador!$C$10)-Simulador!$C$8)*12,Y700=0),0,Y700+1)","v":697},{"$f":"IF($Y701=0,0,Z700*(1+Simulador!$D$34)+E701+L701)","v":0},{"$f":"IF($Y701=0,0,AA700*(1+Simulador!$D$34)+S701)","v":0},{"$f":"IF(OR(AB700+1>(IF(AND(Simulador!$C$9<Simulador!$C$10,OR(Simulador!$E$7=\"Resgate\",Simulador!$E$7=\"Portabilidade\")),Simulador!$C$9,Simulador!$C$50)-Simulador!$C$8)*12,AB700=0),0,AB700+1)","v":697},{"$f":"IF($AB701=0,0,AC700*(1+Simulador!$D$34)+F701+M701)","v":0},{"$f":"IF($AB701=0,0,AD700*(1+Simulador!$D$34)+T701)","v":0}]
[{"$f":"IF(OR(A701+1>(IF(Simulador!$E$7=\"Autopatrocínio\",Simulador!$C$10,Simulador!$C$9)-Simulador!$C$8)*12,A701=0),0,A701+1)","v":0},{"$f":"IF($A702=0,0,IF(INT($A701/12)-$A701/12=0,B701*(1+Simulador!$C$35),B701))","v":0},{"$f":"MAX(IF(A702=0,0,B702-IF(Simulador!$C$11=\"Individual\",0,Simulador!$C$14)),0)","v":0},null,0,0,0,0,0,0,null,0,0,0,0,0,0,null,0,0,0,0,0,null,{"$f":"IF(OR(Y701+1>(IF(AND(Simulador!$C$9<Simulador!$C$10,OR(Simulador!$E$7=\"Resgate\",Simulador!$E$7=\"Portabilidade\")),Simulador!$C$9,Simulador!$C$10)-Simulador!$C$8)*12,Y701=0),0,Y701+1)","v":698},{"$f":"IF($Y702=0,0,Z701*(1+Simulador!$D$34)+E702+L702)","v":0},{"$f":"IF($Y702=0,0,AA701*(1+Simulador!$D$34)+S702)","v":0},{"$f":"IF(OR(AB701+1>(IF(AND(Simulador!$C$9<Simulador!$C$10,OR(Simulador!$E$7=\"Resgate\",Simulador!$E$7=\"Portabilidade\")),Simulador!$C$9,Simulador!$C$50)-Simulador!$C$8)*12,AB701=0),0,AB701+1)","v":698},{"$f":"IF($AB702=0,0,AC701*(1+Simulador!$D$34)+F702+M702)","v":0},{"$f":"IF($AB702=0,0,AD701*(1+Simulador!$D$34)+T702)","v":0}]
[{"$f":"IF(OR(A702+1>(IF(Simulador!$E$7=\"Autopatrocínio\",Simulador!$C$10,Simulador!$C$9)-Simulador!$C$8)*12,A702=0),0,A702+1)","v":0},{"$f":"IF($A703=0,0,IF(INT($A702/12)-$A702/12=0,B702*(1+Simulador!$C$35),B702))","v":0},{"$f":"MAX(IF(A703=0,0,B703-IF(Simulador!$C$11=\"Individual\",0,Simulador!$C$14)),0)","v":0},null,0,0,0,0,0,0,null,0,0,0,0,0,0,null,0,0,0,0,0,null,{"$f":"IF(OR(Y702+1>(IF(AND(Simulador!$C$9<Simulador!$C$10,OR(Simulador!$E$7=\"Resgate\",Simulador!$E$7=\"Portabilidade\")),Simulador!$C$9,Simulador!$C$10)-Simulador!$C$8)*12,Y702=0),0,Y702+1)","v":699},{"$f":"IF($Y703=0,0,Z702*(1+Simulador!$D$34)+E703+L703)","v":0},{"$f":"IF($Y703=0,0,AA702*(1+Simulador!$D$34)+S703)","v":0},{"$f":"IF(OR(AB702+1>(IF(AND(Simulador!$C$9<Simulador!$C$10,OR(Simulador!$E$7=\"Resgate\",Simulador!$E$7=\"Portabilidade\")),Simulador!$C$9,Simulador!$C$50)-Simulador!$C$8)*12,AB702=0),0,AB702+1)","v":699},{"$f":"IF($AB703=0,0,AC702*(1+Simulador!$D$34)+F703+M703)","v":0},{"$f":"IF($AB703=0,0,AD702*(1+Simulador!$D$34)+T703)","v":0}]
[{"$f":"IF(OR(A703+1>(IF(Simulador!$E$7=\"Autopatrocínio\",Simulador!$C$10,Simulador!$C$9)-Simulador!$C$8)*12,A703=0),0,A703+1)","v":0},{"$f":"IF($A704=0,0,IF(INT($A703/12)-$A703/12=0,B703*(1+Simulador!$C$35),B703))","v":0},{"$f":"MAX(IF(A704=0,0,B704-IF(Simulador!$C$11=\"Individual\",0,Simulador!$C$14)),0)","v":0},null,0,0,0,0,0,0,null,0,0,0,0,0,0,null,0,0,0,0,0,null,{"$f":"IF(OR(Y703+1>(IF(AND(Simulador!$C$9<Simulador!$C$10,OR(Simulador!$E$7=\"Resgate\",Simulador!$E$7=\"Portabilidade\")),Simulador!$C$9,Simulador!$C$10)-Simulador!$C$8)*12,Y703=0),0,Y703+1)","v":700},{"$f":"IF($Y704=0,0,Z703*(1+Simulador!$D$34)+E704+L704)","v":0},{"$f":"IF($Y704=0,0,AA703*(1+Simulador!$D$34)+S704)","v":0},{"$f":"IF(OR(AB703+1>(IF(AND(Simulador!$C$9<Simulador!$C$10,OR(Simulador!$E$7=\"Resgate\",Simulador!$E$7=\"Portabilidade\")),Simulador!$C$9,Simulador!$C$50)-Simulador!$C$8)*12,AB703=0),0,AB703+1)","v":700},{"$f":"IF($AB704=0,0,AC703*(1+Simulador!$D$34)+F704+M704)","v":0},{"$f":"IF($AB704=0,0,AD703*(1+Simulador!$D$34)+T704)","v":0}]
[{"$f":"IF(OR(A704+1>(IF(Simulador!$E$7=\"Autopatrocínio\",Simulador!$C$10,Simulador!$C$9)-Simulador!$C$8)*12,A704=0),0,A704+1)","v":0},{"$f":"IF($A705=0,0,IF(INT($A704/12)-$A704/12=0,B704*(1+Simulador!$C$35),B704))","v":0},{"$f":"MAX(IF(A705=0,0,B705-IF(Simulador!$C$11=\"Individual\",0,Simulador!$C$14)),0)","v":0},null,{"$f":"E$4*$C705*(1+$J705)","v":0},0,0,0,0,0,null,{"$f":"L$4*$C705*$Q705","v":0},0,0,0,0,0,null,{"$f":"S$4*$C705*(1+$J705)","v":0},0,0,0,0,null,{"$f":"IF(OR(Y704+1>(IF(AND(Simulador!$C$9<Simulador!$C$10,OR(Simulador!$E$7=\"Resgate\",Simulador!$E$7=\"Portabilidade\")),Simulador!$C$9,Simulador!$C$10)-Simulador!$C$8)*12,Y704=0),0,Y704+1)","v":701},{"$f":"IF($Y705=0,0,Z704*(1+Simulador!$D$34)+E705+L705)","v":0},{"$f":"IF($Y705=0,0,AA704*(1+Simulador!$D$34)+S705)","v":0},{"$f":"IF(OR(AB704+1>(IF(AND(Simulador!$C$9<Simulador!$C$10,OR(Simulador!$E$7=\"Resgate\",Simulador!$E$7=\"Portabilidade\")),Simulador!$C$9,Simulador!$C$50)-Simulador!$C$8)*12,AB704=0),0,AB704+1)","v":701},{"$f":"IF($AB705=0,0,AC704*(1+Simulador!$D$34)+F705+M705)","v":0},{"$f":"IF($AB705=0,0,AD704*(1+Simulador!$D$34)+T705)","v":0}]
[{"$f":"IF(OR(A705+1>(IF(Simulador!$E$7=\"Autopatrocínio\",Simulador!$C$10,Simulador!$C$9)-Simulador!$C$8)*12,A705=0),0,A705+1)","v":0},{"$f":"IF($A706=0,0,IF(INT($A705/12)-$A705/12=0,B705*(1+Simulador!$C$35),B705))","v":0},{"$f":"MAX(IF(A706=0,0,B706-IF(Simulador!$C$11=\"Individual\",0,Simulador!$C$14)),0)","v":0},null,0,0,0,0,0,0,null,0,0,0,0,0,0,null,0,0,0,0,0,null,{"$f":"IF(OR(Y705+1>(IF(AND(Simulador!$C$9<Simulador!$C$10,OR(Simulador!$E$7=\"Resgate\",Simulador!$E$7=\"Portabilidade\")),Simulador!$C$9,Simulador!$C$10)-Simulador!$C$8)*12,Y705=0),0,Y705+1)","v":702},{"$f":"IF($Y706=0,0,Z705*(1+Simulador!$D$34)+E706+L706)","v":0},{"$f":"IF($Y706=0,0,AA705*(1+Simulador!$D$34)+S706)","v":0},{"$f":"IF(OR(AB705+1>(IF(AND(Simulador!$C$9<Simulador!$C$10,OR(Simulador!$E$7=\"Resgate\",Simulador!$E$7=\"Portabilidade\")),Simulador!$C$9,Simulador!$C$50)-Simulador!$C$8)*12,AB705=0),0,AB705+1)","v":702},{"$f":"IF($AB706=0,0,AC705*(1+Simulador!$D$34)+F706+M706)","v":0},{"$f":"IF($AB706=0,0,AD705*(1+Simulador!$D$34)+T706)","v":0}]
[{"$f":"IF(OR(A706+1>(IF(Simulador!$E$7=\"Autopatrocínio\",Simulador!$C$10,Simulador!$C$9)-Simulador!$C$8)*12,A706=0),0,A706+1)","v":0},{"$f":"IF($A707=0,0,IF(INT($A706/12)-$A706/12=0,B706*(1+Simulador!$C$35),B706))","v":0},{"$f":"MAX(IF(A707=0,0,B707-IF(Simulador!$C$11=\"Individual\",0,Simulador!$C$14)),0)","v":0},null,0,0,0,0,0,0,null,0,0,0,0,0,0,null,0,0,0,0,0,null,{"$f":"IF(OR(Y706+1>(IF(AND(Simulador!$C$9<Simulador!$C$10,OR(Simulador!$E$7=\"Resgate\",Simulador!$E$7=\"Portabilidade\")),Simulador!$C$9,Simulador!$C$10)-Simulador!$C$8)*12,Y706=0),0,Y706+1)","v":703},{"$f":"IF($Y707=0,0,Z706*(1+Simulador!$D$34)+E707+L707)","v":0},{"$f":"IF($Y707=0,0,AA706*(1+Simulador!$D$34)+S707)","v":0},{"$f":"IF(OR(AB706+1>(IF(AND(Simulador!$C$9<Simulador!$C$10,OR(Simulador!$E$7=\"Resgate\",Simulador!$E$7=\"Portabilidade\")),Simulador!$C$9,Simulador!$C$50)-Simulador!$C$8)*12,AB706=0),0,AB706+1)","v":703},{"$f":"IF($AB707=0,0,AC706*(1+Simulador!$D$34)+F707+M707)","v":0},{"$f":"IF($AB707=0,0,AD706*(1+Simulador!$D$34)+T707)","v":0}]
[{"$f":"IF(OR(A707+1>(IF(Simulador!$E$7=\"Autopatrocínio\",Simulador!$C$10,Simulador!$C$9)-Simulador!$C$8)*12,A707=0),0,A707+1)","v":0},{"$f":"IF($A708=0,0,IF(INT($A707/12)-$A707/12=0,B707*(1+Simulador!$C$35),B707))","v":0},{"$f":"MAX(IF(A708=0,0,B708-IF(Simulador!$C$11=\"Individual\",0,Simulador!$C$14)),0)","v":0},null,0,0,0,0,0,0,null,0,0,0,0,0,0,null,0,0,0,0,0,null,{"$f":"IF(OR(Y707+1>(IF(AND(Simulador!$C$9<Simulador!$C$10,OR(Simulador!$E$7=\"Resgate\",Simulador!$E$7=\"Portabilidade\")),Simulador!$C$9,Simulador!$C$10)-Simulador!$C$8)*12,Y707=0),0,Y707+1)","v":704},{"$f":"IF($Y708=0,0,Z707*(1+Simulador!$D$34)+E708+L708)","v":0},{"$f":"IF($Y708=0,0,AA707*(1+Simulador!$D$34)+S708)","v":0},{"$f":"IF(OR(AB707+1>(IF(AND(Simulador!$C$9<Simulador!$C$10,OR(Simulador!$E$7=\"Resgate\",Simulador!$E$7=\"Portabilidade\")),Simulador!$C$9,Simulador!$C$50)-Simulador!$C$8)*12,AB707=0),0,AB707+1)","v":704},{"$f":"IF($AB708=0,0,AC707*(1+Simulador!$D$34)+F708+M708)","v":0},{"$f":"IF($AB708=0,0,AD707*(1+Simulador!$D$34)+T708)","v":0}]
[{"$f":"IF(OR(A708+1>(IF(Simulador!$E$7=\"Autopatrocínio\",Simulador!$C$10,Simulador!$C$9)-Simulador!$C$8)*12,A708=0),0,A708+1)","v":0},{"$f":"IF($A709=0,0,IF(INT($A708/12)-$A708/12=0,B708*(1+Simulador!$C$35),B708))","v":0},{"$f":"MAX(IF(A709=0,0,B709-IF(Simulador!$C$11=\"Individual\",0,Simulador!$C$14)),0)","v":0},null,0,0,0,0,0,{"$f":"IF($A709=0,0,IF(INT($A709/12)-$A709/12=0,1,0))","v":0},null,0,0,0,0,0,{"$f":"IF($A709=0,0,IF($Q$4=\"Mensal\",1,IF($Q$4=\"Semestral\",IF(INT(($A709+5)/6)-($A709+5)/6=0,1,0),IF($Q$4=\"Anual\",IF(INT(($A709+11)/12)-($A709+11)/12=0,1,0)))))","v":0},null,0,0,0,0,0,null,{"$f":"IF(OR(Y708+1>(IF(AND(Simulador!$C$9<Simulador!$C$10,OR(Simulador!$E$7=\"Resgate\",Simulador!$E$7=\"Portabilidade\")),Simulador!$C$9,Simulador!$C$10)-Simulador!$C$8)*12,Y708=0),0,Y708+1)","v":705},{"$f":"IF($Y709=0,0,Z708*(1+Simulador!$D$34)+E709+L709)","v":0},{"$f":"IF($Y709=0,0,AA708*(1+Simulador!$D$34)+S709)","v":0},{"$f":"IF(OR(AB708+1>(IF(AND(Simulador!$C$9<Simulador!$C$10,OR(Simulador!$E$7=\"Resgate\",Simulador!$E$7=\"Portabilidade\")),Simulador!$C$9,Simulador!$C$50)-Simulador!$C$8)*12,AB708=0),0,AB708+1)","v":705},{"$f":"IF($AB709=0,0,AC708*(1+Simulador!$D$34)+F709+M709)","v":0},{"$f":"IF($AB709=0,0,AD708*(1+Simulador!$D$34)+T709)","v":0}]
[{"$f":"IF(OR(A709+1>(IF(Simulador!$E$7=\"Autopatrocínio\",Simulador!$C$10,Simulador!$C$9)-Simulador!$C$8)*12,A709=0),0,A709+1)","v":0},{"$f":"IF($A710=0,0,IF(INT($A709/12)-$A709/12=0,B709*(1+Simulador!$C$35),B709))","v":0},{"$f":"MAX(IF(A710=0,0,B710-IF(Simulador!$C$11=\"Individual\",0,Simulador!$C$14)),0)","v":0},null,0,0,0,0,0,0,null,0,0,0,0,0,0,null,0,0,0,0,0,null,{"$f":"IF(OR(Y709+1>(IF(AND(Simulador!$C$9<Simulador!$C$10,OR(Simulador!$E$7=\"Resgate\",Simulador!$E$7=\"Portabilidade\")),Simulador!$C$9,Simulador!$C$10)-Simulador!$C$8)*12,Y709=0),0,Y709+1)","v":706},{"$f":"IF($Y710=0,0,Z709*(1+Simulador!$D$34)+E710+L710)","v":0},{"$f":"IF($Y710=0,0,AA709*(1+Simulador!$D$34)+S710)","v":0},{"$f":"IF(OR(AB709+1>(IF(AND(Simulador!$C$9<Simulador!$C$10,OR(Simulador!$E$7=\"Resgate\",Simulador!$E$7=\"Portabilidade\")),Simulador!$C$9,Simulador!$C$50)-Simulador!$C$8)*12,AB709=0),0,AB709+1)","v":706},{"$f":"IF($AB710=0,0,AC709*(1+Simulador!$D$34)+F710+M710)","v":0},{"$f":"IF($AB710=0,0,AD709*(1+Simulador!$D$34)+T710)","v":0}]
[{"$f":"IF(OR(A710+1>(IF(Simulador!$E$7=\"Autopatrocínio\",Simulador!$C$10,Simulador!$C$9)-Simulador!$C$8)*12,A710=0),0,A710+1)","v":0},{"$f":"IF($A711=0,0,IF(INT($A710/12)-$A710/12=0,B710*(1+Simulador!$C$35),B710))","v":0},{"$f":"MAX(IF(A711=0,0,B711-IF(Simulador!$C$11=\"Individual\",0,Simulador!$C$14)),0)","v":0},null,0,0,0,0,0,0,null,0,0,0,0,0,0,null,0,0,0,0,0,null,{"$f":"IF(OR(Y710+1>(IF(AND(Simulador!$C$9<Simulador!$C$10,OR(Simulador!$E$7=\"Resgate\",Simulador!$E$7=\"Portabilidade\")),Simulador!$C$9,Simulador!$C$10)-Simulador!$C$8)*12,Y710=0),0,Y710+1)","v":707},{"$f":"IF($Y711=0,0,Z710*(1+Simulador!$D$34)+E711+L711)","v":0},{"$f":"IF($Y711=0,0,AA710*(1+Simulador!$D$34)+S711)","v":0},{"$f":"IF(OR(AB710+1>(IF(AND(Simulador!$C$9<Simulador!$C$10,OR(Simulador!$E$7=\"Resgate\",Simulador!$E$7=\"Portabilidade\")),Simulador!$C$9,Simulador!$C$50)-Simulador!$C$8)*12,AB710=0),0,AB710+1)","v":707},{"$f":"IF($AB711=0,0,AC710*(1+Simulador!$D$34)+F711+M711)","v":0},{"$f":"IF($AB711=0,0,AD710*(1+Simulador!$D$34)+T711)","v":0}]
[{"$f":"IF(OR(A711+1>(IF(Simulador!$E$7=\"Autopatrocínio\",Simulador!$C$10,Simulador!$C$9)-Simulador!$C$8)*12,A711=0),0,A711+1)","v":0},{"$f":"IF($A712=0,0,IF(INT($A711/12)-$A711/12=0,B711*(1+Simulador!$C$35),B711))","v":0},{"$f":"MAX(IF(A712=0,0,B712-IF(Simulador!$C$11=\"Individual\",0,Simulador!$C$14)),0)","v":0},null,0,0,0,0,0,0,null,0,0,0,0,0,0,null,0,0,0,0,0,null,{"$f":"IF(OR(Y711+1>(IF(AND(Simulador!$C$9<Simulador!$C$10,OR(Simulador!$E$7=\"Resgate\",Simulador!$E$7=\"Portabilidade\")),Simulador!$C$9,Simulador!$C$10)-Simulador!$C$8)*12,Y711=0),0,Y711+1)","v":708},{"$f":"IF($Y712=0,0,Z711*(1+Simulador!$D$34)+E712+L712)","v":0},{"$f":"IF($Y712=0,0,AA711*(1+Simulador!$D$34)+S712)","v":0},{"$f":"IF(OR(AB711+1>(IF(AND(Simulador!$C$9<Simulador!$C$10,OR(Simulador!$E$7=\"Resgate\",Simulador!$E$7=\"Portabilidade\")),Simulador!$C$9,Simulador!$C$50)-Simulador!$C$8)*12,AB711=0),0,AB711+1)","v":708},{"$f":"IF($AB712=0,0,AC711*(1+Simulador!$D$34)+F712+M712)","v":0},{"$f":"IF($AB712=0,0,AD711*(1+Simulador!$D$34)+T712)","v":0}]
[{"$f":"IF(OR(A712+1>(IF(Simulador!$E$7=\"Autopatrocínio\",Simulador!$C$10,Simulador!$C$9)-Simulador!$C$8)*12,A712=0),0,A712+1)","v":0},{"$f":"IF($A713=0,0,IF(INT($A712/12)-$A712/12=0,B712*(1+Simulador!$C$35),B712))","v":0},{"$f":"MAX(IF(A713=0,0,B713-IF(Simulador!$C$11=\"Individual\",0,Simulador!$C$14)),0)","v":0},null,0,0,0,0,0,0,null,0,0,0,0,0,0,null,0,0,0,0,0,null,{"$f":"IF(OR(Y712+1>(IF(AND(Simulador!$C$9<Simulador!$C$10,OR(Simulador!$E$7=\"Resgate\",Simulador!$E$7=\"Portabilidade\")),Simulador!$C$9,Simulador!$C$10)-Simulador!$C$8)*12,Y712=0),0,Y712+1)","v":709},{"$f":"IF($Y713=0,0,Z712*(1+Simulador!$D$34)+E713+L713)","v":0},{"$f":"IF($Y713=0,0,AA712*(1+Simulador!$D$34)+S713)","v":0},{"$f":"IF(OR(AB712+1>(IF(AND(Simulador!$C$9<Simulador!$C$10,OR(Simulador!$E$7=\"Resgate\",Simulador!$E$7=\"Portabilidade\")),Simulador!$C$9,Simulador!$C$50)-Simulador!$C$8)*12,AB712=0),0,AB712+1)","v":709},{"$f":"IF($AB713=0,0,AC712*(1+Simulador!$D$34)+F713+M713)","v":0},{"$f":"IF($AB713=0,0,AD712*(1+Simulador!$D$34)+T713)","v":0}]
[{"$f":"IF(OR(A713+1>(IF(Simulador!$E$7=\"Autopatrocínio\",Simulador!$C$10,Simulador!$C$9)-Simulador!$C$8)*12,A713=0),0,A713+1)","v":0},{"$f":"IF($A714=0,0,IF(INT($A713/12)-$A713/12=0,B713*(1+Simulador!$C$35),B713))","v":0},{"$f":"MAX(IF(A714=0,0,B714-IF(Simulador!$C$11=\"Individual\",0,Simulador!$C$14)),0)","v":0},null,0,0,0,0,0,0,null,0,0,0,0,0,0,null,0,0,0,0,0,null,{"$f":"IF(OR(Y713+1>(IF(AND(Simulador!$C$9<Simulador!$C$10,OR(Simulador!$E$7=\"Resgate\",Simulador!$E$7=\"Portabilidade\")),Simulador!$C$9,Simulador!$C$10)-Simulador!$C$8)*12,Y713=0),0,Y713+1)","v":710},{"$f":"IF($Y714=0,0,Z713*(1+Simulador!$D$34)+E714+L714)","v":0},{"$f":"IF($Y714=0,0,AA713*(1+Simulador!$D$34)+S714)","v":0},{"$f":"IF(OR(AB713+1>(IF(AND(Simulador!$C$9<Simulador!$C$10,OR(Simulador!$E$7=\"Resgate\",Simulador!$E$7=\"Portabilidade\")),Simulador!$C$9,Simulador!$C$50)-Simulador!$C$8)*12,AB713=0),0,AB713+1)","v":710},{"$f":"IF($AB714=0,0,AC713*(1+Simulador!$D$34)+F714+M714)","v":0},{"$f":"IF($AB714=0,0,AD713*(1+Simulador!$D$34)+T714)","v":0}]
[{"$f":"IF(OR(A714+1>(IF(Simulador!$E$7=\"Autopatrocínio\",Simulador!$C$10,Simulador!$C$9)-Simulador!$C$8)*12,A714=0),0,A714+1)","v":0},{"$f":"IF($A715=0,0,IF(INT($A714/12)-$A714/12=0,B714*(1+Simulador!$C$35),B714))","v":0},{"$f":"MAX(IF(A715=0,0,B715-IF(Simulador!$C$11=\"Individual\",0,Simulador!$C$14)),0)","v":0},null,0,0,0,0,0,0,null,0,0,0,0,0,0,null,0,0,0,0,0,null,{"$f":"IF(OR(Y714+1>(IF(AND(Simulador!$C$9<Simulador!$C$10,OR(Simulador!$E$7=\"Resgate\",Simulador!$E$7=\"Portabilidade\")),Simulador!$C$9,Simulador!$C$10)-Simulador!$C$8)*12,Y714=0),0,Y714+1)","v":711},{"$f":"IF($Y715=0,0,Z714*(1+Simulador!$D$34)+E715+L715)","v":0},{"$f":"IF($Y715=0,0,AA714*(1+Simulador!$D$34)+S715)","v":0},{"$f":"IF(OR(AB714+1>(IF(AND(Simulador!$C$9<Simulador!$C$10,OR(Simulador!$E$7=\"Resgate\",Simulador!$E$7=\"Portabilidade\")),Simulador!$C$9,Simulador!$C$50)-Simulador!$C$8)*12,AB714=0),0,AB714+1)","v":711},{"$f":"IF($AB715=0,0,AC714*(1+Simulador!$D$34)+F715+M715)","v":0},{"$f":"IF($AB715=0,0,AD714*(1+Simulador!$D$34)+T715)","v":0}]
[{"$f":"IF(OR(A715+1>(IF(Simulador!$E$7=\"Autopatrocínio\",Simulador!$C$10,Simulador!$C$9)-Simulador!$C$8)*12,A715=0),0,A715+1)","v":0},{"$f":"IF($A716=0,0,IF(INT($A715/12)-$A715/12=0,B715*(1+Simulador!$C$35),B715))","v":0},{"$f":"MAX(IF(A716=0,0,B716-IF(Simulador!$C$11=\"Individual\",0,Simulador!$C$14)),0)","v":0},null,0,0,0,0,0,0,null,0,0,0,0,0,0,null,0,0,0,0,0,null,{"$f":"IF(OR(Y715+1>(IF(AND(Simulador!$C$9<Simulador!$C$10,OR(Simulador!$E$7=\"Resgate\",Simulador!$E$7=\"Portabilidade\")),Simulador!$C$9,Simulador!$C$10)-Simulador!$C$8)*12,Y715=0),0,Y715+1)","v":712},{"$f":"IF($Y716=0,0,Z715*(1+Simulador!$D$34)+E716+L716)","v":0},{"$f":"IF($Y716=0,0,AA715*(1+Simulador!$D$34)+S716)","v":0},{"$f":"IF(OR(AB715+1>(IF(AND(Simulador!$C$9<Simulador!$C$10,OR(Simulador!$E$7=\"Resgate\",Simulador!$E$7=\"Portabilidade\")),Simulador!$C$9,Simulador!$C$50)-Simulador!$C$8)*12,AB715=0),0,AB715+1)","v":712},{"$f":"IF($AB716=0,0,AC715*(1+Simulador!$D$34)+F716+M716)","v":0},{"$f":"IF($AB716=0,0,AD715*(1+Simulador!$D$34)+T716)","v":0}]
[{"$f":"IF(OR(A716+1>(IF(Simulador!$E$7=\"Autopatrocínio\",Simulador!$C$10,Simulador!$C$9)-Simulador!$C$8)*12,A716=0),0,A716+1)","v":0},{"$f":"IF($A717=0,0,IF(INT($A716/12)-$A716/12=0,B716*(1+Simulador!$C$35),B716))","v":0},{"$f":"MAX(IF(A717=0,0,B717-IF(Simulador!$C$11=\"Individual\",0,Simulador!$C$14)),0)","v":0},null,0,0,0,0,0,0,null,0,0,0,0,0,0,null,0,0,0,0,0,null,{"$f":"IF(OR(Y716+1>(IF(AND(Simulador!$C$9<Simulador!$C$10,OR(Simulador!$E$7=\"Resgate\",Simulador!$E$7=\"Portabilidade\")),Simulador!$C$9,Simulador!$C$10)-Simulador!$C$8)*12,Y716=0),0,Y716+1)","v":713},{"$f":"IF($Y717=0,0,Z716*(1+Simulador!$D$34)+E717+L717)","v":0},{"$f":"IF($Y717=0,0,AA716*(1+Simulador!$D$34)+S717)","v":0},{"$f":"IF(OR(AB716+1>(IF(AND(Simulador!$C$9<Simulador!$C$10,OR(Simulador!$E$7=\"Resgate\",Simulador!$E$7=\"Portabilidade\")),Simulador!$C$9,Simulador!$C$50)-Simulador!$C$8)*12,AB716=0),0,AB716+1)","v":713},{"$f":"IF($AB717=0,0,AC716*(1+Simulador!$D$34)+F717+M717)","v":0},{"$f":"IF($AB717=0,0,AD716*(1+Simulador!$D$34)+T717)","v":0}]
[{"$f":"IF(OR(A717+1>(IF(Simulador!$E$7=\"Autopatrocínio\",Simulador!$C$10,Simulador!$C$9)-Simulador!$C$8)*12,A717=0),0,A717+1)","v":0},{"$f":"IF($A718=0,0,IF(INT($A717/12)-$A717/12=0,B717*(1+Simulador!$C$35),B717))","v":0},{"$f":"MAX(IF(A718=0,0,B718-IF(Simulador!$C$11=\"Individual\",0,Simulador!$C$14)),0)","v":0},null,0,0,0,0,0,0,null,0,0,0,0,0,0,null,0,0,0,0,0,null,{"$f":"IF(OR(Y717+1>(IF(AND(Simulador!$C$9<Simulador!$C$10,OR(Simulador!$E$7=\"Resgate\",Simulador!$E$7=\"Portabilidade\")),Simulador!$C$9,Simulador!$C$10)-Simulador!$C$8)*12,Y717=0),0,Y717+1)","v":714},{"$f":"IF($Y718=0,0,Z717*(1+Simulador!$D$34)+E718+L718)","v":0},{"$f":"IF($Y718=0,0,AA717*(1+Simulador!$D$34)+S718)","v":0},{"$f":"IF(OR(AB717+1>(IF(AND(Simulador!$C$9<Simulador!$C$10,OR(Simulador!$E$7=\"Resgate\",Simulador!$E$7=\"Portabilidade\")),Simulador!$C$9,Simulador!$C$50)-Simulador!$C$8)*12,AB717=0),0,AB717+1)","v":714},{"$f":"IF($AB718=0,0,AC717*(1+Simulador!$D$34)+F718+M718)","v":0},{"$f":"IF($AB718=0,0,AD717*(1+Simulador!$D$34)+T718)","v":0}]
[{"$f":"IF(OR(A718+1>(IF(Simulador!$E$7=\"Autopatrocínio\",Simulador!$C$10,Simulador!$C$9)-Simulador!$C$8)*12,A718=0),0,A718+1)","v":0},{"$f":"IF($A719=0,0,IF(INT($A718/12)-$A718/12=0,B718*(1+Simulador!$C$35),B718))","v":0},{"$f":"MAX(IF(A719=0,0,B719-IF(Simulador!$C$11=\"Individual\",0,Simulador!$C$14)),0)","v":0},null,0,0,0,0,0,0,null,0,0,0,0,0,0,null,0,0,0,0,0,null,{"$f":"IF(OR(Y718+1>(IF(AND(Simulador!$C$9<Simulador!$C$10,OR(Simulador!$E$7=\"Resgate\",Simulador!$E$7=\"Portabilidade\")),Simulador!$C$9,Simulador!$C$10)-Simulador!$C$8)*12,Y718=0),0,Y718+1)","v":715},{"$f":"IF($Y719=0,0,Z718*(1+Simulador!$D$34)+E719+L719)","v":0},{"$f":"IF($Y719=0,0,AA718*(1+Simulador!$D$34)+S719)","v":0},{"$f":"IF(OR(AB718+1>(IF(AND(Simulador!$C$9<Simulador!$C$10,OR(Simulador!$E$7=\"Resgate\",Simulador!$E$7=\"Portabilidade\")),Simulador!$C$9,Simulador!$C$50)-Simulador!$C$8)*12,AB718=0),0,AB718+1)","v":715},{"$f":"IF($AB719=0,0,AC718*(1+Simulador!$D$34)+F719+M719)","v":0},{"$f":"IF($AB719=0,0,AD718*(1+Simulador!$D$34)+T719)","v":0}]
[{"$f":"IF(OR(A719+1>(IF(Simulador!$E$7=\"Autopatrocínio\",Simulador!$C$10,Simulador!$C$9)-Simulador!$C$8)*12,A719=0),0,A719+1)","v":0},{"$f":"IF($A720=0,0,IF(INT($A719/12)-$A719/12=0,B719*(1+Simulador!$C$35),B719))","v":0},{"$f":"MAX(IF(A720=0,0,B720-IF(Simulador!$C$11=\"Individual\",0,Simulador!$C$14)),0)","v":0},null,0,0,0,0,0,0,null,0,0,0,0,0,0,null,0,0,0,0,0,null,{"$f":"IF(OR(Y719+1>(IF(AND(Simulador!$C$9<Simulador!$C$10,OR(Simulador!$E$7=\"Resgate\",Simulador!$E$7=\"Portabilidade\")),Simulador!$C$9,Simulador!$C$10)-Simulador!$C$8)*12,Y719=0),0,Y719+1)","v":716},{"$f":"IF($Y720=0,0,Z719*(1+Simulador!$D$34)+E720+L720)","v":0},{"$f":"IF($Y720=0,0,AA719*(1+Simulador!$D$34)+S720)","v":0},{"$f":"IF(OR(AB719+1>(IF(AND(Simulador!$C$9<Simulador!$C$10,OR(Simulador!$E$7=\"Resgate\",Simulador!$E$7=\"Portabilidade\")),Simulador!$C$9,Simulador!$C$50)-Simulador!$C$8)*12,AB719=0),0,AB719+1)","v":716},{"$f":"IF($AB720=0,0,AC719*(1+Simulador!$D$34)+F720+M720)","v":0},{"$f":"IF($AB720=0,0,AD719*(1+Simulador!$D$34)+T720)","v":0}]
[{"$f":"IF(OR(A720+1>(IF(Simulador!$E$7=\"Autopatrocínio\",Simulador!$C$10,Simulador!$C$9)-Simulador!$C$8)*12,A720=0),0,A720+1)","v":0},{"$f":"IF($A721=0,0,IF(INT($A720/12)-$A720/12=0,B720*(1+Simulador!$C$35),B720))","v":0},{"$f":"MAX(IF(A721=0,0,B721-IF(Simulador!$C$11=\"Individual\",0,Simulador!$C$14)),0)","v":0},null,0,0,0,0,0,0,null,0,0,0,0,0,0,null,0,0,0,0,0,null,{"$f":"IF(OR(Y720+1>(IF(AND(Simulador!$C$9<Simulador!$C$10,OR(Simulador!$E$7=\"Resgate\",Simulador!$E$7=\"Portabilidade\")),Simulador!$C$9,Simulador!$C$10)-Simulador!$C$8)*12,Y720=0),0,Y720+1)","v":717},{"$f":"IF($Y721=0,0,Z720*(1+Simulador!$D$34)+E721+L721)","v":0},{"$f":"IF($Y721=0,0,AA720*(1+Simulador!$D$34)+S721)","v":0},{"$f":"IF(OR(AB720+1>(IF(AND(Simulador!$C$9<Simulador!$C$10,OR(Simulador!$E$7=\"Resgate\",Simulador!$E$7=\"Portabilidade\")),Simulador!$C$9,Simulador!$C$50)-Simulador!$C$8)*12,AB720=0),0,AB720+1)","v":717},{"$f":"IF($AB721=0,0,AC720*(1+Simulador!$D$34)+F721+M721)","v":0},{"$f":"IF($AB721=0,0,AD720*(1+Simulador!$D$34)+T721)","v":0}]
[{"$f":"IF(OR(A721+1>(IF(Simulador!$E$7=\"Autopatrocínio\",Simulador!$C$10,Simulador!$C$9)-Simulador!$C$8)*12,A721=0),0,A721+1)","v":0},{"$f":"IF($A722=0,0,IF(INT($A721/12)-$A721/12=0,B721*(1+Simulador!$C$35),B721))","v":0},{"$f":"MAX(IF(A722=0,0,B722-IF(Simulador!$C$11=\"Individual\",0,Simulador!$C$14)),0)","v":0},null,0,0,0,0,0,0,null,0,0,0,0,0,0,null,0,0,0,0,0,null,{"$f":"IF(OR(Y721+1>(IF(AND(Simulador!$C$9<Simulador!$C$10,OR(Simulador!$E$7=\"Resgate\",Simulador!$E$7=\"Portabilidade\")),Simulador!$C$9,Simulador!$C$10)-Simulador!$C$8)*12,Y721=0),0,Y721+1)","v":718},{"$f":"IF($Y722=0,0,Z721*(1+Simulador!$D$34)+E722+L722)","v":0},{"$f":"IF($Y722=0,0,AA721*(1+Simulador!$D$34)+S722)","v":0},{"$f":"IF(OR(AB721+1>(IF(AND(Simulador!$C$9<Simulador!$C$10,OR(Simulador!$E$7=\"Resgate\",Simulador!$E$7=\"Portabilidade\")),Simulador!$C$9,Simulador!$C$50)-Simulador!$C$8)*12,AB721=0),0,AB721+1)","v":718},{"$f":"IF($AB722=0,0,AC721*(1+Simulador!$D$34)+F722+M722)","v":0},{"$f":"IF($AB722=0,0,AD721*(1+Simulador!$D$34)+T722)","v":0}]
[{"$f":"IF(OR(A722+1>(IF(Simulador!$E$7=\"Autopatrocínio\",Simulador!$C$10,Simulador!$C$9)-Simulador!$C$8)*12,A722=0),0,A722+1)","v":0},{"$f":"IF($A723=0,0,IF(INT($A722/12)-$A722/12=0,B722*(1+Simulador!$C$35),B722))","v":0},{"$f":"MAX(IF(A723=0,0,B723-IF(Simulador!$C$11=\"Individual\",0,Simulador!$C$14)),0)","v":0},null,0,0,0,0,0,0,null,0,0,0,0,0,0,null,0,0,0,0,0,null,{"$f":"IF(OR(Y722+1>(IF(AND(Simulador!$C$9<Simulador!$C$10,OR(Simulador!$E$7=\"Resgate\",Simulador!$E$7=\"Portabilidade\")),Simulador!$C$9,Simulador!$C$10)-Simulador!$C$8)*12,Y722=0),0,Y722+1)","v":719},{"$f":"IF($Y723=0,0,Z722*(1+Simulador!$D$34)+E723+L723)","v":0},{"$f":"IF($Y723=0,0,AA722*(1+Simulador!$D$34)+S723)","v":0},{"$f":"IF(OR(AB722+1>(IF(AND(Simulador!$C$9<Simulador!$C$10,OR(Simulador!$E$7=\"Resgate\",Simulador!$E$7=\"Portabilidade\")),Simulador!$C$9,Simulador!$C$50)-Simulador!$C$8)*12,AB722=0),0,AB722+1)","v":719},{"$f":"IF($AB723=0,0,AC722*(1+Simulador!$D$34)+F723+M723)","v":0},{"$f":"IF($AB723=0,0,AD722*(1+Simulador!$D$34)+T723)","v":0}]
[{"$f":"IF(OR(A723+1>(IF(Simulador!$E$7=\"Autopatrocínio\",Simulador!$C$10,Simulador!$C$9)-Simulador!$C$8)*12,A723=0),0,A723+1)","v":0},{"$f":"IF($A724=0,0,IF(INT($A723/12)-$A723/12=0,B723*(1+Simulador!$C$35),B723))","v":0},{"$f":"MAX(IF(A724=0,0,B724-IF(Simulador!$C$11=\"Individual\",0,Simulador!$C$14)),0)","v":0},null,0,0,0,0,0,0,null,0,0,0,0,0,0,null,0,0,0,0,0,null,{"$f":"IF(OR(Y723+1>(IF(AND(Simulador!$C$9<Simulador!$C$10,OR(Simulador!$E$7=\"Resgate\",Simulador!$E$7=\"Portabilidade\")),Simulador!$C$9,Simulador!$C$10)-Simulador!$C$8)*12,Y723=0),0,Y723+1)","v":720},{"$f":"IF($Y724=0,0,Z723*(1+Simulador!$D$34)+E724+L724)","v":0},{"$f":"IF($Y724=0,0,AA723*(1+Simulador!$D$34)+S724)","v":0},{"$f":"IF(OR(AB723+1>(IF(AND(Simulador!$C$9<Simulador!$C$10,OR(Simulador!$E$7=\"Resgate\",Simulador!$E$7=\"Portabilidade\")),Simulador!$C$9,Simulador!$C$50)-Simulador!$C$8)*12,AB723=0),0,AB723+1)","v":720},{"$f":"IF($AB724=0,0,AC723*(1+Simulador!$D$34)+F724+M724)","v":0},{"$f":"IF($AB724=0,0,AD723*(1+Simulador!$D$34)+T724)","v":0}]
[{"$f":"IF(OR(A724+1>(IF(Simulador!$E$7=\"Autopatrocínio\",Simulador!$C$10,Simulador!$C$9)-Simulador!$C$8)*12,A724=0),0,A724+1)","v":0},{"$f":"IF($A725=0,0,IF(INT($A724/12)-$A724/12=0,B724*(1+Simulador!$C$35),B724))","v":0},{"$f":"MAX(IF(A725=0,0,B725-IF(Simulador!$C$11=\"Individual\",0,Simulador!$C$14)),0)","v":0},null,0,0,0,0,0,0,null,0,0,0,0,0,0,null,0,0,0,0,0,null,{"$f":"IF(OR(Y724+1>(IF(AND(Simulador!$C$9<Simulador!$C$10,OR(Simulador!$E$7=\"Resgate\",Simulador!$E$7=\"Portabilidade\")),Simulador!$C$9,Simulador!$C$10)-Simulador!$C$8)*12,Y724=0),0,Y724+1)","v":0},{"$f":"IF($Y725=0,0,Z724*(1+Simulador!$D$34)+E725+L725)","v":0},{"$f":"IF($Y725=0,0,AA724*(1+Simulador!$D$34)+S725)","v":0},{"$f":"IF(OR(AB724+1>(IF(AND(Simulador!$C$9<Simulador!$C$10,OR(Simulador!$E$7=\"Resgate\",Simulador!$E$7=\"Portabilidade\")),Simulador!$C$9,Simulador!$C$50)-Simulador!$C$8)*12,AB724=0),0,AB724+1)","v":0},{"$f":"IF($AB725=0,0,AC724*(1+Simulador!$D$34)+F725+M725)","v":0},{"$f":"IF($AB725=0,0,AD724*(1+Simulador!$D$34)+T725)","v":0}]
[{"$f":"IF(OR(A725+1>(IF(Simulador!$E$7=\"Autopatrocínio\",Simulador!$C$10,Simulador!$C$9)-Simulador!$C$8)*12,A725=0),0,A725+1)","v":0},{"$f":"IF($A726=0,0,IF(INT($A725/12)-$A725/12=0,B725*(1+Simulador!$C$35),B725))","v":0},{"$f":"MAX(IF(A726=0,0,B726-IF(Simulador!$C$11=\"Individual\",0,Simulador!$C$14)),0)","v":0},null,0,0,0,0,0,0,null,0,0,0,0,0,0,null,0,0,0,0,0,null,{"$f":"IF(OR(Y725+1>(IF(AND(Simulador!$C$9<Simulador!$C$10,OR(Simulador!$E$7=\"Resgate\",Simulador!$E$7=\"Portabilidade\")),Simulador!$C$9,Simulador!$C$10)-Simulador!$C$8)*12,Y725=0),0,Y725+1)","v":0},{"$f":"IF($Y726=0,0,Z725*(1+Simulador!$D$34)+E726+L726)","v":0},{"$f":"IF($Y726=0,0,AA725*(1+Simulador!$D$34)+S726)","v":0},{"$f":"IF(OR(AB725+1>(IF(AND(Simulador!$C$9<Simulador!$C$10,OR(Simulador!$E$7=\"Resgate\",Simulador!$E$7=\"Portabilidade\")),Simulador!$C$9,Simulador!$C$50)-Simulador!$C$8)*12,AB725=0),0,AB725+1)","v":0},{"$f":"IF($AB726=0,0,AC725*(1+Simulador!$D$34)+F726+M726)","v":0},{"$f":"IF($AB726=0,0,AD725*(1+Simulador!$D$34)+T726)","v":0}]
[{"$f":"IF(OR(A726+1>(IF(Simulador!$E$7=\"Autopatrocínio\",Simulador!$C$10,Simulador!$C$9)-Simulador!$C$8)*12,A726=0),0,A726+1)","v":0},{"$f":"IF($A727=0,0,IF(INT($A726/12)-$A726/12=0,B726*(1+Simulador!$C$35),B726))","v":0},{"$f":"MAX(IF(A727=0,0,B727-IF(Simulador!$C$11=\"Individual\",0,Simulador!$C$14)),0)","v":0},null,0,0,0,0,0,0,null,0,0,0,0,0,0,null,0,0,0,0,0,null,{"$f":"IF(OR(Y726+1>(IF(AND(Simulador!$C$9<Simulador!$C$10,OR(Simulador!$E$7=\"Resgate\",Simulador!$E$7=\"Portabilidade\")),Simulador!$C$9,Simulador!$C$10)-Simulador!$C$8)*12,Y726=0),0,Y726+1)","v":0},{"$f":"IF($Y727=0,0,Z726*(1+Simulador!$D$34)+E727+L727)","v":0},{"$f":"IF($Y727=0,0,AA726*(1+Simulador!$D$34)+S727)","v":0},{"$f":"IF(OR(AB726+1>(IF(AND(Simulador!$C$9<Simulador!$C$10,OR(Simulador!$E$7=\"Resgate\",Simulador!$E$7=\"Portabilidade\")),Simulador!$C$9,Simulador!$C$50)-Simulador!$C$8)*12,AB726=0),0,AB726+1)","v":0},{"$f":"IF($AB727=0,0,AC726*(1+Simulador!$D$34)+F727+M727)","v":0},{"$f":"IF($AB727=0,0,AD726*(1+Simulador!$D$34)+T727)","v":0}]
[{"$f":"IF(OR(A727+1>(IF(Simulador!$E$7=\"Autopatrocínio\",Simulador!$C$10,Simulador!$C$9)-Simulador!$C$8)*12,A727=0),0,A727+1)","v":0},{"$f":"IF($A728=0,0,IF(INT($A727/12)-$A727/12=0,B727*(1+Simulador!$C$35),B727))","v":0},{"$f":"MAX(IF(A728=0,0,B728-IF(Simulador!$C$11=\"Individual\",0,Simulador!$C$14)),0)","v":0},null,0,0,0,0,0,0,null,0,0,0,0,0,0,null,0,0,0,0,0,null,{"$f":"IF(OR(Y727+1>(IF(AND(Simulador!$C$9<Simulador!$C$10,OR(Simulador!$E$7=\"Resgate\",Simulador!$E$7=\"Portabilidade\")),Simulador!$C$9,Simulador!$C$10)-Simulador!$C$8)*12,Y727=0),0,Y727+1)","v":0},{"$f":"IF($Y728=0,0,Z727*(1+Simulador!$D$34)+E728+L728)","v":0},{"$f":"IF($Y728=0,0,AA727*(1+Simulador!$D$34)+S728)","v":0},{"$f":"IF(OR(AB727+1>(IF(AND(Simulador!$C$9<Simulador!$C$10,OR(Simulador!$E$7=\"Resgate\",Simulador!$E$7=\"Portabilidade\")),Simulador!$C$9,Simulador!$C$50)-Simulador!$C$8)*12,AB727=0),0,AB727+1)","v":0},{"$f":"IF($AB728=0,0,AC727*(1+Simulador!$D$34)+F728+M728)","v":0},{"$f":"IF($AB728=0,0,AD727*(1+Simulador!$D$34)+T728)","v":0}]
[{"$f":"IF(OR(A728+1>(IF(Simulador!$E$7=\"Autopatrocínio\",Simulador!$C$10,Simulador!$C$9)-Simulador!$C$8)*12,A728=0),0,A728+1)","v":0},{"$f":"IF($A729=0,0,IF(INT($A728/12)-$A728/12=0,B728*(1+Simulador!$C$35),B728))","v":0},{"$f":"MAX(IF(A729=0,0,B729-IF(Simulador!$C$11=\"Individual\",0,Simulador!$C$14)),0)","v":0},null,0,0,0,0,0,0,null,0,0,0,0,0,0,null,0,0,0,0,0,null,{"$f":"IF(OR(Y728+1>(IF(AND(Simulador!$C$9<Simulador!$C$10,OR(Simulador!$E$7=\"Resgate\",Simulador!$E$7=\"Portabilidade\")),Simulador!$C$9,Simulador!$C$10)-Simulador!$C$8)*12,Y728=0),0,Y728+1)","v":0},{"$f":"IF($Y729=0,0,Z728*(1+Simulador!$D$34)+E729+L729)","v":0},{"$f":"IF($Y729=0,0,AA728*(1+Simulador!$D$34)+S729)","v":0},{"$f":"IF(OR(AB728+1>(IF(AND(Simulador!$C$9<Simulador!$C$10,OR(Simulador!$E$7=\"Resgate\",Simulador!$E$7=\"Portabilidade\")),Simulador!$C$9,Simulador!$C$50)-Simulador!$C$8)*12,AB728=0),0,AB728+1)","v":0},{"$f":"IF($AB729=0,0,AC728*(1+Simulador!$D$34)+F729+M729)","v":0},{"$f":"IF($AB729=0,0,AD728*(1+Simulador!$D$34)+T729)","v":0}]
[{"$f":"IF(OR(A729+1>(IF(Simulador!$E$7=\"Autopatrocínio\",Simulador!$C$10,Simulador!$C$9)-Simulador!$C$8)*12,A729=0),0,A729+1)","v":0},{"$f":"IF($A730=0,0,IF(INT($A729/12)-$A729/12=0,B729*(1+Simulador!$C$35),B729))","v":0},{"$f":"MAX(IF(A730=0,0,B730-IF(Simulador!$C$11=\"Individual\",0,Simulador!$C$14)),0)","v":0},null,0,0,0,0,0,0,null,0,0,0,0,0,0,null,0,0,0,0,0,null,{"$f":"IF(OR(Y729+1>(IF(AND(Simulador!$C$9<Simulador!$C$10,OR(Simulador!$E$7=\"Resgate\",Simulador!$E$7=\"Portabilidade\")),Simulador!$C$9,Simulador!$C$10)-Simulador!$C$8)*12,Y729=0),0,Y729+1)","v":0},{"$f":"IF($Y730=0,0,Z729*(1+Simulador!$D$34)+E730+L730)","v":0},{"$f":"IF($Y730=0,0,AA729*(1+Simulador!$D$34)+S730)","v":0},{"$f":"IF(OR(AB729+1>(IF(AND(Simulador!$C$9<Simulador!$C$10,OR(Simulador!$E$7=\"Resgate\",Simulador!$E$7=\"Portabilidade\")),Simulador!$C$9,Simulador!$C$50)-Simulador!$C$8)*12,AB729=0),0,AB729+1)","v":0},{"$f":"IF($AB730=0,0,AC729*(1+Simulador!$D$34)+F730+M730)","v":0},{"$f":"IF($AB730=0,0,AD729*(1+Simulador!$D$34)+T730)","v":0}]
[{"$f":"IF(OR(A730+1>(IF(Simulador!$E$7=\"Autopatrocínio\",Simulador!$C$10,Simulador!$C$9)-Simulador!$C$8)*12,A730=0),0,A730+1)","v":0},{"$f":"IF($A731=0,0,IF(INT($A730/12)-$A730/12=0,B730*(1+Simulador!$C$35),B730))","v":0},{"$f":"MAX(IF(A731=0,0,B731-IF(Simulador!$C$11=\"Individual\",0,Simulador!$C$14)),0)","v":0},null,0,0,0,0,0,0,null,0,0,0,0,0,0,null,0,0,0,0,0,null,{"$f":"IF(OR(Y730+1>(IF(AND(Simulador!$C$9<Simulador!$C$10,OR(Simulador!$E$7=\"Resgate\",Simulador!$E$7=\"Portabilidade\")),Simulador!$C$9,Simulador!$C$10)-Simulador!$C$8)*12,Y730=0),0,Y730+1)","v":0},{"$f":"IF($Y731=0,0,Z730*(1+Simulador!$D$34)+E731+L731)","v":0},{"$f":"IF($Y731=0,0,AA730*(1+Simulador!$D$34)+S731)","v":0},{"$f":"IF(OR(AB730+1>(IF(AND(Simulador!$C$9<Simulador!$C$10,OR(Simulador!$E$7=\"Resgate\",Simulador!$E$7=\"Portabilidade\")),Simulador!$C$9,Simulador!$C$50)-Simulador!$C$8)*12,AB730=0),0,AB730+1)","v":0},{"$f":"IF($AB731=0,0,AC730*(1+Simulador!$D$34)+F731+M731)","v":0},{"$f":"IF($AB731=0,0,AD730*(1+Simulador!$D$34)+T731)","v":0}]
[{"$f":"IF(OR(A731+1>(IF(Simulador!$E$7=\"Autopatrocínio\",Simulador!$C$10,Simulador!$C$9)-Simulador!$C$8)*12,A731=0),0,A731+1)","v":0},{"$f":"IF($A732=0,0,IF(INT($A731/12)-$A731/12=0,B731*(1+Simulador!$C$35),B731))","v":0},{"$f":"MAX(IF(A732=0,0,B732-IF(Simulador!$C$11=\"Individual\",0,Simulador!$C$14)),0)","v":0},null,0,0,0,0,0,0,null,0,0,0,0,0,0,null,0,0,0,0,0,null,{"$f":"IF(OR(Y731+1>(IF(AND(Simulador!$C$9<Simulador!$C$10,OR(Simulador!$E$7=\"Resgate\",Simulador!$E$7=\"Portabilidade\")),Simulador!$C$9,Simulador!$C$10)-Simulador!$C$8)*12,Y731=0),0,Y731+1)","v":0},{"$f":"IF($Y732=0,0,Z731*(1+Simulador!$D$34)+E732+L732)","v":0},{"$f":"IF($Y732=0,0,AA731*(1+Simulador!$D$34)+S732)","v":0},{"$f":"IF(OR(AB731+1>(IF(AND(Simulador!$C$9<Simulador!$C$10,OR(Simulador!$E$7=\"Resgate\",Simulador!$E$7=\"Portabilidade\")),Simulador!$C$9,Simulador!$C$50)-Simulador!$C$8)*12,AB731=0),0,AB731+1)","v":0},{"$f":"IF($AB732=0,0,AC731*(1+Simulador!$D$34)+F732+M732)","v":0},{"$f":"IF($AB732=0,0,AD731*(1+Simulador!$D$34)+T732)","v":0}]
[{"$f":"IF(OR(A732+1>(IF(Simulador!$E$7=\"Autopatrocínio\",Simulador!$C$10,Simulador!$C$9)-Simulador!$C$8)*12,A732=0),0,A732+1)","v":0},{"$f":"IF($A733=0,0,IF(INT($A732/12)-$A732/12=0,B732*(1+Simulador!$C$35),B732))","v":0},{"$f":"MAX(IF(A733=0,0,B733-IF(Simulador!$C$11=\"Individual\",0,Simulador!$C$14)),0)","v":0},null,0,0,0,0,0,0,null,0,0,0,0,0,0,null,0,0,0,0,0,null,{"$f":"IF(OR(Y732+1>(IF(AND(Simulador!$C$9<Simulador!$C$10,OR(Simulador!$E$7=\"Resgate\",Simulador!$E$7=\"Portabilidade\")),Simulador!$C$9,Simulador!$C$10)-Simulador!$C$8)*12,Y732=0),0,Y732+1)","v":0},{"$f":"IF($Y733=0,0,Z732*(1+Simulador!$D$34)+E733+L733)","v":0},{"$f":"IF($Y733=0,0,AA732*(1+Simulador!$D$34)+S733)","v":0},{"$f":"IF(OR(AB732+1>(IF(AND(Simulador!$C$9<Simulador!$C$10,OR(Simulador!$E$7=\"Resgate\",Simulador!$E$7=\"Portabilidade\")),Simulador!$C$9,Simulador!$C$50)-Simulador!$C$8)*12,AB732=0),0,AB732+1)","v":0},{"$f":"IF($AB733=0,0,AC732*(1+Simulador!$D$34)+F733+M733)","v":0},{"$f":"IF($AB733=0,0,AD732*(1+Simulador!$D$34)+T733)","v":0}]
[{"$f":"IF(OR(A733+1>(IF(Simulador!$E$7=\"Autopatrocínio\",Simulador!$C$10,Simulador!$C$9)-Simulador!$C$8)*12,A733=0),0,A733+1)","v":0},{"$f":"IF($A734=0,0,IF(INT($A733/12)-$A733/12=0,B733*(1+Simulador!$C$35),B733))","v":0},{"$f":"MAX(IF(A734=0,0,B734-IF(Simulador!$C$11=\"Individual\",0,Simulador!$C$14)),0)","v":0},null,0,0,0,0,0,0,null,0,0,0,0,0,0,null,0,0,0,0,0,null,{"$f":"IF(OR(Y733+1>(IF(AND(Simulador!$C$9<Simulador!$C$10,OR(Simulador!$E$7=\"Resgate\",Simulador!$E$7=\"Portabilidade\")),Simulador!$C$9,Simulador!$C$10)-Simulador!$C$8)*12,Y733=0),0,Y733+1)","v":0},{"$f":"IF($Y734=0,0,Z733*(1+Simulador!$D$34)+E734+L734)","v":0},{"$f":"IF($Y734=0,0,AA733*(1+Simulador!$D$34)+S734)","v":0},{"$f":"IF(OR(AB733+1>(IF(AND(Simulador!$C$9<Simulador!$C$10,OR(Simulador!$E$7=\"Resgate\",Simulador!$E$7=\"Portabilidade\")),Simulador!$C$9,Simulador!$C$50)-Simulador!$C$8)*12,AB733=0),0,AB733+1)","v":0},{"$f":"IF($AB734=0,0,AC733*(1+Simulador!$D$34)+F734+M734)","v":0},{"$f":"IF($AB734=0,0,AD733*(1+Simulador!$D$34)+T734)","v":0}]
[{"$f":"IF(OR(A734+1>(IF(Simulador!$E$7=\"Autopatrocínio\",Simulador!$C$10,Simulador!$C$9)-Simulador!$C$8)*12,A734=0),0,A734+1)","v":0},{"$f":"IF($A735=0,0,IF(INT($A734/12)-$A734/12=0,B734*(1+Simulador!$C$35),B734))","v":0},{"$f":"MAX(IF(A735=0,0,B735-IF(Simulador!$C$11=\"Individual\",0,Simulador!$C$14)),0)","v":0},null,0,0,0,0,0,0,null,0,0,0,0,0,0,null,0,0,0,0,0,null,{"$f":"IF(OR(Y734+1>(IF(AND(Simulador!$C$9<Simulador!$C$10,OR(Simulador!$E$7=\"Resgate\",Simulador!$E$7=\"Portabilidade\")),Simulador!$C$9,Simulador!$C$10)-Simulador!$C$8)*12,Y734=0),0,Y734+1)","v":0},{"$f":"IF($Y735=0,0,Z734*(1+Simulador!$D$34)+E735+L735)","v":0},{"$f":"IF($Y735=0,0,AA734*(1+Simulador!$D$34)+S735)","v":0},{"$f":"IF(OR(AB734+1>(IF(AND(Simulador!$C$9<Simulador!$C$10,OR(Simulador!$E$7=\"Resgate\",Simulador!$E$7=\"Portabilidade\")),Simulador!$C$9,Simulador!$C$50)-Simulador!$C$8)*12,AB734=0),0,AB734+1)","v":0},{"$f":"IF($AB735=0,0,AC734*(1+Simulador!$D$34)+F735+M735)","v":0},{"$f":"IF($AB735=0,0,AD734*(1+Simulador!$D$34)+T735)","v":0}]
[{"$f":"IF(OR(A735+1>(IF(Simulador!$E$7=\"Autopatrocínio\",Simulador!$C$10,Simulador!$C$9)-Simulador!$C$8)*12,A735=0),0,A735+1)","v":0},{"$f":"IF($A736=0,0,IF(INT($A735/12)-$A735/12=0,B735*(1+Simulador!$C$35),B735))","v":0},{"$f":"MAX(IF(A736=0,0,B736-IF(Simulador!$C$11=\"Individual\",0,Simulador!$C$14)),0)","v":0},null,0,0,0,0,0,0,null,0,0,0,0,0,0,null,0,0,0,0,0,null,{"$f":"IF(OR(Y735+1>(IF(AND(Simulador!$C$9<Simulador!$C$10,OR(Simulador!$E$7=\"Resgate\",Simulador!$E$7=\"Portabilidade\")),Simulador!$C$9,Simulador!$C$10)-Simulador!$C$8)*12,Y735=0),0,Y735+1)","v":0},{"$f":"IF($Y736=0,0,Z735*(1+Simulador!$D$34)+E736+L736)","v":0},{"$f":"IF($Y736=0,0,AA735*(1+Simulador!$D$34)+S736)","v":0},{"$f":"IF(OR(AB735+1>(IF(AND(Simulador!$C$9<Simulador!$C$10,OR(Simulador!$E$7=\"Resgate\",Simulador!$E$7=\"Portabilidade\")),Simulador!$C$9,Simulador!$C$50)-Simulador!$C$8)*12,AB735=0),0,AB735+1)","v":0},{"$f":"IF($AB736=0,0,AC735*(1+Simulador!$D$34)+F736+M736)","v":0},{"$f":"IF($AB736=0,0,AD735*(1+Simulador!$D$34)+T736)","v":0}]
[{"$f":"IF(OR(A736+1>(IF(Simulador!$E$7=\"Autopatrocínio\",Simulador!$C$10,Simulador!$C$9)-Simulador!$C$8)*12,A736=0),0,A736+1)","v":0},{"$f":"IF($A737=0,0,IF(INT($A736/12)-$A736/12=0,B736*(1+Simulador!$C$35),B736))","v":0},{"$f":"MAX(IF(A737=0,0,B737-IF(Simulador!$C$11=\"Individual\",0,Simulador!$C$14)),0)","v":0},null,0,0,0,0,0,0,null,0,0,0,0,0,0,null,0,0,0,0,0,null,{"$f":"IF(OR(Y736+1>(IF(AND(Simulador!$C$9<Simulador!$C$10,OR(Simulador!$E$7=\"Resgate\",Simulador!$E$7=\"Portabilidade\")),Simulador!$C$9,Simulador!$C$10)-Simulador!$C$8)*12,Y736=0),0,Y736+1)","v":0},{"$f":"IF($Y737=0,0,Z736*(1+Simulador!$D$34)+E737+L737)","v":0},{"$f":"IF($Y737=0,0,AA736*(1+Simulador!$D$34)+S737)","v":0},{"$f":"IF(OR(AB736+1>(IF(AND(Simulador!$C$9<Simulador!$C$10,OR(Simulador!$E$7=\"Resgate\",Simulador!$E$7=\"Portabilidade\")),Simulador!$C$9,Simulador!$C$50)-Simulador!$C$8)*12,AB736=0),0,AB736+1)","v":0},{"$f":"IF($AB737=0,0,AC736*(1+Simulador!$D$34)+F737+M737)","v":0},{"$f":"IF($AB737=0,0,AD736*(1+Simulador!$D$34)+T737)","v":0}]
[{"$f":"IF(OR(A737+1>(IF(Simulador!$E$7=\"Autopatrocínio\",Simulador!$C$10,Simulador!$C$9)-Simulador!$C$8)*12,A737=0),0,A737+1)","v":0},{"$f":"IF($A738=0,0,IF(INT($A737/12)-$A737/12=0,B737*(1+Simulador!$C$35),B737))","v":0},{"$f":"MAX(IF(A738=0,0,B738-IF(Simulador!$C$11=\"Individual\",0,Simulador!$C$14)),0)","v":0},null,0,0,0,0,0,0,null,0,0,0,0,0,0,null,0,0,0,0,0,null,{"$f":"IF(OR(Y737+1>(IF(AND(Simulador!$C$9<Simulador!$C$10,OR(Simulador!$E$7=\"Resgate\",Simulador!$E$7=\"Portabilidade\")),Simulador!$C$9,Simulador!$C$10)-Simulador!$C$8)*12,Y737=0),0,Y737+1)","v":0},{"$f":"IF($Y738=0,0,Z737*(1+Simulador!$D$34)+E738+L738)","v":0},{"$f":"IF($Y738=0,0,AA737*(1+Simulador!$D$34)+S738)","v":0},{"$f":"IF(OR(AB737+1>(IF(AND(Simulador!$C$9<Simulador!$C$10,OR(Simulador!$E$7=\"Resgate\",Simulador!$E$7=\"Portabilidade\")),Simulador!$C$9,Simulador!$C$50)-Simulador!$C$8)*12,AB737=0),0,AB737+1)","v":0},{"$f":"IF($AB738=0,0,AC737*(1+Simulador!$D$34)+F738+M738)","v":0},{"$f":"IF($AB738=0,0,AD737*(1+Simulador!$D$34)+T738)","v":0}]
[{"$f":"IF(OR(A738+1>(IF(Simulador!$E$7=\"Autopatrocínio\",Simulador!$C$10,Simulador!$C$9)-Simulador!$C$8)*12,A738=0),0,A738+1)","v":0},{"$f":"IF($A739=0,0,IF(INT($A738/12)-$A738/12=0,B738*(1+Simulador!$C$35),B738))","v":0},{"$f":"MAX(IF(A739=0,0,B739-IF(Simulador!$C$11=\"Individual\",0,Simulador!$C$14)),0)","v":0},null,0,0,0,0,0,0,null,0,0,0,0,0,0,null,0,0,0,0,0,null,{"$f":"IF(OR(Y738+1>(IF(AND(Simulador!$C$9<Simulador!$C$10,OR(Simulador!$E$7=\"Resgate\",Simulador!$E$7=\"Portabilidade\")),Simulador!$C$9,Simulador!$C$10)-Simulador!$C$8)*12,Y738=0),0,Y738+1)","v":0},{"$f":"IF($Y739=0,0,Z738*(1+Simulador!$D$34)+E739+L739)","v":0},{"$f":"IF($Y739=0,0,AA738*(1+Simulador!$D$34)+S739)","v":0},{"$f":"IF(OR(AB738+1>(IF(AND(Simulador!$C$9<Simulador!$C$10,OR(Simulador!$E$7=\"Resgate\",Simulador!$E$7=\"Portabilidade\")),Simulador!$C$9,Simulador!$C$50)-Simulador!$C$8)*12,AB738=0),0,AB738+1)","v":0},{"$f":"IF($AB739=0,0,AC738*(1+Simulador!$D$34)+F739+M739)","v":0},{"$f":"IF($AB739=0,0,AD738*(1+Simulador!$D$34)+T739)","v":0}]
[{"$f":"IF(OR(A739+1>(IF(Simulador!$E$7=\"Autopatrocínio\",Simulador!$C$10,Simulador!$C$9)-Simulador!$C$8)*12,A739=0),0,A739+1)","v":0},{"$f":"IF($A740=0,0,IF(INT($A739/12)-$A739/12=0,B739*(1+Simulador!$C$35),B739))","v":0},{"$f":"MAX(IF(A740=0,0,B740-IF(Simulador!$C$11=\"Individual\",0,Simulador!$C$14)),0)","v":0},null,0,0,0,0,0,0,null,0,0,0,0,0,0,null,0,0,0,0,0,null,{"$f":"IF(OR(Y739+1>(IF(AND(Simulador!$C$9<Simulador!$C$10,OR(Simulador!$E$7=\"Resgate\",Simulador!$E$7=\"Portabilidade\")),Simulador!$C$9,Simulador!$C$10)-Simulador!$C$8)*12,Y739=0),0,Y739+1)","v":0},{"$f":"IF($Y740=0,0,Z739*(1+Simulador!$D$34)+E740+L740)","v":0},{"$f":"IF($Y740=0,0,AA739*(1+Simulador!$D$34)+S740)","v":0},{"$f":"IF(OR(AB739+1>(IF(AND(Simulador!$C$9<Simulador!$C$10,OR(Simulador!$E$7=\"Resgate\",Simulador!$E$7=\"Portabilidade\")),Simulador!$C$9,Simulador!$C$50)-Simulador!$C$8)*12,AB739=0),0,AB739+1)","v":0},{"$f":"IF($AB740=0,0,AC739*(1+Simulador!$D$34)+F740+M740)","v":0},{"$f":"IF($AB740=0,0,AD739*(1+Simulador!$D$34)+T740)","v":0}]
[{"$f":"IF(OR(A740+1>(IF(Simulador!$E$7=\"Autopatrocínio\",Simulador!$C$10,Simulador!$C$9)-Simulador!$C$8)*12,A740=0),0,A740+1)","v":0},{"$f":"IF($A741=0,0,IF(INT($A740/12)-$A740/12=0,B740*(1+Simulador!$C$35),B740))","v":0},{"$f":"MAX(IF(A741=0,0,B741-IF(Simulador!$C$11=\"Individual\",0,Simulador!$C$14)),0)","v":0},null,0,0,0,0,0,0,null,0,0,0,0,0,0,null,0,0,0,0,0,null,{"$f":"IF(OR(Y740+1>(IF(AND(Simulador!$C$9<Simulador!$C$10,OR(Simulador!$E$7=\"Resgate\",Simulador!$E$7=\"Portabilidade\")),Simulador!$C$9,Simulador!$C$10)-Simulador!$C$8)*12,Y740=0),0,Y740+1)","v":0},{"$f":"IF($Y741=0,0,Z740*(1+Simulador!$D$34)+E741+L741)","v":0},{"$f":"IF($Y741=0,0,AA740*(1+Simulador!$D$34)+S741)","v":0},{"$f":"IF(OR(AB740+1>(IF(AND(Simulador!$C$9<Simulador!$C$10,OR(Simulador!$E$7=\"Resgate\",Simulador!$E$7=\"Portabilidade\")),Simulador!$C$9,Simulador!$C$50)-Simulador!$C$8)*12,AB740=0),0,AB740+1)","v":0},{"$f":"IF($AB741=0,0,AC740*(1+Simulador!$D$34)+F741+M741)","v":0},{"$f":"IF($AB741=0,0,AD740*(1+Simulador!$D$34)+T741)","v":0}]
[{"$f":"IF(OR(A741+1>(IF(Simulador!$E$7=\"Autopatrocínio\",Simulador!$C$10,Simulador!$C$9)-Simulador!$C$8)*12,A741=0),0,A741+1)","v":0},{"$f":"IF($A742=0,0,IF(INT($A741/12)-$A741/12=0,B741*(1+Simulador!$C$35),B741))","v":0},{"$f":"MAX(IF(A742=0,0,B742-IF(Simulador!$C$11=\"Individual\",0,Simulador!$C$14)),0)","v":0},null,0,0,0,0,0,0,null,0,0,0,0,0,0,null,0,0,0,0,0,null,{"$f":"IF(OR(Y741+1>(IF(AND(Simulador!$C$9<Simulador!$C$10,OR(Simulador!$E$7=\"Resgate\",Simulador!$E$7=\"Portabilidade\")),Simulador!$C$9,Simulador!$C$10)-Simulador!$C$8)*12,Y741=0),0,Y741+1)","v":0},{"$f":"IF($Y742=0,0,Z741*(1+Simulador!$D$34)+E742+L742)","v":0},{"$f":"IF($Y742=0,0,AA741*(1+Simulador!$D$34)+S742)","v":0},{"$f":"IF(OR(AB741+1>(IF(AND(Simulador!$C$9<Simulador!$C$10,OR(Simulador!$E$7=\"Resgate\",Simulador!$E$7=\"Portabilidade\")),Simulador!$C$9,Simulador!$C$50)-Simulador!$C$8)*12,AB741=0),0,AB741+1)","v":0},{"$f":"IF($AB742=0,0,AC741*(1+Simulador!$D$34)+F742+M742)","v":0},{"$f":"IF($AB742=0,0,AD741*(1+Simulador!$D$34)+T742)","v":0}]
[{"$f":"IF(OR(A742+1>(IF(Simulador!$E$7=\"Autopatrocínio\",Simulador!$C$10,Simulador!$C$9)-Simulador!$C$8)*12,A742=0),0,A742+1)","v":0},{"$f":"IF($A743=0,0,IF(INT($A742/12)-$A742/12=0,B742*(1+Simulador!$C$35),B742))","v":0},{"$f":"MAX(IF(A743=0,0,B743-IF(Simulador!$C$11=\"Individual\",0,Simulador!$C$14)),0)","v":0},null,0,0,0,0,0,0,null,0,0,0,0,0,0,null,0,0,0,0,0,null,{"$f":"IF(OR(Y742+1>(IF(AND(Simulador!$C$9<Simulador!$C$10,OR(Simulador!$E$7=\"Resgate\",Simulador!$E$7=\"Portabilidade\")),Simulador!$C$9,Simulador!$C$10)-Simulador!$C$8)*12,Y742=0),0,Y742+1)","v":0},{"$f":"IF($Y743=0,0,Z742*(1+Simulador!$D$34)+E743+L743)","v":0},{"$f":"IF($Y743=0,0,AA742*(1+Simulador!$D$34)+S743)","v":0},{"$f":"IF(OR(AB742+1>(IF(AND(Simulador!$C$9<Simulador!$C$10,OR(Simulador!$E$7=\"Resgate\",Simulador!$E$7=\"Portabilidade\")),Simulador!$C$9,Simulador!$C$50)-Simulador!$C$8)*12,AB742=0),0,AB742+1)","v":0},{"$f":"IF($AB743=0,0,AC742*(1+Simulador!$D$34)+F743+M743)","v":0},{"$f":"IF($AB743=0,0,AD742*(1+Simulador!$D$34)+T743)","v":0}]
[{"$f":"IF(OR(A743+1>(IF(Simulador!$E$7=\"Autopatrocínio\",Simulador!$C$10,Simulador!$C$9)-Simulador!$C$8)*12,A743=0),0,A743+1)","v":0},{"$f":"IF($A744=0,0,IF(INT($A743/12)-$A743/12=0,B743*(1+Simulador!$C$35),B743))","v":0},{"$f":"MAX(IF(A744=0,0,B744-IF(Simulador!$C$11=\"Individual\",0,Simulador!$C$14)),0)","v":0},null,0,0,0,0,0,0,null,0,0,0,0,0,0,null,0,0,0,0,0,null,{"$f":"IF(OR(Y743+1>(IF(AND(Simulador!$C$9<Simulador!$C$10,OR(Simulador!$E$7=\"Resgate\",Simulador!$E$7=\"Portabilidade\")),Simulador!$C$9,Simulador!$C$10)-Simulador!$C$8)*12,Y743=0),0,Y743+1)","v":0},{"$f":"IF($Y744=0,0,Z743*(1+Simulador!$D$34)+E744+L744)","v":0},{"$f":"IF($Y744=0,0,AA743*(1+Simulador!$D$34)+S744)","v":0},{"$f":"IF(OR(AB743+1>(IF(AND(Simulador!$C$9<Simulador!$C$10,OR(Simulador!$E$7=\"Resgate\",Simulador!$E$7=\"Portabilidade\")),Simulador!$C$9,Simulador!$C$50)-Simulador!$C$8)*12,AB743=0),0,AB743+1)","v":0},{"$f":"IF($AB744=0,0,AC743*(1+Simulador!$D$34)+F744+M744)","v":0},{"$f":"IF($AB744=0,0,AD743*(1+Simulador!$D$34)+T744)","v":0}]
[{"$f":"IF(OR(A744+1>(IF(Simulador!$E$7=\"Autopatrocínio\",Simulador!$C$10,Simulador!$C$9)-Simulador!$C$8)*12,A744=0),0,A744+1)","v":0},{"$f":"IF($A745=0,0,IF(INT($A744/12)-$A744/12=0,B744*(1+Simulador!$C$35),B744))","v":0},{"$f":"MAX(IF(A745=0,0,B745-IF(Simulador!$C$11=\"Individual\",0,Simulador!$C$14)),0)","v":0},null,0,0,0,0,0,0,null,0,0,0,0,0,0,null,0,0,0,0,0,null,{"$f":"IF(OR(Y744+1>(IF(AND(Simulador!$C$9<Simulador!$C$10,OR(Simulador!$E$7=\"Resgate\",Simulador!$E$7=\"Portabilidade\")),Simulador!$C$9,Simulador!$C$10)-Simulador!$C$8)*12,Y744=0),0,Y744+1)","v":0},{"$f":"IF($Y745=0,0,Z744*(1+Simulador!$D$34)+E745+L745)","v":0},{"$f":"IF($Y745=0,0,AA744*(1+Simulador!$D$34)+S745)","v":0},{"$f":"IF(OR(AB744+1>(IF(AND(Simulador!$C$9<Simulador!$C$10,OR(Simulador!$E$7=\"Resgate\",Simulador!$E$7=\"Portabilidade\")),Simulador!$C$9,Simulador!$C$50)-Simulador!$C$8)*12,AB744=0),0,AB744+1)","v":0},{"$f":"IF($AB745=0,0,AC744*(1+Simulador!$D$34)+F745+M745)","v":0},{"$f":"IF($AB745=0,0,AD744*(1+Simulador!$D$34)+T745)","v":0}]
[{"$f":"IF(OR(A745+1>(IF(Simulador!$E$7=\"Autopatrocínio\",Simulador!$C$10,Simulador!$C$9)-Simulador!$C$8)*12,A745=0),0,A745+1)","v":0},{"$f":"IF($A746=0,0,IF(INT($A745/12)-$A745/12=0,B745*(1+Simulador!$C$35),B745))","v":0},{"$f":"MAX(IF(A746=0,0,B746-IF(Simulador!$C$11=\"Individual\",0,Simulador!$C$14)),0)","v":0},null,0,0,0,0,0,0,null,0,0,0,0,0,0,null,0,0,0,0,0,null,{"$f":"IF(OR(Y745+1>(IF(AND(Simulador!$C$9<Simulador!$C$10,OR(Simulador!$E$7=\"Resgate\",Simulador!$E$7=\"Portabilidade\")),Simulador!$C$9,Simulador!$C$10)-Simulador!$C$8)*12,Y745=0),0,Y745+1)","v":0},{"$f":"IF($Y746=0,0,Z745*(1+Simulador!$D$34)+E746+L746)","v":0},{"$f":"IF($Y746=0,0,AA745*(1+Simulador!$D$34)+S746)","v":0},{"$f":"IF(OR(AB745+1>(IF(AND(Simulador!$C$9<Simulador!$C$10,OR(Simulador!$E$7=\"Resgate\",Simulador!$E$7=\"Portabilidade\")),Simulador!$C$9,Simulador!$C$50)-Simulador!$C$8)*12,AB745=0),0,AB745+1)","v":0},{"$f":"IF($AB746=0,0,AC745*(1+Simulador!$D$34)+F746+M746)","v":0},{"$f":"IF($AB746=0,0,AD745*(1+Simulador!$D$34)+T746)","v":0}]
[{"$f":"IF(OR(A746+1>(IF(Simulador!$E$7=\"Autopatrocínio\",Simulador!$C$10,Simulador!$C$9)-Simulador!$C$8)*12,A746=0),0,A746+1)","v":0},{"$f":"IF($A747=0,0,IF(INT($A746/12)-$A746/12=0,B746*(1+Simulador!$C$35),B746))","v":0},{"$f":"MAX(IF(A747=0,0,B747-IF(Simulador!$C$11=\"Individual\",0,Simulador!$C$14)),0)","v":0},null,0,0,0,0,0,0,null,0,0,0,0,0,0,null,0,0,0,0,0,null,{"$f":"IF(OR(Y746+1>(IF(AND(Simulador!$C$9<Simulador!$C$10,OR(Simulador!$E$7=\"Resgate\",Simulador!$E$7=\"Portabilidade\")),Simulador!$C$9,Simulador!$C$10)-Simulador!$C$8)*12,Y746=0),0,Y746+1)","v":0},{"$f":"IF($Y747=0,0,Z746*(1+Simulador!$D$34)+E747+L747)","v":0},{"$f":"IF($Y747=0,0,AA746*(1+Simulador!$D$34)+S747)","v":0},{"$f":"IF(OR(AB746+1>(IF(AND(Simulador!$C$9<Simulador!$C$10,OR(Simulador!$E$7=\"Resgate\",Simulador!$E$7=\"Portabilidade\")),Simulador!$C$9,Simulador!$C$50)-Simulador!$C$8)*12,AB746=0),0,AB746+1)","v":0},{"$f":"IF($AB747=0,0,AC746*(1+Simulador!$D$34)+F747+M747)","v":0},{"$f":"IF($AB747=0,0,AD746*(1+Simulador!$D$34)+T747)","v":0}]
[{"$f":"IF(OR(A747+1>(IF(Simulador!$E$7=\"Autopatrocínio\",Simulador!$C$10,Simulador!$C$9)-Simulador!$C$8)*12,A747=0),0,A747+1)","v":0},{"$f":"IF($A748=0,0,IF(INT($A747/12)-$A747/12=0,B747*(1+Simulador!$C$35),B747))","v":0},{"$f":"MAX(IF(A748=0,0,B748-IF(Simulador!$C$11=\"Individual\",0,Simulador!$C$14)),0)","v":0},null,0,0,0,0,0,0,null,0,0,0,0,0,0,null,0,0,0,0,0,null,{"$f":"IF(OR(Y747+1>(IF(AND(Simulador!$C$9<Simulador!$C$10,OR(Simulador!$E$7=\"Resgate\",Simulador!$E$7=\"Portabilidade\")),Simulador!$C$9,Simulador!$C$10)-Simulador!$C$8)*12,Y747=0),0,Y747+1)","v":0},{"$f":"IF($Y748=0,0,Z747*(1+Simulador!$D$34)+E748+L748)","v":0},{"$f":"IF($Y748=0,0,AA747*(1+Simulador!$D$34)+S748)","v":0},{"$f":"IF(OR(AB747+1>(IF(AND(Simulador!$C$9<Simulador!$C$10,OR(Simulador!$E$7=\"Resgate\",Simulador!$E$7=\"Portabilidade\")),Simulador!$C$9,Simulador!$C$50)-Simulador!$C$8)*12,AB747=0),0,AB747+1)","v":0},{"$f":"IF($AB748=0,0,AC747*(1+Simulador!$D$34)+F748+M748)","v":0},{"$f":"IF($AB748=0,0,AD747*(1+Simulador!$D$34)+T748)","v":0}]
[{"$f":"IF(OR(A748+1>(IF(Simulador!$E$7=\"Autopatrocínio\",Simulador!$C$10,Simulador!$C$9)-Simulador!$C$8)*12,A748=0),0,A748+1)","v":0},{"$f":"IF($A749=0,0,IF(INT($A748/12)-$A748/12=0,B748*(1+Simulador!$C$35),B748))","v":0},{"$f":"MAX(IF(A749=0,0,B749-IF(Simulador!$C$11=\"Individual\",0,Simulador!$C$14)),0)","v":0},null,0,0,0,0,0,0,null,0,0,0,0,0,0,null,0,0,0,0,0,null,{"$f":"IF(OR(Y748+1>(IF(AND(Simulador!$C$9<Simulador!$C$10,OR(Simulador!$E$7=\"Resgate\",Simulador!$E$7=\"Portabilidade\")),Simulador!$C$9,Simulador!$C$10)-Simulador!$C$8)*12,Y748=0),0,Y748+1)","v":0},{"$f":"IF($Y749=0,0,Z748*(1+Simulador!$D$34)+E749+L749)","v":0},{"$f":"IF($Y749=0,0,AA748*(1+Simulador!$D$34)+S749)","v":0},{"$f":"IF(OR(AB748+1>(IF(AND(Simulador!$C$9<Simulador!$C$10,OR(Simulador!$E$7=\"Resgate\",Simulador!$E$7=\"Portabilidade\")),Simulador!$C$9,Simulador!$C$50)-Simulador!$C$8)*12,AB748=0),0,AB748+1)","v":0},{"$f":"IF($AB749=0,0,AC748*(1+Simulador!$D$34)+F749+M749)","v":0},{"$f":"IF($AB749=0,0,AD748*(1+Simulador!$D$34)+T749)","v":0}]
[{"$f":"IF(OR(A749+1>(IF(Simulador!$E$7=\"Autopatrocínio\",Simulador!$C$10,Simulador!$C$9)-Simulador!$C$8)*12,A749=0),0,A749+1)","v":0},{"$f":"IF($A750=0,0,IF(INT($A749/12)-$A749/12=0,B749*(1+Simulador!$C$35),B749))","v":0},{"$f":"MAX(IF(A750=0,0,B750-IF(Simulador!$C$11=\"Individual\",0,Simulador!$C$14)),0)","v":0},null,0,0,0,0,0,0,null,0,0,0,0,0,0,null,0,0,0,0,0,null,{"$f":"IF(OR(Y749+1>(IF(AND(Simulador!$C$9<Simulador!$C$10,OR(Simulador!$E$7=\"Resgate\",Simulador!$E$7=\"Portabilidade\")),Simulador!$C$9,Simulador!$C$10)-Simulador!$C$8)*12,Y749=0),0,Y749+1)","v":0},{"$f":"IF($Y750=0,0,Z749*(1+Simulador!$D$34)+E750+L750)","v":0},{"$f":"IF($Y750=0,0,AA749*(1+Simulador!$D$34)+S750)","v":0},{"$f":"IF(OR(AB749+1>(IF(AND(Simulador!$C$9<Simulador!$C$10,OR(Simulador!$E$7=\"Resgate\",Simulador!$E$7=\"Portabilidade\")),Simulador!$C$9,Simulador!$C$50)-Simulador!$C$8)*12,AB749=0),0,AB749+1)","v":0},{"$f":"IF($AB750=0,0,AC749*(1+Simulador!$D$34)+F750+M750)","v":0},{"$f":"IF($AB750=0,0,AD749*(1+Simulador!$D$34)+T750)","v":0}]
[{"$f":"IF(OR(A750+1>(IF(Simulador!$E$7=\"Autopatrocínio\",Simulador!$C$10,Simulador!$C$9)-Simulador!$C$8)*12,A750=0),0,A750+1)","v":0},{"$f":"IF($A751=0,0,IF(INT($A750/12)-$A750/12=0,B750*(1+Simulador!$C$35),B750))","v":0},{"$f":"MAX(IF(A751=0,0,B751-IF(Simulador!$C$11=\"Individual\",0,Simulador!$C$14)),0)","v":0},null,0,0,0,0,0,0,null,0,0,0,0,0,0,null,0,0,0,0,0,null,{"$f":"IF(OR(Y750+1>(IF(AND(Simulador!$C$9<Simulador!$C$10,OR(Simulador!$E$7=\"Resgate\",Simulador!$E$7=\"Portabilidade\")),Simulador!$C$9,Simulador!$C$10)-Simulador!$C$8)*12,Y750=0),0,Y750+1)","v":0},{"$f":"IF($Y751=0,0,Z750*(1+Simulador!$D$34)+E751+L751)","v":0},{"$f":"IF($Y751=0,0,AA750*(1+Simulador!$D$34)+S751)","v":0},{"$f":"IF(OR(AB750+1>(IF(AND(Simulador!$C$9<Simulador!$C$10,OR(Simulador!$E$7=\"Resgate\",Simulador!$E$7=\"Portabilidade\")),Simulador!$C$9,Simulador!$C$50)-Simulador!$C$8)*12,AB750=0),0,AB750+1)","v":0},{"$f":"IF($AB751=0,0,AC750*(1+Simulador!$D$34)+F751+M751)","v":0},{"$f":"IF($AB751=0,0,AD750*(1+Simulador!$D$34)+T751)","v":0}]
[{"$f":"IF(OR(A751+1>(IF(Simulador!$E$7=\"Autopatrocínio\",Simulador!$C$10,Simulador!$C$9)-Simulador!$C$8)*12,A751=0),0,A751+1)","v":0},{"$f":"IF($A752=0,0,IF(INT($A751/12)-$A751/12=0,B751*(1+Simulador!$C$35),B751))","v":0},{"$f":"MAX(IF(A752=0,0,B752-IF(Simulador!$C$11=\"Individual\",0,Simulador!$C$14)),0)","v":0},null,0,0,0,0,0,0,null,0,0,0,0,0,0,null,0,0,0,0,0,null,{"$f":"IF(OR(Y751+1>(IF(AND(Simulador!$C$9<Simulador!$C$10,OR(Simulador!$E$7=\"Resgate\",Simulador!$E$7=\"Portabilidade\")),Simulador!$C$9,Simulador!$C$10)-Simulador!$C$8)*12,Y751=0),0,Y751+1)","v":0},{"$f":"IF($Y752=0,0,Z751*(1+Simulador!$D$34)+E752+L752)","v":0},{"$f":"IF($Y752=0,0,AA751*(1+Simulador!$D$34)+S752)","v":0},{"$f":"IF(OR(AB751+1>(IF(AND(Simulador!$C$9<Simulador!$C$10,OR(Simulador!$E$7=\"Resgate\",Simulador!$E$7=\"Portabilidade\")),Simulador!$C$9,Simulador!$C$50)-Simulador!$C$8)*12,AB751=0),0,AB751+1)","v":0},{"$f":"IF($AB752=0,0,AC751*(1+Simulador!$D$34)+F752+M752)","v":0},{"$f":"IF($AB752=0,0,AD751*(1+Simulador!$D$34)+T752)","v":0}]
[{"$f":"IF(OR(A752+1>(IF(Simulador!$E$7=\"Autopatrocínio\",Simulador!$C$10,Simulador!$C$9)-Simulador!$C$8)*12,A752=0),0,A752+1)","v":0},{"$f":"IF($A753=0,0,IF(INT($A752/12)-$A752/12=0,B752*(1+Simulador!$C$35),B752))","v":0},{"$f":"MAX(IF(A753=0,0,B753-IF(Simulador!$C$11=\"Individual\",0,Simulador!$C$14)),0)","v":0},null,0,0,0,0,0,0,null,0,0,0,0,0,0,null,0,0,0,0,0,null,{"$f":"IF(OR(Y752+1>(IF(AND(Simulador!$C$9<Simulador!$C$10,OR(Simulador!$E$7=\"Resgate\",Simulador!$E$7=\"Portabilidade\")),Simulador!$C$9,Simulador!$C$10)-Simulador!$C$8)*12,Y752=0),0,Y752+1)","v":0},{"$f":"IF($Y753=0,0,Z752*(1+Simulador!$D$34)+E753+L753)","v":0},{"$f":"IF($Y753=0,0,AA752*(1+Simulador!$D$34)+S753)","v":0},{"$f":"IF(OR(AB752+1>(IF(AND(Simulador!$C$9<Simulador!$C$10,OR(Simulador!$E$7=\"Resgate\",Simulador!$E$7=\"Portabilidade\")),Simulador!$C$9,Simulador!$C$50)-Simulador!$C$8)*12,AB752=0),0,AB752+1)","v":0},{"$f":"IF($AB753=0,0,AC752*(1+Simulador!$D$34)+F753+M753)","v":0},{"$f":"IF($AB753=0,0,AD752*(1+Simulador!$D$34)+T753)","v":0}]
[{"$f":"IF(OR(A753+1>(IF(Simulador!$E$7=\"Autopatrocínio\",Simulador!$C$10,Simulador!$C$9)-Simulador!$C$8)*12,A753=0),0,A753+1)","v":0},{"$f":"IF($A754=0,0,IF(INT($A753/12)-$A753/12=0,B753*(1+Simulador!$C$35),B753))","v":0},{"$f":"MAX(IF(A754=0,0,B754-IF(Simulador!$C$11=\"Individual\",0,Simulador!$C$14)),0)","v":0},null,0,0,0,0,0,0,null,0,0,0,0,0,0,null,0,0,0,0,0,null,{"$f":"IF(OR(Y753+1>(IF(AND(Simulador!$C$9<Simulador!$C$10,OR(Simulador!$E$7=\"Resgate\",Simulador!$E$7=\"Portabilidade\")),Simulador!$C$9,Simulador!$C$10)-Simulador!$C$8)*12,Y753=0),0,Y753+1)","v":0},{"$f":"IF($Y754=0,0,Z753*(1+Simulador!$D$34)+E754+L754)","v":0},{"$f":"IF($Y754=0,0,AA753*(1+Simulador!$D$34)+S754)","v":0},{"$f":"IF(OR(AB753+1>(IF(AND(Simulador!$C$9<Simulador!$C$10,OR(Simulador!$E$7=\"Resgate\",Simulador!$E$7=\"Portabilidade\")),Simulador!$C$9,Simulador!$C$50)-Simulador!$C$8)*12,AB753=0),0,AB753+1)","v":0},{"$f":"IF($AB754=0,0,AC753*(1+Simulador!$D$34)+F754+M754)","v":0},{"$f":"IF($AB754=0,0,AD753*(1+Simulador!$D$34)+T754)","v":0}]
[{"$f":"IF(OR(A754+1>(IF(Simulador!$E$7=\"Autopatrocínio\",Simulador!$C$10,Simulador!$C$9)-Simulador!$C$8)*12,A754=0),0,A754+1)","v":0},{"$f":"IF($A755=0,0,IF(INT($A754/12)-$A754/12=0,B754*(1+Simulador!$C$35),B754))","v":0},{"$f":"MAX(IF(A755=0,0,B755-IF(Simulador!$C$11=\"Individual\",0,Simulador!$C$14)),0)","v":0},null,0,0,0,0,0,0,null,0,0,0,0,0,0,null,0,0,0,0,0,null,{"$f":"IF(OR(Y754+1>(IF(AND(Simulador!$C$9<Simulador!$C$10,OR(Simulador!$E$7=\"Resgate\",Simulador!$E$7=\"Portabilidade\")),Simulador!$C$9,Simulador!$C$10)-Simulador!$C$8)*12,Y754=0),0,Y754+1)","v":0},{"$f":"IF($Y755=0,0,Z754*(1+Simulador!$D$34)+E755+L755)","v":0},{"$f":"IF($Y755=0,0,AA754*(1+Simulador!$D$34)+S755)","v":0},{"$f":"IF(OR(AB754+1>(IF(AND(Simulador!$C$9<Simulador!$C$10,OR(Simulador!$E$7=\"Resgate\",Simulador!$E$7=\"Portabilidade\")),Simulador!$C$9,Simulador!$C$50)-Simulador!$C$8)*12,AB754=0),0,AB754+1)","v":0},{"$f":"IF($AB755=0,0,AC754*(1+Simulador!$D$34)+F755+M755)","v":0},{"$f":"IF($AB755=0,0,AD754*(1+Simulador!$D$34)+T755)","v":0}]
[{"$f":"IF(OR(A755+1>(IF(Simulador!$E$7=\"Autopatrocínio\",Simulador!$C$10,Simulador!$C$9)-Simulador!$C$8)*12,A755=0),0,A755+1)","v":0},{"$f":"IF($A756=0,0,IF(INT($A755/12)-$A755/12=0,B755*(1+Simulador!$C$35),B755))","v":0},{"$f":"MAX(IF(A756=0,0,B756-IF(Simulador!$C$11=\"Individual\",0,Simulador!$C$14)),0)","v":0},null,{"$f":"E$4*$C756*(1+$J756)","v":0},0,0,0,0,0,null,{"$f":"L$4*$C756*$Q756","v":0},0,0,0,0,0,null,{"$f":"S$4*$C756*(1+$J756)","v":0},0,0,0,0,null,{"$f":"IF(OR(Y755+1>(IF(AND(Simulador!$C$9<Simulador!$C$10,OR(Simulador!$E$7=\"Resgate\",Simulador!$E$7=\"Portabilidade\")),Simulador!$C$9,Simulador!$C$10)-Simulador!$C$8)*12,Y755=0),0,Y755+1)","v":0},{"$f":"IF($Y756=0,0,Z755*(1+Simulador!$D$34)+E756+L756)","v":0},{"$f":"IF($Y756=0,0,AA755*(1+Simulador!$D$34)+S756)","v":0},{"$f":"IF(OR(AB755+1>(IF(AND(Simulador!$C$9<Simulador!$C$10,OR(Simulador!$E$7=\"Resgate\",Simulador!$E$7=\"Portabilidade\")),Simulador!$C$9,Simulador!$C$50)-Simulador!$C$8)*12,AB755=0),0,AB755+1)","v":0},{"$f":"IF($AB756=0,0,AC755*(1+Simulador!$D$34)+F756+M756)","v":0},{"$f":"IF($AB756=0,0,AD755*(1+Simulador!$D$34)+T756)","v":0}]
[{"$f":"IF(OR(A756+1>(IF(Simulador!$E$7=\"Autopatrocínio\",Simulador!$C$10,Simulador!$C$9)-Simulador!$C$8)*12,A756=0),0,A756+1)","v":0},{"$f":"IF($A757=0,0,IF(INT($A756/12)-$A756/12=0,B756*(1+Simulador!$C$35),B756))","v":0},{"$f":"MAX(IF(A757=0,0,B757-IF(Simulador!$C$11=\"Individual\",0,Simulador!$C$14)),0)","v":0},null,0,0,0,0,0,0,null,0,0,0,0,0,0,null,0,0,0,0,0,null,{"$f":"IF(OR(Y756+1>(IF(AND(Simulador!$C$9<Simulador!$C$10,OR(Simulador!$E$7=\"Resgate\",Simulador!$E$7=\"Portabilidade\")),Simulador!$C$9,Simulador!$C$10)-Simulador!$C$8)*12,Y756=0),0,Y756+1)","v":0},{"$f":"IF($Y757=0,0,Z756*(1+Simulador!$D$34)+E757+L757)","v":0},{"$f":"IF($Y757=0,0,AA756*(1+Simulador!$D$34)+S757)","v":0},{"$f":"IF(OR(AB756+1>(IF(AND(Simulador!$C$9<Simulador!$C$10,OR(Simulador!$E$7=\"Resgate\",Simulador!$E$7=\"Portabilidade\")),Simulador!$C$9,Simulador!$C$50)-Simulador!$C$8)*12,AB756=0),0,AB756+1)","v":0},{"$f":"IF($AB757=0,0,AC756*(1+Simulador!$D$34)+F757+M757)","v":0},{"$f":"IF($AB757=0,0,AD756*(1+Simulador!$D$34)+T757)","v":0}]
[{"$f":"IF(OR(A757+1>(IF(Simulador!$E$7=\"Autopatrocínio\",Simulador!$C$10,Simulador!$C$9)-Simulador!$C$8)*12,A757=0),0,A757+1)","v":0},{"$f":"IF($A758=0,0,IF(INT($A757/12)-$A757/12=0,B757*(1+Simulador!$C$35),B757))","v":0},{"$f":"MAX(IF(A758=0,0,B758-IF(Simulador!$C$11=\"Individual\",0,Simulador!$C$14)),0)","v":0},null,0,0,0,0,0,0,null,0,0,0,0,0,0,null,0,0,0,0,0,null,{"$f":"IF(OR(Y757+1>(IF(AND(Simulador!$C$9<Simulador!$C$10,OR(Simulador!$E$7=\"Resgate\",Simulador!$E$7=\"Portabilidade\")),Simulador!$C$9,Simulador!$C$10)-Simulador!$C$8)*12,Y757=0),0,Y757+1)","v":0},{"$f":"IF($Y758=0,0,Z757*(1+Simulador!$D$34)+E758+L758)","v":0},{"$f":"IF($Y758=0,0,AA757*(1+Simulador!$D$34)+S758)","v":0},{"$f":"IF(OR(AB757+1>(IF(AND(Simulador!$C$9<Simulador!$C$10,OR(Simulador!$E$7=\"Resgate\",Simulador!$E$7=\"Portabilidade\")),Simulador!$C$9,Simulador!$C$50)-Simulador!$C$8)*12,AB757=0),0,AB757+1)","v":0},{"$f":"IF($AB758=0,0,AC757*(1+Simulador!$D$34)+F758+M758)","v":0},{"$f":"IF($AB758=0,0,AD757*(1+Simulador!$D$34)+T758)","v":0}]
[{"$f":"IF(OR(A758+1>(IF(Simulador!$E$7=\"Autopatrocínio\",Simulador!$C$10,Simulador!$C$9)-Simulador!$C$8)*12,A758=0),0,A758+1)","v":0},{"$f":"IF($A759=0,0,IF(INT($A758/12)-$A758/12=0,B758*(1+Simulador!$C$35),B758))","v":0},{"$f":"MAX(IF(A759=0,0,B759-IF(Simulador!$C$11=\"Individual\",0,Simulador!$C$14)),0)","v":0},null,0,0,0,0,0,0,null,0,0,0,0,0,0,null,0,0,0,0,0,null,{"$f":"IF(OR(Y758+1>(IF(AND(Simulador!$C$9<Simulador!$C$10,OR(Simulador!$E$7=\"Resgate\",Simulador!$E$7=\"Portabilidade\")),Simulador!$C$9,Simulador!$C$10)-Simulador!$C$8)*12,Y758=0),0,Y758+1)","v":0},{"$f":"IF($Y759=0,0,Z758*(1+Simulador!$D$34)+E759+L759)","v":0},{"$f":"IF($Y759=0,0,AA758*(1+Simulador!$D$34)+S759)","v":0},{"$f":"IF(OR(AB758+1>(IF(AND(Simulador!$C$9<Simulador!$C$10,OR(Simulador!$E$7=\"Resgate\",Simulador!$E$7=\"Portabilidade\")),Simulador!$C$9,Simulador!$C$50)-Simulador!$C$8)*12,AB758=0),0,AB758+1)","v":0},{"$f":"IF($AB759=0,0,AC758*(1+Simulador!$D$34)+F759+M759)","v":0},{"$f":"IF($AB759=0,0,AD758*(1+Simulador!$D$34)+T759)","v":0}]
[{"$f":"IF(OR(A759+1>(IF(Simulador!$E$7=\"Autopatrocínio\",Simulador!$C$10,Simulador!$C$9)-Simulador!$C$8)*12,A759=0),0,A759+1)","v":0},{"$f":"IF($A760=0,0,IF(INT($A759/12)-$A759/12=0,B759*(1+Simulador!$C$35),B759))","v":0},{"$f":"MAX(IF(A760=0,0,B760-IF(Simulador!$C$11=\"Individual\",0,Simulador!$C$14)),0)","v":0},null,0,0,0,0,0,0,null,0,0,0,0,0,0,null,0,0,0,0,0,null,{"$f":"IF(OR(Y759+1>(IF(AND(Simulador!$C$9<Simulador!$C$10,OR(Simulador!$E$7=\"Resgate\",Simulador!$E$7=\"Portabilidade\")),Simulador!$C$9,Simulador!$C$10)-Simulador!$C$8)*12,Y759=0),0,Y759+1)","v":0},{"$f":"IF($Y760=0,0,Z759*(1+Simulador!$D$34)+E760+L760)","v":0},{"$f":"IF($Y760=0,0,AA759*(1+Simulador!$D$34)+S760)","v":0},{"$f":"IF(OR(AB759+1>(IF(AND(Simulador!$C$9<Simulador!$C$10,OR(Simulador!$E$7=\"Resgate\",Simulador!$E$7=\"Portabilidade\")),Simulador!$C$9,Simulador!$C$50)-Simulador!$C$8)*12,AB759=0),0,AB759+1)","v":0},{"$f":"IF($AB760=0,0,AC759*(1+Simulador!$D$34)+F760+M760)","v":0},{"$f":"IF($AB760=0,0,AD759*(1+Simulador!$D$34)+T760)","v":0}]
[{"$f":"IF(OR(A760+1>(IF(Simulador!$E$7=\"Autopatrocínio\",Simulador!$C$10,Simulador!$C$9)-Simulador!$C$8)*12,A760=0),0,A760+1)","v":0},{"$f":"IF($A761=0,0,IF(INT($A760/12)-$A760/12=0,B760*(1+Simulador!$C$35),B760))","v":0},{"$f":"MAX(IF(A761=0,0,B761-IF(Simulador!$C$11=\"Individual\",0,Simulador!$C$14)),0)","v":0},null,0,0,0,0,0,0,null,0,0,0,0,0,0,null,0,0,0,0,0,null,{"$f":"IF(OR(Y760+1>(IF(AND(Simulador!$C$9<Simulador!$C$10,OR(Simulador!$E$7=\"Resgate\",Simulador!$E$7=\"Portabilidade\")),Simulador!$C$9,Simulador!$C$10)-Simulador!$C$8)*12,Y760=0),0,Y760+1)","v":0},{"$f":"IF($Y761=0,0,Z760*(1+Simulador!$D$34)+E761+L761)","v":0},{"$f":"IF($Y761=0,0,AA760*(1+Simulador!$D$34)+S761)","v":0},{"$f":"IF(OR(AB760+1>(IF(AND(Simulador!$C$9<Simulador!$C$10,OR(Simulador!$E$7=\"Resgate\",Simulador!$E$7=\"Portabilidade\")),Simulador!$C$9,Simulador!$C$50)-Simulador!$C$8)*12,AB760=0),0,AB760+1)","v":0},{"$f":"IF($AB761=0,0,AC760*(1+Simulador!$D$34)+F761+M761)","v":0},{"$f":"IF($AB761=0,0,AD760*(1+Simulador!$D$34)+T761)","v":0}]
[{"$f":"IF(OR(A761+1>(IF(Simulador!$E$7=\"Autopatrocínio\",Simulador!$C$10,Simulador!$C$9)-Simulador!$C$8)*12,A761=0),0,A761+1)","v":0},{"$f":"IF($A762=0,0,IF(INT($A761/12)-$A761/12=0,B761*(1+Simulador!$C$35),B761))","v":0},{"$f":"MAX(IF(A762=0,0,B762-IF(Simulador!$C$11=\"Individual\",0,Simulador!$C$14)),0)","v":0},null,0,0,0,0,0,0,null,0,0,0,0,0,0,null,0,0,0,0,0,null,{"$f":"IF(OR(Y761+1>(IF(AND(Simulador!$C$9<Simulador!$C$10,OR(Simulador!$E$7=\"Resgate\",Simulador!$E$7=\"Portabilidade\")),Simulador!$C$9,Simulador!$C$10)-Simulador!$C$8)*12,Y761=0),0,Y761+1)","v":0},{"$f":"IF($Y762=0,0,Z761*(1+Simulador!$D$34)+E762+L762)","v":0},{"$f":"IF($Y762=0,0,AA761*(1+Simulador!$D$34)+S762)","v":0},{"$f":"IF(OR(AB761+1>(IF(AND(Simulador!$C$9<Simulador!$C$10,OR(Simulador!$E$7=\"Resgate\",Simulador!$E$7=\"Portabilidade\")),Simulador!$C$9,Simulador!$C$50)-Simulador!$C$8)*12,AB761=0),0,AB761+1)","v":0},{"$f":"IF($AB762=0,0,AC761*(1+Simulador!$D$34)+F762+M762)","v":0},{"$f":"IF($AB762=0,0,AD761*(1+Simulador!$D$34)+T762)","v":0}]
[{"$f":"IF(OR(A762+1>(IF(Simulador!$E$7=\"Autopatrocínio\",Simulador!$C$10,Simulador!$C$9)-Simulador!$C$8)*12,A762=0),0,A762+1)","v":0},{"$f":"IF($A763=0,0,IF(INT($A762/12)-$A762/12=0,B762*(1+Simulador!$C$35),B762))","v":0},{"$f":"MAX(IF(A763=0,0,B763-IF(Simulador!$C$11=\"Individual\",0,Simulador!$C$14)),0)","v":0},null,0,0,0,0,0,0,null,0,0,0,0,0,0,null,0,0,0,0,0,null,{"$f":"IF(OR(Y762+1>(IF(AND(Simulador!$C$9<Simulador!$C$10,OR(Simulador!$E$7=\"Resgate\",Simulador!$E$7=\"Portabilidade\")),Simulador!$C$9,Simulador!$C$10)-Simulador!$C$8)*12,Y762=0),0,Y762+1)","v":0},{"$f":"IF($Y763=0,0,Z762*(1+Simulador!$D$34)+E763+L763)","v":0},{"$f":"IF($Y763=0,0,AA762*(1+Simulador!$D$34)+S763)","v":0},{"$f":"IF(OR(AB762+1>(IF(AND(Simulador!$C$9<Simulador!$C$10,OR(Simulador!$E$7=\"Resgate\",Simulador!$E$7=\"Portabilidade\")),Simulador!$C$9,Simulador!$C$50)-Simulador!$C$8)*12,AB762=0),0,AB762+1)","v":0},{"$f":"IF($AB763=0,0,AC762*(1+Simulador!$D$34)+F763+M763)","v":0},{"$f":"IF($AB763=0,0,AD762*(1+Simulador!$D$34)+T763)","v":0}]
[{"$f":"IF(OR(A763+1>(IF(Simulador!$E$7=\"Autopatrocínio\",Simulador!$C$10,Simulador!$C$9)-Simulador!$C$8)*12,A763=0),0,A763+1)","v":0},{"$f":"IF($A764=0,0,IF(INT($A763/12)-$A763/12=0,B763*(1+Simulador!$C$35),B763))","v":0},{"$f":"MAX(IF(A764=0,0,B764-IF(Simulador!$C$11=\"Individual\",0,Simulador!$C$14)),0)","v":0},null,0,0,0,0,0,0,null,0,0,0,0,0,0,null,0,0,0,0,0,null,{"$f":"IF(OR(Y763+1>(IF(AND(Simulador!$C$9<Simulador!$C$10,OR(Simulador!$E$7=\"Resgate\",Simulador!$E$7=\"Portabilidade\")),Simulador!$C$9,Simulador!$C$10)-Simulador!$C$8)*12,Y763=0),0,Y763+1)","v":0},{"$f":"IF($Y764=0,0,Z763*(1+Simulador!$D$34)+E764+L764)","v":0},{"$f":"IF($Y764=0,0,AA763*(1+Simulador!$D$34)+S764)","v":0},{"$f":"IF(OR(AB763+1>(IF(AND(Simulador!$C$9<Simulador!$C$10,OR(Simulador!$E$7=\"Resgate\",Simulador!$E$7=\"Portabilidade\")),Simulador!$C$9,Simulador!$C$50)-Simulador!$C$8)*12,AB763=0),0,AB763+1)","v":0},{"$f":"IF($AB764=0,0,AC763*(1+Simulador!$D$34)+F764+M764)","v":0},{"$f":"IF($AB764=0,0,AD763*(1+Simulador!$D$34)+T764)","v":0}]
[{"$f":"IF(OR(A764+1>(IF(Simulador!$E$7=\"Autopatrocínio\",Simulador!$C$10,Simulador!$C$9)-Simulador!$C$8)*12,A764=0),0,A764+1)","v":0},{"$f":"IF($A765=0,0,IF(INT($A764/12)-$A764/12=0,B764*(1+Simulador!$C$35),B764))","v":0},{"$f":"MAX(IF(A765=0,0,B765-IF(Simulador!$C$11=\"Individual\",0,Simulador!$C$14)),0)","v":0},null,0,0,0,0,0,0,null,0,0,0,0,0,0,null,0,0,0,0,0,null,{"$f":"IF(OR(Y764+1>(IF(AND(Simulador!$C$9<Simulador!$C$10,OR(Simulador!$E$7=\"Resgate\",Simulador!$E$7=\"Portabilidade\")),Simulador!$C$9,Simulador!$C$10)-Simulador!$C$8)*12,Y764=0),0,Y764+1)","v":0},{"$f":"IF($Y765=0,0,Z764*(1+Simulador!$D$34)+E765+L765)","v":0},{"$f":"IF($Y765=0,0,AA764*(1+Simulador!$D$34)+S765)","v":0},{"$f":"IF(OR(AB764+1>(IF(AND(Simulador!$C$9<Simulador!$C$10,OR(Simulador!$E$7=\"Resgate\",Simulador!$E$7=\"Portabilidade\")),Simulador!$C$9,Simulador!$C$50)-Simulador!$C$8)*12,AB764=0),0,AB764+1)","v":0},{"$f":"IF($AB765=0,0,AC764*(1+Simulador!$D$34)+F765+M765)","v":0},{"$f":"IF($AB765=0,0,AD764*(1+Simulador!$D$34)+T765)","v":0}]
[{"$f":"IF(OR(A765+1>(IF(Simulador!$E$7=\"Autopatrocínio\",Simulador!$C$10,Simulador!$C$9)-Simulador!$C$8)*12,A765=0),0,A765+1)","v":0},{"$f":"IF($A766=0,0,IF(INT($A765/12)-$A765/12=0,B765*(1+Simulador!$C$35),B765))","v":0},{"$f":"MAX(IF(A766=0,0,B766-IF(Simulador!$C$11=\"Individual\",0,Simulador!$C$14)),0)","v":0},null,0,0,0,0,0,0,null,0,0,0,0,0,0,null,0,0,0,0,0,null,{"$f":"IF(OR(Y765+1>(IF(AND(Simulador!$C$9<Simulador!$C$10,OR(Simulador!$E$7=\"Resgate\",Simulador!$E$7=\"Portabilidade\")),Simulador!$C$9,Simulador!$C$10)-Simulador!$C$8)*12,Y765=0),0,Y765+1)","v":0},{"$f":"IF($Y766=0,0,Z765*(1+Simulador!$D$34)+E766+L766)","v":0},{"$f":"IF($Y766=0,0,AA765*(1+Simulador!$D$34)+S766)","v":0},{"$f":"IF(OR(AB765+1>(IF(AND(Simulador!$C$9<Simulador!$C$10,OR(Simulador!$E$7=\"Resgate\",Simulador!$E$7=\"Portabilidade\")),Simulador!$C$9,Simulador!$C$50)-Simulador!$C$8)*12,AB765=0),0,AB765+1)","v":0},{"$f":"IF($AB766=0,0,AC765*(1+Simulador!$D$34)+F766+M766)","v":0},{"$f":"IF($AB766=0,0,AD765*(1+Simulador!$D$34)+T766)","v":0}]
[{"$f":"IF(OR(A766+1>(IF(Simulador!$E$7=\"Autopatrocínio\",Simulador!$C$10,Simulador!$C$9)-Simulador!$C$8)*12,A766=0),0,A766+1)","v":0},{"$f":"IF($A767=0,0,IF(INT($A766/12)-$A766/12=0,B766*(1+Simulador!$C$35),B766))","v":0},{"$f":"MAX(IF(A767=0,0,B767-IF(Simulador!$C$11=\"Individual\",0,Simulador!$C$14)),0)","v":0},null,0,0,0,0,0,0,null,0,0,0,0,0,0,null,0,0,0,0,0,null,{"$f":"IF(OR(Y766+1>(IF(AND(Simulador!$C$9<Simulador!$C$10,OR(Simulador!$E$7=\"Resgate\",Simulador!$E$7=\"Portabilidade\")),Simulador!$C$9,Simulador!$C$10)-Simulador!$C$8)*12,Y766=0),0,Y766+1)","v":0},{"$f":"IF($Y767=0,0,Z766*(1+Simulador!$D$34)+E767+L767)","v":0},{"$f":"IF($Y767=0,0,AA766*(1+Simulador!$D$34)+S767)","v":0},{"$f":"IF(OR(AB766+1>(IF(AND(Simulador!$C$9<Simulador!$C$10,OR(Simulador!$E$7=\"Resgate\",Simulador!$E$7=\"Portabilidade\")),Simulador!$C$9,Simulador!$C$50)-Simulador!$C$8)*12,AB766=0),0,AB766+1)","v":0},{"$f":"IF($AB767=0,0,AC766*(1+Simulador!$D$34)+F767+M767)","v":0},{"$f":"IF($AB767=0,0,AD766*(1+Simulador!$D$34)+T767)","v":0}]
[{"$f":"IF(OR(A767+1>(IF(Simulador!$E$7=\"Autopatrocínio\",Simulador!$C$10,Simulador!$C$9)-Simulador!$C$8)*12,A767=0),0,A767+1)","v":0},{"$f":"IF($A768=0,0,IF(INT($A767/12)-$A767/12=0,B767*(1+Simulador!$C$35),B767))","v":0},{"$f":"MAX(IF(A768=0,0,B768-IF(Simulador!$C$11=\"Individual\",0,Simulador!$C$14)),0)","v":0},null,0,0,0,0,0,0,null,0,0,0,0,0,0,null,0,0,0,0,0,null,{"$f":"IF(OR(Y767+1>(IF(AND(Simulador!$C$9<Simulador!$C$10,OR(Simulador!$E$7=\"Resgate\",Simulador!$E$7=\"Portabilidade\")),Simulador!$C$9,Simulador!$C$10)-Simulador!$C$8)*12,Y767=0),0,Y767+1)","v":0},{"$f":"IF($Y768=0,0,Z767*(1+Simulador!$D$34)+E768+L768)","v":0},{"$f":"IF($Y768=0,0,AA767*(1+Simulador!$D$34)+S768)","v":0},{"$f":"IF(OR(AB767+1>(IF(AND(Simulador!$C$9<Simulador!$C$10,OR(Simulador!$E$7=\"Resgate\",Simulador!$E$7=\"Portabilidade\")),Simulador!$C$9,Simulador!$C$50)-Simulador!$C$8)*12,AB767=0),0,AB767+1)","v":0},{"$f":"IF($AB768=0,0,AC767*(1+Simulador!$D$34)+F768+M768)","v":0},{"$f":"IF($AB768=0,0,AD767*(1+Simulador!$D$34)+T768)","v":0}]
[{"$f":"IF(OR(A768+1>(IF(Simulador!$E$7=\"Autopatrocínio\",Simulador!$C$10,Simulador!$C$9)-Simulador!$C$8)*12,A768=0),0,A768+1)","v":0},{"$f":"IF($A769=0,0,IF(INT($A768/12)-$A768/12=0,B768*(1+Simulador!$C$35),B768))","v":0},{"$f":"MAX(IF(A769=0,0,B769-IF(Simulador!$C$11=\"Individual\",0,Simulador!$C$14)),0)","v":0},null,0,0,0,0,0,0,null,0,0,0,0,0,0,null,0,0,0,0,0,null,{"$f":"IF(OR(Y768+1>(IF(AND(Simulador!$C$9<Simulador!$C$10,OR(Simulador!$E$7=\"Resgate\",Simulador!$E$7=\"Portabilidade\")),Simulador!$C$9,Simulador!$C$10)-Simulador!$C$8)*12,Y768=0),0,Y768+1)","v":0},{"$f":"IF($Y769=0,0,Z768*(1+Simulador!$D$34)+E769+L769)","v":0},{"$f":"IF($Y769=0,0,AA768*(1+Simulador!$D$34)+S769)","v":0},{"$f":"IF(OR(AB768+1>(IF(AND(Simulador!$C$9<Simulador!$C$10,OR(Simulador!$E$7=\"Resgate\",Simulador!$E$7=\"Portabilidade\")),Simulador!$C$9,Simulador!$C$50)-Simulador!$C$8)*12,AB768=0),0,AB768+1)","v":0},{"$f":"IF($AB769=0,0,AC768*(1+Simulador!$D$34)+F769+M769)","v":0},{"$f":"IF($AB769=0,0,AD768*(1+Simulador!$D$34)+T769)","v":0}]
[{"$f":"IF(OR(A769+1>(IF(Simulador!$E$7=\"Autopatrocínio\",Simulador!$C$10,Simulador!$C$9)-Simulador!$C$8)*12,A769=0),0,A769+1)","v":0},{"$f":"IF($A770=0,0,IF(INT($A769/12)-$A769/12=0,B769*(1+Simulador!$C$35),B769))","v":0},{"$f":"MAX(IF(A770=0,0,B770-IF(Simulador!$C$11=\"Individual\",0,Simulador!$C$14)),0)","v":0},null,0,0,0,0,0,0,null,0,0,0,0,0,0,null,0,0,0,0,0,null,{"$f":"IF(OR(Y769+1>(IF(AND(Simulador!$C$9<Simulador!$C$10,OR(Simulador!$E$7=\"Resgate\",Simulador!$E$7=\"Portabilidade\")),Simulador!$C$9,Simulador!$C$10)-Simulador!$C$8)*12,Y769=0),0,Y769+1)","v":0},{"$f":"IF($Y770=0,0,Z769*(1+Simulador!$D$34)+E770+L770)","v":0},{"$f":"IF($Y770=0,0,AA769*(1+Simulador!$D$34)+S770)","v":0},{"$f":"IF(OR(AB769+1>(IF(AND(Simulador!$C$9<Simulador!$C$10,OR(Simulador!$E$7=\"Resgate\",Simulador!$E$7=\"Portabilidade\")),Simulador!$C$9,Simulador!$C$50)-Simulador!$C$8)*12,AB769=0),0,AB769+1)","v":0},{"$f":"IF($AB770=0,0,AC769*(1+Simulador!$D$34)+F770+M770)","v":0},{"$f":"IF($AB770=0,0,AD769*(1+Simulador!$D$34)+T770)","v":0}]
[{"$f":"IF(OR(A770+1>(IF(Simulador!$E$7=\"Autopatrocínio\",Simulador!$C$10,Simulador!$C$9)-Simulador!$C$8)*12,A770=0),0,A770+1)","v":0},{"$f":"IF($A771=0,0,IF(INT($A770/12)-$A770/12=0,B770*(1+Simulador!$C$35),B770))","v":0},{"$f":"MAX(IF(A771=0,0,B771-IF(Simulador!$C$11=\"Individual\",0,Simulador!$C$14)),0)","v":0},null,0,0,0,0,0,0,null,0,0,0,0,0,0,null,0,0,0,0,0,null,{"$f":"IF(OR(Y770+1>(IF(AND(Simulador!$C$9<Simulador!$C$10,OR(Simulador!$E$7=\"Resgate\",Simulador!$E$7=\"Portabilidade\")),Simulador!$C$9,Simulador!$C$10)-Simulador!$C$8)*12,Y770=0),0,Y770+1)","v":0},{"$f":"IF($Y771=0,0,Z770*(1+Simulador!$D$34)+E771+L771)","v":0},{"$f":"IF($Y771=0,0,AA770*(1+Simulador!$D$34)+S771)","v":0},{"$f":"IF(OR(AB770+1>(IF(AND(Simulador!$C$9<Simulador!$C$10,OR(Simulador!$E$7=\"Resgate\",Simulador!$E$7=\"Portabilidade\")),Simulador!$C$9,Simulador!$C$50)-Simulador!$C$8)*12,AB770=0),0,AB770+1)","v":0},{"$f":"IF($AB771=0,0,AC770*(1+Simulador!$D$34)+F771+M771)","v":0},{"$f":"IF($AB771=0,0,AD770*(1+Simulador!$D$34)+T771)","v":0}]
[{"$f":"IF(OR(A771+1>(IF(Simulador!$E$7=\"Autopatrocínio\",Simulador!$C$10,Simulador!$C$9)-Simulador!$C$8)*12,A771=0),0,A771+1)","v":0},{"$f":"IF($A772=0,0,IF(INT($A771/12)-$A771/12=0,B771*(1+Simulador!$C$35),B771))","v":0},{"$f":"MAX(IF(A772=0,0,B772-IF(Simulador!$C$11=\"Individual\",0,Simulador!$C$14)),0)","v":0},null,0,0,0,0,0,0,null,0,0,0,0,0,0,null,0,0,0,0,0,null,{"$f":"IF(OR(Y771+1>(IF(AND(Simulador!$C$9<Simulador!$C$10,OR(Simulador!$E$7=\"Resgate\",Simulador!$E$7=\"Portabilidade\")),Simulador!$C$9,Simulador!$C$10)-Simulador!$C$8)*12,Y771=0),0,Y771+1)","v":0},{"$f":"IF($Y772=0,0,Z771*(1+Simulador!$D$34)+E772+L772)","v":0},{"$f":"IF($Y772=0,0,AA771*(1+Simulador!$D$34)+S772)","v":0},{"$f":"IF(OR(AB771+1>(IF(AND(Simulador!$C$9<Simulador!$C$10,OR(Simulador!$E$7=\"Resgate\",Simulador!$E$7=\"Portabilidade\")),Simulador!$C$9,Simulador!$C$50)-Simulador!$C$8)*12,AB771=0),0,AB771+1)","v":0},{"$f":"IF($AB772=0,0,AC771*(1+Simulador!$D$34)+F772+M772)","v":0},{"$f":"IF($AB772=0,0,AD771*(1+Simulador!$D$34)+T772)","v":0}]
[{"$f":"IF(OR(A772+1>(IF(Simulador!$E$7=\"Autopatrocínio\",Simulador!$C$10,Simulador!$C$9)-Simulador!$C$8)*12,A772=0),0,A772+1)","v":0},{"$f":"IF($A773=0,0,IF(INT($A772/12)-$A772/12=0,B772*(1+Simulador!$C$35),B772))","v":0},{"$f":"MAX(IF(A773=0,0,B773-IF(Simulador!$C$11=\"Individual\",0,Simulador!$C$14)),0)","v":0},null,0,0,0,0,0,{"$f":"IF($A773=0,0,IF(INT($A773/12)-$A773/12=0,1,0))","v":0},null,0,0,0,0,0,{"$f":"IF($A773=0,0,IF($Q$4=\"Mensal\",1,IF($Q$4=\"Semestral\",IF(INT(($A773+5)/6)-($A773+5)/6=0,1,0),IF($Q$4=\"Anual\",IF(INT(($A773+11)/12)-($A773+11)/12=0,1,0)))))","v":0},null,0,0,0,0,0,null,{"$f":"IF(OR(Y772+1>(IF(AND(Simulador!$C$9<Simulador!$C$10,OR(Simulador!$E$7=\"Resgate\",Simulador!$E$7=\"Portabilidade\")),Simulador!$C$9,Simulador!$C$10)-Simulador!$C$8)*12,Y772=0),0,Y772+1)","v":0},{"$f":"IF($Y773=0,0,Z772*(1+Simulador!$D$34)+E773+L773)","v":0},{"$f":"IF($Y773=0,0,AA772*(1+Simulador!$D$34)+S773)","v":0},{"$f":"IF(OR(AB772+1>(IF(AND(Simulador!$C$9<Simulador!$C$10,OR(Simulador!$E$7=\"Resgate\",Simulador!$E$7=\"Portabilidade\")),Simulador!$C$9,Simulador!$C$50)-Simulador!$C$8)*12,AB772=0),0,AB772+1)","v":0},{"$f":"IF($AB773=0,0,AC772*(1+Simulador!$D$34)+F773+M773)","v":0},{"$f":"IF($AB773=0,0,AD772*(1+Simulador!$D$34)+T773)","v":0}]
[{"$f":"IF(OR(A773+1>(IF(Simulador!$E$7=\"Autopatrocínio\",Simulador!$C$10,Simulador!$C$9)-Simulador!$C$8)*12,A773=0),0,A773+1)","v":0},{"$f":"IF($A774=0,0,IF(INT($A773/12)-$A773/12=0,B773*(1+Simulador!$C$35),B773))","v":0},{"$f":"MAX(IF(A774=0,0,B774-IF(Simulador!$C$11=\"Individual\",0,Simulador!$C$14)),0)","v":0},null,0,0,0,0,0,0,null,0,0,0,0,0,0,null,0,0,0,0,0,null,{"$f":"IF(OR(Y773+1>(IF(AND(Simulador!$C$9<Simulador!$C$10,OR(Simulador!$E$7=\"Resgate\",Simulador!$E$7=\"Portabilidade\")),Simulador!$C$9,Simulador!$C$10)-Simulador!$C$8)*12,Y773=0),0,Y773+1)","v":0},{"$f":"IF($Y774=0,0,Z773*(1+Simulador!$D$34)+E774+L774)","v":0},{"$f":"IF($Y774=0,0,AA773*(1+Simulador!$D$34)+S774)","v":0},{"$f":"IF(OR(AB773+1>(IF(AND(Simulador!$C$9<Simulador!$C$10,OR(Simulador!$E$7=\"Resgate\",Simulador!$E$7=\"Portabilidade\")),Simulador!$C$9,Simulador!$C$50)-Simulador!$C$8)*12,AB773=0),0,AB773+1)","v":0},{"$f":"IF($AB774=0,0,AC773*(1+Simulador!$D$34)+F774+M774)","v":0},{"$f":"IF($AB774=0,0,AD773*(1+Simulador!$D$34)+T774)","v":0}]
[{"$f":"IF(OR(A774+1>(IF(Simulador!$E$7=\"Autopatrocínio\",Simulador!$C$10,Simulador!$C$9)-Simulador!$C$8)*12,A774=0),0,A774+1)","v":0},{"$f":"IF($A775=0,0,IF(INT($A774/12)-$A774/12=0,B774*(1+Simulador!$C$35),B774))","v":0},{"$f":"MAX(IF(A775=0,0,B775-IF(Simulador!$C$11=\"Individual\",0,Simulador!$C$14)),0)","v":0},null,0,0,0,0,0,0,null,0,0,0,0,0,0,null,0,0,0,0,0,null,{"$f":"IF(OR(Y774+1>(IF(AND(Simulador!$C$9<Simulador!$C$10,OR(Simulador!$E$7=\"Resgate\",Simulador!$E$7=\"Portabilidade\")),Simulador!$C$9,Simulador!$C$10)-Simulador!$C$8)*12,Y774=0),0,Y774+1)","v":0},{"$f":"IF($Y775=0,0,Z774*(1+Simulador!$D$34)+E775+L775)","v":0},{"$f":"IF($Y775=0,0,AA774*(1+Simulador!$D$34)+S775)","v":0},{"$f":"IF(OR(AB774+1>(IF(AND(Simulador!$C$9<Simulador!$C$10,OR(Simulador!$E$7=\"Resgate\",Simulador!$E$7=\"Portabilidade\")),Simulador!$C$9,Simulador!$C$50)-Simulador!$C$8)*12,AB774=0),0,AB774+1)","v":0},{"$f":"IF($AB775=0,0,AC774*(1+Simulador!$D$34)+F775+M775)","v":0},{"$f":"IF($AB775=0,0,AD774*(1+Simulador!$D$34)+T775)","v":0}]
[{"$f":"IF(OR(A775+1>(IF(Simulador!$E$7=\"Autopatrocínio\",Simulador!$C$10,Simulador!$C$9)-Simulador!$C$8)*12,A775=0),0,A775+1)","v":0},{"$f":"IF($A776=0,0,IF(INT($A775/12)-$A775/12=0,B775*(1+Simulador!$C$35),B775))","v":0},{"$f":"MAX(IF(A776=0,0,B776-IF(Simulador!$C$11=\"Individual\",0,Simulador!$C$14)),0)","v":0},null,0,0,0,0,0,0,null,0,0,0,0,0,0,null,0,0,0,0,0,null,{"$f":"IF(OR(Y775+1>(IF(AND(Simulador!$C$9<Simulador!$C$10,OR(Simulador!$E$7=\"Resgate\",Simulador!$E$7=\"Portabilidade\")),Simulador!$C$9,Simulador!$C$10)-Simulador!$C$8)*12,Y775=0),0,Y775+1)","v":0},{"$f":"IF($Y776=0,0,Z775*(1+Simulador!$D$34)+E776+L776)","v":0},{"$f":"IF($Y776=0,0,AA775*(1+Simulador!$D$34)+S776)","v":0},{"$f":"IF(OR(AB775+1>(IF(AND(Simulador!$C$9<Simulador!$C$10,OR(Simulador!$E$7=\"Resgate\",Simulador!$E$7=\"Portabilidade\")),Simulador!$C$9,Simulador!$C$50)-Simulador!$C$8)*12,AB775=0),0,AB775+1)","v":0},{"$f":"IF($AB776=0,0,AC775*(1+Simulador!$D$34)+F776+M776)","v":0},{"$f":"IF($AB776=0,0,AD775*(1+Simulador!$D$34)+T776)","v":0}]
[{"$f":"IF(OR(A776+1>(IF(Simulador!$E$7=\"Autopatrocínio\",Simulador!$C$10,Simulador!$C$9)-Simulador!$C$8)*12,A776=0),0,A776+1)","v":0},{"$f":"IF($A777=0,0,IF(INT($A776/12)-$A776/12=0,B776*(1+Simulador!$C$35),B776))","v":0},{"$f":"MAX(IF(A777=0,0,B777-IF(Simulador!$C$11=\"Individual\",0,Simulador!$C$14)),0)","v":0},null,0,0,0,0,0,0,null,0,0,0,0,0,0,null,0,0,0,0,0,null,{"$f":"IF(OR(Y776+1>(IF(AND(Simulador!$C$9<Simulador!$C$10,OR(Simulador!$E$7=\"Resgate\",Simulador!$E$7=\"Portabilidade\")),Simulador!$C$9,Simulador!$C$10)-Simulador!$C$8)*12,Y776=0),0,Y776+1)","v":0},{"$f":"IF($Y777=0,0,Z776*(1+Simulador!$D$34)+E777+L777)","v":0},{"$f":"IF($Y777=0,0,AA776*(1+Simulador!$D$34)+S777)","v":0},{"$f":"IF(OR(AB776+1>(IF(AND(Simulador!$C$9<Simulador!$C$10,OR(Simulador!$E$7=\"Resgate\",Simulador!$E$7=\"Portabilidade\")),Simulador!$C$9,Simulador!$C$50)-Simulador!$C$8)*12,AB776=0),0,AB776+1)","v":0},{"$f":"IF($AB777=0,0,AC776*(1+Simulador!$D$34)+F777+M777)","v":0},{"$f":"IF($AB777=0,0,AD776*(1+Simulador!$D$34)+T777)","v":0}]
[{"$f":"IF(OR(A777+1>(IF(Simulador!$E$7=\"Autopatrocínio\",Simulador!$C$10,Simulador!$C$9)-Simulador!$C$8)*12,A777=0),0,A777+1)","v":0},{"$f":"IF($A778=0,0,IF(INT($A777/12)-$A777/12=0,B777*(1+Simulador!$C$35),B777))","v":0},{"$f":"MAX(IF(A778=0,0,B778-IF(Simulador!$C$11=\"Individual\",0,Simulador!$C$14)),0)","v":0},null,0,0,0,0,0,0,null,0,0,0,0,0,0,null,0,0,0,0,0,null,{"$f":"IF(OR(Y777+1>(IF(AND(Simulador!$C$9<Simulador!$C$10,OR(Simulador!$E$7=\"Resgate\",Simulador!$E$7=\"Portabilidade\")),Simulador!$C$9,Simulador!$C$10)-Simulador!$C$8)*12,Y777=0),0,Y777+1)","v":0},{"$f":"IF($Y778=0,0,Z777*(1+Simulador!$D$34)+E778+L778)","v":0},{"$f":"IF($Y778=0,0,AA777*(1+Simulador!$D$34)+S778)","v":0},{"$f":"IF(OR(AB777+1>(IF(AND(Simulador!$C$9<Simulador!$C$10,OR(Simulador!$E$7=\"Resgate\",Simulador!$E$7=\"Portabilidade\")),Simulador!$C$9,Simulador!$C$50)-Simulador!$C$8)*12,AB777=0),0,AB777+1)","v":0},{"$f":"IF($AB778=0,0,AC777*(1+Simulador!$D$34)+F778+M778)","v":0},{"$f":"IF($AB778=0,0,AD777*(1+Simulador!$D$34)+T778)","v":0}]
[{"$f":"IF(OR(A778+1>(IF(Simulador!$E$7=\"Autopatrocínio\",Simulador!$C$10,Simulador!$C$9)-Simulador!$C$8)*12,A778=0),0,A778+1)","v":0},{"$f":"IF($A779=0,0,IF(INT($A778/12)-$A778/12=0,B778*(1+Simulador!$C$35),B778))","v":0},{"$f":"MAX(IF(A779=0,0,B779-IF(Simulador!$C$11=\"Individual\",0,Simulador!$C$14)),0)","v":0},null,0,0,0,0,0,0,null,0,0,0,0,0,0,null,0,0,0,0,0,null,{"$f":"IF(OR(Y778+1>(IF(AND(Simulador!$C$9<Simulador!$C$10,OR(Simulador!$E$7=\"Resgate\",Simulador!$E$7=\"Portabilidade\")),Simulador!$C$9,Simulador!$C$10)-Simulador!$C$8)*12,Y778=0),0,Y778+1)","v":0},{"$f":"IF($Y779=0,0,Z778*(1+Simulador!$D$34)+E779+L779)","v":0},{"$f":"IF($Y779=0,0,AA778*(1+Simulador!$D$34)+S779)","v":0},{"$f":"IF(OR(AB778+1>(IF(AND(Simulador!$C$9<Simulador!$C$10,OR(Simulador!$E$7=\"Resgate\",Simulador!$E$7=\"Portabilidade\")),Simulador!$C$9,Simulador!$C$50)-Simulador!$C$8)*12,AB778=0),0,AB778+1)","v":0},{"$f":"IF($AB779=0,0,AC778*(1+Simulador!$D$34)+F779+M779)","v":0},{"$f":"IF($AB779=0,0,AD778*(1+Simulador!$D$34)+T779)","v":0}]
[{"$f":"IF(OR(A779+1>(IF(Simulador!$E$7=\"Autopatrocínio\",Simulador!$C$10,Simulador!$C$9)-Simulador!$C$8)*12,A779=0),0,A779+1)","v":0},{"$f":"IF($A780=0,0,IF(INT($A779/12)-$A779/12=0,B779*(1+Simulador!$C$35),B779))","v":0},{"$f":"MAX(IF(A780=0,0,B780-IF(Simulador!$C$11=\"Individual\",0,Simulador!$C$14)),0)","v":0},null,0,0,0,0,0,0,null,0,0,0,0,0,0,null,0,0,0,0,0,null,{"$f":"IF(OR(Y779+1>(IF(AND(Simulador!$C$9<Simulador!$C$10,OR(Simulador!$E$7=\"Resgate\",Simulador!$E$7=\"Portabilidade\")),Simulador!$C$9,Simulador!$C$10)-Simulador!$C$8)*12,Y779=0),0,Y779+1)","v":0},{"$f":"IF($Y780=0,0,Z779*(1+Simulador!$D$34)+E780+L780)","v":0},{"$f":"IF($Y780=0,0,AA779*(1+Simulador!$D$34)+S780)","v":0},{"$f":"IF(OR(AB779+1>(IF(AND(Simulador!$C$9<Simulador!$C$10,OR(Simulador!$E$7=\"Resgate\",Simulador!$E$7=\"Portabilidade\")),Simulador!$C$9,Simulador!$C$50)-Simulador!$C$8)*12,AB779=0),0,AB779+1)","v":0},{"$f":"IF($AB780=0,0,AC779*(1+Simulador!$D$34)+F780+M780)","v":0},{"$f":"IF($AB780=0,0,AD779*(1+Simulador!$D$34)+T780)","v":0}]
[{"$f":"IF(OR(A780+1>(IF(Simulador!$E$7=\"Autopatrocínio\",Simulador!$C$10,Simulador!$C$9)-Simulador!$C$8)*12,A780=0),0,A780+1)","v":0},{"$f":"IF($A781=0,0,IF(INT($A780/12)-$A780/12=0,B780*(1+Simulador!$C$35),B780))","v":0},{"$f":"MAX(IF(A781=0,0,B781-IF(Simulador!$C$11=\"Individual\",0,Simulador!$C$14)),0)","v":0},null,0,0,0,0,0,0,null,0,0,0,0,0,0,null,0,0,0,0,0,null,{"$f":"IF(OR(Y780+1>(IF(AND(Simulador!$C$9<Simulador!$C$10,OR(Simulador!$E$7=\"Resgate\",Simulador!$E$7=\"Portabilidade\")),Simulador!$C$9,Simulador!$C$10)-Simulador!$C$8)*12,Y780=0),0,Y780+1)","v":0},{"$f":"IF($Y781=0,0,Z780*(1+Simulador!$D$34)+E781+L781)","v":0},{"$f":"IF($Y781=0,0,AA780*(1+Simulador!$D$34)+S781)","v":0},{"$f":"IF(OR(AB780+1>(IF(AND(Simulador!$C$9<Simulador!$C$10,OR(Simulador!$E$7=\"Resgate\",Simulador!$E$7=\"Portabilidade\")),Simulador!$C$9,Simulador!$C$50)-Simulador!$C$8)*12,AB780=0),0,AB780+1)","v":0},{"$f":"IF($AB781=0,0,AC780*(1+Simulador!$D$34)+F781+M781)","v":0},{"$f":"IF($AB781=0,0,AD780*(1+Simulador!$D$34)+T781)","v":0}]
[{"$f":"IF(OR(A781+1>(IF(Simulador!$E$7=\"Autopatrocínio\",Simulador!$C$10,Simulador!$C$9)-Simulador!$C$8)*12,A781=0),0,A781+1)","v":0},{"$f":"IF($A782=0,0,IF(INT($A781/12)-$A781/12=0,B781*(1+Simulador!$C$35),B781))","v":0},{"$f":"MAX(IF(A782=0,0,B782-IF(Simulador!$C$11=\"Individual\",0,Simulador!$C$14)),0)","v":0},null,0,0,0,0,0,0,null,0,0,0,0,0,0,null,0,0,0,0,0,null,{"$f":"IF(OR(Y781+1>(IF(AND(Simulador!$C$9<Simulador!$C$10,OR(Simulador!$E$7=\"Resgate\",Simulador!$E$7=\"Portabilidade\")),Simulador!$C$9,Simulador!$C$10)-Simulador!$C$8)*12,Y781=0),0,Y781+1)","v":0},{"$f":"IF($Y782=0,0,Z781*(1+Simulador!$D$34)+E782+L782)","v":0},{"$f":"IF($Y782=0,0,AA781*(1+Simulador!$D$34)+S782)","v":0},{"$f":"IF(OR(AB781+1>(IF(AND(Simulador!$C$9<Simulador!$C$10,OR(Simulador!$E$7=\"Resgate\",Simulador!$E$7=\"Portabilidade\")),Simulador!$C$9,Simulador!$C$50)-Simulador!$C$8)*12,AB781=0),0,AB781+1)","v":0},{"$f":"IF($AB782=0,0,AC781*(1+Simulador!$D$34)+F782+M782)","v":0},{"$f":"IF($AB782=0,0,AD781*(1+Simulador!$D$34)+T782)","v":0}]
[{"$f":"IF(OR(A782+1>(IF(Simulador!$E$7=\"Autopatrocínio\",Simulador!$C$10,Simulador!$C$9)-Simulador!$C$8)*12,A782=0),0,A782+1)","v":0},{"$f":"IF($A783=0,0,IF(INT($A782/12)-$A782/12=0,B782*(1+Simulador!$C$35),B782))","v":0},{"$f":"MAX(IF(A783=0,0,B783-IF(Simulador!$C$11=\"Individual\",0,Simulador!$C$14)),0)","v":0},null,0,0,0,0,0,0,null,0,0,0,0,0,0,null,0,0,0,0,0,null,{"$f":"IF(OR(Y782+1>(IF(AND(Simulador!$C$9<Simulador!$C$10,OR(Simulador!$E$7=\"Resgate\",Simulador!$E$7=\"Portabilidade\")),Simulador!$C$9,Simulador!$C$10)-Simulador!$C$8)*12,Y782=0),0,Y782+1)","v":0},{"$f":"IF($Y783=0,0,Z782*(1+Simulador!$D$34)+E783+L783)","v":0},{"$f":"IF($Y783=0,0,AA782*(1+Simulador!$D$34)+S783)","v":0},{"$f":"IF(OR(AB782+1>(IF(AND(Simulador!$C$9<Simulador!$C$10,OR(Simulador!$E$7=\"Resgate\",Simulador!$E$7=\"Portabilidade\")),Simulador!$C$9,Simulador!$C$50)-Simulador!$C$8)*12,AB782=0),0,AB782+1)","v":0},{"$f":"IF($AB783=0,0,AC782*(1+Simulador!$D$34)+F783+M783)","v":0},{"$f":"IF($AB783=0,0,AD782*(1+Simulador!$D$34)+T783)","v":0}]
[{"$f":"IF(OR(A783+1>(IF(Simulador!$E$7=\"Autopatrocínio\",Simulador!$C$10,Simulador!$C$9)-Simulador!$C$8)*12,A783=0),0,A783+1)","v":0},{"$f":"IF($A784=0,0,IF(INT($A783/12)-$A783/12=0,B783*(1+Simulador!$C$35),B783))","v":0},{"$f":"MAX(IF(A784=0,0,B784-IF(Simulador!$C$11=\"Individual\",0,Simulador!$C$14)),0)","v":0},null,0,0,0,0,0,0,null,0,0,0,0,0,0,null,0,0,0,0,0,null,{"$f":"IF(OR(Y783+1>(IF(AND(Simulador!$C$9<Simulador!$C$10,OR(Simulador!$E$7=\"Resgate\",Simulador!$E$7=\"Portabilidade\")),Simulador!$C$9,Simulador!$C$10)-Simulador!$C$8)*12,Y783=0),0,Y783+1)","v":0},{"$f":"IF($Y784=0,0,Z783*(1+Simulador!$D$34)+E784+L784)","v":0},{"$f":"IF($Y784=0,0,AA783*(1+Simulador!$D$34)+S784)","v":0},{"$f":"IF(OR(AB783+1>(IF(AND(Simulador!$C$9<Simulador!$C$10,OR(Simulador!$E$7=\"Resgate\",Simulador!$E$7=\"Portabilidade\")),Simulador!$C$9,Simulador!$C$50)-Simulador!$C$8)*12,AB783=0),0,AB783+1)","v":0},{"$f":"IF($AB784=0,0,AC783*(1+Simulador!$D$34)+F784+M784)","v":0},{"$f":"IF($AB784=0,0,AD783*(1+Simulador!$D$34)+T784)","v":0}]
[{"$f":"IF(OR(A784+1>(IF(Simulador!$E$7=\"Autopatrocínio\",Simulador!$C$10,Simulador!$C$9)-Simulador!$C$8)*12,A784=0),0,A784+1)","v":0},{"$f":"IF($A785=0,0,IF(INT($A784/12)-$A784/12=0,B784*(1+Simulador!$C$35),B784))","v":0},{"$f":"MAX(IF(A785=0,0,B785-IF(Simulador!$C$11=\"Individual\",0,Simulador!$C$14)),0)","v":0},null,{"$f":"E$4*$C785*(1+$J785)","v":0},0,0,0,0,0,null,{"$f":"L$4*$C785*$Q785","v":0},0,0,0,0,0,null,{"$f":"S$4*$C785*(1+$J785)","v":0},0,0,0,0,null,{"$f":"IF(OR(Y784+1>(IF(AND(Simulador!$C$9<Simulador!$C$10,OR(Simulador!$E$7=\"Resgate\",Simulador!$E$7=\"Portabilidade\")),Simulador!$C$9,Simulador!$C$10)-Simulador!$C$8)*12,Y784=0),0,Y784+1)","v":0},{"$f":"IF($Y785=0,0,Z784*(1+Simulador!$D$34)+E785+L785)","v":0},{"$f":"IF($Y785=0,0,AA784*(1+Simulador!$D$34)+S785)","v":0},{"$f":"IF(OR(AB784+1>(IF(AND(Simulador!$C$9<Simulador!$C$10,OR(Simulador!$E$7=\"Resgate\",Simulador!$E$7=\"Portabilidade\")),Simulador!$C$9,Simulador!$C$50)-Simulador!$C$8)*12,AB784=0),0,AB784+1)","v":0},{"$f":"IF($AB785=0,0,AC784*(1+Simulador!$D$34)+F785+M785)","v":0},{"$f":"IF($AB785=0,0,AD784*(1+Simulador!$D$34)+T785)","v":0}]
[{"$f":"IF(OR(A785+1>(IF(Simulador!$E$7=\"Autopatrocínio\",Simulador!$C$10,Simulador!$C$9)-Simulador!$C$8)*12,A785=0),0,A785+1)","v":0},{"$f":"IF($A786=0,0,IF(INT($A785/12)-$A785/12=0,B785*(1+Simulador!$C$35),B785))","v":0},{"$f":"MAX(IF(A786=0,0,B786-IF(Simulador!$C$11=\"Individual\",0,Simulador!$C$14)),0)","v":0},null,0,0,0,0,0,0,null,0,0,0,0,0,0,null,0,0,0,0,0,null,{"$f":"IF(OR(Y785+1>(IF(AND(Simulador!$C$9<Simulador!$C$10,OR(Simulador!$E$7=\"Resgate\",Simulador!$E$7=\"Portabilidade\")),Simulador!$C$9,Simulador!$C$10)-Simulador!$C$8)*12,Y785=0),0,Y785+1)","v":0},{"$f":"IF($Y786=0,0,Z785*(1+Simulador!$D$34)+E786+L786)","v":0},{"$f":"IF($Y786=0,0,AA785*(1+Simulador!$D$34)+S786)","v":0},{"$f":"IF(OR(AB785+1>(IF(AND(Simulador!$C$9<Simulador!$C$10,OR(Simulador!$E$7=\"Resgate\",Simulador!$E$7=\"Portabilidade\")),Simulador!$C$9,Simulador!$C$50)-Simulador!$C$8)*12,AB785=0),0,AB785+1)","v":0},{"$f":"IF($AB786=0,0,AC785*(1+Simulador!$D$34)+F786+M786)","v":0},{"$f":"IF($AB786=0,0,AD785*(1+Simulador!$D$34)+T786)","v":0}]
[{"$f":"IF(OR(A786+1>(IF(Simulador!$E$7=\"Autopatrocínio\",Simulador!$C$10,Simulador!$C$9)-Simulador!$C$8)*12,A786=0),0,A786+1)","v":0},{"$f":"IF($A787=0,0,IF(INT($A786/12)-$A786/12=0,B786*(1+Simulador!$C$35),B786))","v":0},{"$f":"MAX(IF(A787=0,0,B787-IF(Simulador!$C$11=\"Individual\",0,Simulador!$C$14)),0)","v":0},null,0,0,0,0,0,0,null,0,0,0,0,0,0,null,0,0,0,0,0,null,{"$f":"IF(OR(Y786+1>(IF(AND(Simulador!$C$9<Simulador!$C$10,OR(Simulador!$E$7=\"Resgate\",Simulador!$E$7=\"Portabilidade\")),Simulador!$C$9,Simulador!$C$10)-Simulador!$C$8)*12,Y786=0),0,Y786+1)","v":0},{"$f":"IF($Y787=0,0,Z786*(1+Simulador!$D$34)+E787+L787)","v":0},{"$f":"IF($Y787=0,0,AA786*(1+Simulador!$D$34)+S787)","v":0},{"$f":"IF(OR(AB786+1>(IF(AND(Simulador!$C$9<Simulador!$C$10,OR(Simulador!$E$7=\"Resgate\",Simulador!$E$7=\"Portabilidade\")),Simulador!$C$9,Simulador!$C$50)-Simulador!$C$8)*12,AB786=0),0,AB786+1)","v":0},{"$f":"IF($AB787=0,0,AC786*(1+Simulador!$D$34)+F787+M787)","v":0},{"$f":"IF($AB787=0,0,AD786*(1+Simulador!$D$34)+T787)","v":0}]
[{"$f":"IF(OR(A787+1>(IF(Simulador!$E$7=\"Autopatrocínio\",Simulador!$C$10,Simulador!$C$9)-Simulador!$C$8)*12,A787=0),0,A787+1)","v":0},{"$f":"IF($A788=0,0,IF(INT($A787/12)-$A787/12=0,B787*(1+Simulador!$C$35),B787))","v":0},{"$f":"MAX(IF(A788=0,0,B788-IF(Simulador!$C$11=\"Individual\",0,Simulador!$C$14)),0)","v":0},null,0,0,0,0,0,0,null,0,0,0,0,0,0,null,0,0,0,0,0,null,{"$f":"IF(OR(Y787+1>(IF(AND(Simulador!$C$9<Simulador!$C$10,OR(Simulador!$E$7=\"Resgate\",Simulador!$E$7=\"Portabilidade\")),Simulador!$C$9,Simulador!$C$10)-Simulador!$C$8)*12,Y787=0),0,Y787+1)","v":0},{"$f":"IF($Y788=0,0,Z787*(1+Simulador!$D$34)+E788+L788)","v":0},{"$f":"IF($Y788=0,0,AA787*(1+Simulador!$D$34)+S788)","v":0},{"$f":"IF(OR(AB787+1>(IF(AND(Simulador!$C$9<Simulador!$C$10,OR(Simulador!$E$7=\"Resgate\",Simulador!$E$7=\"Portabilidade\")),Simulador!$C$9,Simulador!$C$50)-Simulador!$C$8)*12,AB787=0),0,AB787+1)","v":0},{"$f":"IF($AB788=0,0,AC787*(1+Simulador!$D$34)+F788+M788)","v":0},{"$f":"IF($AB788=0,0,AD787*(1+Simulador!$D$34)+T788)","v":0}]
[{"$f":"IF(OR(A788+1>(IF(Simulador!$E$7=\"Autopatrocínio\",Simulador!$C$10,Simulador!$C$9)-Simulador!$C$8)*12,A788=0),0,A788+1)","v":0},{"$f":"IF($A789=0,0,IF(INT($A788/12)-$A788/12=0,B788*(1+Simulador!$C$35),B788))","v":0},{"$f":"MAX(IF(A789=0,0,B789-IF(Simulador!$C$11=\"Individual\",0,Simulador!$C$14)),0)","v":0},null,0,0,0,0,0,0,null,0,0,0,0,0,0,null,0,0,0,0,0,null,{"$f":"IF(OR(Y788+1>(IF(AND(Simulador!$C$9<Simulador!$C$10,OR(Simulador!$E$7=\"Resgate\",Simulador!$E$7=\"Portabilidade\")),Simulador!$C$9,Simulador!$C$10)-Simulador!$C$8)*12,Y788=0),0,Y788+1)","v":0},{"$f":"IF($Y789=0,0,Z788*(1+Simulador!$D$34)+E789+L789)","v":0},{"$f":"IF($Y789=0,0,AA788*(1+Simulador!$D$34)+S789)","v":0},{"$f":"IF(OR(AB788+1>(IF(AND(Simulador!$C$9<Simulador!$C$10,OR(Simulador!$E$7=\"Resgate\",Simulador!$E$7=\"Portabilidade\")),Simulador!$C$9,Simulador!$C$50)-Simulador!$C$8)*12,AB788=0),0,AB788+1)","v":0},{"$f":"IF($AB789=0,0,AC788*(1+Simulador!$D$34)+F789+M789)","v":0},{"$f":"IF($AB789=0,0,AD788*(1+Simulador!$D$34)+T789)","v":0}]
[{"$f":"IF(OR(A789+1>(IF(Simulador!$E$7=\"Autopatrocínio\",Simulador!$C$10,Simulador!$C$9)-Simulador!$C$8)*12,A789=0),0,A789+1)","v":0},{"$f":"IF($A790=0,0,IF(INT($A789/12)-$A789/12=0,B789*(1+Simulador!$C$35),B789))","v":0},{"$f":"MAX(IF(A790=0,0,B790-IF(Simulador!$C$11=\"Individual\",0,Simulador!$C$14)),0)","v":0},null,0,0,0,0,0,0,null,0,0,0,0,0,0,null,0,0,0,0,0,null,{"$f":"IF(OR(Y789+1>(IF(AND(Simulador!$C$9<Simulador!$C$10,OR(Simulador!$E$7=\"Resgate\",Simulador!$E$7=\"Portabilidade\")),Simulador!$C$9,Simulador!$C$10)-Simulador!$C$8)*12,Y789=0),0,Y789+1)","v":0},{"$f":"IF($Y790=0,0,Z789*(1+Simulador!$D$34)+E790+L790)","v":0},{"$f":"IF($Y790=0,0,AA789*(1+Simulador!$D$34)+S790)","v":0},{"$f":"IF(OR(AB789+1>(IF(AND(Simulador!$C$9<Simulador!$C$10,OR(Simulador!$E$7=\"Resgate\",Simulador!$E$7=\"Portabilidade\")),Simulador!$C$9,Simulador!$C$50)-Simulador!$C$8)*12,AB789=0),0,AB789+1)","v":0},{"$f":"IF($AB790=0,0,AC789*(1+Simulador!$D$34)+F790+M790)","v":0},{"$f":"IF($AB790=0,0,AD789*(1+Simulador!$D$34)+T790)","v":0}]
[{"$f":"IF(OR(A790+1>(IF(Simulador!$E$7=\"Autopatrocínio\",Simulador!$C$10,Simulador!$C$9)-Simulador!$C$8)*12,A790=0),0,A790+1)","v":0},{"$f":"IF($A791=0,0,IF(INT($A790/12)-$A790/12=0,B790*(1+Simulador!$C$35),B790))","v":0},{"$f":"MAX(IF(A791=0,0,B791-IF(Simulador!$C$11=\"Individual\",0,Simulador!$C$14)),0)","v":0},null,0,0,0,0,0,0,null,0,0,0,0,0,0,null,0,0,0,0,0,null,{"$f":"IF(OR(Y790+1>(IF(AND(Simulador!$C$9<Simulador!$C$10,OR(Simulador!$E$7=\"Resgate\",Simulador!$E$7=\"Portabilidade\")),Simulador!$C$9,Simulador!$C$10)-Simulador!$C$8)*12,Y790=0),0,Y790+1)","v":0},{"$f":"IF($Y791=0,0,Z790*(1+Simulador!$D$34)+E791+L791)","v":0},{"$f":"IF($Y791=0,0,AA790*(1+Simulador!$D$34)+S791)","v":0},{"$f":"IF(OR(AB790+1>(IF(AND(Simulador!$C$9<Simulador!$C$10,OR(Simulador!$E$7=\"Resgate\",Simulador!$E$7=\"Portabilidade\")),Simulador!$C$9,Simulador!$C$50)-Simulador!$C$8)*12,AB790=0),0,AB790+1)","v":0},{"$f":"IF($AB791=0,0,AC790*(1+Simulador!$D$34)+F791+M791)","v":0},{"$f":"IF($AB791=0,0,AD790*(1+Simulador!$D$34)+T791)","v":0}]
[{"$f":"IF(OR(A791+1>(IF(Simulador!$E$7=\"Autopatrocínio\",Simulador!$C$10,Simulador!$C$9)-Simulador!$C$8)*12,A791=0),0,A791+1)","v":0},{"$f":"IF($A792=0,0,IF(INT($A791/12)-$A791/12=0,B791*(1+Simulador!$C$35),B791))","v":0},{"$f":"MAX(IF(A792=0,0,B792-IF(Simulador!$C$11=\"Individual\",0,Simulador!$C$14)),0)","v":0},null,0,0,0,0,0,0,null,0,0,0,0,0,0,null,0,0,0,0,0,null,{"$f":"IF(OR(Y791+1>(IF(AND(Simulador!$C$9<Simulador!$C$10,OR(Simulador!$E$7=\"Resgate\",Simulador!$E$7=\"Portabilidade\")),Simulador!$C$9,Simulador!$C$10)-Simulador!$C$8)*12,Y791=0),0,Y791+1)","v":0},{"$f":"IF($Y792=0,0,Z791*(1+Simulador!$D$34)+E792+L792)","v":0},{"$f":"IF($Y792=0,0,AA791*(1+Simulador!$D$34)+S792)","v":0},{"$f":"IF(OR(AB791+1>(IF(AND(Simulador!$C$9<Simulador!$C$10,OR(Simulador!$E$7=\"Resgate\",Simulador!$E$7=\"Portabilidade\")),Simulador!$C$9,Simulador!$C$50)-Simulador!$C$8)*12,AB791=0),0,AB791+1)","v":0},{"$f":"IF($AB792=0,0,AC791*(1+Simulador!$D$34)+F792+M792)","v":0},{"$f":"IF($AB792=0,0,AD791*(1+Simulador!$D$34)+T792)","v":0}]
[{"$f":"IF(OR(A792+1>(IF(Simulador!$E$7=\"Autopatrocínio\",Simulador!$C$10,Simulador!$C$9)-Simulador!$C$8)*12,A792=0),0,A792+1)","v":0},{"$f":"IF($A793=0,0,IF(INT($A792/12)-$A792/12=0,B792*(1+Simulador!$C$35),B792))","v":0},{"$f":"MAX(IF(A793=0,0,B793-IF(Simulador!$C$11=\"Individual\",0,Simulador!$C$14)),0)","v":0},null,0,0,0,0,0,0,null,0,0,0,0,0,0,null,0,0,0,0,0,null,{"$f":"IF(OR(Y792+1>(IF(AND(Simulador!$C$9<Simulador!$C$10,OR(Simulador!$E$7=\"Resgate\",Simulador!$E$7=\"Portabilidade\")),Simulador!$C$9,Simulador!$C$10)-Simulador!$C$8)*12,Y792=0),0,Y792+1)","v":0},{"$f":"IF($Y793=0,0,Z792*(1+Simulador!$D$34)+E793+L793)","v":0},{"$f":"IF($Y793=0,0,AA792*(1+Simulador!$D$34)+S793)","v":0},{"$f":"IF(OR(AB792+1>(IF(AND(Simulador!$C$9<Simulador!$C$10,OR(Simulador!$E$7=\"Resgate\",Simulador!$E$7=\"Portabilidade\")),Simulador!$C$9,Simulador!$C$50)-Simulador!$C$8)*12,AB792=0),0,AB792+1)","v":0},{"$f":"IF($AB793=0,0,AC792*(1+Simulador!$D$34)+F793+M793)","v":0},{"$f":"IF($AB793=0,0,AD792*(1+Simulador!$D$34)+T793)","v":0}]
[{"$f":"IF(OR(A793+1>(IF(Simulador!$E$7=\"Autopatrocínio\",Simulador!$C$10,Simulador!$C$9)-Simulador!$C$8)*12,A793=0),0,A793+1)","v":0},{"$f":"IF($A794=0,0,IF(INT($A793/12)-$A793/12=0,B793*(1+Simulador!$C$35),B793))","v":0},{"$f":"MAX(IF(A794=0,0,B794-IF(Simulador!$C$11=\"Individual\",0,Simulador!$C$14)),0)","v":0},null,0,0,0,0,0,0,null,0,0,0,0,0,0,null,0,0,0,0,0,null,{"$f":"IF(OR(Y793+1>(IF(AND(Simulador!$C$9<Simulador!$C$10,OR(Simulador!$E$7=\"Resgate\",Simulador!$E$7=\"Portabilidade\")),Simulador!$C$9,Simulador!$C$10)-Simulador!$C$8)*12,Y793=0),0,Y793+1)","v":0},{"$f":"IF($Y794=0,0,Z793*(1+Simulador!$D$34)+E794+L794)","v":0},{"$f":"IF($Y794=0,0,AA793*(1+Simulador!$D$34)+S794)","v":0},{"$f":"IF(OR(AB793+1>(IF(AND(Simulador!$C$9<Simulador!$C$10,OR(Simulador!$E$7=\"Resgate\",Simulador!$E$7=\"Portabilidade\")),Simulador!$C$9,Simulador!$C$50)-Simulador!$C$8)*12,AB793=0),0,AB793+1)","v":0},{"$f":"IF($AB794=0,0,AC793*(1+Simulador!$D$34)+F794+M794)","v":0},{"$f":"IF($AB794=0,0,AD793*(1+Simulador!$D$34)+T794)","v":0}]
[{"$f":"IF(OR(A794+1>(IF(Simulador!$E$7=\"Autopatrocínio\",Simulador!$C$10,Simulador!$C$9)-Simulador!$C$8)*12,A794=0),0,A794+1)","v":0},{"$f":"IF($A795=0,0,IF(INT($A794/12)-$A794/12=0,B794*(1+Simulador!$C$35),B794))","v":0},{"$f":"MAX(IF(A795=0,0,B795-IF(Simulador!$C$11=\"Individual\",0,Simulador!$C$14)),0)","v":0},null,0,0,0,0,0,0,null,0,0,0,0,0,0,null,0,0,0,0,0,null,{"$f":"IF(OR(Y794+1>(IF(AND(Simulador!$C$9<Simulador!$C$10,OR(Simulador!$E$7=\"Resgate\",Simulador!$E$7=\"Portabilidade\")),Simulador!$C$9,Simulador!$C$10)-Simulador!$C$8)*12,Y794=0),0,Y794+1)","v":0},{"$f":"IF($Y795=0,0,Z794*(1+Simulador!$D$34)+E795+L795)","v":0},{"$f":"IF($Y795=0,0,AA794*(1+Simulador!$D$34)+S795)","v":0},{"$f":"IF(OR(AB794+1>(IF(AND(Simulador!$C$9<Simulador!$C$10,OR(Simulador!$E$7=\"Resgate\",Simulador!$E$7=\"Portabilidade\")),Simulador!$C$9,Simulador!$C$50)-Simulador!$C$8)*12,AB794=0),0,AB794+1)","v":0},{"$f":"IF($AB795=0,0,AC794*(1+Simulador!$D$34)+F795+M795)","v":0},{"$f":"IF($AB795=0,0,AD794*(1+Simulador!$D$34)+T795)","v":0}]
[{"$f":"IF(OR(A795+1>(IF(Simulador!$E$7=\"Autopatrocínio\",Simulador!$C$10,Simulador!$C$9)-Simulador!$C$8)*12,A795=0),0,A795+1)","v":0},{"$f":"IF($A796=0,0,IF(INT($A795/12)-$A795/12=0,B795*(1+Simulador!$C$35),B795))","v":0},{"$f":"MAX(IF(A796=0,0,B796-IF(Simulador!$C$11=\"Individual\",0,Simulador!$C$14)),0)","v":0},null,0,0,0,0,0,0,null,0,0,0,0,0,0,null,0,0,0,0,0,null,{"$f":"IF(OR(Y795+1>(IF(AND(Simulador!$C$9<Simulador!$C$10,OR(Simulador!$E$7=\"Resgate\",Simulador!$E$7=\"Portabilidade\")),Simulador!$C$9,Simulador!$C$10)-Simulador!$C$8)*12,Y795=0),0,Y795+1)","v":0},{"$f":"IF($Y796=0,0,Z795*(1+Simulador!$D$34)+E796+L796)","v":0},{"$f":"IF($Y796=0,0,AA795*(1+Simulador!$D$34)+S796)","v":0},{"$f":"IF(OR(AB795+1>(IF(AND(Simulador!$C$9<Simulador!$C$10,OR(Simulador!$E$7=\"Resgate\",Simulador!$E$7=\"Portabilidade\")),Simulador!$C$9,Simulador!$C$50)-Simulador!$C$8)*12,AB795=0),0,AB795+1)","v":0},{"$f":"IF($AB796=0,0,AC795*(1+Simulador!$D$34)+F796+M796)","v":0},{"$f":"IF($AB796=0,0,AD795*(1+Simulador!$D$34)+T796)","v":0}]
[{"$f":"IF(OR(A796+1>(IF(Simulador!$E$7=\"Autopatrocínio\",Simulador!$C$10,Simulador!$C$9)-Simulador!$C$8)*12,A796=0),0,A796+1)","v":0},{"$f":"IF($A797=0,0,IF(INT($A796/12)-$A796/12=0,B796*(1+Simulador!$C$35),B796))","v":0},{"$f":"MAX(IF(A797=0,0,B797-IF(Simulador!$C$11=\"Individual\",0,Simulador!$C$14)),0)","v":0},null,0,0,0,0,0,0,null,0,0,0,0,0,0,null,0,0,0,0,0,null,{"$f":"IF(OR(Y796+1>(IF(AND(Simulador!$C$9<Simulador!$C$10,OR(Simulador!$E$7=\"Resgate\",Simulador!$E$7=\"Portabilidade\")),Simulador!$C$9,Simulador!$C$10)-Simulador!$C$8)*12,Y796=0),0,Y796+1)","v":0},{"$f":"IF($Y797=0,0,Z796*(1+Simulador!$D$34)+E797+L797)","v":0},{"$f":"IF($Y797=0,0,AA796*(1+Simulador!$D$34)+S797)","v":0},{"$f":"IF(OR(AB796+1>(IF(AND(Simulador!$C$9<Simulador!$C$10,OR(Simulador!$E$7=\"Resgate\",Simulador!$E$7=\"Portabilidade\")),Simulador!$C$9,Simulador!$C$50)-Simulador!$C$8)*12,AB796=0),0,AB796+1)","v":0},{"$f":"IF($AB797=0,0,AC796*(1+Simulador!$D$34)+F797+M797)","v":0},{"$f":"IF($AB797=0,0,AD796*(1+Simulador!$D$34)+T797)","v":0}]
[{"$f":"IF(OR(A797+1>(IF(Simulador!$E$7=\"Autopatrocínio\",Simulador!$C$10,Simulador!$C$9)-Simulador!$C$8)*12,A797=0),0,A797+1)","v":0},{"$f":"IF($A798=0,0,IF(INT($A797/12)-$A797/12=0,B797*(1+Simulador!$C$35),B797))","v":0},{"$f":"MAX(IF(A798=0,0,B798-IF(Simulador!$C$11=\"Individual\",0,Simulador!$C$14)),0)","v":0},null,0,0,0,0,0,0,null,0,0,0,0,0,0,null,0,0,0,0,0,null,{"$f":"IF(OR(Y797+1>(IF(AND(Simulador!$C$9<Simulador!$C$10,OR(Simulador!$E$7=\"Resgate\",Simulador!$E$7=\"Portabilidade\")),Simulador!$C$9,Simulador!$C$10)-Simulador!$C$8)*12,Y797=0),0,Y797+1)","v":0},{"$f":"IF($Y798=0,0,Z797*(1+Simulador!$D$34)+E798+L798)","v":0},{"$f":"IF($Y798=0,0,AA797*(1+Simulador!$D$34)+S798)","v":0},{"$f":"IF(OR(AB797+1>(IF(AND(Simulador!$C$9<Simulador!$C$10,OR(Simulador!$E$7=\"Resgate\",Simulador!$E$7=\"Portabilidade\")),Simulador!$C$9,Simulador!$C$50)-Simulador!$C$8)*12,AB797=0),0,AB797+1)","v":0},{"$f":"IF($AB798=0,0,AC797*(1+Simulador!$D$34)+F798+M798)","v":0},{"$f":"IF($AB798=0,0,AD797*(1+Simulador!$D$34)+T798)","v":0}]
[{"$f":"IF(OR(A798+1>(IF(Simulador!$E$7=\"Autopatrocínio\",Simulador!$C$10,Simulador!$C$9)-Simulador!$C$8)*12,A798=0),0,A798+1)","v":0},{"$f":"IF($A799=0,0,IF(INT($A798/12)-$A798/12=0,B798*(1+Simulador!$C$35),B798))","v":0},{"$f":"MAX(IF(A799=0,0,B799-IF(Simulador!$C$11=\"Individual\",0,Simulador!$C$14)),0)","v":0},null,0,0,0,0,0,0,null,0,0,0,0,0,0,null,0,0,0,0,0,null,{"$f":"IF(OR(Y798+1>(IF(AND(Simulador!$C$9<Simulador!$C$10,OR(Simulador!$E$7=\"Resgate\",Simulador!$E$7=\"Portabilidade\")),Simulador!$C$9,Simulador!$C$10)-Simulador!$C$8)*12,Y798=0),0,Y798+1)","v":0},{"$f":"IF($Y799=0,0,Z798*(1+Simulador!$D$34)+E799+L799)","v":0},{"$f":"IF($Y799=0,0,AA798*(1+Simulador!$D$34)+S799)","v":0},{"$f":"IF(OR(AB798+1>(IF(AND(Simulador!$C$9<Simulador!$C$10,OR(Simulador!$E$7=\"Resgate\",Simulador!$E$7=\"Portabilidade\")),Simulador!$C$9,Simulador!$C$50)-Simulador!$C$8)*12,AB798=0),0,AB798+1)","v":0},{"$f":"IF($AB799=0,0,AC798*(1+Simulador!$D$34)+F799+M799)","v":0},{"$f":"IF($AB799=0,0,AD798*(1+Simulador!$D$34)+T799)","v":0}]
[{"$f":"IF(OR(A799+1>(IF(Simulador!$E$7=\"Autopatrocínio\",Simulador!$C$10,Simulador!$C$9)-Simulador!$C$8)*12,A799=0),0,A799+1)","v":0},{"$f":"IF($A800=0,0,IF(INT($A799/12)-$A799/12=0,B799*(1+Simulador!$C$35),B799))","v":0},{"$f":"MAX(IF(A800=0,0,B800-IF(Simulador!$C$11=\"Individual\",0,Simulador!$C$14)),0)","v":0},null,0,0,0,0,0,0,null,0,0,0,0,0,0,null,0,0,0,0,0,null,{"$f":"IF(OR(Y799+1>(IF(AND(Simulador!$C$9<Simulador!$C$10,OR(Simulador!$E$7=\"Resgate\",Simulador!$E$7=\"Portabilidade\")),Simulador!$C$9,Simulador!$C$10)-Simulador!$C$8)*12,Y799=0),0,Y799+1)","v":0},{"$f":"IF($Y800=0,0,Z799*(1+Simulador!$D$34)+E800+L800)","v":0},{"$f":"IF($Y800=0,0,AA799*(1+Simulador!$D$34)+S800)","v":0},{"$f":"IF(OR(AB799+1>(IF(AND(Simulador!$C$9<Simulador!$C$10,OR(Simulador!$E$7=\"Resgate\",Simulador!$E$7=\"Portabilidade\")),Simulador!$C$9,Simulador!$C$50)-Simulador!$C$8)*12,AB799=0),0,AB799+1)","v":0},{"$f":"IF($AB800=0,0,AC799*(1+Simulador!$D$34)+F800+M800)","v":0},{"$f":"IF($AB800=0,0,AD799*(1+Simulador!$D$34)+T800)","v":0}]
[{"$f":"IF(OR(A800+1>(IF(Simulador!$E$7=\"Autopatrocínio\",Simulador!$C$10,Simulador!$C$9)-Simulador!$C$8)*12,A800=0),0,A800+1)","v":0},{"$f":"IF($A801=0,0,IF(INT($A800/12)-$A800/12=0,B800*(1+Simulador!$C$35),B800))","v":0},{"$f":"MAX(IF(A801=0,0,B801-IF(Simulador!$C$11=\"Individual\",0,Simulador!$C$14)),0)","v":0},null,0,0,0,0,0,0,null,0,0,0,0,0,0,null,0,0,0,0,0,null,{"$f":"IF(OR(Y800+1>(IF(AND(Simulador!$C$9<Simulador!$C$10,OR(Simulador!$E$7=\"Resgate\",Simulador!$E$7=\"Portabilidade\")),Simulador!$C$9,Simulador!$C$10)-Simulador!$C$8)*12,Y800=0),0,Y800+1)","v":0},{"$f":"IF($Y801=0,0,Z800*(1+Simulador!$D$34)+E801+L801)","v":0},{"$f":"IF($Y801=0,0,AA800*(1+Simulador!$D$34)+S801)","v":0},{"$f":"IF(OR(AB800+1>(IF(AND(Simulador!$C$9<Simulador!$C$10,OR(Simulador!$E$7=\"Resgate\",Simulador!$E$7=\"Portabilidade\")),Simulador!$C$9,Simulador!$C$50)-Simulador!$C$8)*12,AB800=0),0,AB800+1)","v":0},{"$f":"IF($AB801=0,0,AC800*(1+Simulador!$D$34)+F801+M801)","v":0},{"$f":"IF($AB801=0,0,AD800*(1+Simulador!$D$34)+T801)","v":0}]
[{"$f":"IF(OR(A801+1>(IF(Simulador!$E$7=\"Autopatrocínio\",Simulador!$C$10,Simulador!$C$9)-Simulador!$C$8)*12,A801=0),0,A801+1)","v":0},{"$f":"IF($A802=0,0,IF(INT($A801/12)-$A801/12=0,B801*(1+Simulador!$C$35),B801))","v":0},{"$f":"MAX(IF(A802=0,0,B802-IF(Simulador!$C$11=\"Individual\",0,Simulador!$C$14)),0)","v":0},null,0,0,0,0,0,0,null,0,0,0,0,0,0,null,0,0,0,0,0,null,{"$f":"IF(OR(Y801+1>(IF(AND(Simulador!$C$9<Simulador!$C$10,OR(Simulador!$E$7=\"Resgate\",Simulador!$E$7=\"Portabilidade\")),Simulador!$C$9,Simulador!$C$10)-Simulador!$C$8)*12,Y801=0),0,Y801+1)","v":0},{"$f":"IF($Y802=0,0,Z801*(1+Simulador!$D$34)+E802+L802)","v":0},{"$f":"IF($Y802=0,0,AA801*(1+Simulador!$D$34)+S802)","v":0},{"$f":"IF(OR(AB801+1>(IF(AND(Simulador!$C$9<Simulador!$C$10,OR(Simulador!$E$7=\"Resgate\",Simulador!$E$7=\"Portabilidade\")),Simulador!$C$9,Simulador!$C$50)-Simulador!$C$8)*12,AB801=0),0,AB801+1)","v":0},{"$f":"IF($AB802=0,0,AC801*(1+Simulador!$D$34)+F802+M802)","v":0},{"$f":"IF($AB802=0,0,AD801*(1+Simulador!$D$34)+T802)","v":0}]
[{"$f":"IF(OR(A802+1>(IF(Simulador!$E$7=\"Autopatrocínio\",Simulador!$C$10,Simulador!$C$9)-Simulador!$C$8)*12,A802=0),0,A802+1)","v":0},{"$f":"IF($A803=0,0,IF(INT($A802/12)-$A802/12=0,B802*(1+Simulador!$C$35),B802))","v":0},{"$f":"MAX(IF(A803=0,0,B803-IF(Simulador!$C$11=\"Individual\",0,Simulador!$C$14)),0)","v":0},null,0,0,0,0,0,0,null,0,0,0,0,0,0,null,0,0,0,0,0,null,{"$f":"IF(OR(Y802+1>(IF(AND(Simulador!$C$9<Simulador!$C$10,OR(Simulador!$E$7=\"Resgate\",Simulador!$E$7=\"Portabilidade\")),Simulador!$C$9,Simulador!$C$10)-Simulador!$C$8)*12,Y802=0),0,Y802+1)","v":0},{"$f":"IF($Y803=0,0,Z802*(1+Simulador!$D$34)+E803+L803)","v":0},{"$f":"IF($Y803=0,0,AA802*(1+Simulador!$D$34)+S803)","v":0},{"$f":"IF(OR(AB802+1>(IF(AND(Simulador!$C$9<Simulador!$C$10,OR(Simulador!$E$7=\"Resgate\",Simulador!$E$7=\"Portabilidade\")),Simulador!$C$9,Simulador!$C$50)-Simulador!$C$8)*12,AB802=0),0,AB802+1)","v":0},{"$f":"IF($AB803=0,0,AC802*(1+Simulador!$D$34)+F803+M803)","v":0},{"$f":"IF($AB803=0,0,AD802*(1+Simulador!$D$34)+T803)","v":0}]
[{"$f":"IF(OR(A803+1>(IF(Simulador!$E$7=\"Autopatrocínio\",Simulador!$C$10,Simulador!$C$9)-Simulador!$C$8)*12,A803=0),0,A803+1)","v":0},{"$f":"IF($A804=0,0,IF(INT($A803/12)-$A803/12=0,B803*(1+Simulador!$C$35),B803))","v":0},{"$f":"MAX(IF(A804=0,0,B804-IF(Simulador!$C$11=\"Individual\",0,Simulador!$C$14)),0)","v":0},null,0,0,0,0,0,0,null,0,0,0,0,0,0,null,0,0,0,0,0,null,{"$f":"IF(OR(Y803+1>(IF(AND(Simulador!$C$9<Simulador!$C$10,OR(Simulador!$E$7=\"Resgate\",Simulador!$E$7=\"Portabilidade\")),Simulador!$C$9,Simulador!$C$10)-Simulador!$C$8)*12,Y803=0),0,Y803+1)","v":0},{"$f":"IF($Y804=0,0,Z803*(1+Simulador!$D$34)+E804+L804)","v":0},{"$f":"IF($Y804=0,0,AA803*(1+Simulador!$D$34)+S804)","v":0},{"$f":"IF(OR(AB803+1>(IF(AND(Simulador!$C$9<Simulador!$C$10,OR(Simulador!$E$7=\"Resgate\",Simulador!$E$7=\"Portabilidade\")),Simulador!$C$9,Simulador!$C$50)-Simulador!$C$8)*12,AB803=0),0,AB803+1)","v":0},{"$f":"IF($AB804=0,0,AC803*(1+Simulador!$D$34)+F804+M804)","v":0},{"$f":"IF($AB804=0,0,AD803*(1+Simulador!$D$34)+T804)","v":0}]
[{"$f":"IF(OR(A804+1>(IF(Simulador!$E$7=\"Autopatrocínio\",Simulador!$C$10,Simulador!$C$9)-Simulador!$C$8)*12,A804=0),0,A804+1)","v":0},{"$f":"IF($A805=0,0,IF(INT($A804/12)-$A804/12=0,B804*(1+Simulador!$C$35),B804))","v":0},{"$f":"MAX(IF(A805=0,0,B805-IF(Simulador!$C$11=\"Individual\",0,Simulador!$C$14)),0)","v":0},null,0,0,0,0,0,0,null,0,0,0,0,0,0,null,0,0,0,0,0,null,{"$f":"IF(OR(Y804+1>(IF(AND(Simulador!$C$9<Simulador!$C$10,OR(Simulador!$E$7=\"Resgate\",Simulador!$E$7=\"Portabilidade\")),Simulador!$C$9,Simulador!$C$10)-Simulador!$C$8)*12,Y804=0),0,Y804+1)","v":0},{"$f":"IF($Y805=0,0,Z804*(1+Simulador!$D$34)+E805+L805)","v":0},{"$f":"IF($Y805=0,0,AA804*(1+Simulador!$D$34)+S805)","v":0},{"$f":"IF(OR(AB804+1>(IF(AND(Simulador!$C$9<Simulador!$C$10,OR(Simulador!$E$7=\"Resgate\",Simulador!$E$7=\"Portabilidade\")),Simulador!$C$9,Simulador!$C$50)-Simulador!$C$8)*12,AB804=0),0,AB804+1)","v":0},{"$f":"IF($AB805=0,0,AC804*(1+Simulador!$D$34)+F805+M805)","v":0},{"$f":"IF($AB805=0,0,AD804*(1+Simulador!$D$34)+T805)","v":0}]
[{"$f":"IF(OR(A805+1>(IF(Simulador!$E$7=\"Autopatrocínio\",Simulador!$C$10,Simulador!$C$9)-Simulador!$C$8)*12,A805=0),0,A805+1)","v":0},{"$f":"IF($A806=0,0,IF(INT($A805/12)-$A805/12=0,B805*(1+Simulador!$C$35),B805))","v":0},{"$f":"MAX(IF(A806=0,0,B806-IF(Simulador!$C$11=\"Individual\",0,Simulador!$C$14)),0)","v":0},null,0,0,0,0,0,0,null,0,0,0,0,0,0,null,0,0,0,0,0,null,{"$f":"IF(OR(Y805+1>(IF(AND(Simulador!$C$9<Simulador!$C$10,OR(Simulador!$E$7=\"Resgate\",Simulador!$E$7=\"Portabilidade\")),Simulador!$C$9,Simulador!$C$10)-Simulador!$C$8)*12,Y805=0),0,Y805+1)","v":0},{"$f":"IF($Y806=0,0,Z805*(1+Simulador!$D$34)+E806+L806)","v":0},{"$f":"IF($Y806=0,0,AA805*(1+Simulador!$D$34)+S806)","v":0},{"$f":"IF(OR(AB805+1>(IF(AND(Simulador!$C$9<Simulador!$C$10,OR(Simulador!$E$7=\"Resgate\",Simulador!$E$7=\"Portabilidade\")),Simulador!$C$9,Simulador!$C$50)-Simulador!$C$8)*12,AB805=0),0,AB805+1)","v":0},{"$f":"IF($AB806=0,0,AC805*(1+Simulador!$D$34)+F806+M806)","v":0},{"$f":"IF($AB806=0,0,AD805*(1+Simulador!$D$34)+T806)","v":0}]
[{"$f":"IF(OR(A806+1>(IF(Simulador!$E$7=\"Autopatrocínio\",Simulador!$C$10,Simulador!$C$9)-Simulador!$C$8)*12,A806=0),0,A806+1)","v":0},{"$f":"IF($A807=0,0,IF(INT($A806/12)-$A806/12=0,B806*(1+Simulador!$C$35),B806))","v":0},{"$f":"MAX(IF(A807=0,0,B807-IF(Simulador!$C$11=\"Individual\",0,Simulador!$C$14)),0)","v":0},null,0,0,0,0,0,0,null,0,0,0,0,0,0,null,0,0,0,0,0,null,{"$f":"IF(OR(Y806+1>(IF(AND(Simulador!$C$9<Simulador!$C$10,OR(Simulador!$E$7=\"Resgate\",Simulador!$E$7=\"Portabilidade\")),Simulador!$C$9,Simulador!$C$10)-Simulador!$C$8)*12,Y806=0),0,Y806+1)","v":0},{"$f":"IF($Y807=0,0,Z806*(1+Simulador!$D$34)+E807+L807)","v":0},{"$f":"IF($Y807=0,0,AA806*(1+Simulador!$D$34)+S807)","v":0},{"$f":"IF(OR(AB806+1>(IF(AND(Simulador!$C$9<Simulador!$C$10,OR(Simulador!$E$7=\"Resgate\",Simulador!$E$7=\"Portabilidade\")),Simulador!$C$9,Simulador!$C$50)-Simulador!$C$8)*12,AB806=0),0,AB806+1)","v":0},{"$f":"IF($AB807=0,0,AC806*(1+Simulador!$D$34)+F807+M807)","v":0},{"$f":"IF($AB807=0,0,AD806*(1+Simulador!$D$34)+T807)","v":0}]
[{"$f":"IF(OR(A807+1>(IF(Simulador!$E$7=\"Autopatrocínio\",Simulador!$C$10,Simulador!$C$9)-Simulador!$C$8)*12,A807=0),0,A807+1)","v":0},{"$f":"IF($A808=0,0,IF(INT($A807/12)-$A807/12=0,B807*(1+Simulador!$C$35),B807))","v":0},{"$f":"MAX(IF(A808=0,0,B808-IF(Simulador!$C$11=\"Individual\",0,Simulador!$C$14)),0)","v":0},null,0,0,0,0,0,0,null,0,0,0,0,0,0,null,0,0,0,0,0,null,{"$f":"IF(OR(Y807+1>(IF(AND(Simulador!$C$9<Simulador!$C$10,OR(Simulador!$E$7=\"Resgate\",Simulador!$E$7=\"Portabilidade\")),Simulador!$C$9,Simulador!$C$10)-Simulador!$C$8)*12,Y807=0),0,Y807+1)","v":0},{"$f":"IF($Y808=0,0,Z807*(1+Simulador!$D$34)+E808+L808)","v":0},{"$f":"IF($Y808=0,0,AA807*(1+Simulador!$D$34)+S808)","v":0},{"$f":"IF(OR(AB807+1>(IF(AND(Simulador!$C$9<Simulador!$C$10,OR(Simulador!$E$7=\"Resgate\",Simulador!$E$7=\"Portabilidade\")),Simulador!$C$9,Simulador!$C$50)-Simulador!$C$8)*12,AB807=0),0,AB807+1)","v":0},{"$f":"IF($AB808=0,0,AC807*(1+Simulador!$D$34)+F808+M808)","v":0},{"$f":"IF($AB808=0,0,AD807*(1+Simulador!$D$34)+T808)","v":0}]
[{"$f":"IF(OR(A808+1>(IF(Simulador!$E$7=\"Autopatrocínio\",Simulador!$C$10,Simulador!$C$9)-Simulador!$C$8)*12,A808=0),0,A808+1)","v":0},{"$f":"IF($A809=0,0,IF(INT($A808/12)-$A808/12=0,B808*(1+Simulador!$C$35),B808))","v":0},{"$f":"MAX(IF(A809=0,0,B809-IF(Simulador!$C$11=\"Individual\",0,Simulador!$C$14)),0)","v":0},null,0,0,0,0,0,0,null,0,0,0,0,0,0,null,0,0,0,0,0,null,{"$f":"IF(OR(Y808+1>(IF(AND(Simulador!$C$9<Simulador!$C$10,OR(Simulador!$E$7=\"Resgate\",Simulador!$E$7=\"Portabilidade\")),Simulador!$C$9,Simulador!$C$10)-Simulador!$C$8)*12,Y808=0),0,Y808+1)","v":0},{"$f":"IF($Y809=0,0,Z808*(1+Simulador!$D$34)+E809+L809)","v":0},{"$f":"IF($Y809=0,0,AA808*(1+Simulador!$D$34)+S809)","v":0},{"$f":"IF(OR(AB808+1>(IF(AND(Simulador!$C$9<Simulador!$C$10,OR(Simulador!$E$7=\"Resgate\",Simulador!$E$7=\"Portabilidade\")),Simulador!$C$9,Simulador!$C$50)-Simulador!$C$8)*12,AB808=0),0,AB808+1)","v":0},{"$f":"IF($AB809=0,0,AC808*(1+Simulador!$D$34)+F809+M809)","v":0},{"$f":"IF($AB809=0,0,AD808*(1+Simulador!$D$34)+T809)","v":0}]
[{"$f":"IF(OR(A809+1>(IF(Simulador!$E$7=\"Autopatrocínio\",Simulador!$C$10,Simulador!$C$9)-Simulador!$C$8)*12,A809=0),0,A809+1)","v":0},{"$f":"IF($A810=0,0,IF(INT($A809/12)-$A809/12=0,B809*(1+Simulador!$C$35),B809))","v":0},{"$f":"MAX(IF(A810=0,0,B810-IF(Simulador!$C$11=\"Individual\",0,Simulador!$C$14)),0)","v":0},null,0,0,0,0,0,0,null,0,0,0,0,0,0,null,0,0,0,0,0,null,{"$f":"IF(OR(Y809+1>(IF(AND(Simulador!$C$9<Simulador!$C$10,OR(Simulador!$E$7=\"Resgate\",Simulador!$E$7=\"Portabilidade\")),Simulador!$C$9,Simulador!$C$10)-Simulador!$C$8)*12,Y809=0),0,Y809+1)","v":0},{"$f":"IF($Y810=0,0,Z809*(1+Simulador!$D$34)+E810+L810)","v":0},{"$f":"IF($Y810=0,0,AA809*(1+Simulador!$D$34)+S810)","v":0},{"$f":"IF(OR(AB809+1>(IF(AND(Simulador!$C$9<Simulador!$C$10,OR(Simulador!$E$7=\"Resgate\",Simulador!$E$7=\"Portabilidade\")),Simulador!$C$9,Simulador!$C$50)-Simulador!$C$8)*12,AB809=0),0,AB809+1)","v":0},{"$f":"IF($AB810=0,0,AC809*(1+Simulador!$D$34)+F810+M810)","v":0},{"$f":"IF($AB810=0,0,AD809*(1+Simulador!$D$34)+T810)","v":0}]
[{"$f":"IF(OR(A810+1>(IF(Simulador!$E$7=\"Autopatrocínio\",Simulador!$C$10,Simulador!$C$9)-Simulador!$C$8)*12,A810=0),0,A810+1)","v":0},{"$f":"IF($A811=0,0,IF(INT($A810/12)-$A810/12=0,B810*(1+Simulador!$C$35),B810))","v":0},{"$f":"MAX(IF(A811=0,0,B811-IF(Simulador!$C$11=\"Individual\",0,Simulador!$C$14)),0)","v":0},null,0,0,0,0,0,0,null,0,0,0,0,0,0,null,0,0,0,0,0,null,{"$f":"IF(OR(Y810+1>(IF(AND(Simulador!$C$9<Simulador!$C$10,OR(Simulador!$E$7=\"Resgate\",Simulador!$E$7=\"Portabilidade\")),Simulador!$C$9,Simulador!$C$10)-Simulador!$C$8)*12,Y810=0),0,Y810+1)","v":0},{"$f":"IF($Y811=0,0,Z810*(1+Simulador!$D$34)+E811+L811)","v":0},{"$f":"IF($Y811=0,0,AA810*(1+Simulador!$D$34)+S811)","v":0},{"$f":"IF(OR(AB810+1>(IF(AND(Simulador!$C$9<Simulador!$C$10,OR(Simulador!$E$7=\"Resgate\",Simulador!$E$7=\"Portabilidade\")),Simulador!$C$9,Simulador!$C$50)-Simulador!$C$8)*12,AB810=0),0,AB810+1)","v":0},{"$f":"IF($AB811=0,0,AC810*(1+Simulador!$D$34)+F811+M811)","v":0},{"$f":"IF($AB811=0,0,AD810*(1+Simulador!$D$34)+T811)","v":0}]
[{"$f":"IF(OR(A811+1>(IF(Simulador!$E$7=\"Autopatrocínio\",Simulador!$C$10,Simulador!$C$9)-Simulador!$C$8)*12,A811=0),0,A811+1)","v":0},{"$f":"IF($A812=0,0,IF(INT($A811/12)-$A811/12=0,B811*(1+Simulador!$C$35),B811))","v":0},{"$f":"MAX(IF(A812=0,0,B812-IF(Simulador!$C$11=\"Individual\",0,Simulador!$C$14)),0)","v":0},null,0,0,0,0,0,0,null,0,0,0,0,0,0,null,0,0,0,0,0,null,{"$f":"IF(OR(Y811+1>(IF(AND(Simulador!$C$9<Simulador!$C$10,OR(Simulador!$E$7=\"Resgate\",Simulador!$E$7=\"Portabilidade\")),Simulador!$C$9,Simulador!$C$10)-Simulador!$C$8)*12,Y811=0),0,Y811+1)","v":0},{"$f":"IF($Y812=0,0,Z811*(1+Simulador!$D$34)+E812+L812)","v":0},{"$f":"IF($Y812=0,0,AA811*(1+Simulador!$D$34)+S812)","v":0},{"$f":"IF(OR(AB811+1>(IF(AND(Simulador!$C$9<Simulador!$C$10,OR(Simulador!$E$7=\"Resgate\",Simulador!$E$7=\"Portabilidade\")),Simulador!$C$9,Simulador!$C$50)-Simulador!$C$8)*12,AB811=0),0,AB811+1)","v":0},{"$f":"IF($AB812=0,0,AC811*(1+Simulador!$D$34)+F812+M812)","v":0},{"$f":"IF($AB812=0,0,AD811*(1+Simulador!$D$34)+T812)","v":0}]
[{"$f":"IF(OR(A812+1>(IF(Simulador!$E$7=\"Autopatrocínio\",Simulador!$C$10,Simulador!$C$9)-Simulador!$C$8)*12,A812=0),0,A812+1)","v":0},{"$f":"IF($A813=0,0,IF(INT($A812/12)-$A812/12=0,B812*(1+Simulador!$C$35),B812))","v":0},{"$f":"MAX(IF(A813=0,0,B813-IF(Simulador!$C$11=\"Individual\",0,Simulador!$C$14)),0)","v":0},null,0,0,0,0,0,0,null,0,0,0,0,0,0,null,0,0,0,0,0,null,{"$f":"IF(OR(Y812+1>(IF(AND(Simulador!$C$9<Simulador!$C$10,OR(Simulador!$E$7=\"Resgate\",Simulador!$E$7=\"Portabilidade\")),Simulador!$C$9,Simulador!$C$10)-Simulador!$C$8)*12,Y812=0),0,Y812+1)","v":0},{"$f":"IF($Y813=0,0,Z812*(1+Simulador!$D$34)+E813+L813)","v":0},{"$f":"IF($Y813=0,0,AA812*(1+Simulador!$D$34)+S813)","v":0},{"$f":"IF(OR(AB812+1>(IF(AND(Simulador!$C$9<Simulador!$C$10,OR(Simulador!$E$7=\"Resgate\",Simulador!$E$7=\"Portabilidade\")),Simulador!$C$9,Simulador!$C$50)-Simulador!$C$8)*12,AB812=0),0,AB812+1)","v":0},{"$f":"IF($AB813=0,0,AC812*(1+Simulador!$D$34)+F813+M813)","v":0},{"$f":"IF($AB813=0,0,AD812*(1+Simulador!$D$34)+T813)","v":0}]
[{"$f":"IF(OR(A813+1>(IF(Simulador!$E$7=\"Autopatrocínio\",Simulador!$C$10,Simulador!$C$9)-Simulador!$C$8)*12,A813=0),0,A813+1)","v":0},{"$f":"IF($A814=0,0,IF(INT($A813/12)-$A813/12=0,B813*(1+Simulador!$C$35),B813))","v":0},{"$f":"MAX(IF(A814=0,0,B814-IF(Simulador!$C$11=\"Individual\",0,Simulador!$C$14)),0)","v":0},null,0,0,0,0,0,0,null,0,0,0,0,0,0,null,0,0,0,0,0,null,{"$f":"IF(OR(Y813+1>(IF(AND(Simulador!$C$9<Simulador!$C$10,OR(Simulador!$E$7=\"Resgate\",Simulador!$E$7=\"Portabilidade\")),Simulador!$C$9,Simulador!$C$10)-Simulador!$C$8)*12,Y813=0),0,Y813+1)","v":0},{"$f":"IF($Y814=0,0,Z813*(1+Simulador!$D$34)+E814+L814)","v":0},{"$f":"IF($Y814=0,0,AA813*(1+Simulador!$D$34)+S814)","v":0},{"$f":"IF(OR(AB813+1>(IF(AND(Simulador!$C$9<Simulador!$C$10,OR(Simulador!$E$7=\"Resgate\",Simulador!$E$7=\"Portabilidade\")),Simulador!$C$9,Simulador!$C$50)-Simulador!$C$8)*12,AB813=0),0,AB813+1)","v":0},{"$f":"IF($AB814=0,0,AC813*(1+Simulador!$D$34)+F814+M814)","v":0},{"$f":"IF($AB814=0,0,AD813*(1+Simulador!$D$34)+T814)","v":0}]
[{"$f":"IF(OR(A814+1>(IF(Simulador!$E$7=\"Autopatrocínio\",Simulador!$C$10,Simulador!$C$9)-Simulador!$C$8)*12,A814=0),0,A814+1)","v":0},{"$f":"IF($A815=0,0,IF(INT($A814/12)-$A814/12=0,B814*(1+Simulador!$C$35),B814))","v":0},{"$f":"MAX(IF(A815=0,0,B815-IF(Simulador!$C$11=\"Individual\",0,Simulador!$C$14)),0)","v":0},null,0,0,0,0,0,0,null,0,0,0,0,0,0,null,0,0,0,0,0,null,{"$f":"IF(OR(Y814+1>(IF(AND(Simulador!$C$9<Simulador!$C$10,OR(Simulador!$E$7=\"Resgate\",Simulador!$E$7=\"Portabilidade\")),Simulador!$C$9,Simulador!$C$10)-Simulador!$C$8)*12,Y814=0),0,Y814+1)","v":0},{"$f":"IF($Y815=0,0,Z814*(1+Simulador!$D$34)+E815+L815)","v":0},{"$f":"IF($Y815=0,0,AA814*(1+Simulador!$D$34)+S815)","v":0},{"$f":"IF(OR(AB814+1>(IF(AND(Simulador!$C$9<Simulador!$C$10,OR(Simulador!$E$7=\"Resgate\",Simulador!$E$7=\"Portabilidade\")),Simulador!$C$9,Simulador!$C$50)-Simulador!$C$8)*12,AB814=0),0,AB814+1)","v":0},{"$f":"IF($AB815=0,0,AC814*(1+Simulador!$D$34)+F815+M815)","v":0},{"$f":"IF($AB815=0,0,AD814*(1+Simulador!$D$34)+T815)","v":0}]
[{"$f":"IF(OR(A815+1>(IF(Simulador!$E$7=\"Autopatrocínio\",Simulador!$C$10,Simulador!$C$9)-Simulador!$C$8)*12,A815=0),0,A815+1)","v":0},{"$f":"IF($A816=0,0,IF(INT($A815/12)-$A815/12=0,B815*(1+Simulador!$C$35),B815))","v":0},{"$f":"MAX(IF(A816=0,0,B816-IF(Simulador!$C$11=\"Individual\",0,Simulador!$C$14)),0)","v":0},null,0,0,0,0,0,0,null,0,0,0,0,0,0,null,0,0,0,0,0,null,{"$f":"IF(OR(Y815+1>(IF(AND(Simulador!$C$9<Simulador!$C$10,OR(Simulador!$E$7=\"Resgate\",Simulador!$E$7=\"Portabilidade\")),Simulador!$C$9,Simulador!$C$10)-Simulador!$C$8)*12,Y815=0),0,Y815+1)","v":0},{"$f":"IF($Y816=0,0,Z815*(1+Simulador!$D$34)+E816+L816)","v":0},{"$f":"IF($Y816=0,0,AA815*(1+Simulador!$D$34)+S816)","v":0},{"$f":"IF(OR(AB815+1>(IF(AND(Simulador!$C$9<Simulador!$C$10,OR(Simulador!$E$7=\"Resgate\",Simulador!$E$7=\"Portabilidade\")),Simulador!$C$9,Simulador!$C$50)-Simulador!$C$8)*12,AB815=0),0,AB815+1)","v":0},{"$f":"IF($AB816=0,0,AC815*(1+Simulador!$D$34)+F816+M816)","v":0},{"$f":"IF($AB816=0,0,AD815*(1+Simulador!$D$34)+T816)","v":0}]
[{"$f":"IF(OR(A816+1>(IF(Simulador!$E$7=\"Autopatrocínio\",Simulador!$C$10,Simulador!$C$9)-Simulador!$C$8)*12,A816=0),0,A816+1)","v":0},{"$f":"IF($A817=0,0,IF(INT($A816/12)-$A816/12=0,B816*(1+Simulador!$C$35),B816))","v":0},{"$f":"MAX(IF(A817=0,0,B817-IF(Simulador!$C$11=\"Individual\",0,Simulador!$C$14)),0)","v":0},null,0,0,0,0,0,0,null,0,0,0,0,0,0,null,0,0,0,0,0,null,{"$f":"IF(OR(Y816+1>(IF(AND(Simulador!$C$9<Simulador!$C$10,OR(Simulador!$E$7=\"Resgate\",Simulador!$E$7=\"Portabilidade\")),Simulador!$C$9,Simulador!$C$10)-Simulador!$C$8)*12,Y816=0),0,Y816+1)","v":0},{"$f":"IF($Y817=0,0,Z816*(1+Simulador!$D$34)+E817+L817)","v":0},{"$f":"IF($Y817=0,0,AA816*(1+Simulador!$D$34)+S817)","v":0},{"$f":"IF(OR(AB816+1>(IF(AND(Simulador!$C$9<Simulador!$C$10,OR(Simulador!$E$7=\"Resgate\",Simulador!$E$7=\"Portabilidade\")),Simulador!$C$9,Simulador!$C$50)-Simulador!$C$8)*12,AB816=0),0,AB816+1)","v":0},{"$f":"IF($AB817=0,0,AC816*(1+Simulador!$D$34)+F817+M817)","v":0},{"$f":"IF($AB817=0,0,AD816*(1+Simulador!$D$34)+T817)","v":0}]
[{"$f":"IF(OR(A817+1>(IF(Simulador!$E$7=\"Autopatrocínio\",Simulador!$C$10,Simulador!$C$9)-Simulador!$C$8)*12,A817=0),0,A817+1)","v":0},{"$f":"IF($A818=0,0,IF(INT($A817/12)-$A817/12=0,B817*(1+Simulador!$C$35),B817))","v":0},{"$f":"MAX(IF(A818=0,0,B818-IF(Simulador!$C$11=\"Individual\",0,Simulador!$C$14)),0)","v":0},null,0,0,0,0,0,0,null,0,0,0,0,0,0,null,0,0,0,0,0,null,{"$f":"IF(OR(Y817+1>(IF(AND(Simulador!$C$9<Simulador!$C$10,OR(Simulador!$E$7=\"Resgate\",Simulador!$E$7=\"Portabilidade\")),Simulador!$C$9,Simulador!$C$10)-Simulador!$C$8)*12,Y817=0),0,Y817+1)","v":0},{"$f":"IF($Y818=0,0,Z817*(1+Simulador!$D$34)+E818+L818)","v":0},{"$f":"IF($Y818=0,0,AA817*(1+Simulador!$D$34)+S818)","v":0},{"$f":"IF(OR(AB817+1>(IF(AND(Simulador!$C$9<Simulador!$C$10,OR(Simulador!$E$7=\"Resgate\",Simulador!$E$7=\"Portabilidade\")),Simulador!$C$9,Simulador!$C$50)-Simulador!$C$8)*12,AB817=0),0,AB817+1)","v":0},{"$f":"IF($AB818=0,0,AC817*(1+Simulador!$D$34)+F818+M818)","v":0},{"$f":"IF($AB818=0,0,AD817*(1+Simulador!$D$34)+T818)","v":0}]
[{"$f":"IF(OR(A818+1>(IF(Simulador!$E$7=\"Autopatrocínio\",Simulador!$C$10,Simulador!$C$9)-Simulador!$C$8)*12,A818=0),0,A818+1)","v":0},{"$f":"IF($A819=0,0,IF(INT($A818/12)-$A818/12=0,B818*(1+Simulador!$C$35),B818))","v":0},{"$f":"MAX(IF(A819=0,0,B819-IF(Simulador!$C$11=\"Individual\",0,Simulador!$C$14)),0)","v":0},null,0,0,0,0,0,0,null,0,0,0,0,0,0,null,0,0,0,0,0,null,{"$f":"IF(OR(Y818+1>(IF(AND(Simulador!$C$9<Simulador!$C$10,OR(Simulador!$E$7=\"Resgate\",Simulador!$E$7=\"Portabilidade\")),Simulador!$C$9,Simulador!$C$10)-Simulador!$C$8)*12,Y818=0),0,Y818+1)","v":0},{"$f":"IF($Y819=0,0,Z818*(1+Simulador!$D$34)+E819+L819)","v":0},{"$f":"IF($Y819=0,0,AA818*(1+Simulador!$D$34)+S819)","v":0},{"$f":"IF(OR(AB818+1>(IF(AND(Simulador!$C$9<Simulador!$C$10,OR(Simulador!$E$7=\"Resgate\",Simulador!$E$7=\"Portabilidade\")),Simulador!$C$9,Simulador!$C$50)-Simulador!$C$8)*12,AB818=0),0,AB818+1)","v":0},{"$f":"IF($AB819=0,0,AC818*(1+Simulador!$D$34)+F819+M819)","v":0},{"$f":"IF($AB819=0,0,AD818*(1+Simulador!$D$34)+T819)","v":0}]
[{"$f":"IF(OR(A819+1>(IF(Simulador!$E$7=\"Autopatrocínio\",Simulador!$C$10,Simulador!$C$9)-Simulador!$C$8)*12,A819=0),0,A819+1)","v":0},{"$f":"IF($A820=0,0,IF(INT($A819/12)-$A819/12=0,B819*(1+Simulador!$C$35),B819))","v":0},{"$f":"MAX(IF(A820=0,0,B820-IF(Simulador!$C$11=\"Individual\",0,Simulador!$C$14)),0)","v":0},null,0,0,0,0,0,0,null,0,0,0,0,0,0,null,0,0,0,0,0,null,{"$f":"IF(OR(Y819+1>(IF(AND(Simulador!$C$9<Simulador!$C$10,OR(Simulador!$E$7=\"Resgate\",Simulador!$E$7=\"Portabilidade\")),Simulador!$C$9,Simulador!$C$10)-Simulador!$C$8)*12,Y819=0),0,Y819+1)","v":0},{"$f":"IF($Y820=0,0,Z819*(1+Simulador!$D$34)+E820+L820)","v":0},{"$f":"IF($Y820=0,0,AA819*(1+Simulador!$D$34)+S820)","v":0},{"$f":"IF(OR(AB819+1>(IF(AND(Simulador!$C$9<Simulador!$C$10,OR(Simulador!$E$7=\"Resgate\",Simulador!$E$7=\"Portabilidade\")),Simulador!$C$9,Simulador!$C$50)-Simulador!$C$8)*12,AB819=0),0,AB819+1)","v":0},{"$f":"IF($AB820=0,0,AC819*(1+Simulador!$D$34)+F820+M820)","v":0},{"$f":"IF($AB820=0,0,AD819*(1+Simulador!$D$34)+T820)","v":0}]
[{"$f":"IF(OR(A820+1>(IF(Simulador!$E$7=\"Autopatrocínio\",Simulador!$C$10,Simulador!$C$9)-Simulador!$C$8)*12,A820=0),0,A820+1)","v":0},{"$f":"IF($A821=0,0,IF(INT($A820/12)-$A820/12=0,B820*(1+Simulador!$C$35),B820))","v":0},{"$f":"MAX(IF(A821=0,0,B821-IF(Simulador!$C$11=\"Individual\",0,Simulador!$C$14)),0)","v":0},null,0,0,0,0,0,0,null,0,0,0,0,0,0,null,0,0,0,0,0,null,{"$f":"IF(OR(Y820+1>(IF(AND(Simulador!$C$9<Simulador!$C$10,OR(Simulador!$E$7=\"Resgate\",Simulador!$E$7=\"Portabilidade\")),Simulador!$C$9,Simulador!$C$10)-Simulador!$C$8)*12,Y820=0),0,Y820+1)","v":0},{"$f":"IF($Y821=0,0,Z820*(1+Simulador!$D$34)+E821+L821)","v":0},{"$f":"IF($Y821=0,0,AA820*(1+Simulador!$D$34)+S821)","v":0},{"$f":"IF(OR(AB820+1>(IF(AND(Simulador!$C$9<Simulador!$C$10,OR(Simulador!$E$7=\"Resgate\",Simulador!$E$7=\"Portabilidade\")),Simulador!$C$9,Simulador!$C$50)-Simulador!$C$8)*12,AB820=0),0,AB820+1)","v":0},{"$f":"IF($AB821=0,0,AC820*(1+Simulador!$D$34)+F821+M821)","v":0},{"$f":"IF($AB821=0,0,AD820*(1+Simulador!$D$34)+T821)","v":0}]
[{"$f":"IF(OR(A821+1>(IF(Simulador!$E$7=\"Autopatrocínio\",Simulador!$C$10,Simulador!$C$9)-Simulador!$C$8)*12,A821=0),0,A821+1)","v":0},{"$f":"IF($A822=0,0,IF(INT($A821/12)-$A821/12=0,B821*(1+Simulador!$C$35),B821))","v":0},{"$f":"MAX(IF(A822=0,0,B822-IF(Simulador!$C$11=\"Individual\",0,Simulador!$C$14)),0)","v":0},null,0,0,0,0,0,0,null,0,0,0,0,0,0,null,0,0,0,0,0,null,{"$f":"IF(OR(Y821+1>(IF(AND(Simulador!$C$9<Simulador!$C$10,OR(Simulador!$E$7=\"Resgate\",Simulador!$E$7=\"Portabilidade\")),Simulador!$C$9,Simulador!$C$10)-Simulador!$C$8)*12,Y821=0),0,Y821+1)","v":0},{"$f":"IF($Y822=0,0,Z821*(1+Simulador!$D$34)+E822+L822)","v":0},{"$f":"IF($Y822=0,0,AA821*(1+Simulador!$D$34)+S822)","v":0},{"$f":"IF(OR(AB821+1>(IF(AND(Simulador!$C$9<Simulador!$C$10,OR(Simulador!$E$7=\"Resgate\",Simulador!$E$7=\"Portabilidade\")),Simulador!$C$9,Simulador!$C$50)-Simulador!$C$8)*12,AB821=0),0,AB821+1)","v":0},{"$f":"IF($AB822=0,0,AC821*(1+Simulador!$D$34)+F822+M822)","v":0},{"$f":"IF($AB822=0,0,AD821*(1+Simulador!$D$34)+T822)","v":0}]
[{"$f":"IF(OR(A822+1>(IF(Simulador!$E$7=\"Autopatrocínio\",Simulador!$C$10,Simulador!$C$9)-Simulador!$C$8)*12,A822=0),0,A822+1)","v":0},{"$f":"IF($A823=0,0,IF(INT($A822/12)-$A822/12=0,B822*(1+Simulador!$C$35),B822))","v":0},{"$f":"MAX(IF(A823=0,0,B823-IF(Simulador!$C$11=\"Individual\",0,Simulador!$C$14)),0)","v":0},null,0,0,0,0,0,0,null,0,0,0,0,0,0,null,0,0,0,0,0,null,{"$f":"IF(OR(Y822+1>(IF(AND(Simulador!$C$9<Simulador!$C$10,OR(Simulador!$E$7=\"Resgate\",Simulador!$E$7=\"Portabilidade\")),Simulador!$C$9,Simulador!$C$10)-Simulador!$C$8)*12,Y822=0),0,Y822+1)","v":0},{"$f":"IF($Y823=0,0,Z822*(1+Simulador!$D$34)+E823+L823)","v":0},{"$f":"IF($Y823=0,0,AA822*(1+Simulador!$D$34)+S823)","v":0},{"$f":"IF(OR(AB822+1>(IF(AND(Simulador!$C$9<Simulador!$C$10,OR(Simulador!$E$7=\"Resgate\",Simulador!$E$7=\"Portabilidade\")),Simulador!$C$9,Simulador!$C$50)-Simulador!$C$8)*12,AB822=0),0,AB822+1)","v":0},{"$f":"IF($AB823=0,0,AC822*(1+Simulador!$D$34)+F823+M823)","v":0},{"$f":"IF($AB823=0,0,AD822*(1+Simulador!$D$34)+T823)","v":0}]
[{"$f":"IF(OR(A823+1>(IF(Simulador!$E$7=\"Autopatrocínio\",Simulador!$C$10,Simulador!$C$9)-Simulador!$C$8)*12,A823=0),0,A823+1)","v":0},{"$f":"IF($A824=0,0,IF(INT($A823/12)-$A823/12=0,B823*(1+Simulador!$C$35),B823))","v":0},{"$f":"MAX(IF(A824=0,0,B824-IF(Simulador!$C$11=\"Individual\",0,Simulador!$C$14)),0)","v":0},null,0,0,0,0,0,0,null,0,0,0,0,0,0,null,0,0,0,0,0,null,{"$f":"IF(OR(Y823+1>(IF(AND(Simulador!$C$9<Simulador!$C$10,OR(Simulador!$E$7=\"Resgate\",Simulador!$E$7=\"Portabilidade\")),Simulador!$C$9,Simulador!$C$10)-Simulador!$C$8)*12,Y823=0),0,Y823+1)","v":0},{"$f":"IF($Y824=0,0,Z823*(1+Simulador!$D$34)+E824+L824)","v":0},{"$f":"IF($Y824=0,0,AA823*(1+Simulador!$D$34)+S824)","v":0},{"$f":"IF(OR(AB823+1>(IF(AND(Simulador!$C$9<Simulador!$C$10,OR(Simulador!$E$7=\"Resgate\",Simulador!$E$7=\"Portabilidade\")),Simulador!$C$9,Simulador!$C$50)-Simulador!$C$8)*12,AB823=0),0,AB823+1)","v":0},{"$f":"IF($AB824=0,0,AC823*(1+Simulador!$D$34)+F824+M824)","v":0},{"$f":"IF($AB824=0,0,AD823*(1+Simulador!$D$34)+T824)","v":0}]
[{"$f":"IF(OR(A824+1>(IF(Simulador!$E$7=\"Autopatrocínio\",Simulador!$C$10,Simulador!$C$9)-Simulador!$C$8)*12,A824=0),0,A824+1)","v":0},{"$f":"IF($A825=0,0,IF(INT($A824/12)-$A824/12=0,B824*(1+Simulador!$C$35),B824))","v":0},{"$f":"MAX(IF(A825=0,0,B825-IF(Simulador!$C$11=\"Individual\",0,Simulador!$C$14)),0)","v":0},null,0,0,0,0,0,0,null,0,0,0,0,0,0,null,0,0,0,0,0,null,{"$f":"IF(OR(Y824+1>(IF(AND(Simulador!$C$9<Simulador!$C$10,OR(Simulador!$E$7=\"Resgate\",Simulador!$E$7=\"Portabilidade\")),Simulador!$C$9,Simulador!$C$10)-Simulador!$C$8)*12,Y824=0),0,Y824+1)","v":0},{"$f":"IF($Y825=0,0,Z824*(1+Simulador!$D$34)+E825+L825)","v":0},{"$f":"IF($Y825=0,0,AA824*(1+Simulador!$D$34)+S825)","v":0},{"$f":"IF(OR(AB824+1>(IF(AND(Simulador!$C$9<Simulador!$C$10,OR(Simulador!$E$7=\"Resgate\",Simulador!$E$7=\"Portabilidade\")),Simulador!$C$9,Simulador!$C$50)-Simulador!$C$8)*12,AB824=0),0,AB824+1)","v":0},{"$f":"IF($AB825=0,0,AC824*(1+Simulador!$D$34)+F825+M825)","v":0},{"$f":"IF($AB825=0,0,AD824*(1+Simulador!$D$34)+T825)","v":0}]
[{"$f":"IF(OR(A825+1>(IF(Simulador!$E$7=\"Autopatrocínio\",Simulador!$C$10,Simulador!$C$9)-Simulador!$C$8)*12,A825=0),0,A825+1)","v":0},{"$f":"IF($A826=0,0,IF(INT($A825/12)-$A825/12=0,B825*(1+Simulador!$C$35),B825))","v":0},{"$f":"MAX(IF(A826=0,0,B826-IF(Simulador!$C$11=\"Individual\",0,Simulador!$C$14)),0)","v":0},null,0,0,0,0,0,0,null,0,0,0,0,0,0,null,0,0,0,0,0,null,{"$f":"IF(OR(Y825+1>(IF(AND(Simulador!$C$9<Simulador!$C$10,OR(Simulador!$E$7=\"Resgate\",Simulador!$E$7=\"Portabilidade\")),Simulador!$C$9,Simulador!$C$10)-Simulador!$C$8)*12,Y825=0),0,Y825+1)","v":0},{"$f":"IF($Y826=0,0,Z825*(1+Simulador!$D$34)+E826+L826)","v":0},{"$f":"IF($Y826=0,0,AA825*(1+Simulador!$D$34)+S826)","v":0},{"$f":"IF(OR(AB825+1>(IF(AND(Simulador!$C$9<Simulador!$C$10,OR(Simulador!$E$7=\"Resgate\",Simulador!$E$7=\"Portabilidade\")),Simulador!$C$9,Simulador!$C$50)-Simulador!$C$8)*12,AB825=0),0,AB825+1)","v":0},{"$f":"IF($AB826=0,0,AC825*(1+Simulador!$D$34)+F826+M826)","v":0},{"$f":"IF($AB826=0,0,AD825*(1+Simulador!$D$34)+T826)","v":0}]
[{"$f":"IF(OR(A826+1>(IF(Simulador!$E$7=\"Autopatrocínio\",Simulador!$C$10,Simulador!$C$9)-Simulador!$C$8)*12,A826=0),0,A826+1)","v":0},{"$f":"IF($A827=0,0,IF(INT($A826/12)-$A826/12=0,B826*(1+Simulador!$C$35),B826))","v":0},{"$f":"MAX(IF(A827=0,0,B827-IF(Simulador!$C$11=\"Individual\",0,Simulador!$C$14)),0)","v":0},null,0,0,0,0,0,0,null,0,0,0,0,0,0,null,0,0,0,0,0,null,{"$f":"IF(OR(Y826+1>(IF(AND(Simulador!$C$9<Simulador!$C$10,OR(Simulador!$E$7=\"Resgate\",Simulador!$E$7=\"Portabilidade\")),Simulador!$C$9,Simulador!$C$10)-Simulador!$C$8)*12,Y826=0),0,Y826+1)","v":0},{"$f":"IF($Y827=0,0,Z826*(1+Simulador!$D$34)+E827+L827)","v":0},{"$f":"IF($Y827=0,0,AA826*(1+Simulador!$D$34)+S827)","v":0},{"$f":"IF(OR(AB826+1>(IF(AND(Simulador!$C$9<Simulador!$C$10,OR(Simulador!$E$7=\"Resgate\",Simulador!$E$7=\"Portabilidade\")),Simulador!$C$9,Simulador!$C$50)-Simulador!$C$8)*12,AB826=0),0,AB826+1)","v":0},{"$f":"IF($AB827=0,0,AC826*(1+Simulador!$D$34)+F827+M827)","v":0},{"$f":"IF($AB827=0,0,AD826*(1+Simulador!$D$34)+T827)","v":0}]
[{"$f":"IF(OR(A827+1>(IF(Simulador!$E$7=\"Autopatrocínio\",Simulador!$C$10,Simulador!$C$9)-Simulador!$C$8)*12,A827=0),0,A827+1)","v":0},{"$f":"IF($A828=0,0,IF(INT($A827/12)-$A827/12=0,B827*(1+Simulador!$C$35),B827))","v":0},{"$f":"MAX(IF(A828=0,0,B828-IF(Simulador!$C$11=\"Individual\",0,Simulador!$C$14)),0)","v":0},null,0,0,0,0,0,0,null,0,0,0,0,0,0,null,0,0,0,0,0,null,{"$f":"IF(OR(Y827+1>(IF(AND(Simulador!$C$9<Simulador!$C$10,OR(Simulador!$E$7=\"Resgate\",Simulador!$E$7=\"Portabilidade\")),Simulador!$C$9,Simulador!$C$10)-Simulador!$C$8)*12,Y827=0),0,Y827+1)","v":0},{"$f":"IF($Y828=0,0,Z827*(1+Simulador!$D$34)+E828+L828)","v":0},{"$f":"IF($Y828=0,0,AA827*(1+Simulador!$D$34)+S828)","v":0},{"$f":"IF(OR(AB827+1>(IF(AND(Simulador!$C$9<Simulador!$C$10,OR(Simulador!$E$7=\"Resgate\",Simulador!$E$7=\"Portabilidade\")),Simulador!$C$9,Simulador!$C$50)-Simulador!$C$8)*12,AB827=0),0,AB827+1)","v":0},{"$f":"IF($AB828=0,0,AC827*(1+Simulador!$D$34)+F828+M828)","v":0},{"$f":"IF($AB828=0,0,AD827*(1+Simulador!$D$34)+T828)","v":0}]
[{"$f":"IF(OR(A828+1>(IF(Simulador!$E$7=\"Autopatrocínio\",Simulador!$C$10,Simulador!$C$9)-Simulador!$C$8)*12,A828=0),0,A828+1)","v":0},{"$f":"IF($A829=0,0,IF(INT($A828/12)-$A828/12=0,B828*(1+Simulador!$C$35),B828))","v":0},{"$f":"MAX(IF(A829=0,0,B829-IF(Simulador!$C$11=\"Individual\",0,Simulador!$C$14)),0)","v":0},null,0,0,0,0,0,0,null,0,0,0,0,0,0,null,0,0,0,0,0,null,{"$f":"IF(OR(Y828+1>(IF(AND(Simulador!$C$9<Simulador!$C$10,OR(Simulador!$E$7=\"Resgate\",Simulador!$E$7=\"Portabilidade\")),Simulador!$C$9,Simulador!$C$10)-Simulador!$C$8)*12,Y828=0),0,Y828+1)","v":0},{"$f":"IF($Y829=0,0,Z828*(1+Simulador!$D$34)+E829+L829)","v":0},{"$f":"IF($Y829=0,0,AA828*(1+Simulador!$D$34)+S829)","v":0},{"$f":"IF(OR(AB828+1>(IF(AND(Simulador!$C$9<Simulador!$C$10,OR(Simulador!$E$7=\"Resgate\",Simulador!$E$7=\"Portabilidade\")),Simulador!$C$9,Simulador!$C$50)-Simulador!$C$8)*12,AB828=0),0,AB828+1)","v":0},{"$f":"IF($AB829=0,0,AC828*(1+Simulador!$D$34)+F829+M829)","v":0},{"$f":"IF($AB829=0,0,AD828*(1+Simulador!$D$34)+T829)","v":0}]
[{"$f":"IF(OR(A829+1>(IF(Simulador!$E$7=\"Autopatrocínio\",Simulador!$C$10,Simulador!$C$9)-Simulador!$C$8)*12,A829=0),0,A829+1)","v":0},{"$f":"IF($A830=0,0,IF(INT($A829/12)-$A829/12=0,B829*(1+Simulador!$C$35),B829))","v":0},{"$f":"MAX(IF(A830=0,0,B830-IF(Simulador!$C$11=\"Individual\",0,Simulador!$C$14)),0)","v":0},null,0,0,0,0,0,0,null,0,0,0,0,0,0,null,0,0,0,0,0,null,{"$f":"IF(OR(Y829+1>(IF(AND(Simulador!$C$9<Simulador!$C$10,OR(Simulador!$E$7=\"Resgate\",Simulador!$E$7=\"Portabilidade\")),Simulador!$C$9,Simulador!$C$10)-Simulador!$C$8)*12,Y829=0),0,Y829+1)","v":0},{"$f":"IF($Y830=0,0,Z829*(1+Simulador!$D$34)+E830+L830)","v":0},{"$f":"IF($Y830=0,0,AA829*(1+Simulador!$D$34)+S830)","v":0},{"$f":"IF(OR(AB829+1>(IF(AND(Simulador!$C$9<Simulador!$C$10,OR(Simulador!$E$7=\"Resgate\",Simulador!$E$7=\"Portabilidade\")),Simulador!$C$9,Simulador!$C$50)-Simulador!$C$8)*12,AB829=0),0,AB829+1)","v":0},{"$f":"IF($AB830=0,0,AC829*(1+Simulador!$D$34)+F830+M830)","v":0},{"$f":"IF($AB830=0,0,AD829*(1+Simulador!$D$34)+T830)","v":0}]
[{"$f":"IF(OR(A830+1>(IF(Simulador!$E$7=\"Autopatrocínio\",Simulador!$C$10,Simulador!$C$9)-Simulador!$C$8)*12,A830=0),0,A830+1)","v":0},{"$f":"IF($A831=0,0,IF(INT($A830/12)-$A830/12=0,B830*(1+Simulador!$C$35),B830))","v":0},{"$f":"MAX(IF(A831=0,0,B831-IF(Simulador!$C$11=\"Individual\",0,Simulador!$C$14)),0)","v":0},null,0,0,0,0,0,0,null,0,0,0,0,0,0,null,0,0,0,0,0,null,{"$f":"IF(OR(Y830+1>(IF(AND(Simulador!$C$9<Simulador!$C$10,OR(Simulador!$E$7=\"Resgate\",Simulador!$E$7=\"Portabilidade\")),Simulador!$C$9,Simulador!$C$10)-Simulador!$C$8)*12,Y830=0),0,Y830+1)","v":0},{"$f":"IF($Y831=0,0,Z830*(1+Simulador!$D$34)+E831+L831)","v":0},{"$f":"IF($Y831=0,0,AA830*(1+Simulador!$D$34)+S831)","v":0},{"$f":"IF(OR(AB830+1>(IF(AND(Simulador!$C$9<Simulador!$C$10,OR(Simulador!$E$7=\"Resgate\",Simulador!$E$7=\"Portabilidade\")),Simulador!$C$9,Simulador!$C$50)-Simulador!$C$8)*12,AB830=0),0,AB830+1)","v":0},{"$f":"IF($AB831=0,0,AC830*(1+Simulador!$D$34)+F831+M831)","v":0},{"$f":"IF($AB831=0,0,AD830*(1+Simulador!$D$34)+T831)","v":0}]
[{"$f":"IF(OR(A831+1>(IF(Simulador!$E$7=\"Autopatrocínio\",Simulador!$C$10,Simulador!$C$9)-Simulador!$C$8)*12,A831=0),0,A831+1)","v":0},{"$f":"IF($A832=0,0,IF(INT($A831/12)-$A831/12=0,B831*(1+Simulador!$C$35),B831))","v":0},{"$f":"MAX(IF(A832=0,0,B832-IF(Simulador!$C$11=\"Individual\",0,Simulador!$C$14)),0)","v":0},null,0,0,0,0,0,0,null,0,0,0,0,0,0,null,0,0,0,0,0,null,{"$f":"IF(OR(Y831+1>(IF(AND(Simulador!$C$9<Simulador!$C$10,OR(Simulador!$E$7=\"Resgate\",Simulador!$E$7=\"Portabilidade\")),Simulador!$C$9,Simulador!$C$10)-Simulador!$C$8)*12,Y831=0),0,Y831+1)","v":0},{"$f":"IF($Y832=0,0,Z831*(1+Simulador!$D$34)+E832+L832)","v":0},{"$f":"IF($Y832=0,0,AA831*(1+Simulador!$D$34)+S832)","v":0},{"$f":"IF(OR(AB831+1>(IF(AND(Simulador!$C$9<Simulador!$C$10,OR(Simulador!$E$7=\"Resgate\",Simulador!$E$7=\"Portabilidade\")),Simulador!$C$9,Simulador!$C$50)-Simulador!$C$8)*12,AB831=0),0,AB831+1)","v":0},{"$f":"IF($AB832=0,0,AC831*(1+Simulador!$D$34)+F832+M832)","v":0},{"$f":"IF($AB832=0,0,AD831*(1+Simulador!$D$34)+T832)","v":0}]
[{"$f":"IF(OR(A832+1>(IF(Simulador!$E$7=\"Autopatrocínio\",Simulador!$C$10,Simulador!$C$9)-Simulador!$C$8)*12,A832=0),0,A832+1)","v":0},{"$f":"IF($A833=0,0,IF(INT($A832/12)-$A832/12=0,B832*(1+Simulador!$C$35),B832))","v":0},{"$f":"MAX(IF(A833=0,0,B833-IF(Simulador!$C$11=\"Individual\",0,Simulador!$C$14)),0)","v":0},null,0,0,0,0,0,0,null,0,0,0,0,0,0,null,0,0,0,0,0,null,{"$f":"IF(OR(Y832+1>(IF(AND(Simulador!$C$9<Simulador!$C$10,OR(Simulador!$E$7=\"Resgate\",Simulador!$E$7=\"Portabilidade\")),Simulador!$C$9,Simulador!$C$10)-Simulador!$C$8)*12,Y832=0),0,Y832+1)","v":0},{"$f":"IF($Y833=0,0,Z832*(1+Simulador!$D$34)+E833+L833)","v":0},{"$f":"IF($Y833=0,0,AA832*(1+Simulador!$D$34)+S833)","v":0},{"$f":"IF(OR(AB832+1>(IF(AND(Simulador!$C$9<Simulador!$C$10,OR(Simulador!$E$7=\"Resgate\",Simulador!$E$7=\"Portabilidade\")),Simulador!$C$9,Simulador!$C$50)-Simulador!$C$8)*12,AB832=0),0,AB832+1)","v":0},{"$f":"IF($AB833=0,0,AC832*(1+Simulador!$D$34)+F833+M833)","v":0},{"$f":"IF($AB833=0,0,AD832*(1+Simulador!$D$34)+T833)","v":0}]
[{"$f":"IF(OR(A833+1>(IF(Simulador!$E$7=\"Autopatrocínio\",Simulador!$C$10,Simulador!$C$9)-Simulador!$C$8)*12,A833=0),0,A833+1)","v":0},{"$f":"IF($A834=0,0,IF(INT($A833/12)-$A833/12=0,B833*(1+Simulador!$C$35),B833))","v":0},{"$f":"MAX(IF(A834=0,0,B834-IF(Simulador!$C$11=\"Individual\",0,Simulador!$C$14)),0)","v":0},null,0,0,0,0,0,0,null,0,0,0,0,0,0,null,0,0,0,0,0,null,{"$f":"IF(OR(Y833+1>(IF(AND(Simulador!$C$9<Simulador!$C$10,OR(Simulador!$E$7=\"Resgate\",Simulador!$E$7=\"Portabilidade\")),Simulador!$C$9,Simulador!$C$10)-Simulador!$C$8)*12,Y833=0),0,Y833+1)","v":0},{"$f":"IF($Y834=0,0,Z833*(1+Simulador!$D$34)+E834+L834)","v":0},{"$f":"IF($Y834=0,0,AA833*(1+Simulador!$D$34)+S834)","v":0},{"$f":"IF(OR(AB833+1>(IF(AND(Simulador!$C$9<Simulador!$C$10,OR(Simulador!$E$7=\"Resgate\",Simulador!$E$7=\"Portabilidade\")),Simulador!$C$9,Simulador!$C$50)-Simulador!$C$8)*12,AB833=0),0,AB833+1)","v":0},{"$f":"IF($AB834=0,0,AC833*(1+Simulador!$D$34)+F834+M834)","v":0},{"$f":"IF($AB834=0,0,AD833*(1+Simulador!$D$34)+T834)","v":0}]
[{"$f":"IF(OR(A834+1>(IF(Simulador!$E$7=\"Autopatrocínio\",Simulador!$C$10,Simulador!$C$9)-Simulador!$C$8)*12,A834=0),0,A834+1)","v":0},{"$f":"IF($A835=0,0,IF(INT($A834/12)-$A834/12=0,B834*(1+Simulador!$C$35),B834))","v":0},{"$f":"MAX(IF(A835=0,0,B835-IF(Simulador!$C$11=\"Individual\",0,Simulador!$C$14)),0)","v":0},null,0,0,0,0,0,0,null,0,0,0,0,0,0,null,0,0,0,0,0,null,{"$f":"IF(OR(Y834+1>(IF(AND(Simulador!$C$9<Simulador!$C$10,OR(Simulador!$E$7=\"Resgate\",Simulador!$E$7=\"Portabilidade\")),Simulador!$C$9,Simulador!$C$10)-Simulador!$C$8)*12,Y834=0),0,Y834+1)","v":0},{"$f":"IF($Y835=0,0,Z834*(1+Simulador!$D$34)+E835+L835)","v":0},{"$f":"IF($Y835=0,0,AA834*(1+Simulador!$D$34)+S835)","v":0},{"$f":"IF(OR(AB834+1>(IF(AND(Simulador!$C$9<Simulador!$C$10,OR(Simulador!$E$7=\"Resgate\",Simulador!$E$7=\"Portabilidade\")),Simulador!$C$9,Simulador!$C$50)-Simulador!$C$8)*12,AB834=0),0,AB834+1)","v":0},{"$f":"IF($AB835=0,0,AC834*(1+Simulador!$D$34)+F835+M835)","v":0},{"$f":"IF($AB835=0,0,AD834*(1+Simulador!$D$34)+T835)","v":0}]
[{"$f":"IF(OR(A835+1>(IF(Simulador!$E$7=\"Autopatrocínio\",Simulador!$C$10,Simulador!$C$9)-Simulador!$C$8)*12,A835=0),0,A835+1)","v":0},{"$f":"IF($A836=0,0,IF(INT($A835/12)-$A835/12=0,B835*(1+Simulador!$C$35),B835))","v":0},{"$f":"MAX(IF(A836=0,0,B836-IF(Simulador!$C$11=\"Individual\",0,Simulador!$C$14)),0)","v":0},null,{"$f":"E$4*$C836*(1+$J836)","v":0},0,0,0,0,0,null,{"$f":"L$4*$C836*$Q836","v":0},0,0,0,0,0,null,{"$f":"S$4*$C836*(1+$J836)","v":0},0,0,0,0,null,{"$f":"IF(OR(Y835+1>(IF(AND(Simulador!$C$9<Simulador!$C$10,OR(Simulador!$E$7=\"Resgate\",Simulador!$E$7=\"Portabilidade\")),Simulador!$C$9,Simulador!$C$10)-Simulador!$C$8)*12,Y835=0),0,Y835+1)","v":0},{"$f":"IF($Y836=0,0,Z835*(1+Simulador!$D$34)+E836+L836)","v":0},{"$f":"IF($Y836=0,0,AA835*(1+Simulador!$D$34)+S836)","v":0},{"$f":"IF(OR(AB835+1>(IF(AND(Simulador!$C$9<Simulador!$C$10,OR(Simulador!$E$7=\"Resgate\",Simulador!$E$7=\"Portabilidade\")),Simulador!$C$9,Simulador!$C$50)-Simulador!$C$8)*12,AB835=0),0,AB835+1)","v":0},{"$f":"IF($AB836=0,0,AC835*(1+Simulador!$D$34)+F836+M836)","v":0},{"$f":"IF($AB836=0,0,AD835*(1+Simulador!$D$34)+T836)","v":0}]
[{"$f":"IF(OR(A836+1>(IF(Simulador!$E$7=\"Autopatrocínio\",Simulador!$C$10,Simulador!$C$9)-Simulador!$C$8)*12,A836=0),0,A836+1)","v":0},{"$f":"IF($A837=0,0,IF(INT($A836/12)-$A836/12=0,B836*(1+Simulador!$C$35),B836))","v":0},{"$f":"MAX(IF(A837=0,0,B837-IF(Simulador!$C$11=\"Individual\",0,Simulador!$C$14)),0)","v":0},null,0,0,0,0,0,{"$f":"IF($A837=0,0,IF(INT($A837/12)-$A837/12=0,1,0))","v":0},null,0,0,0,0,0,{"$f":"IF($A837=0,0,IF($Q$4=\"Mensal\",1,IF($Q$4=\"Semestral\",IF(INT(($A837+5)/6)-($A837+5)/6=0,1,0),IF($Q$4=\"Anual\",IF(INT(($A837+11)/12)-($A837+11)/12=0,1,0)))))","v":0},null,0,0,0,0,0,null,{"$f":"IF(OR(Y836+1>(IF(AND(Simulador!$C$9<Simulador!$C$10,OR(Simulador!$E$7=\"Resgate\",Simulador!$E$7=\"Portabilidade\")),Simulador!$C$9,Simulador!$C$10)-Simulador!$C$8)*12,Y836=0),0,Y836+1)","v":0},{"$f":"IF($Y837=0,0,Z836*(1+Simulador!$D$34)+E837+L837)","v":0},{"$f":"IF($Y837=0,0,AA836*(1+Simulador!$D$34)+S837)","v":0},{"$f":"IF(OR(AB836+1>(IF(AND(Simulador!$C$9<Simulador!$C$10,OR(Simulador!$E$7=\"Resgate\",Simulador!$E$7=\"Portabilidade\")),Simulador!$C$9,Simulador!$C$50)-Simulador!$C$8)*12,AB836=0),0,AB836+1)","v":0},{"$f":"IF($AB837=0,0,AC836*(1+Simulador!$D$34)+F837+M837)","v":0},{"$f":"IF($AB837=0,0,AD836*(1+Simulador!$D$34)+T837)","v":0}]
[{"$f":"IF(OR(A837+1>(IF(Simulador!$E$7=\"Autopatrocínio\",Simulador!$C$10,Simulador!$C$9)-Simulador!$C$8)*12,A837=0),0,A837+1)","v":0},{"$f":"IF($A838=0,0,IF(INT($A837/12)-$A837/12=0,B837*(1+Simulador!$C$35),B837))","v":0},{"$f":"MAX(IF(A838=0,0,B838-IF(Simulador!$C$11=\"Individual\",0,Simulador!$C$14)),0)","v":0},null,0,0,0,0,0,0,null,0,0,0,0,0,0,null,0,0,0,0,0,null,{"$f":"IF(OR(Y837+1>(IF(AND(Simulador!$C$9<Simulador!$C$10,OR(Simulador!$E$7=\"Resgate\",Simulador!$E$7=\"Portabilidade\")),Simulador!$C$9,Simulador!$C$10)-Simulador!$C$8)*12,Y837=0),0,Y837+1)","v":0},{"$f":"IF($Y838=0,0,Z837*(1+Simulador!$D$34)+E838+L838)","v":0},{"$f":"IF($Y838=0,0,AA837*(1+Simulador!$D$34)+S838)","v":0},{"$f":"IF(OR(AB837+1>(IF(AND(Simulador!$C$9<Simulador!$C$10,OR(Simulador!$E$7=\"Resgate\",Simulador!$E$7=\"Portabilidade\")),Simulador!$C$9,Simulador!$C$50)-Simulador!$C$8)*12,AB837=0),0,AB837+1)","v":0},{"$f":"IF($AB838=0,0,AC837*(1+Simulador!$D$34)+F838+M838)","v":0},{"$f":"IF($AB838=0,0,AD837*(1+Simulador!$D$34)+T838)","v":0}]
[{"$f":"IF(OR(A838+1>(IF(Simulador!$E$7=\"Autopatrocínio\",Simulador!$C$10,Simulador!$C$9)-Simulador!$C$8)*12,A838=0),0,A838+1)","v":0},{"$f":"IF($A839=0,0,IF(INT($A838/12)-$A838/12=0,B838*(1+Simulador!$C$35),B838))","v":0},{"$f":"MAX(IF(A839=0,0,B839-IF(Simulador!$C$11=\"Individual\",0,Simulador!$C$14)),0)","v":0},null,0,0,0,0,0,0,null,0,0,0,0,0,0,null,0,0,0,0,0,null,{"$f":"IF(OR(Y838+1>(IF(AND(Simulador!$C$9<Simulador!$C$10,OR(Simulador!$E$7=\"Resgate\",Simulador!$E$7=\"Portabilidade\")),Simulador!$C$9,Simulador!$C$10)-Simulador!$C$8)*12,Y838=0),0,Y838+1)","v":0},{"$f":"IF($Y839=0,0,Z838*(1+Simulador!$D$34)+E839+L839)","v":0},{"$f":"IF($Y839=0,0,AA838*(1+Simulador!$D$34)+S839)","v":0},{"$f":"IF(OR(AB838+1>(IF(AND(Simulador!$C$9<Simulador!$C$10,OR(Simulador!$E$7=\"Resgate\",Simulador!$E$7=\"Portabilidade\")),Simulador!$C$9,Simulador!$C$50)-Simulador!$C$8)*12,AB838=0),0,AB838+1)","v":0},{"$f":"IF($AB839=0,0,AC838*(1+Simulador!$D$34)+F839+M839)","v":0},{"$f":"IF($AB839=0,0,AD838*(1+Simulador!$D$34)+T839)","v":0}]
[{"$f":"IF(OR(A839+1>(IF(Simulador!$E$7=\"Autopatrocínio\",Simulador!$C$10,Simulador!$C$9)-Simulador!$C$8)*12,A839=0),0,A839+1)","v":0},{"$f":"IF($A840=0,0,IF(INT($A839/12)-$A839/12=0,B839*(1+Simulador!$C$35),B839))","v":0},{"$f":"MAX(IF(A840=0,0,B840-IF(Simulador!$C$11=\"Individual\",0,Simulador!$C$14)),0)","v":0},null,0,0,0,0,0,0,null,0,0,0,0,0,0,null,0,0,0,0,0,null,{"$f":"IF(OR(Y839+1>(IF(AND(Simulador!$C$9<Simulador!$C$10,OR(Simulador!$E$7=\"Resgate\",Simulador!$E$7=\"Portabilidade\")),Simulador!$C$9,Simulador!$C$10)-Simulador!$C$8)*12,Y839=0),0,Y839+1)","v":0},{"$f":"IF($Y840=0,0,Z839*(1+Simulador!$D$34)+E840+L840)","v":0},{"$f":"IF($Y840=0,0,AA839*(1+Simulador!$D$34)+S840)","v":0},{"$f":"IF(OR(AB839+1>(IF(AND(Simulador!$C$9<Simulador!$C$10,OR(Simulador!$E$7=\"Resgate\",Simulador!$E$7=\"Portabilidade\")),Simulador!$C$9,Simulador!$C$50)-Simulador!$C$8)*12,AB839=0),0,AB839+1)","v":0},{"$f":"IF($AB840=0,0,AC839*(1+Simulador!$D$34)+F840+M840)","v":0},{"$f":"IF($AB840=0,0,AD839*(1+Simulador!$D$34)+T840)","v":0}]
[{"$f":"IF(OR(A840+1>(IF(Simulador!$E$7=\"Autopatrocínio\",Simulador!$C$10,Simulador!$C$9)-Simulador!$C$8)*12,A840=0),0,A840+1)","v":0},{"$f":"IF($A841=0,0,IF(INT($A840/12)-$A840/12=0,B840*(1+Simulador!$C$35),B840))","v":0},{"$f":"MAX(IF(A841=0,0,B841-IF(Simulador!$C$11=\"Individual\",0,Simulador!$C$14)),0)","v":0},null,0,0,0,0,0,0,null,0,0,0,0,0,0,null,0,0,0,0,0,null,{"$f":"IF(OR(Y840+1>(IF(AND(Simulador!$C$9<Simulador!$C$10,OR(Simulador!$E$7=\"Resgate\",Simulador!$E$7=\"Portabilidade\")),Simulador!$C$9,Simulador!$C$10)-Simulador!$C$8)*12,Y840=0),0,Y840+1)","v":0},{"$f":"IF($Y841=0,0,Z840*(1+Simulador!$D$34)+E841+L841)","v":0},{"$f":"IF($Y841=0,0,AA840*(1+Simulador!$D$34)+S841)","v":0},{"$f":"IF(OR(AB840+1>(IF(AND(Simulador!$C$9<Simulador!$C$10,OR(Simulador!$E$7=\"Resgate\",Simulador!$E$7=\"Portabilidade\")),Simulador!$C$9,Simulador!$C$50)-Simulador!$C$8)*12,AB840=0),0,AB840+1)","v":0},{"$f":"IF($AB841=0,0,AC840*(1+Simulador!$D$34)+F841+M841)","v":0},{"$f":"IF($AB841=0,0,AD840*(1+Simulador!$D$34)+T841)","v":0}]
[{"$f":"IF(OR(A841+1>(IF(Simulador!$E$7=\"Autopatrocínio\",Simulador!$C$10,Simulador!$C$9)-Simulador!$C$8)*12,A841=0),0,A841+1)","v":0},{"$f":"IF($A842=0,0,IF(INT($A841/12)-$A841/12=0,B841*(1+Simulador!$C$35),B841))","v":0},{"$f":"MAX(IF(A842=0,0,B842-IF(Simulador!$C$11=\"Individual\",0,Simulador!$C$14)),0)","v":0},null,0,0,0,0,0,0,null,0,0,0,0,0,0,null,0,0,0,0,0,null,{"$f":"IF(OR(Y841+1>(IF(AND(Simulador!$C$9<Simulador!$C$10,OR(Simulador!$E$7=\"Resgate\",Simulador!$E$7=\"Portabilidade\")),Simulador!$C$9,Simulador!$C$10)-Simulador!$C$8)*12,Y841=0),0,Y841+1)","v":0},{"$f":"IF($Y842=0,0,Z841*(1+Simulador!$D$34)+E842+L842)","v":0},{"$f":"IF($Y842=0,0,AA841*(1+Simulador!$D$34)+S842)","v":0},{"$f":"IF(OR(AB841+1>(IF(AND(Simulador!$C$9<Simulador!$C$10,OR(Simulador!$E$7=\"Resgate\",Simulador!$E$7=\"Portabilidade\")),Simulador!$C$9,Simulador!$C$50)-Simulador!$C$8)*12,AB841=0),0,AB841+1)","v":0},{"$f":"IF($AB842=0,0,AC841*(1+Simulador!$D$34)+F842+M842)","v":0},{"$f":"IF($AB842=0,0,AD841*(1+Simulador!$D$34)+T842)","v":0}]
[{"$f":"IF(OR(A842+1>(IF(Simulador!$E$7=\"Autopatrocínio\",Simulador!$C$10,Simulador!$C$9)-Simulador!$C$8)*12,A842=0),0,A842+1)","v":0},{"$f":"IF($A843=0,0,IF(INT($A842/12)-$A842/12=0,B842*(1+Simulador!$C$35),B842))","v":0},{"$f":"MAX(IF(A843=0,0,B843-IF(Simulador!$C$11=\"Individual\",0,Simulador!$C$14)),0)","v":0},null,0,0,0,0,0,0,null,0,0,0,0,0,0,null,0,0,0,0,0,null,{"$f":"IF(OR(Y842+1>(IF(AND(Simulador!$C$9<Simulador!$C$10,OR(Simulador!$E$7=\"Resgate\",Simulador!$E$7=\"Portabilidade\")),Simulador!$C$9,Simulador!$C$10)-Simulador!$C$8)*12,Y842=0),0,Y842+1)","v":0},{"$f":"IF($Y843=0,0,Z842*(1+Simulador!$D$34)+E843+L843)","v":0},{"$f":"IF($Y843=0,0,AA842*(1+Simulador!$D$34)+S843)","v":0},{"$f":"IF(OR(AB842+1>(IF(AND(Simulador!$C$9<Simulador!$C$10,OR(Simulador!$E$7=\"Resgate\",Simulador!$E$7=\"Portabilidade\")),Simulador!$C$9,Simulador!$C$50)-Simulador!$C$8)*12,AB842=0),0,AB842+1)","v":0},{"$f":"IF($AB843=0,0,AC842*(1+Simulador!$D$34)+F843+M843)","v":0},{"$f":"IF($AB843=0,0,AD842*(1+Simulador!$D$34)+T843)","v":0}]
[{"$f":"IF(OR(A843+1>(IF(Simulador!$E$7=\"Autopatrocínio\",Simulador!$C$10,Simulador!$C$9)-Simulador!$C$8)*12,A843=0),0,A843+1)","v":0},{"$f":"IF($A844=0,0,IF(INT($A843/12)-$A843/12=0,B843*(1+Simulador!$C$35),B843))","v":0},{"$f":"MAX(IF(A844=0,0,B844-IF(Simulador!$C$11=\"Individual\",0,Simulador!$C$14)),0)","v":0},null,0,0,0,0,0,0,null,0,0,0,0,0,0,null,0,0,0,0,0,null,{"$f":"IF(OR(Y843+1>(IF(AND(Simulador!$C$9<Simulador!$C$10,OR(Simulador!$E$7=\"Resgate\",Simulador!$E$7=\"Portabilidade\")),Simulador!$C$9,Simulador!$C$10)-Simulador!$C$8)*12,Y843=0),0,Y843+1)","v":0},{"$f":"IF($Y844=0,0,Z843*(1+Simulador!$D$34)+E844+L844)","v":0},{"$f":"IF($Y844=0,0,AA843*(1+Simulador!$D$34)+S844)","v":0},{"$f":"IF(OR(AB843+1>(IF(AND(Simulador!$C$9<Simulador!$C$10,OR(Simulador!$E$7=\"Resgate\",Simulador!$E$7=\"Portabilidade\")),Simulador!$C$9,Simulador!$C$50)-Simulador!$C$8)*12,AB843=0),0,AB843+1)","v":0},{"$f":"IF($AB844=0,0,AC843*(1+Simulador!$D$34)+F844+M844)","v":0},{"$f":"IF($AB844=0,0,AD843*(1+Simulador!$D$34)+T844)","v":0}]
[{"$f":"IF(OR(A844+1>(IF(Simulador!$E$7=\"Autopatrocínio\",Simulador!$C$10,Simulador!$C$9)-Simulador!$C$8)*12,A844=0),0,A844+1)","v":0},{"$f":"IF($A845=0,0,IF(INT($A844/12)-$A844/12=0,B844*(1+Simulador!$C$35),B844))","v":0},{"$f":"MAX(IF(A845=0,0,B845-IF(Simulador!$C$11=\"Individual\",0,Simulador!$C$14)),0)","v":0},null,0,0,0,0,0,0,null,0,0,0,0,0,0,null,0,0,0,0,0,null,{"$f":"IF(OR(Y844+1>(IF(AND(Simulador!$C$9<Simulador!$C$10,OR(Simulador!$E$7=\"Resgate\",Simulador!$E$7=\"Portabilidade\")),Simulador!$C$9,Simulador!$C$10)-Simulador!$C$8)*12,Y844=0),0,Y844+1)","v":0},{"$f":"IF($Y845=0,0,Z844*(1+Simulador!$D$34)+E845+L845)","v":0},{"$f":"IF($Y845=0,0,AA844*(1+Simulador!$D$34)+S845)","v":0},{"$f":"IF(OR(AB844+1>(IF(AND(Simulador!$C$9<Simulador!$C$10,OR(Simulador!$E$7=\"Resgate\",Simulador!$E$7=\"Portabilidade\")),Simulador!$C$9,Simulador!$C$50)-Simulador!$C$8)*12,AB844=0),0,AB844+1)","v":0},{"$f":"IF($AB845=0,0,AC844*(1+Simulador!$D$34)+F845+M845)","v":0},{"$f":"IF($AB845=0,0,AD844*(1+Simulador!$D$34)+T845)","v":0}]
[{"$f":"IF(OR(A845+1>(IF(Simulador!$E$7=\"Autopatrocínio\",Simulador!$C$10,Simulador!$C$9)-Simulador!$C$8)*12,A845=0),0,A845+1)","v":0},{"$f":"IF($A846=0,0,IF(INT($A845/12)-$A845/12=0,B845*(1+Simulador!$C$35),B845))","v":0},{"$f":"MAX(IF(A846=0,0,B846-IF(Simulador!$C$11=\"Individual\",0,Simulador!$C$14)),0)","v":0},null,0,0,0,0,0,0,null,0,0,0,0,0,0,null,0,0,0,0,0,null,{"$f":"IF(OR(Y845+1>(IF(AND(Simulador!$C$9<Simulador!$C$10,OR(Simulador!$E$7=\"Resgate\",Simulador!$E$7=\"Portabilidade\")),Simulador!$C$9,Simulador!$C$10)-Simulador!$C$8)*12,Y845=0),0,Y845+1)","v":0},{"$f":"IF($Y846=0,0,Z845*(1+Simulador!$D$34)+E846+L846)","v":0},{"$f":"IF($Y846=0,0,AA845*(1+Simulador!$D$34)+S846)","v":0},{"$f":"IF(OR(AB845+1>(IF(AND(Simulador!$C$9<Simulador!$C$10,OR(Simulador!$E$7=\"Resgate\",Simulador!$E$7=\"Portabilidade\")),Simulador!$C$9,Simulador!$C$50)-Simulador!$C$8)*12,AB845=0),0,AB845+1)","v":0},{"$f":"IF($AB846=0,0,AC845*(1+Simulador!$D$34)+F846+M846)","v":0},{"$f":"IF($AB846=0,0,AD845*(1+Simulador!$D$34)+T846)","v":0}]
[{"$f":"IF(OR(A846+1>(IF(Simulador!$E$7=\"Autopatrocínio\",Simulador!$C$10,Simulador!$C$9)-Simulador!$C$8)*12,A846=0),0,A846+1)","v":0},{"$f":"IF($A847=0,0,IF(INT($A846/12)-$A846/12=0,B846*(1+Simulador!$C$35),B846))","v":0},{"$f":"MAX(IF(A847=0,0,B847-IF(Simulador!$C$11=\"Individual\",0,Simulador!$C$14)),0)","v":0},null,0,0,0,0,0,0,null,0,0,0,0,0,0,null,0,0,0,0,0,null,{"$f":"IF(OR(Y846+1>(IF(AND(Simulador!$C$9<Simulador!$C$10,OR(Simulador!$E$7=\"Resgate\",Simulador!$E$7=\"Portabilidade\")),Simulador!$C$9,Simulador!$C$10)-Simulador!$C$8)*12,Y846=0),0,Y846+1)","v":0},{"$f":"IF($Y847=0,0,Z846*(1+Simulador!$D$34)+E847+L847)","v":0},{"$f":"IF($Y847=0,0,AA846*(1+Simulador!$D$34)+S847)","v":0},{"$f":"IF(OR(AB846+1>(IF(AND(Simulador!$C$9<Simulador!$C$10,OR(Simulador!$E$7=\"Resgate\",Simulador!$E$7=\"Portabilidade\")),Simulador!$C$9,Simulador!$C$50)-Simulador!$C$8)*12,AB846=0),0,AB846+1)","v":0},{"$f":"IF($AB847=0,0,AC846*(1+Simulador!$D$34)+F847+M847)","v":0},{"$f":"IF($AB847=0,0,AD846*(1+Simulador!$D$34)+T847)","v":0}]
[{"$f":"IF(OR(A847+1>(IF(Simulador!$E$7=\"Autopatrocínio\",Simulador!$C$10,Simulador!$C$9)-Simulador!$C$8)*12,A847=0),0,A847+1)","v":0},{"$f":"IF($A848=0,0,IF(INT($A847/12)-$A847/12=0,B847*(1+Simulador!$C$35),B847))","v":0},{"$f":"MAX(IF(A848=0,0,B848-IF(Simulador!$C$11=\"Individual\",0,Simulador!$C$14)),0)","v":0},null,0,0,0,0,0,0,null,0,0,0,0,0,0,null,0,0,0,0,0,null,{"$f":"IF(OR(Y847+1>(IF(AND(Simulador!$C$9<Simulador!$C$10,OR(Simulador!$E$7=\"Resgate\",Simulador!$E$7=\"Portabilidade\")),Simulador!$C$9,Simulador!$C$10)-Simulador!$C$8)*12,Y847=0),0,Y847+1)","v":0},{"$f":"IF($Y848=0,0,Z847*(1+Simulador!$D$34)+E848+L848)","v":0},{"$f":"IF($Y848=0,0,AA847*(1+Simulador!$D$34)+S848)","v":0},{"$f":"IF(OR(AB847+1>(IF(AND(Simulador!$C$9<Simulador!$C$10,OR(Simulador!$E$7=\"Resgate\",Simulador!$E$7=\"Portabilidade\")),Simulador!$C$9,Simulador!$C$50)-Simulador!$C$8)*12,AB847=0),0,AB847+1)","v":0},{"$f":"IF($AB848=0,0,AC847*(1+Simulador!$D$34)+F848+M848)","v":0},{"$f":"IF($AB848=0,0,AD847*(1+Simulador!$D$34)+T848)","v":0}]
[{"$f":"IF(OR(A848+1>(IF(Simulador!$E$7=\"Autopatrocínio\",Simulador!$C$10,Simulador!$C$9)-Simulador!$C$8)*12,A848=0),0,A848+1)","v":0},{"$f":"IF($A849=0,0,IF(INT($A848/12)-$A848/12=0,B848*(1+Simulador!$C$35),B848))","v":0},{"$f":"MAX(IF(A849=0,0,B849-IF(Simulador!$C$11=\"Individual\",0,Simulador!$C$14)),0)","v":0},null,0,0,0,0,0,0,null,0,0,0,0,0,0,null,0,0,0,0,0,null,{"$f":"IF(OR(Y848+1>(IF(AND(Simulador!$C$9<Simulador!$C$10,OR(Simulador!$E$7=\"Resgate\",Simulador!$E$7=\"Portabilidade\")),Simulador!$C$9,Simulador!$C$10)-Simulador!$C$8)*12,Y848=0),0,Y848+1)","v":0},{"$f":"IF($Y849=0,0,Z848*(1+Simulador!$D$34)+E849+L849)","v":0},{"$f":"IF($Y849=0,0,AA848*(1+Simulador!$D$34)+S849)","v":0},{"$f":"IF(OR(AB848+1>(IF(AND(Simulador!$C$9<Simulador!$C$10,OR(Simulador!$E$7=\"Resgate\",Simulador!$E$7=\"Portabilidade\")),Simulador!$C$9,Simulador!$C$50)-Simulador!$C$8)*12,AB848=0),0,AB848+1)","v":0},{"$f":"IF($AB849=0,0,AC848*(1+Simulador!$D$34)+F849+M849)","v":0},{"$f":"IF($AB849=0,0,AD848*(1+Simulador!$D$34)+T849)","v":0}]
[{"$f":"IF(OR(A849+1>(IF(Simulador!$E$7=\"Autopatrocínio\",Simulador!$C$10,Simulador!$C$9)-Simulador!$C$8)*12,A849=0),0,A849+1)","v":0},{"$f":"IF($A850=0,0,IF(INT($A849/12)-$A849/12=0,B849*(1+Simulador!$C$35),B849))","v":0},{"$f":"MAX(IF(A850=0,0,B850-IF(Simulador!$C$11=\"Individual\",0,Simulador!$C$14)),0)","v":0},null,0,0,0,0,0,0,null,0,0,0,0,0,0,null,0,0,0,0,0,null,{"$f":"IF(OR(Y849+1>(IF(AND(Simulador!$C$9<Simulador!$C$10,OR(Simulador!$E$7=\"Resgate\",Simulador!$E$7=\"Portabilidade\")),Simulador!$C$9,Simulador!$C$10)-Simulador!$C$8)*12,Y849=0),0,Y849+1)","v":0},{"$f":"IF($Y850=0,0,Z849*(1+Simulador!$D$34)+E850+L850)","v":0},{"$f":"IF($Y850=0,0,AA849*(1+Simulador!$D$34)+S850)","v":0},{"$f":"IF(OR(AB849+1>(IF(AND(Simulador!$C$9<Simulador!$C$10,OR(Simulador!$E$7=\"Resgate\",Simulador!$E$7=\"Portabilidade\")),Simulador!$C$9,Simulador!$C$50)-Simulador!$C$8)*12,AB849=0),0,AB849+1)","v":0},{"$f":"IF($AB850=0,0,AC849*(1+Simulador!$D$34)+F850+M850)","v":0},{"$f":"IF($AB850=0,0,AD849*(1+Simulador!$D$34)+T850)","v":0}]
[{"$f":"IF(OR(A850+1>(IF(Simulador!$E$7=\"Autopatrocínio\",Simulador!$C$10,Simulador!$C$9)-Simulador!$C$8)*12,A850=0),0,A850+1)","v":0},{"$f":"IF($A851=0,0,IF(INT($A850/12)-$A850/12=0,B850*(1+Simulador!$C$35),B850))","v":0},{"$f":"MAX(IF(A851=0,0,B851-IF(Simulador!$C$11=\"Individual\",0,Simulador!$C$14)),0)","v":0},null,0,0,0,0,0,0,null,0,0,0,0,0,0,null,0,0,0,0,0,null,{"$f":"IF(OR(Y850+1>(IF(AND(Simulador!$C$9<Simulador!$C$10,OR(Simulador!$E$7=\"Resgate\",Simulador!$E$7=\"Portabilidade\")),Simulador!$C$9,Simulador!$C$10)-Simulador!$C$8)*12,Y850=0),0,Y850+1)","v":0},{"$f":"IF($Y851=0,0,Z850*(1+Simulador!$D$34)+E851+L851)","v":0},{"$f":"IF($Y851=0,0,AA850*(1+Simulador!$D$34)+S851)","v":0},{"$f":"IF(OR(AB850+1>(IF(AND(Simulador!$C$9<Simulador!$C$10,OR(Simulador!$E$7=\"Resgate\",Simulador!$E$7=\"Portabilidade\")),Simulador!$C$9,Simulador!$C$50)-Simulador!$C$8)*12,AB850=0),0,AB850+1)","v":0},{"$f":"IF($AB851=0,0,AC850*(1+Simulador!$D$34)+F851+M851)","v":0},{"$f":"IF($AB851=0,0,AD850*(1+Simulador!$D$34)+T851)","v":0}]
[{"$f":"IF(OR(A851+1>(IF(Simulador!$E$7=\"Autopatrocínio\",Simulador!$C$10,Simulador!$C$9)-Simulador!$C$8)*12,A851=0),0,A851+1)","v":0},{"$f":"IF($A852=0,0,IF(INT($A851/12)-$A851/12=0,B851*(1+Simulador!$C$35),B851))","v":0},{"$f":"MAX(IF(A852=0,0,B852-IF(Simulador!$C$11=\"Individual\",0,Simulador!$C$14)),0)","v":0},null,0,0,0,0,0,0,null,0,0,0,0,0,0,null,0,0,0,0,0,null,{"$f":"IF(OR(Y851+1>(IF(AND(Simulador!$C$9<Simulador!$C$10,OR(Simulador!$E$7=\"Resgate\",Simulador!$E$7=\"Portabilidade\")),Simulador!$C$9,Simulador!$C$10)-Simulador!$C$8)*12,Y851=0),0,Y851+1)","v":0},{"$f":"IF($Y852=0,0,Z851*(1+Simulador!$D$34)+E852+L852)","v":0},{"$f":"IF($Y852=0,0,AA851*(1+Simulador!$D$34)+S852)","v":0},{"$f":"IF(OR(AB851+1>(IF(AND(Simulador!$C$9<Simulador!$C$10,OR(Simulador!$E$7=\"Resgate\",Simulador!$E$7=\"Portabilidade\")),Simulador!$C$9,Simulador!$C$50)-Simulador!$C$8)*12,AB851=0),0,AB851+1)","v":0},{"$f":"IF($AB852=0,0,AC851*(1+Simulador!$D$34)+F852+M852)","v":0},{"$f":"IF($AB852=0,0,AD851*(1+Simulador!$D$34)+T852)","v":0}]
[{"$f":"IF(OR(A852+1>(IF(Simulador!$E$7=\"Autopatrocínio\",Simulador!$C$10,Simulador!$C$9)-Simulador!$C$8)*12,A852=0),0,A852+1)","v":0},{"$f":"IF($A853=0,0,IF(INT($A852/12)-$A852/12=0,B852*(1+Simulador!$C$35),B852))","v":0},{"$f":"MAX(IF(A853=0,0,B853-IF(Simulador!$C$11=\"Individual\",0,Simulador!$C$14)),0)","v":0},null,0,0,0,0,0,0,null,0,0,0,0,0,0,null,0,0,0,0,0,null,{"$f":"IF(OR(Y852+1>(IF(AND(Simulador!$C$9<Simulador!$C$10,OR(Simulador!$E$7=\"Resgate\",Simulador!$E$7=\"Portabilidade\")),Simulador!$C$9,Simulador!$C$10)-Simulador!$C$8)*12,Y852=0),0,Y852+1)","v":0},{"$f":"IF($Y853=0,0,Z852*(1+Simulador!$D$34)+E853+L853)","v":0},{"$f":"IF($Y853=0,0,AA852*(1+Simulador!$D$34)+S853)","v":0},{"$f":"IF(OR(AB852+1>(IF(AND(Simulador!$C$9<Simulador!$C$10,OR(Simulador!$E$7=\"Resgate\",Simulador!$E$7=\"Portabilidade\")),Simulador!$C$9,Simulador!$C$50)-Simulador!$C$8)*12,AB852=0),0,AB852+1)","v":0},{"$f":"IF($AB853=0,0,AC852*(1+Simulador!$D$34)+F853+M853)","v":0},{"$f":"IF($AB853=0,0,AD852*(1+Simulador!$D$34)+T853)","v":0}]
[{"$f":"IF(OR(A853+1>(IF(Simulador!$E$7=\"Autopatrocínio\",Simulador!$C$10,Simulador!$C$9)-Simulador!$C$8)*12,A853=0),0,A853+1)","v":0},{"$f":"IF($A854=0,0,IF(INT($A853/12)-$A853/12=0,B853*(1+Simulador!$C$35),B853))","v":0},{"$f":"MAX(IF(A854=0,0,B854-IF(Simulador!$C$11=\"Individual\",0,Simulador!$C$14)),0)","v":0},null,0,0,0,0,0,0,null,0,0,0,0,0,0,null,0,0,0,0,0,null,{"$f":"IF(OR(Y853+1>(IF(AND(Simulador!$C$9<Simulador!$C$10,OR(Simulador!$E$7=\"Resgate\",Simulador!$E$7=\"Portabilidade\")),Simulador!$C$9,Simulador!$C$10)-Simulador!$C$8)*12,Y853=0),0,Y853+1)","v":0},{"$f":"IF($Y854=0,0,Z853*(1+Simulador!$D$34)+E854+L854)","v":0},{"$f":"IF($Y854=0,0,AA853*(1+Simulador!$D$34)+S854)","v":0},{"$f":"IF(OR(AB853+1>(IF(AND(Simulador!$C$9<Simulador!$C$10,OR(Simulador!$E$7=\"Resgate\",Simulador!$E$7=\"Portabilidade\")),Simulador!$C$9,Simulador!$C$50)-Simulador!$C$8)*12,AB853=0),0,AB853+1)","v":0},{"$f":"IF($AB854=0,0,AC853*(1+Simulador!$D$34)+F854+M854)","v":0},{"$f":"IF($AB854=0,0,AD853*(1+Simulador!$D$34)+T854)","v":0}]
[{"$f":"IF(OR(A854+1>(IF(Simulador!$E$7=\"Autopatrocínio\",Simulador!$C$10,Simulador!$C$9)-Simulador!$C$8)*12,A854=0),0,A854+1)","v":0},{"$f":"IF($A855=0,0,IF(INT($A854/12)-$A854/12=0,B854*(1+Simulador!$C$35),B854))","v":0},{"$f":"MAX(IF(A855=0,0,B855-IF(Simulador!$C$11=\"Individual\",0,Simulador!$C$14)),0)","v":0},null,0,0,0,0,0,0,null,0,0,0,0,0,0,null,0,0,0,0,0,null,{"$f":"IF(OR(Y854+1>(IF(AND(Simulador!$C$9<Simulador!$C$10,OR(Simulador!$E$7=\"Resgate\",Simulador!$E$7=\"Portabilidade\")),Simulador!$C$9,Simulador!$C$10)-Simulador!$C$8)*12,Y854=0),0,Y854+1)","v":0},{"$f":"IF($Y855=0,0,Z854*(1+Simulador!$D$34)+E855+L855)","v":0},{"$f":"IF($Y855=0,0,AA854*(1+Simulador!$D$34)+S855)","v":0},{"$f":"IF(OR(AB854+1>(IF(AND(Simulador!$C$9<Simulador!$C$10,OR(Simulador!$E$7=\"Resgate\",Simulador!$E$7=\"Portabilidade\")),Simulador!$C$9,Simulador!$C$50)-Simulador!$C$8)*12,AB854=0),0,AB854+1)","v":0},{"$f":"IF($AB855=0,0,AC854*(1+Simulador!$D$34)+F855+M855)","v":0},{"$f":"IF($AB855=0,0,AD854*(1+Simulador!$D$34)+T855)","v":0}]
[{"$f":"IF(OR(A855+1>(IF(Simulador!$E$7=\"Autopatrocínio\",Simulador!$C$10,Simulador!$C$9)-Simulador!$C$8)*12,A855=0),0,A855+1)","v":0},{"$f":"IF($A856=0,0,IF(INT($A855/12)-$A855/12=0,B855*(1+Simulador!$C$35),B855))","v":0},{"$f":"MAX(IF(A856=0,0,B856-IF(Simulador!$C$11=\"Individual\",0,Simulador!$C$14)),0)","v":0},null,0,0,0,0,0,0,null,0,0,0,0,0,0,null,0,0,0,0,0,null,{"$f":"IF(OR(Y855+1>(IF(AND(Simulador!$C$9<Simulador!$C$10,OR(Simulador!$E$7=\"Resgate\",Simulador!$E$7=\"Portabilidade\")),Simulador!$C$9,Simulador!$C$10)-Simulador!$C$8)*12,Y855=0),0,Y855+1)","v":0},{"$f":"IF($Y856=0,0,Z855*(1+Simulador!$D$34)+E856+L856)","v":0},{"$f":"IF($Y856=0,0,AA855*(1+Simulador!$D$34)+S856)","v":0},{"$f":"IF(OR(AB855+1>(IF(AND(Simulador!$C$9<Simulador!$C$10,OR(Simulador!$E$7=\"Resgate\",Simulador!$E$7=\"Portabilidade\")),Simulador!$C$9,Simulador!$C$50)-Simulador!$C$8)*12,AB855=0),0,AB855+1)","v":0},{"$f":"IF($AB856=0,0,AC855*(1+Simulador!$D$34)+F856+M856)","v":0},{"$f":"IF($AB856=0,0,AD855*(1+Simulador!$D$34)+T856)","v":0}]
[{"$f":"IF(OR(A856+1>(IF(Simulador!$E$7=\"Autopatrocínio\",Simulador!$C$10,Simulador!$C$9)-Simulador!$C$8)*12,A856=0),0,A856+1)","v":0},{"$f":"IF($A857=0,0,IF(INT($A856/12)-$A856/12=0,B856*(1+Simulador!$C$35),B856))","v":0},{"$f":"MAX(IF(A857=0,0,B857-IF(Simulador!$C$11=\"Individual\",0,Simulador!$C$14)),0)","v":0},null,0,0,0,0,0,0,null,0,0,0,0,0,0,null,0,0,0,0,0,null,{"$f":"IF(OR(Y856+1>(IF(AND(Simulador!$C$9<Simulador!$C$10,OR(Simulador!$E$7=\"Resgate\",Simulador!$E$7=\"Portabilidade\")),Simulador!$C$9,Simulador!$C$10)-Simulador!$C$8)*12,Y856=0),0,Y856+1)","v":0},{"$f":"IF($Y857=0,0,Z856*(1+Simulador!$D$34)+E857+L857)","v":0},{"$f":"IF($Y857=0,0,AA856*(1+Simulador!$D$34)+S857)","v":0},{"$f":"IF(OR(AB856+1>(IF(AND(Simulador!$C$9<Simulador!$C$10,OR(Simulador!$E$7=\"Resgate\",Simulador!$E$7=\"Portabilidade\")),Simulador!$C$9,Simulador!$C$50)-Simulador!$C$8)*12,AB856=0),0,AB856+1)","v":0},{"$f":"IF($AB857=0,0,AC856*(1+Simulador!$D$34)+F857+M857)","v":0},{"$f":"IF($AB857=0,0,AD856*(1+Simulador!$D$34)+T857)","v":0}]
[{"$f":"IF(OR(A857+1>(IF(Simulador!$E$7=\"Autopatrocínio\",Simulador!$C$10,Simulador!$C$9)-Simulador!$C$8)*12,A857=0),0,A857+1)","v":0},{"$f":"IF($A858=0,0,IF(INT($A857/12)-$A857/12=0,B857*(1+Simulador!$C$35),B857))","v":0},{"$f":"MAX(IF(A858=0,0,B858-IF(Simulador!$C$11=\"Individual\",0,Simulador!$C$14)),0)","v":0},null,0,0,0,0,0,0,null,0,0,0,0,0,0,null,0,0,0,0,0,null,{"$f":"IF(OR(Y857+1>(IF(AND(Simulador!$C$9<Simulador!$C$10,OR(Simulador!$E$7=\"Resgate\",Simulador!$E$7=\"Portabilidade\")),Simulador!$C$9,Simulador!$C$10)-Simulador!$C$8)*12,Y857=0),0,Y857+1)","v":0},{"$f":"IF($Y858=0,0,Z857*(1+Simulador!$D$34)+E858+L858)","v":0},{"$f":"IF($Y858=0,0,AA857*(1+Simulador!$D$34)+S858)","v":0},{"$f":"IF(OR(AB857+1>(IF(AND(Simulador!$C$9<Simulador!$C$10,OR(Simulador!$E$7=\"Resgate\",Simulador!$E$7=\"Portabilidade\")),Simulador!$C$9,Simulador!$C$50)-Simulador!$C$8)*12,AB857=0),0,AB857+1)","v":0},{"$f":"IF($AB858=0,0,AC857*(1+Simulador!$D$34)+F858+M858)","v":0},{"$f":"IF($AB858=0,0,AD857*(1+Simulador!$D$34)+T858)","v":0}]
[{"$f":"IF(OR(A858+1>(IF(Simulador!$E$7=\"Autopatrocínio\",Simulador!$C$10,Simulador!$C$9)-Simulador!$C$8)*12,A858=0),0,A858+1)","v":0},{"$f":"IF($A859=0,0,IF(INT($A858/12)-$A858/12=0,B858*(1+Simulador!$C$35),B858))","v":0},{"$f":"MAX(IF(A859=0,0,B859-IF(Simulador!$C$11=\"Individual\",0,Simulador!$C$14)),0)","v":0},null,0,0,0,0,0,0,null,0,0,0,0,0,0,null,0,0,0,0,0,null,{"$f":"IF(OR(Y858+1>(IF(AND(Simulador!$C$9<Simulador!$C$10,OR(Simulador!$E$7=\"Resgate\",Simulador!$E$7=\"Portabilidade\")),Simulador!$C$9,Simulador!$C$10)-Simulador!$C$8)*12,Y858=0),0,Y858+1)","v":0},{"$f":"IF($Y859=0,0,Z858*(1+Simulador!$D$34)+E859+L859)","v":0},{"$f":"IF($Y859=0,0,AA858*(1+Simulador!$D$34)+S859)","v":0},{"$f":"IF(OR(AB858+1>(IF(AND(Simulador!$C$9<Simulador!$C$10,OR(Simulador!$E$7=\"Resgate\",Simulador!$E$7=\"Portabilidade\")),Simulador!$C$9,Simulador!$C$50)-Simulador!$C$8)*12,AB858=0),0,AB858+1)","v":0},{"$f":"IF($AB859=0,0,AC858*(1+Simulador!$D$34)+F859+M859)","v":0},{"$f":"IF($AB859=0,0,AD858*(1+Simulador!$D$34)+T859)","v":0}]
[{"$f":"IF(OR(A859+1>(IF(Simulador!$E$7=\"Autopatrocínio\",Simulador!$C$10,Simulador!$C$9)-Simulador!$C$8)*12,A859=0),0,A859+1)","v":0},{"$f":"IF($A860=0,0,IF(INT($A859/12)-$A859/12=0,B859*(1+Simulador!$C$35),B859))","v":0},{"$f":"MAX(IF(A860=0,0,B860-IF(Simulador!$C$11=\"Individual\",0,Simulador!$C$14)),0)","v":0},null,0,0,0,0,0,0,null,0,0,0,0,0,0,null,0,0,0,0,0,null,{"$f":"IF(OR(Y859+1>(IF(AND(Simulador!$C$9<Simulador!$C$10,OR(Simulador!$E$7=\"Resgate\",Simulador!$E$7=\"Portabilidade\")),Simulador!$C$9,Simulador!$C$10)-Simulador!$C$8)*12,Y859=0),0,Y859+1)","v":0},{"$f":"IF($Y860=0,0,Z859*(1+Simulador!$D$34)+E860+L860)","v":0},{"$f":"IF($Y860=0,0,AA859*(1+Simulador!$D$34)+S860)","v":0},{"$f":"IF(OR(AB859+1>(IF(AND(Simulador!$C$9<Simulador!$C$10,OR(Simulador!$E$7=\"Resgate\",Simulador!$E$7=\"Portabilidade\")),Simulador!$C$9,Simulador!$C$50)-Simulador!$C$8)*12,AB859=0),0,AB859+1)","v":0},{"$f":"IF($AB860=0,0,AC859*(1+Simulador!$D$34)+F860+M860)","v":0},{"$f":"IF($AB860=0,0,AD859*(1+Simulador!$D$34)+T860)","v":0}]
[{"$f":"IF(OR(A860+1>(IF(Simulador!$E$7=\"Autopatrocínio\",Simulador!$C$10,Simulador!$C$9)-Simulador!$C$8)*12,A860=0),0,A860+1)","v":0},{"$f":"IF($A861=0,0,IF(INT($A860/12)-$A860/12=0,B860*(1+Simulador!$C$35),B860))","v":0},{"$f":"MAX(IF(A861=0,0,B861-IF(Simulador!$C$11=\"Individual\",0,Simulador!$C$14)),0)","v":0},null,0,0,0,0,0,0,null,0,0,0,0,0,0,null,0,0,0,0,0,null,{"$f":"IF(OR(Y860+1>(IF(AND(Simulador!$C$9<Simulador!$C$10,OR(Simulador!$E$7=\"Resgate\",Simulador!$E$7=\"Portabilidade\")),Simulador!$C$9,Simulador!$C$10)-Simulador!$C$8)*12,Y860=0),0,Y860+1)","v":0},{"$f":"IF($Y861=0,0,Z860*(1+Simulador!$D$34)+E861+L861)","v":0},{"$f":"IF($Y861=0,0,AA860*(1+Simulador!$D$34)+S861)","v":0},{"$f":"IF(OR(AB860+1>(IF(AND(Simulador!$C$9<Simulador!$C$10,OR(Simulador!$E$7=\"Resgate\",Simulador!$E$7=\"Portabilidade\")),Simulador!$C$9,Simulador!$C$50)-Simulador!$C$8)*12,AB860=0),0,AB860+1)","v":0},{"$f":"IF($AB861=0,0,AC860*(1+Simulador!$D$34)+F861+M861)","v":0},{"$f":"IF($AB861=0,0,AD860*(1+Simulador!$D$34)+T861)","v":0}]
[{"$f":"IF(OR(A861+1>(IF(Simulador!$E$7=\"Autopatrocínio\",Simulador!$C$10,Simulador!$C$9)-Simulador!$C$8)*12,A861=0),0,A861+1)","v":0},{"$f":"IF($A862=0,0,IF(INT($A861/12)-$A861/12=0,B861*(1+Simulador!$C$35),B861))","v":0},{"$f":"MAX(IF(A862=0,0,B862-IF(Simulador!$C$11=\"Individual\",0,Simulador!$C$14)),0)","v":0},null,0,0,0,0,0,0,null,0,0,0,0,0,0,null,0,0,0,0,0,null,{"$f":"IF(OR(Y861+1>(IF(AND(Simulador!$C$9<Simulador!$C$10,OR(Simulador!$E$7=\"Resgate\",Simulador!$E$7=\"Portabilidade\")),Simulador!$C$9,Simulador!$C$10)-Simulador!$C$8)*12,Y861=0),0,Y861+1)","v":0},{"$f":"IF($Y862=0,0,Z861*(1+Simulador!$D$34)+E862+L862)","v":0},{"$f":"IF($Y862=0,0,AA861*(1+Simulador!$D$34)+S862)","v":0},{"$f":"IF(OR(AB861+1>(IF(AND(Simulador!$C$9<Simulador!$C$10,OR(Simulador!$E$7=\"Resgate\",Simulador!$E$7=\"Portabilidade\")),Simulador!$C$9,Simulador!$C$50)-Simulador!$C$8)*12,AB861=0),0,AB861+1)","v":0},{"$f":"IF($AB862=0,0,AC861*(1+Simulador!$D$34)+F862+M862)","v":0},{"$f":"IF($AB862=0,0,AD861*(1+Simulador!$D$34)+T862)","v":0}]
[{"$f":"IF(OR(A862+1>(IF(Simulador!$E$7=\"Autopatrocínio\",Simulador!$C$10,Simulador!$C$9)-Simulador!$C$8)*12,A862=0),0,A862+1)","v":0},{"$f":"IF($A863=0,0,IF(INT($A862/12)-$A862/12=0,B862*(1+Simulador!$C$35),B862))","v":0},{"$f":"MAX(IF(A863=0,0,B863-IF(Simulador!$C$11=\"Individual\",0,Simulador!$C$14)),0)","v":0},null,0,0,0,0,0,0,null,0,0,0,0,0,0,null,0,0,0,0,0,null,{"$f":"IF(OR(Y862+1>(IF(AND(Simulador!$C$9<Simulador!$C$10,OR(Simulador!$E$7=\"Resgate\",Simulador!$E$7=\"Portabilidade\")),Simulador!$C$9,Simulador!$C$10)-Simulador!$C$8)*12,Y862=0),0,Y862+1)","v":0},{"$f":"IF($Y863=0,0,Z862*(1+Simulador!$D$34)+E863+L863)","v":0},{"$f":"IF($Y863=0,0,AA862*(1+Simulador!$D$34)+S863)","v":0},{"$f":"IF(OR(AB862+1>(IF(AND(Simulador!$C$9<Simulador!$C$10,OR(Simulador!$E$7=\"Resgate\",Simulador!$E$7=\"Portabilidade\")),Simulador!$C$9,Simulador!$C$50)-Simulador!$C$8)*12,AB862=0),0,AB862+1)","v":0},{"$f":"IF($AB863=0,0,AC862*(1+Simulador!$D$34)+F863+M863)","v":0},{"$f":"IF($AB863=0,0,AD862*(1+Simulador!$D$34)+T863)","v":0}]
[{"$f":"IF(OR(A863+1>(IF(Simulador!$E$7=\"Autopatrocínio\",Simulador!$C$10,Simulador!$C$9)-Simulador!$C$8)*12,A863=0),0,A863+1)","v":0},{"$f":"IF($A864=0,0,IF(INT($A863/12)-$A863/12=0,B863*(1+Simulador!$C$35),B863))","v":0},{"$f":"MAX(IF(A864=0,0,B864-IF(Simulador!$C$11=\"Individual\",0,Simulador!$C$14)),0)","v":0},null,0,0,0,0,0,0,null,0,0,0,0,0,0,null,0,0,0,0,0,null,{"$f":"IF(OR(Y863+1>(IF(AND(Simulador!$C$9<Simulador!$C$10,OR(Simulador!$E$7=\"Resgate\",Simulador!$E$7=\"Portabilidade\")),Simulador!$C$9,Simulador!$C$10)-Simulador!$C$8)*12,Y863=0),0,Y863+1)","v":0},{"$f":"IF($Y864=0,0,Z863*(1+Simulador!$D$34)+E864+L864)","v":0},{"$f":"IF($Y864=0,0,AA863*(1+Simulador!$D$34)+S864)","v":0},{"$f":"IF(OR(AB863+1>(IF(AND(Simulador!$C$9<Simulador!$C$10,OR(Simulador!$E$7=\"Resgate\",Simulador!$E$7=\"Portabilidade\")),Simulador!$C$9,Simulador!$C$50)-Simulador!$C$8)*12,AB863=0),0,AB863+1)","v":0},{"$f":"IF($AB864=0,0,AC863*(1+Simulador!$D$34)+F864+M864)","v":0},{"$f":"IF($AB864=0,0,AD863*(1+Simulador!$D$34)+T864)","v":0}]
[{"$f":"IF(OR(A864+1>(IF(Simulador!$E$7=\"Autopatrocínio\",Simulador!$C$10,Simulador!$C$9)-Simulador!$C$8)*12,A864=0),0,A864+1)","v":0},{"$f":"IF($A865=0,0,IF(INT($A864/12)-$A864/12=0,B864*(1+Simulador!$C$35),B864))","v":0},{"$f":"MAX(IF(A865=0,0,B865-IF(Simulador!$C$11=\"Individual\",0,Simulador!$C$14)),0)","v":0},null,0,0,0,0,0,0,null,0,0,0,0,0,0,null,0,0,0,0,0,null,{"$f":"IF(OR(Y864+1>(IF(AND(Simulador!$C$9<Simulador!$C$10,OR(Simulador!$E$7=\"Resgate\",Simulador!$E$7=\"Portabilidade\")),Simulador!$C$9,Simulador!$C$10)-Simulador!$C$8)*12,Y864=0),0,Y864+1)","v":0},{"$f":"IF($Y865=0,0,Z864*(1+Simulador!$D$34)+E865+L865)","v":0},{"$f":"IF($Y865=0,0,AA864*(1+Simulador!$D$34)+S865)","v":0},{"$f":"IF(OR(AB864+1>(IF(AND(Simulador!$C$9<Simulador!$C$10,OR(Simulador!$E$7=\"Resgate\",Simulador!$E$7=\"Portabilidade\")),Simulador!$C$9,Simulador!$C$50)-Simulador!$C$8)*12,AB864=0),0,AB864+1)","v":0},{"$f":"IF($AB865=0,0,AC864*(1+Simulador!$D$34)+F865+M865)","v":0},{"$f":"IF($AB865=0,0,AD864*(1+Simulador!$D$34)+T865)","v":0}]
[{"$f":"IF(OR(A865+1>(IF(Simulador!$E$7=\"Autopatrocínio\",Simulador!$C$10,Simulador!$C$9)-Simulador!$C$8)*12,A865=0),0,A865+1)","v":0},{"$f":"IF($A866=0,0,IF(INT($A865/12)-$A865/12=0,B865*(1+Simulador!$C$35),B865))","v":0},{"$f":"MAX(IF(A866=0,0,B866-IF(Simulador!$C$11=\"Individual\",0,Simulador!$C$14)),0)","v":0},null,0,0,0,0,0,0,null,0,0,0,0,0,0,null,0,0,0,0,0,null,{"$f":"IF(OR(Y865+1>(IF(AND(Simulador!$C$9<Simulador!$C$10,OR(Simulador!$E$7=\"Resgate\",Simulador!$E$7=\"Portabilidade\")),Simulador!$C$9,Simulador!$C$10)-Simulador!$C$8)*12,Y865=0),0,Y865+1)","v":0},{"$f":"IF($Y866=0,0,Z865*(1+Simulador!$D$34)+E866+L866)","v":0},{"$f":"IF($Y866=0,0,AA865*(1+Simulador!$D$34)+S866)","v":0},{"$f":"IF(OR(AB865+1>(IF(AND(Simulador!$C$9<Simulador!$C$10,OR(Simulador!$E$7=\"Resgate\",Simulador!$E$7=\"Portabilidade\")),Simulador!$C$9,Simulador!$C$50)-Simulador!$C$8)*12,AB865=0),0,AB865+1)","v":0},{"$f":"IF($AB866=0,0,AC865*(1+Simulador!$D$34)+F866+M866)","v":0},{"$f":"IF($AB866=0,0,AD865*(1+Simulador!$D$34)+T866)","v":0}]
[{"$f":"IF(OR(A866+1>(IF(Simulador!$E$7=\"Autopatrocínio\",Simulador!$C$10,Simulador!$C$9)-Simulador!$C$8)*12,A866=0),0,A866+1)","v":0},{"$f":"IF($A867=0,0,IF(INT($A866/12)-$A866/12=0,B866*(1+Simulador!$C$35),B866))","v":0},{"$f":"MAX(IF(A867=0,0,B867-IF(Simulador!$C$11=\"Individual\",0,Simulador!$C$14)),0)","v":0},null,0,0,0,0,0,0,null,0,0,0,0,0,0,null,0,0,0,0,0,null,{"$f":"IF(OR(Y866+1>(IF(AND(Simulador!$C$9<Simulador!$C$10,OR(Simulador!$E$7=\"Resgate\",Simulador!$E$7=\"Portabilidade\")),Simulador!$C$9,Simulador!$C$10)-Simulador!$C$8)*12,Y866=0),0,Y866+1)","v":0},{"$f":"IF($Y867=0,0,Z866*(1+Simulador!$D$34)+E867+L867)","v":0},{"$f":"IF($Y867=0,0,AA866*(1+Simulador!$D$34)+S867)","v":0},{"$f":"IF(OR(AB866+1>(IF(AND(Simulador!$C$9<Simulador!$C$10,OR(Simulador!$E$7=\"Resgate\",Simulador!$E$7=\"Portabilidade\")),Simulador!$C$9,Simulador!$C$50)-Simulador!$C$8)*12,AB866=0),0,AB866+1)","v":0},{"$f":"IF($AB867=0,0,AC866*(1+Simulador!$D$34)+F867+M867)","v":0},{"$f":"IF($AB867=0,0,AD866*(1+Simulador!$D$34)+T867)","v":0}]
[{"$f":"IF(OR(A867+1>(IF(Simulador!$E$7=\"Autopatrocínio\",Simulador!$C$10,Simulador!$C$9)-Simulador!$C$8)*12,A867=0),0,A867+1)","v":0},{"$f":"IF($A868=0,0,IF(INT($A867/12)-$A867/12=0,B867*(1+Simulador!$C$35),B867))","v":0},{"$f":"MAX(IF(A868=0,0,B868-IF(Simulador!$C$11=\"Individual\",0,Simulador!$C$14)),0)","v":0},null,0,0,0,0,0,0,null,0,0,0,0,0,0,null,0,0,0,0,0,null,{"$f":"IF(OR(Y867+1>(IF(AND(Simulador!$C$9<Simulador!$C$10,OR(Simulador!$E$7=\"Resgate\",Simulador!$E$7=\"Portabilidade\")),Simulador!$C$9,Simulador!$C$10)-Simulador!$C$8)*12,Y867=0),0,Y867+1)","v":0},{"$f":"IF($Y868=0,0,Z867*(1+Simulador!$D$34)+E868+L868)","v":0},{"$f":"IF($Y868=0,0,AA867*(1+Simulador!$D$34)+S868)","v":0},{"$f":"IF(OR(AB867+1>(IF(AND(Simulador!$C$9<Simulador!$C$10,OR(Simulador!$E$7=\"Resgate\",Simulador!$E$7=\"Portabilidade\")),Simulador!$C$9,Simulador!$C$50)-Simulador!$C$8)*12,AB867=0),0,AB867+1)","v":0},{"$f":"IF($AB868=0,0,AC867*(1+Simulador!$D$34)+F868+M868)","v":0},{"$f":"IF($AB868=0,0,AD867*(1+Simulador!$D$34)+T868)","v":0}]
[{"$f":"IF(OR(A868+1>(IF(Simulador!$E$7=\"Autopatrocínio\",Simulador!$C$10,Simulador!$C$9)-Simulador!$C$8)*12,A868=0),0,A868+1)","v":0},{"$f":"IF($A869=0,0,IF(INT($A868/12)-$A868/12=0,B868*(1+Simulador!$C$35),B868))","v":0},{"$f":"MAX(IF(A869=0,0,B869-IF(Simulador!$C$11=\"Individual\",0,Simulador!$C$14)),0)","v":0},null,0,0,0,0,0,0,null,0,0,0,0,0,0,null,0,0,0,0,0,null,{"$f":"IF(OR(Y868+1>(IF(AND(Simulador!$C$9<Simulador!$C$10,OR(Simulador!$E$7=\"Resgate\",Simulador!$E$7=\"Portabilidade\")),Simulador!$C$9,Simulador!$C$10)-Simulador!$C$8)*12,Y868=0),0,Y868+1)","v":0},{"$f":"IF($Y869=0,0,Z868*(1+Simulador!$D$34)+E869+L869)","v":0},{"$f":"IF($Y869=0,0,AA868*(1+Simulador!$D$34)+S869)","v":0},{"$f":"IF(OR(AB868+1>(IF(AND(Simulador!$C$9<Simulador!$C$10,OR(Simulador!$E$7=\"Resgate\",Simulador!$E$7=\"Portabilidade\")),Simulador!$C$9,Simulador!$C$50)-Simulador!$C$8)*12,AB868=0),0,AB868+1)","v":0},{"$f":"IF($AB869=0,0,AC868*(1+Simulador!$D$34)+F869+M869)","v":0},{"$f":"IF($AB869=0,0,AD868*(1+Simulador!$D$34)+T869)","v":0}]
[{"$f":"IF(OR(A869+1>(IF(Simulador!$E$7=\"Autopatrocínio\",Simulador!$C$10,Simulador!$C$9)-Simulador!$C$8)*12,A869=0),0,A869+1)","v":0},{"$f":"IF($A870=0,0,IF(INT($A869/12)-$A869/12=0,B869*(1+Simulador!$C$35),B869))","v":0},{"$f":"MAX(IF(A870=0,0,B870-IF(Simulador!$C$11=\"Individual\",0,Simulador!$C$14)),0)","v":0},null,0,0,0,0,0,0,null,0,0,0,0,0,0,null,0,0,0,0,0,null,{"$f":"IF(OR(Y869+1>(IF(AND(Simulador!$C$9<Simulador!$C$10,OR(Simulador!$E$7=\"Resgate\",Simulador!$E$7=\"Portabilidade\")),Simulador!$C$9,Simulador!$C$10)-Simulador!$C$8)*12,Y869=0),0,Y869+1)","v":0},{"$f":"IF($Y870=0,0,Z869*(1+Simulador!$D$34)+E870+L870)","v":0},{"$f":"IF($Y870=0,0,AA869*(1+Simulador!$D$34)+S870)","v":0},{"$f":"IF(OR(AB869+1>(IF(AND(Simulador!$C$9<Simulador!$C$10,OR(Simulador!$E$7=\"Resgate\",Simulador!$E$7=\"Portabilidade\")),Simulador!$C$9,Simulador!$C$50)-Simulador!$C$8)*12,AB869=0),0,AB869+1)","v":0},{"$f":"IF($AB870=0,0,AC869*(1+Simulador!$D$34)+F870+M870)","v":0},{"$f":"IF($AB870=0,0,AD869*(1+Simulador!$D$34)+T870)","v":0}]
[{"$f":"IF(OR(A870+1>(IF(Simulador!$E$7=\"Autopatrocínio\",Simulador!$C$10,Simulador!$C$9)-Simulador!$C$8)*12,A870=0),0,A870+1)","v":0},{"$f":"IF($A871=0,0,IF(INT($A870/12)-$A870/12=0,B870*(1+Simulador!$C$35),B870))","v":0},{"$f":"MAX(IF(A871=0,0,B871-IF(Simulador!$C$11=\"Individual\",0,Simulador!$C$14)),0)","v":0},null,0,0,0,0,0,0,null,0,0,0,0,0,0,null,0,0,0,0,0,null,{"$f":"IF(OR(Y870+1>(IF(AND(Simulador!$C$9<Simulador!$C$10,OR(Simulador!$E$7=\"Resgate\",Simulador!$E$7=\"Portabilidade\")),Simulador!$C$9,Simulador!$C$10)-Simulador!$C$8)*12,Y870=0),0,Y870+1)","v":0},{"$f":"IF($Y871=0,0,Z870*(1+Simulador!$D$34)+E871+L871)","v":0},{"$f":"IF($Y871=0,0,AA870*(1+Simulador!$D$34)+S871)","v":0},{"$f":"IF(OR(AB870+1>(IF(AND(Simulador!$C$9<Simulador!$C$10,OR(Simulador!$E$7=\"Resgate\",Simulador!$E$7=\"Portabilidade\")),Simulador!$C$9,Simulador!$C$50)-Simulador!$C$8)*12,AB870=0),0,AB870+1)","v":0},{"$f":"IF($AB871=0,0,AC870*(1+Simulador!$D$34)+F871+M871)","v":0},{"$f":"IF($AB871=0,0,AD870*(1+Simulador!$D$34)+T871)","v":0}]
[{"$f":"IF(OR(A871+1>(IF(Simulador!$E$7=\"Autopatrocínio\",Simulador!$C$10,Simulador!$C$9)-Simulador!$C$8)*12,A871=0),0,A871+1)","v":0},{"$f":"IF($A872=0,0,IF(INT($A871/12)-$A871/12=0,B871*(1+Simulador!$C$35),B871))","v":0},{"$f":"MAX(IF(A872=0,0,B872-IF(Simulador!$C$11=\"Individual\",0,Simulador!$C$14)),0)","v":0},null,0,0,0,0,0,0,null,0,0,0,0,0,0,null,0,0,0,0,0,null,{"$f":"IF(OR(Y871+1>(IF(AND(Simulador!$C$9<Simulador!$C$10,OR(Simulador!$E$7=\"Resgate\",Simulador!$E$7=\"Portabilidade\")),Simulador!$C$9,Simulador!$C$10)-Simulador!$C$8)*12,Y871=0),0,Y871+1)","v":0},{"$f":"IF($Y872=0,0,Z871*(1+Simulador!$D$34)+E872+L872)","v":0},{"$f":"IF($Y872=0,0,AA871*(1+Simulador!$D$34)+S872)","v":0},{"$f":"IF(OR(AB871+1>(IF(AND(Simulador!$C$9<Simulador!$C$10,OR(Simulador!$E$7=\"Resgate\",Simulador!$E$7=\"Portabilidade\")),Simulador!$C$9,Simulador!$C$50)-Simulador!$C$8)*12,AB871=0),0,AB871+1)","v":0},{"$f":"IF($AB872=0,0,AC871*(1+Simulador!$D$34)+F872+M872)","v":0},{"$f":"IF($AB872=0,0,AD871*(1+Simulador!$D$34)+T872)","v":0}]
[{"$f":"IF(OR(A872+1>(IF(Simulador!$E$7=\"Autopatrocínio\",Simulador!$C$10,Simulador!$C$9)-Simulador!$C$8)*12,A872=0),0,A872+1)","v":0},{"$f":"IF($A873=0,0,IF(INT($A872/12)-$A872/12=0,B872*(1+Simulador!$C$35),B872))","v":0},{"$f":"MAX(IF(A873=0,0,B873-IF(Simulador!$C$11=\"Individual\",0,Simulador!$C$14)),0)","v":0},null,0,0,0,0,0,0,null,0,0,0,0,0,0,null,0,0,0,0,0,null,{"$f":"IF(OR(Y872+1>(IF(AND(Simulador!$C$9<Simulador!$C$10,OR(Simulador!$E$7=\"Resgate\",Simulador!$E$7=\"Portabilidade\")),Simulador!$C$9,Simulador!$C$10)-Simulador!$C$8)*12,Y872=0),0,Y872+1)","v":0},{"$f":"IF($Y873=0,0,Z872*(1+Simulador!$D$34)+E873+L873)","v":0},{"$f":"IF($Y873=0,0,AA872*(1+Simulador!$D$34)+S873)","v":0},{"$f":"IF(OR(AB872+1>(IF(AND(Simulador!$C$9<Simulador!$C$10,OR(Simulador!$E$7=\"Resgate\",Simulador!$E$7=\"Portabilidade\")),Simulador!$C$9,Simulador!$C$50)-Simulador!$C$8)*12,AB872=0),0,AB872+1)","v":0},{"$f":"IF($AB873=0,0,AC872*(1+Simulador!$D$34)+F873+M873)","v":0},{"$f":"IF($AB873=0,0,AD872*(1+Simulador!$D$34)+T873)","v":0}]
[{"$f":"IF(OR(A873+1>(IF(Simulador!$E$7=\"Autopatrocínio\",Simulador!$C$10,Simulador!$C$9)-Simulador!$C$8)*12,A873=0),0,A873+1)","v":0},{"$f":"IF($A874=0,0,IF(INT($A873/12)-$A873/12=0,B873*(1+Simulador!$C$35),B873))","v":0},{"$f":"MAX(IF(A874=0,0,B874-IF(Simulador!$C$11=\"Individual\",0,Simulador!$C$14)),0)","v":0},null,0,0,0,0,0,0,null,0,0,0,0,0,0,null,0,0,0,0,0,null,{"$f":"IF(OR(Y873+1>(IF(AND(Simulador!$C$9<Simulador!$C$10,OR(Simulador!$E$7=\"Resgate\",Simulador!$E$7=\"Portabilidade\")),Simulador!$C$9,Simulador!$C$10)-Simulador!$C$8)*12,Y873=0),0,Y873+1)","v":0},{"$f":"IF($Y874=0,0,Z873*(1+Simulador!$D$34)+E874+L874)","v":0},{"$f":"IF($Y874=0,0,AA873*(1+Simulador!$D$34)+S874)","v":0},{"$f":"IF(OR(AB873+1>(IF(AND(Simulador!$C$9<Simulador!$C$10,OR(Simulador!$E$7=\"Resgate\",Simulador!$E$7=\"Portabilidade\")),Simulador!$C$9,Simulador!$C$50)-Simulador!$C$8)*12,AB873=0),0,AB873+1)","v":0},{"$f":"IF($AB874=0,0,AC873*(1+Simulador!$D$34)+F874+M874)","v":0},{"$f":"IF($AB874=0,0,AD873*(1+Simulador!$D$34)+T874)","v":0}]
[{"$f":"IF(OR(A874+1>(IF(Simulador!$E$7=\"Autopatrocínio\",Simulador!$C$10,Simulador!$C$9)-Simulador!$C$8)*12,A874=0),0,A874+1)","v":0},{"$f":"IF($A875=0,0,IF(INT($A874/12)-$A874/12=0,B874*(1+Simulador!$C$35),B874))","v":0},{"$f":"MAX(IF(A875=0,0,B875-IF(Simulador!$C$11=\"Individual\",0,Simulador!$C$14)),0)","v":0},null,0,0,0,0,0,0,null,0,0,0,0,0,0,null,0,0,0,0,0,null,{"$f":"IF(OR(Y874+1>(IF(AND(Simulador!$C$9<Simulador!$C$10,OR(Simulador!$E$7=\"Resgate\",Simulador!$E$7=\"Portabilidade\")),Simulador!$C$9,Simulador!$C$10)-Simulador!$C$8)*12,Y874=0),0,Y874+1)","v":0},{"$f":"IF($Y875=0,0,Z874*(1+Simulador!$D$34)+E875+L875)","v":0},{"$f":"IF($Y875=0,0,AA874*(1+Simulador!$D$34)+S875)","v":0},{"$f":"IF(OR(AB874+1>(IF(AND(Simulador!$C$9<Simulador!$C$10,OR(Simulador!$E$7=\"Resgate\",Simulador!$E$7=\"Portabilidade\")),Simulador!$C$9,Simulador!$C$50)-Simulador!$C$8)*12,AB874=0),0,AB874+1)","v":0},{"$f":"IF($AB875=0,0,AC874*(1+Simulador!$D$34)+F875+M875)","v":0},{"$f":"IF($AB875=0,0,AD874*(1+Simulador!$D$34)+T875)","v":0}]
[{"$f":"IF(OR(A875+1>(IF(Simulador!$E$7=\"Autopatrocínio\",Simulador!$C$10,Simulador!$C$9)-Simulador!$C$8)*12,A875=0),0,A875+1)","v":0},{"$f":"IF($A876=0,0,IF(INT($A875/12)-$A875/12=0,B875*(1+Simulador!$C$35),B875))","v":0},{"$f":"MAX(IF(A876=0,0,B876-IF(Simulador!$C$11=\"Individual\",0,Simulador!$C$14)),0)","v":0},null,0,0,0,0,0,0,null,0,0,0,0,0,0,null,0,0,0,0,0,null,{"$f":"IF(OR(Y875+1>(IF(AND(Simulador!$C$9<Simulador!$C$10,OR(Simulador!$E$7=\"Resgate\",Simulador!$E$7=\"Portabilidade\")),Simulador!$C$9,Simulador!$C$10)-Simulador!$C$8)*12,Y875=0),0,Y875+1)","v":0},{"$f":"IF($Y876=0,0,Z875*(1+Simulador!$D$34)+E876+L876)","v":0},{"$f":"IF($Y876=0,0,AA875*(1+Simulador!$D$34)+S876)","v":0},{"$f":"IF(OR(AB875+1>(IF(AND(Simulador!$C$9<Simulador!$C$10,OR(Simulador!$E$7=\"Resgate\",Simulador!$E$7=\"Portabilidade\")),Simulador!$C$9,Simulador!$C$50)-Simulador!$C$8)*12,AB875=0),0,AB875+1)","v":0},{"$f":"IF($AB876=0,0,AC875*(1+Simulador!$D$34)+F876+M876)","v":0},{"$f":"IF($AB876=0,0,AD875*(1+Simulador!$D$34)+T876)","v":0}]
[{"$f":"IF(OR(A876+1>(IF(Simulador!$E$7=\"Autopatrocínio\",Simulador!$C$10,Simulador!$C$9)-Simulador!$C$8)*12,A876=0),0,A876+1)","v":0},{"$f":"IF($A877=0,0,IF(INT($A876/12)-$A876/12=0,B876*(1+Simulador!$C$35),B876))","v":0},{"$f":"MAX(IF(A877=0,0,B877-IF(Simulador!$C$11=\"Individual\",0,Simulador!$C$14)),0)","v":0},null,0,0,0,0,0,0,null,0,0,0,0,0,0,null,0,0,0,0,0,null,{"$f":"IF(OR(Y876+1>(IF(AND(Simulador!$C$9<Simulador!$C$10,OR(Simulador!$E$7=\"Resgate\",Simulador!$E$7=\"Portabilidade\")),Simulador!$C$9,Simulador!$C$10)-Simulador!$C$8)*12,Y876=0),0,Y876+1)","v":0},{"$f":"IF($Y877=0,0,Z876*(1+Simulador!$D$34)+E877+L877)","v":0},{"$f":"IF($Y877=0,0,AA876*(1+Simulador!$D$34)+S877)","v":0},{"$f":"IF(OR(AB876+1>(IF(AND(Simulador!$C$9<Simulador!$C$10,OR(Simulador!$E$7=\"Resgate\",Simulador!$E$7=\"Portabilidade\")),Simulador!$C$9,Simulador!$C$50)-Simulador!$C$8)*12,AB876=0),0,AB876+1)","v":0},{"$f":"IF($AB877=0,0,AC876*(1+Simulador!$D$34)+F877+M877)","v":0},{"$f":"IF($AB877=0,0,AD876*(1+Simulador!$D$34)+T877)","v":0}]
[{"$f":"IF(OR(A877+1>(IF(Simulador!$E$7=\"Autopatrocínio\",Simulador!$C$10,Simulador!$C$9)-Simulador!$C$8)*12,A877=0),0,A877+1)","v":0},{"$f":"IF($A878=0,0,IF(INT($A877/12)-$A877/12=0,B877*(1+Simulador!$C$35),B877))","v":0},{"$f":"MAX(IF(A878=0,0,B878-IF(Simulador!$C$11=\"Individual\",0,Simulador!$C$14)),0)","v":0},null,0,0,0,0,0,0,null,0,0,0,0,0,0,null,0,0,0,0,0,null,{"$f":"IF(OR(Y877+1>(IF(AND(Simulador!$C$9<Simulador!$C$10,OR(Simulador!$E$7=\"Resgate\",Simulador!$E$7=\"Portabilidade\")),Simulador!$C$9,Simulador!$C$10)-Simulador!$C$8)*12,Y877=0),0,Y877+1)","v":0},{"$f":"IF($Y878=0,0,Z877*(1+Simulador!$D$34)+E878+L878)","v":0},{"$f":"IF($Y878=0,0,AA877*(1+Simulador!$D$34)+S878)","v":0},{"$f":"IF(OR(AB877+1>(IF(AND(Simulador!$C$9<Simulador!$C$10,OR(Simulador!$E$7=\"Resgate\",Simulador!$E$7=\"Portabilidade\")),Simulador!$C$9,Simulador!$C$50)-Simulador!$C$8)*12,AB877=0),0,AB877+1)","v":0},{"$f":"IF($AB878=0,0,AC877*(1+Simulador!$D$34)+F878+M878)","v":0},{"$f":"IF($AB878=0,0,AD877*(1+Simulador!$D$34)+T878)","v":0}]
[{"$f":"IF(OR(A878+1>(IF(Simulador!$E$7=\"Autopatrocínio\",Simulador!$C$10,Simulador!$C$9)-Simulador!$C$8)*12,A878=0),0,A878+1)","v":0},{"$f":"IF($A879=0,0,IF(INT($A878/12)-$A878/12=0,B878*(1+Simulador!$C$35),B878))","v":0},{"$f":"MAX(IF(A879=0,0,B879-IF(Simulador!$C$11=\"Individual\",0,Simulador!$C$14)),0)","v":0},null,0,0,0,0,0,0,null,0,0,0,0,0,0,null,0,0,0,0,0,null,{"$f":"IF(OR(Y878+1>(IF(AND(Simulador!$C$9<Simulador!$C$10,OR(Simulador!$E$7=\"Resgate\",Simulador!$E$7=\"Portabilidade\")),Simulador!$C$9,Simulador!$C$10)-Simulador!$C$8)*12,Y878=0),0,Y878+1)","v":0},{"$f":"IF($Y879=0,0,Z878*(1+Simulador!$D$34)+E879+L879)","v":0},{"$f":"IF($Y879=0,0,AA878*(1+Simulador!$D$34)+S879)","v":0},{"$f":"IF(OR(AB878+1>(IF(AND(Simulador!$C$9<Simulador!$C$10,OR(Simulador!$E$7=\"Resgate\",Simulador!$E$7=\"Portabilidade\")),Simulador!$C$9,Simulador!$C$50)-Simulador!$C$8)*12,AB878=0),0,AB878+1)","v":0},{"$f":"IF($AB879=0,0,AC878*(1+Simulador!$D$34)+F879+M879)","v":0},{"$f":"IF($AB879=0,0,AD878*(1+Simulador!$D$34)+T879)","v":0}]
[{"$f":"IF(OR(A879+1>(IF(Simulador!$E$7=\"Autopatrocínio\",Simulador!$C$10,Simulador!$C$9)-Simulador!$C$8)*12,A879=0),0,A879+1)","v":0},{"$f":"IF($A880=0,0,IF(INT($A879/12)-$A879/12=0,B879*(1+Simulador!$C$35),B879))","v":0},{"$f":"MAX(IF(A880=0,0,B880-IF(Simulador!$C$11=\"Individual\",0,Simulador!$C$14)),0)","v":0},null,0,0,0,0,0,0,null,0,0,0,0,0,0,null,0,0,0,0,0,null,{"$f":"IF(OR(Y879+1>(IF(AND(Simulador!$C$9<Simulador!$C$10,OR(Simulador!$E$7=\"Resgate\",Simulador!$E$7=\"Portabilidade\")),Simulador!$C$9,Simulador!$C$10)-Simulador!$C$8)*12,Y879=0),0,Y879+1)","v":0},{"$f":"IF($Y880=0,0,Z879*(1+Simulador!$D$34)+E880+L880)","v":0},{"$f":"IF($Y880=0,0,AA879*(1+Simulador!$D$34)+S880)","v":0},{"$f":"IF(OR(AB879+1>(IF(AND(Simulador!$C$9<Simulador!$C$10,OR(Simulador!$E$7=\"Resgate\",Simulador!$E$7=\"Portabilidade\")),Simulador!$C$9,Simulador!$C$50)-Simulador!$C$8)*12,AB879=0),0,AB879+1)","v":0},{"$f":"IF($AB880=0,0,AC879*(1+Simulador!$D$34)+F880+M880)","v":0},{"$f":"IF($AB880=0,0,AD879*(1+Simulador!$D$34)+T880)","v":0}]
[{"$f":"IF(OR(A880+1>(IF(Simulador!$E$7=\"Autopatrocínio\",Simulador!$C$10,Simulador!$C$9)-Simulador!$C$8)*12,A880=0),0,A880+1)","v":0},{"$f":"IF($A881=0,0,IF(INT($A880/12)-$A880/12=0,B880*(1+Simulador!$C$35),B880))","v":0},{"$f":"MAX(IF(A881=0,0,B881-IF(Simulador!$C$11=\"Individual\",0,Simulador!$C$14)),0)","v":0},null,0,0,0,0,0,0,null,0,0,0,0,0,0,null,0,0,0,0,0,null,{"$f":"IF(OR(Y880+1>(IF(AND(Simulador!$C$9<Simulador!$C$10,OR(Simulador!$E$7=\"Resgate\",Simulador!$E$7=\"Portabilidade\")),Simulador!$C$9,Simulador!$C$10)-Simulador!$C$8)*12,Y880=0),0,Y880+1)","v":0},{"$f":"IF($Y881=0,0,Z880*(1+Simulador!$D$34)+E881+L881)","v":0},{"$f":"IF($Y881=0,0,AA880*(1+Simulador!$D$34)+S881)","v":0},{"$f":"IF(OR(AB880+1>(IF(AND(Simulador!$C$9<Simulador!$C$10,OR(Simulador!$E$7=\"Resgate\",Simulador!$E$7=\"Portabilidade\")),Simulador!$C$9,Simulador!$C$50)-Simulador!$C$8)*12,AB880=0),0,AB880+1)","v":0},{"$f":"IF($AB881=0,0,AC880*(1+Simulador!$D$34)+F881+M881)","v":0},{"$f":"IF($AB881=0,0,AD880*(1+Simulador!$D$34)+T881)","v":0}]
[{"$f":"IF(OR(A881+1>(IF(Simulador!$E$7=\"Autopatrocínio\",Simulador!$C$10,Simulador!$C$9)-Simulador!$C$8)*12,A881=0),0,A881+1)","v":0},{"$f":"IF($A882=0,0,IF(INT($A881/12)-$A881/12=0,B881*(1+Simulador!$C$35),B881))","v":0},{"$f":"MAX(IF(A882=0,0,B882-IF(Simulador!$C$11=\"Individual\",0,Simulador!$C$14)),0)","v":0},null,0,0,0,0,0,0,null,0,0,0,0,0,0,null,0,0,0,0,0,null,{"$f":"IF(OR(Y881+1>(IF(AND(Simulador!$C$9<Simulador!$C$10,OR(Simulador!$E$7=\"Resgate\",Simulador!$E$7=\"Portabilidade\")),Simulador!$C$9,Simulador!$C$10)-Simulador!$C$8)*12,Y881=0),0,Y881+1)","v":0},{"$f":"IF($Y882=0,0,Z881*(1+Simulador!$D$34)+E882+L882)","v":0},{"$f":"IF($Y882=0,0,AA881*(1+Simulador!$D$34)+S882)","v":0},{"$f":"IF(OR(AB881+1>(IF(AND(Simulador!$C$9<Simulador!$C$10,OR(Simulador!$E$7=\"Resgate\",Simulador!$E$7=\"Portabilidade\")),Simulador!$C$9,Simulador!$C$50)-Simulador!$C$8)*12,AB881=0),0,AB881+1)","v":0},{"$f":"IF($AB882=0,0,AC881*(1+Simulador!$D$34)+F882+M882)","v":0},{"$f":"IF($AB882=0,0,AD881*(1+Simulador!$D$34)+T882)","v":0}]
[{"$f":"IF(OR(A882+1>(IF(Simulador!$E$7=\"Autopatrocínio\",Simulador!$C$10,Simulador!$C$9)-Simulador!$C$8)*12,A882=0),0,A882+1)","v":0},{"$f":"IF($A883=0,0,IF(INT($A882/12)-$A882/12=0,B882*(1+Simulador!$C$35),B882))","v":0},{"$f":"MAX(IF(A883=0,0,B883-IF(Simulador!$C$11=\"Individual\",0,Simulador!$C$14)),0)","v":0},null,0,0,0,0,0,0,null,0,0,0,0,0,0,null,0,0,0,0,0,null,{"$f":"IF(OR(Y882+1>(IF(AND(Simulador!$C$9<Simulador!$C$10,OR(Simulador!$E$7=\"Resgate\",Simulador!$E$7=\"Portabilidade\")),Simulador!$C$9,Simulador!$C$10)-Simulador!$C$8)*12,Y882=0),0,Y882+1)","v":0},{"$f":"IF($Y883=0,0,Z882*(1+Simulador!$D$34)+E883+L883)","v":0},{"$f":"IF($Y883=0,0,AA882*(1+Simulador!$D$34)+S883)","v":0},{"$f":"IF(OR(AB882+1>(IF(AND(Simulador!$C$9<Simulador!$C$10,OR(Simulador!$E$7=\"Resgate\",Simulador!$E$7=\"Portabilidade\")),Simulador!$C$9,Simulador!$C$50)-Simulador!$C$8)*12,AB882=0),0,AB882+1)","v":0},{"$f":"IF($AB883=0,0,AC882*(1+Simulador!$D$34)+F883+M883)","v":0},{"$f":"IF($AB883=0,0,AD882*(1+Simulador!$D$34)+T883)","v":0}]
[{"$f":"IF(OR(A883+1>(IF(Simulador!$E$7=\"Autopatrocínio\",Simulador!$C$10,Simulador!$C$9)-Simulador!$C$8)*12,A883=0),0,A883+1)","v":0},{"$f":"IF($A884=0,0,IF(INT($A883/12)-$A883/12=0,B883*(1+Simulador!$C$35),B883))","v":0},{"$f":"MAX(IF(A884=0,0,B884-IF(Simulador!$C$11=\"Individual\",0,Simulador!$C$14)),0)","v":0},null,0,0,0,0,0,0,null,0,0,0,0,0,0,null,0,0,0,0,0,null,{"$f":"IF(OR(Y883+1>(IF(AND(Simulador!$C$9<Simulador!$C$10,OR(Simulador!$E$7=\"Resgate\",Simulador!$E$7=\"Portabilidade\")),Simulador!$C$9,Simulador!$C$10)-Simulador!$C$8)*12,Y883=0),0,Y883+1)","v":0},{"$f":"IF($Y884=0,0,Z883*(1+Simulador!$D$34)+E884+L884)","v":0},{"$f":"IF($Y884=0,0,AA883*(1+Simulador!$D$34)+S884)","v":0},{"$f":"IF(OR(AB883+1>(IF(AND(Simulador!$C$9<Simulador!$C$10,OR(Simulador!$E$7=\"Resgate\",Simulador!$E$7=\"Portabilidade\")),Simulador!$C$9,Simulador!$C$50)-Simulador!$C$8)*12,AB883=0),0,AB883+1)","v":0},{"$f":"IF($AB884=0,0,AC883*(1+Simulador!$D$34)+F884+M884)","v":0},{"$f":"IF($AB884=0,0,AD883*(1+Simulador!$D$34)+T884)","v":0}]
[{"$f":"IF(OR(A884+1>(IF(Simulador!$E$7=\"Autopatrocínio\",Simulador!$C$10,Simulador!$C$9)-Simulador!$C$8)*12,A884=0),0,A884+1)","v":0},{"$f":"IF($A885=0,0,IF(INT($A884/12)-$A884/12=0,B884*(1+Simulador!$C$35),B884))","v":0},{"$f":"MAX(IF(A885=0,0,B885-IF(Simulador!$C$11=\"Individual\",0,Simulador!$C$14)),0)","v":0},null,0,0,0,0,0,0,null,0,0,0,0,0,0,null,0,0,0,0,0,null,{"$f":"IF(OR(Y884+1>(IF(AND(Simulador!$C$9<Simulador!$C$10,OR(Simulador!$E$7=\"Resgate\",Simulador!$E$7=\"Portabilidade\")),Simulador!$C$9,Simulador!$C$10)-Simulador!$C$8)*12,Y884=0),0,Y884+1)","v":0},{"$f":"IF($Y885=0,0,Z884*(1+Simulador!$D$34)+E885+L885)","v":0},{"$f":"IF($Y885=0,0,AA884*(1+Simulador!$D$34)+S885)","v":0},{"$f":"IF(OR(AB884+1>(IF(AND(Simulador!$C$9<Simulador!$C$10,OR(Simulador!$E$7=\"Resgate\",Simulador!$E$7=\"Portabilidade\")),Simulador!$C$9,Simulador!$C$50)-Simulador!$C$8)*12,AB884=0),0,AB884+1)","v":0},{"$f":"IF($AB885=0,0,AC884*(1+Simulador!$D$34)+F885+M885)","v":0},{"$f":"IF($AB885=0,0,AD884*(1+Simulador!$D$34)+T885)","v":0}]
[{"$f":"IF(OR(A885+1>(IF(Simulador!$E$7=\"Autopatrocínio\",Simulador!$C$10,Simulador!$C$9)-Simulador!$C$8)*12,A885=0),0,A885+1)","v":0},{"$f":"IF($A886=0,0,IF(INT($A885/12)-$A885/12=0,B885*(1+Simulador!$C$35),B885))","v":0},{"$f":"MAX(IF(A886=0,0,B886-IF(Simulador!$C$11=\"Individual\",0,Simulador!$C$14)),0)","v":0},null,0,0,0,0,0,0,null,0,0,0,0,0,0,null,0,0,0,0,0,null,{"$f":"IF(OR(Y885+1>(IF(AND(Simulador!$C$9<Simulador!$C$10,OR(Simulador!$E$7=\"Resgate\",Simulador!$E$7=\"Portabilidade\")),Simulador!$C$9,Simulador!$C$10)-Simulador!$C$8)*12,Y885=0),0,Y885+1)","v":0},{"$f":"IF($Y886=0,0,Z885*(1+Simulador!$D$34)+E886+L886)","v":0},{"$f":"IF($Y886=0,0,AA885*(1+Simulador!$D$34)+S886)","v":0},{"$f":"IF(OR(AB885+1>(IF(AND(Simulador!$C$9<Simulador!$C$10,OR(Simulador!$E$7=\"Resgate\",Simulador!$E$7=\"Portabilidade\")),Simulador!$C$9,Simulador!$C$50)-Simulador!$C$8)*12,AB885=0),0,AB885+1)","v":0},{"$f":"IF($AB886=0,0,AC885*(1+Simulador!$D$34)+F886+M886)","v":0},{"$f":"IF($AB886=0,0,AD885*(1+Simulador!$D$34)+T886)","v":0}]
[{"$f":"IF(OR(A886+1>(IF(Simulador!$E$7=\"Autopatrocínio\",Simulador!$C$10,Simulador!$C$9)-Simulador!$C$8)*12,A886=0),0,A886+1)","v":0},{"$f":"IF($A887=0,0,IF(INT($A886/12)-$A886/12=0,B886*(1+Simulador!$C$35),B886))","v":0},{"$f":"MAX(IF(A887=0,0,B887-IF(Simulador!$C$11=\"Individual\",0,Simulador!$C$14)),0)","v":0},null,{"$f":"E$4*$C887*(1+$J887)","v":0},0,0,0,0,0,null,{"$f":"L$4*$C887*$Q887","v":0},0,0,0,0,0,null,{"$f":"S$4*$C887*(1+$J887)","v":0},0,0,0,0,null,{"$f":"IF(OR(Y886+1>(IF(AND(Simulador!$C$9<Simulador!$C$10,OR(Simulador!$E$7=\"Resgate\",Simulador!$E$7=\"Portabilidade\")),Simulador!$C$9,Simulador!$C$10)-Simulador!$C$8)*12,Y886=0),0,Y886+1)","v":0},{"$f":"IF($Y887=0,0,Z886*(1+Simulador!$D$34)+E887+L887)","v":0},{"$f":"IF($Y887=0,0,AA886*(1+Simulador!$D$34)+S887)","v":0},{"$f":"IF(OR(AB886+1>(IF(AND(Simulador!$C$9<Simulador!$C$10,OR(Simulador!$E$7=\"Resgate\",Simulador!$E$7=\"Portabilidade\")),Simulador!$C$9,Simulador!$C$50)-Simulador!$C$8)*12,AB886=0),0,AB886+1)","v":0},{"$f":"IF($AB887=0,0,AC886*(1+Simulador!$D$34)+F887+M887)","v":0},{"$f":"IF($AB887=0,0,AD886*(1+Simulador!$D$34)+T887)","v":0}]
[{"$f":"IF(OR(A887+1>(IF(Simulador!$E$7=\"Autopatrocínio\",Simulador!$C$10,Simulador!$C$9)-Simulador!$C$8)*12,A887=0),0,A887+1)","v":0},{"$f":"IF($A888=0,0,IF(INT($A887/12)-$A887/12=0,B887*(1+Simulador!$C$35),B887))","v":0},{"$f":"MAX(IF(A888=0,0,B888-IF(Simulador!$C$11=\"Individual\",0,Simulador!$C$14)),0)","v":0},null,0,0,0,0,0,0,null,0,0,0,0,0,0,null,0,0,0,0,0,null,{"$f":"IF(OR(Y887+1>(IF(AND(Simulador!$C$9<Simulador!$C$10,OR(Simulador!$E$7=\"Resgate\",Simulador!$E$7=\"Portabilidade\")),Simulador!$C$9,Simulador!$C$10)-Simulador!$C$8)*12,Y887=0),0,Y887+1)","v":0},{"$f":"IF($Y888=0,0,Z887*(1+Simulador!$D$34)+E888+L888)","v":0},{"$f":"IF($Y888=0,0,AA887*(1+Simulador!$D$34)+S888)","v":0},{"$f":"IF(OR(AB887+1>(IF(AND(Simulador!$C$9<Simulador!$C$10,OR(Simulador!$E$7=\"Resgate\",Simulador!$E$7=\"Portabilidade\")),Simulador!$C$9,Simulador!$C$50)-Simulador!$C$8)*12,AB887=0),0,AB887+1)","v":0},{"$f":"IF($AB888=0,0,AC887*(1+Simulador!$D$34)+F888+M888)","v":0},{"$f":"IF($AB888=0,0,AD887*(1+Simulador!$D$34)+T888)","v":0}]
[{"$f":"IF(OR(A888+1>(IF(Simulador!$E$7=\"Autopatrocínio\",Simulador!$C$10,Simulador!$C$9)-Simulador!$C$8)*12,A888=0),0,A888+1)","v":0},{"$f":"IF($A889=0,0,IF(INT($A888/12)-$A888/12=0,B888*(1+Simulador!$C$35),B888))","v":0},{"$f":"MAX(IF(A889=0,0,B889-IF(Simulador!$C$11=\"Individual\",0,Simulador!$C$14)),0)","v":0},null,0,0,0,0,0,0,null,0,0,0,0,0,0,null,0,0,0,0,0,null,{"$f":"IF(OR(Y888+1>(IF(AND(Simulador!$C$9<Simulador!$C$10,OR(Simulador!$E$7=\"Resgate\",Simulador!$E$7=\"Portabilidade\")),Simulador!$C$9,Simulador!$C$10)-Simulador!$C$8)*12,Y888=0),0,Y888+1)","v":0},{"$f":"IF($Y889=0,0,Z888*(1+Simulador!$D$34)+E889+L889)","v":0},{"$f":"IF($Y889=0,0,AA888*(1+Simulador!$D$34)+S889)","v":0},{"$f":"IF(OR(AB888+1>(IF(AND(Simulador!$C$9<Simulador!$C$10,OR(Simulador!$E$7=\"Resgate\",Simulador!$E$7=\"Portabilidade\")),Simulador!$C$9,Simulador!$C$50)-Simulador!$C$8)*12,AB888=0),0,AB888+1)","v":0},{"$f":"IF($AB889=0,0,AC888*(1+Simulador!$D$34)+F889+M889)","v":0},{"$f":"IF($AB889=0,0,AD888*(1+Simulador!$D$34)+T889)","v":0}]
[{"$f":"IF(OR(A889+1>(IF(Simulador!$E$7=\"Autopatrocínio\",Simulador!$C$10,Simulador!$C$9)-Simulador!$C$8)*12,A889=0),0,A889+1)","v":0},{"$f":"IF($A890=0,0,IF(INT($A889/12)-$A889/12=0,B889*(1+Simulador!$C$35),B889))","v":0},{"$f":"MAX(IF(A890=0,0,B890-IF(Simulador!$C$11=\"Individual\",0,Simulador!$C$14)),0)","v":0},null,0,0,0,0,0,0,null,0,0,0,0,0,0,null,0,0,0,0,0,null,{"$f":"IF(OR(Y889+1>(IF(AND(Simulador!$C$9<Simulador!$C$10,OR(Simulador!$E$7=\"Resgate\",Simulador!$E$7=\"Portabilidade\")),Simulador!$C$9,Simulador!$C$10)-Simulador!$C$8)*12,Y889=0),0,Y889+1)","v":0},{"$f":"IF($Y890=0,0,Z889*(1+Simulador!$D$34)+E890+L890)","v":0},{"$f":"IF($Y890=0,0,AA889*(1+Simulador!$D$34)+S890)","v":0},{"$f":"IF(OR(AB889+1>(IF(AND(Simulador!$C$9<Simulador!$C$10,OR(Simulador!$E$7=\"Resgate\",Simulador!$E$7=\"Portabilidade\")),Simulador!$C$9,Simulador!$C$50)-Simulador!$C$8)*12,AB889=0),0,AB889+1)","v":0},{"$f":"IF($AB890=0,0,AC889*(1+Simulador!$D$34)+F890+M890)","v":0},{"$f":"IF($AB890=0,0,AD889*(1+Simulador!$D$34)+T890)","v":0}]
[{"$f":"IF(OR(A890+1>(IF(Simulador!$E$7=\"Autopatrocínio\",Simulador!$C$10,Simulador!$C$9)-Simulador!$C$8)*12,A890=0),0,A890+1)","v":0},{"$f":"IF($A891=0,0,IF(INT($A890/12)-$A890/12=0,B890*(1+Simulador!$C$35),B890))","v":0},{"$f":"MAX(IF(A891=0,0,B891-IF(Simulador!$C$11=\"Individual\",0,Simulador!$C$14)),0)","v":0},null,0,0,0,0,0,0,null,0,0,0,0,0,0,null,0,0,0,0,0,null,{"$f":"IF(OR(Y890+1>(IF(AND(Simulador!$C$9<Simulador!$C$10,OR(Simulador!$E$7=\"Resgate\",Simulador!$E$7=\"Portabilidade\")),Simulador!$C$9,Simulador!$C$10)-Simulador!$C$8)*12,Y890=0),0,Y890+1)","v":0},{"$f":"IF($Y891=0,0,Z890*(1+Simulador!$D$34)+E891+L891)","v":0},{"$f":"IF($Y891=0,0,AA890*(1+Simulador!$D$34)+S891)","v":0},{"$f":"IF(OR(AB890+1>(IF(AND(Simulador!$C$9<Simulador!$C$10,OR(Simulador!$E$7=\"Resgate\",Simulador!$E$7=\"Portabilidade\")),Simulador!$C$9,Simulador!$C$50)-Simulador!$C$8)*12,AB890=0),0,AB890+1)","v":0},{"$f":"IF($AB891=0,0,AC890*(1+Simulador!$D$34)+F891+M891)","v":0},{"$f":"IF($AB891=0,0,AD890*(1+Simulador!$D$34)+T891)","v":0}]
[{"$f":"IF(OR(A891+1>(IF(Simulador!$E$7=\"Autopatrocínio\",Simulador!$C$10,Simulador!$C$9)-Simulador!$C$8)*12,A891=0),0,A891+1)","v":0},{"$f":"IF($A892=0,0,IF(INT($A891/12)-$A891/12=0,B891*(1+Simulador!$C$35),B891))","v":0},{"$f":"MAX(IF(A892=0,0,B892-IF(Simulador!$C$11=\"Individual\",0,Simulador!$C$14)),0)","v":0},null,0,0,0,0,0,0,null,0,0,0,0,0,0,null,0,0,0,0,0,null,{"$f":"IF(OR(Y891+1>(IF(AND(Simulador!$C$9<Simulador!$C$10,OR(Simulador!$E$7=\"Resgate\",Simulador!$E$7=\"Portabilidade\")),Simulador!$C$9,Simulador!$C$10)-Simulador!$C$8)*12,Y891=0),0,Y891+1)","v":0},{"$f":"IF($Y892=0,0,Z891*(1+Simulador!$D$34)+E892+L892)","v":0},{"$f":"IF($Y892=0,0,AA891*(1+Simulador!$D$34)+S892)","v":0},{"$f":"IF(OR(AB891+1>(IF(AND(Simulador!$C$9<Simulador!$C$10,OR(Simulador!$E$7=\"Resgate\",Simulador!$E$7=\"Portabilidade\")),Simulador!$C$9,Simulador!$C$50)-Simulador!$C$8)*12,AB891=0),0,AB891+1)","v":0},{"$f":"IF($AB892=0,0,AC891*(1+Simulador!$D$34)+F892+M892)","v":0},{"$f":"IF($AB892=0,0,AD891*(1+Simulador!$D$34)+T892)","v":0}]
[{"$f":"IF(OR(A892+1>(IF(Simulador!$E$7=\"Autopatrocínio\",Simulador!$C$10,Simulador!$C$9)-Simulador!$C$8)*12,A892=0),0,A892+1)","v":0},{"$f":"IF($A893=0,0,IF(INT($A892/12)-$A892/12=0,B892*(1+Simulador!$C$35),B892))","v":0},{"$f":"MAX(IF(A893=0,0,B893-IF(Simulador!$C$11=\"Individual\",0,Simulador!$C$14)),0)","v":0},null,0,0,0,0,0,0,null,0,0,0,0,0,0,null,0,0,0,0,0,null,{"$f":"IF(OR(Y892+1>(IF(AND(Simulador!$C$9<Simulador!$C$10,OR(Simulador!$E$7=\"Resgate\",Simulador!$E$7=\"Portabilidade\")),Simulador!$C$9,Simulador!$C$10)-Simulador!$C$8)*12,Y892=0),0,Y892+1)","v":0},{"$f":"IF($Y893=0,0,Z892*(1+Simulador!$D$34)+E893+L893)","v":0},{"$f":"IF($Y893=0,0,AA892*(1+Simulador!$D$34)+S893)","v":0},{"$f":"IF(OR(AB892+1>(IF(AND(Simulador!$C$9<Simulador!$C$10,OR(Simulador!$E$7=\"Resgate\",Simulador!$E$7=\"Portabilidade\")),Simulador!$C$9,Simulador!$C$50)-Simulador!$C$8)*12,AB892=0),0,AB892+1)","v":0},{"$f":"IF($AB893=0,0,AC892*(1+Simulador!$D$34)+F893+M893)","v":0},{"$f":"IF($AB893=0,0,AD892*(1+Simulador!$D$34)+T893)","v":0}]
[{"$f":"IF(OR(A893+1>(IF(Simulador!$E$7=\"Autopatrocínio\",Simulador!$C$10,Simulador!$C$9)-Simulador!$C$8)*12,A893=0),0,A893+1)","v":0},{"$f":"IF($A894=0,0,IF(INT($A893/12)-$A893/12=0,B893*(1+Simulador!$C$35),B893))","v":0},{"$f":"MAX(IF(A894=0,0,B894-IF(Simulador!$C$11=\"Individual\",0,Simulador!$C$14)),0)","v":0},null,0,0,0,0,0,0,null,0,0,0,0,0,0,null,0,0,0,0,0,null,{"$f":"IF(OR(Y893+1>(IF(AND(Simulador!$C$9<Simulador!$C$10,OR(Simulador!$E$7=\"Resgate\",Simulador!$E$7=\"Portabilidade\")),Simulador!$C$9,Simulador!$C$10)-Simulador!$C$8)*12,Y893=0),0,Y893+1)","v":0},{"$f":"IF($Y894=0,0,Z893*(1+Simulador!$D$34)+E894+L894)","v":0},{"$f":"IF($Y894=0,0,AA893*(1+Simulador!$D$34)+S894)","v":0},{"$f":"IF(OR(AB893+1>(IF(AND(Simulador!$C$9<Simulador!$C$10,OR(Simulador!$E$7=\"Resgate\",Simulador!$E$7=\"Portabilidade\")),Simulador!$C$9,Simulador!$C$50)-Simulador!$C$8)*12,AB893=0),0,AB893+1)","v":0},{"$f":"IF($AB894=0,0,AC893*(1+Simulador!$D$34)+F894+M894)","v":0},{"$f":"IF($AB894=0,0,AD893*(1+Simulador!$D$34)+T894)","v":0}]
[{"$f":"IF(OR(A894+1>(IF(Simulador!$E$7=\"Autopatrocínio\",Simulador!$C$10,Simulador!$C$9)-Simulador!$C$8)*12,A894=0),0,A894+1)","v":0},{"$f":"IF($A895=0,0,IF(INT($A894/12)-$A894/12=0,B894*(1+Simulador!$C$35),B894))","v":0},{"$f":"MAX(IF(A895=0,0,B895-IF(Simulador!$C$11=\"Individual\",0,Simulador!$C$14)),0)","v":0},null,0,0,0,0,0,0,null,0,0,0,0,0,0,null,0,0,0,0,0,null,{"$f":"IF(OR(Y894+1>(IF(AND(Simulador!$C$9<Simulador!$C$10,OR(Simulador!$E$7=\"Resgate\",Simulador!$E$7=\"Portabilidade\")),Simulador!$C$9,Simulador!$C$10)-Simulador!$C$8)*12,Y894=0),0,Y894+1)","v":0},{"$f":"IF($Y895=0,0,Z894*(1+Simulador!$D$34)+E895+L895)","v":0},{"$f":"IF($Y895=0,0,AA894*(1+Simulador!$D$34)+S895)","v":0},{"$f":"IF(OR(AB894+1>(IF(AND(Simulador!$C$9<Simulador!$C$10,OR(Simulador!$E$7=\"Resgate\",Simulador!$E$7=\"Portabilidade\")),Simulador!$C$9,Simulador!$C$50)-Simulador!$C$8)*12,AB894=0),0,AB894+1)","v":0},{"$f":"IF($AB895=0,0,AC894*(1+Simulador!$D$34)+F895+M895)","v":0},{"$f":"IF($AB895=0,0,AD894*(1+Simulador!$D$34)+T895)","v":0}]
[{"$f":"IF(OR(A895+1>(IF(Simulador!$E$7=\"Autopatrocínio\",Simulador!$C$10,Simulador!$C$9)-Simulador!$C$8)*12,A895=0),0,A895+1)","v":0},{"$f":"IF($A896=0,0,IF(INT($A895/12)-$A895/12=0,B895*(1+Simulador!$C$35),B895))","v":0},{"$f":"MAX(IF(A896=0,0,B896-IF(Simulador!$C$11=\"Individual\",0,Simulador!$C$14)),0)","v":0},null,0,0,0,0,0,0,null,0,0,0,0,0,0,null,0,0,0,0,0,null,{"$f":"IF(OR(Y895+1>(IF(AND(Simulador!$C$9<Simulador!$C$10,OR(Simulador!$E$7=\"Resgate\",Simulador!$E$7=\"Portabilidade\")),Simulador!$C$9,Simulador!$C$10)-Simulador!$C$8)*12,Y895=0),0,Y895+1)","v":0},{"$f":"IF($Y896=0,0,Z895*(1+Simulador!$D$34)+E896+L896)","v":0},{"$f":"IF($Y896=0,0,AA895*(1+Simulador!$D$34)+S896)","v":0},{"$f":"IF(OR(AB895+1>(IF(AND(Simulador!$C$9<Simulador!$C$10,OR(Simulador!$E$7=\"Resgate\",Simulador!$E$7=\"Portabilidade\")),Simulador!$C$9,Simulador!$C$50)-Simulador!$C$8)*12,AB895=0),0,AB895+1)","v":0},{"$f":"IF($AB896=0,0,AC895*(1+Simulador!$D$34)+F896+M896)","v":0},{"$f":"IF($AB896=0,0,AD895*(1+Simulador!$D$34)+T896)","v":0}]
[{"$f":"IF(OR(A896+1>(IF(Simulador!$E$7=\"Autopatrocínio\",Simulador!$C$10,Simulador!$C$9)-Simulador!$C$8)*12,A896=0),0,A896+1)","v":0},{"$f":"IF($A897=0,0,IF(INT($A896/12)-$A896/12=0,B896*(1+Simulador!$C$35),B896))","v":0},{"$f":"MAX(IF(A897=0,0,B897-IF(Simulador!$C$11=\"Individual\",0,Simulador!$C$14)),0)","v":0},null,0,0,0,0,0,0,null,0,0,0,0,0,0,null,0,0,0,0,0,null,{"$f":"IF(OR(Y896+1>(IF(AND(Simulador!$C$9<Simulador!$C$10,OR(Simulador!$E$7=\"Resgate\",Simulador!$E$7=\"Portabilidade\")),Simulador!$C$9,Simulador!$C$10)-Simulador!$C$8)*12,Y896=0),0,Y896+1)","v":0},{"$f":"IF($Y897=0,0,Z896*(1+Simulador!$D$34)+E897+L897)","v":0},{"$f":"IF($Y897=0,0,AA896*(1+Simulador!$D$34)+S897)","v":0},{"$f":"IF(OR(AB896+1>(IF(AND(Simulador!$C$9<Simulador!$C$10,OR(Simulador!$E$7=\"Resgate\",Simulador!$E$7=\"Portabilidade\")),Simulador!$C$9,Simulador!$C$50)-Simulador!$C$8)*12,AB896=0),0,AB896+1)","v":0},{"$f":"IF($AB897=0,0,AC896*(1+Simulador!$D$34)+F897+M897)","v":0},{"$f":"IF($AB897=0,0,AD896*(1+Simulador!$D$34)+T897)","v":0}]
[{"$f":"IF(OR(A897+1>(IF(Simulador!$E$7=\"Autopatrocínio\",Simulador!$C$10,Simulador!$C$9)-Simulador!$C$8)*12,A897=0),0,A897+1)","v":0},{"$f":"IF($A898=0,0,IF(INT($A897/12)-$A897/12=0,B897*(1+Simulador!$C$35),B897))","v":0},{"$f":"MAX(IF(A898=0,0,B898-IF(Simulador!$C$11=\"Individual\",0,Simulador!$C$14)),0)","v":0},null,0,0,0,0,0,0,null,0,0,0,0,0,0,null,0,0,0,0,0,null,{"$f":"IF(OR(Y897+1>(IF(AND(Simulador!$C$9<Simulador!$C$10,OR(Simulador!$E$7=\"Resgate\",Simulador!$E$7=\"Portabilidade\")),Simulador!$C$9,Simulador!$C$10)-Simulador!$C$8)*12,Y897=0),0,Y897+1)","v":0},{"$f":"IF($Y898=0,0,Z897*(1+Simulador!$D$34)+E898+L898)","v":0},{"$f":"IF($Y898=0,0,AA897*(1+Simulador!$D$34)+S898)","v":0},{"$f":"IF(OR(AB897+1>(IF(AND(Simulador!$C$9<Simulador!$C$10,OR(Simulador!$E$7=\"Resgate\",Simulador!$E$7=\"Portabilidade\")),Simulador!$C$9,Simulador!$C$50)-Simulador!$C$8)*12,AB897=0),0,AB897+1)","v":0},{"$f":"IF($AB898=0,0,AC897*(1+Simulador!$D$34)+F898+M898)","v":0},{"$f":"IF($AB898=0,0,AD897*(1+Simulador!$D$34)+T898)","v":0}]
[{"$f":"IF(OR(A898+1>(IF(Simulador!$E$7=\"Autopatrocínio\",Simulador!$C$10,Simulador!$C$9)-Simulador!$C$8)*12,A898=0),0,A898+1)","v":0},{"$f":"IF($A899=0,0,IF(INT($A898/12)-$A898/12=0,B898*(1+Simulador!$C$35),B898))","v":0},{"$f":"MAX(IF(A899=0,0,B899-IF(Simulador!$C$11=\"Individual\",0,Simulador!$C$14)),0)","v":0},null,0,0,0,0,0,0,null,0,0,0,0,0,0,null,0,0,0,0,0,null,{"$f":"IF(OR(Y898+1>(IF(AND(Simulador!$C$9<Simulador!$C$10,OR(Simulador!$E$7=\"Resgate\",Simulador!$E$7=\"Portabilidade\")),Simulador!$C$9,Simulador!$C$10)-Simulador!$C$8)*12,Y898=0),0,Y898+1)","v":0},{"$f":"IF($Y899=0,0,Z898*(1+Simulador!$D$34)+E899+L899)","v":0},{"$f":"IF($Y899=0,0,AA898*(1+Simulador!$D$34)+S899)","v":0},{"$f":"IF(OR(AB898+1>(IF(AND(Simulador!$C$9<Simulador!$C$10,OR(Simulador!$E$7=\"Resgate\",Simulador!$E$7=\"Portabilidade\")),Simulador!$C$9,Simulador!$C$50)-Simulador!$C$8)*12,AB898=0),0,AB898+1)","v":0},{"$f":"IF($AB899=0,0,AC898*(1+Simulador!$D$34)+F899+M899)","v":0},{"$f":"IF($AB899=0,0,AD898*(1+Simulador!$D$34)+T899)","v":0}]
[{"$f":"IF(OR(A899+1>(IF(Simulador!$E$7=\"Autopatrocínio\",Simulador!$C$10,Simulador!$C$9)-Simulador!$C$8)*12,A899=0),0,A899+1)","v":0},{"$f":"IF($A900=0,0,IF(INT($A899/12)-$A899/12=0,B899*(1+Simulador!$C$35),B899))","v":0},{"$f":"MAX(IF(A900=0,0,B900-IF(Simulador!$C$11=\"Individual\",0,Simulador!$C$14)),0)","v":0},null,0,0,0,0,0,0,null,0,0,0,0,0,0,null,0,0,0,0,0,null,{"$f":"IF(OR(Y899+1>(IF(AND(Simulador!$C$9<Simulador!$C$10,OR(Simulador!$E$7=\"Resgate\",Simulador!$E$7=\"Portabilidade\")),Simulador!$C$9,Simulador!$C$10)-Simulador!$C$8)*12,Y899=0),0,Y899+1)","v":0},{"$f":"IF($Y900=0,0,Z899*(1+Simulador!$D$34)+E900+L900)","v":0},{"$f":"IF($Y900=0,0,AA899*(1+Simulador!$D$34)+S900)","v":0},{"$f":"IF(OR(AB899+1>(IF(AND(Simulador!$C$9<Simulador!$C$10,OR(Simulador!$E$7=\"Resgate\",Simulador!$E$7=\"Portabilidade\")),Simulador!$C$9,Simulador!$C$50)-Simulador!$C$8)*12,AB899=0),0,AB899+1)","v":0},{"$f":"IF($AB900=0,0,AC899*(1+Simulador!$D$34)+F900+M900)","v":0},{"$f":"IF($AB900=0,0,AD899*(1+Simulador!$D$34)+T900)","v":0}]
[{"$f":"IF(OR(A900+1>(IF(Simulador!$E$7=\"Autopatrocínio\",Simulador!$C$10,Simulador!$C$9)-Simulador!$C$8)*12,A900=0),0,A900+1)","v":0},{"$f":"IF($A901=0,0,IF(INT($A900/12)-$A900/12=0,B900*(1+Simulador!$C$35),B900))","v":0},{"$f":"MAX(IF(A901=0,0,B901-IF(Simulador!$C$11=\"Individual\",0,Simulador!$C$14)),0)","v":0},null,0,0,0,0,0,{"$f":"IF($A901=0,0,IF(INT($A901/12)-$A901/12=0,1,0))","v":0},null,0,0,0,0,0,{"$f":"IF($A901=0,0,IF($Q$4=\"Mensal\",1,IF($Q$4=\"Semestral\",IF(INT(($A901+5)/6)-($A901+5)/6=0,1,0),IF($Q$4=\"Anual\",IF(INT(($A901+11)/12)-($A901+11)/12=0,1,0)))))","v":0},null,0,0,0,0,0,null,{"$f":"IF(OR(Y900+1>(IF(AND(Simulador!$C$9<Simulador!$C$10,OR(Simulador!$E$7=\"Resgate\",Simulador!$E$7=\"Portabilidade\")),Simulador!$C$9,Simulador!$C$10)-Simulador!$C$8)*12,Y900=0),0,Y900+1)","v":0},{"$f":"IF($Y901=0,0,Z900*(1+Simulador!$D$34)+E901+L901)","v":0},{"$f":"IF($Y901=0,0,AA900*(1+Simulador!$D$34)+S901)","v":0},{"$f":"IF(OR(AB900+1>(IF(AND(Simulador!$C$9<Simulador!$C$10,OR(Simulador!$E$7=\"Resgate\",Simulador!$E$7=\"Portabilidade\")),Simulador!$C$9,Simulador!$C$50)-Simulador!$C$8)*12,AB900=0),0,AB900+1)","v":0},{"$f":"IF($AB901=0,0,AC900*(1+Simulador!$D$34)+F901+M901)","v":0},{"$f":"IF($AB901=0,0,AD900*(1+Simulador!$D$34)+T901)","v":0}]
[{"$f":"IF(OR(A901+1>(IF(Simulador!$E$7=\"Autopatrocínio\",Simulador!$C$10,Simulador!$C$9)-Simulador!$C$8)*12,A901=0),0,A901+1)","v":0},{"$f":"IF($A902=0,0,IF(INT($A901/12)-$A901/12=0,B901*(1+Simulador!$C$35),B901))","v":0},{"$f":"MAX(IF(A902=0,0,B902-IF(Simulador!$C$11=\"Individual\",0,Simulador!$C$14)),0)","v":0},null,0,0,0,0,0,0,null,0,0,0,0,0,0,null,0,0,0,0,0,null,{"$f":"IF(OR(Y901+1>(IF(AND(Simulador!$C$9<Simulador!$C$10,OR(Simulador!$E$7=\"Resgate\",Simulador!$E$7=\"Portabilidade\")),Simulador!$C$9,Simulador!$C$10)-Simulador!$C$8)*12,Y901=0),0,Y901+1)","v":0},{"$f":"IF($Y902=0,0,Z901*(1+Simulador!$D$34)+E902+L902)","v":0},{"$f":"IF($Y902=0,0,AA901*(1+Simulador!$D$34)+S902)","v":0},{"$f":"IF(OR(AB901+1>(IF(AND(Simulador!$C$9<Simulador!$C$10,OR(Simulador!$E$7=\"Resgate\",Simulador!$E$7=\"Portabilidade\")),Simulador!$C$9,Simulador!$C$50)-Simulador!$C$8)*12,AB901=0),0,AB901+1)","v":0},{"$f":"IF($AB902=0,0,AC901*(1+Simulador!$D$34)+F902+M902)","v":0},{"$f":"IF($AB902=0,0,AD901*(1+Simulador!$D$34)+T902)","v":0}]
[{"$f":"IF(OR(A902+1>(IF(Simulador!$E$7=\"Autopatrocínio\",Simulador!$C$10,Simulador!$C$9)-Simulador!$C$8)*12,A902=0),0,A902+1)","v":0},{"$f":"IF($A903=0,0,IF(INT($A902/12)-$A902/12=0,B902*(1+Simulador!$C$35),B902))","v":0},{"$f":"MAX(IF(A903=0,0,B903-IF(Simulador!$C$11=\"Individual\",0,Simulador!$C$14)),0)","v":0},null,0,0,0,0,0,0,null,0,0,0,0,0,0,null,0,0,0,0,0,null,{"$f":"IF(OR(Y902+1>(IF(AND(Simulador!$C$9<Simulador!$C$10,OR(Simulador!$E$7=\"Resgate\",Simulador!$E$7=\"Portabilidade\")),Simulador!$C$9,Simulador!$C$10)-Simulador!$C$8)*12,Y902=0),0,Y902+1)","v":0},{"$f":"IF($Y903=0,0,Z902*(1+Simulador!$D$34)+E903+L903)","v":0},{"$f":"IF($Y903=0,0,AA902*(1+Simulador!$D$34)+S903)","v":0},{"$f":"IF(OR(AB902+1>(IF(AND(Simulador!$C$9<Simulador!$C$10,OR(Simulador!$E$7=\"Resgate\",Simulador!$E$7=\"Portabilidade\")),Simulador!$C$9,Simulador!$C$50)-Simulador!$C$8)*12,AB902=0),0,AB902+1)","v":0},{"$f":"IF($AB903=0,0,AC902*(1+Simulador!$D$34)+F903+M903)","v":0},{"$f":"IF($AB903=0,0,AD902*(1+Simulador!$D$34)+T903)","v":0}]
[{"$f":"IF(OR(A903+1>(IF(Simulador!$E$7=\"Autopatrocínio\",Simulador!$C$10,Simulador!$C$9)-Simulador!$C$8)*12,A903=0),0,A903+1)","v":0},{"$f":"IF($A904=0,0,IF(INT($A903/12)-$A903/12=0,B903*(1+Simulador!$C$35),B903))","v":0},{"$f":"MAX(IF(A904=0,0,B904-IF(Simulador!$C$11=\"Individual\",0,Simulador!$C$14)),0)","v":0},null,0,0,0,0,0,0,null,0,0,0,0,0,0,null,0,0,0,0,0,null,{"$f":"IF(OR(Y903+1>(IF(AND(Simulador!$C$9<Simulador!$C$10,OR(Simulador!$E$7=\"Resgate\",Simulador!$E$7=\"Portabilidade\")),Simulador!$C$9,Simulador!$C$10)-Simulador!$C$8)*12,Y903=0),0,Y903+1)","v":0},{"$f":"IF($Y904=0,0,Z903*(1+Simulador!$D$34)+E904+L904)","v":0},{"$f":"IF($Y904=0,0,AA903*(1+Simulador!$D$34)+S904)","v":0},{"$f":"IF(OR(AB903+1>(IF(AND(Simulador!$C$9<Simulador!$C$10,OR(Simulador!$E$7=\"Resgate\",Simulador!$E$7=\"Portabilidade\")),Simulador!$C$9,Simulador!$C$50)-Simulador!$C$8)*12,AB903=0),0,AB903+1)","v":0},{"$f":"IF($AB904=0,0,AC903*(1+Simulador!$D$34)+F904+M904)","v":0},{"$f":"IF($AB904=0,0,AD903*(1+Simulador!$D$34)+T904)","v":0}]
[{"$f":"IF(OR(A904+1>(IF(Simulador!$E$7=\"Autopatrocínio\",Simulador!$C$10,Simulador!$C$9)-Simulador!$C$8)*12,A904=0),0,A904+1)","v":0},{"$f":"IF($A905=0,0,IF(INT($A904/12)-$A904/12=0,B904*(1+Simulador!$C$35),B904))","v":0},{"$f":"MAX(IF(A905=0,0,B905-IF(Simulador!$C$11=\"Individual\",0,Simulador!$C$14)),0)","v":0},null,0,0,0,0,0,0,null,0,0,0,0,0,0,null,0,0,0,0,0,null,{"$f":"IF(OR(Y904+1>(IF(AND(Simulador!$C$9<Simulador!$C$10,OR(Simulador!$E$7=\"Resgate\",Simulador!$E$7=\"Portabilidade\")),Simulador!$C$9,Simulador!$C$10)-Simulador!$C$8)*12,Y904=0),0,Y904+1)","v":0},{"$f":"IF($Y905=0,0,Z904*(1+Simulador!$D$34)+E905+L905)","v":0},{"$f":"IF($Y905=0,0,AA904*(1+Simulador!$D$34)+S905)","v":0},{"$f":"IF(OR(AB904+1>(IF(AND(Simulador!$C$9<Simulador!$C$10,OR(Simulador!$E$7=\"Resgate\",Simulador!$E$7=\"Portabilidade\")),Simulador!$C$9,Simulador!$C$50)-Simulador!$C$8)*12,AB904=0),0,AB904+1)","v":0},{"$f":"IF($AB905=0,0,AC904*(1+Simulador!$D$34)+F905+M905)","v":0},{"$f":"IF($AB905=0,0,AD904*(1+Simulador!$D$34)+T905)","v":0}]
[{"$f":"IF(OR(A905+1>(IF(Simulador!$E$7=\"Autopatrocínio\",Simulador!$C$10,Simulador!$C$9)-Simulador!$C$8)*12,A905=0),0,A905+1)","v":0},{"$f":"IF($A906=0,0,IF(INT($A905/12)-$A905/12=0,B905*(1+Simulador!$C$35),B905))","v":0},{"$f":"MAX(IF(A906=0,0,B906-IF(Simulador!$C$11=\"Individual\",0,Simulador!$C$14)),0)","v":0},null,0,0,0,0,0,0,null,0,0,0,0,0,0,null,0,0,0,0,0,null,{"$f":"IF(OR(Y905+1>(IF(AND(Simulador!$C$9<Simulador!$C$10,OR(Simulador!$E$7=\"Resgate\",Simulador!$E$7=\"Portabilidade\")),Simulador!$C$9,Simulador!$C$10)-Simulador!$C$8)*12,Y905=0),0,Y905+1)","v":0},{"$f":"IF($Y906=0,0,Z905*(1+Simulador!$D$34)+E906+L906)","v":0},{"$f":"IF($Y906=0,0,AA905*(1+Simulador!$D$34)+S906)","v":0},{"$f":"IF(OR(AB905+1>(IF(AND(Simulador!$C$9<Simulador!$C$10,OR(Simulador!$E$7=\"Resgate\",Simulador!$E$7=\"Portabilidade\")),Simulador!$C$9,Simulador!$C$50)-Simulador!$C$8)*12,AB905=0),0,AB905+1)","v":0},{"$f":"IF($AB906=0,0,AC905*(1+Simulador!$D$34)+F906+M906)","v":0},{"$f":"IF($AB906=0,0,AD905*(1+Simulador!$D$34)+T906)","v":0}]
[{"$f":"IF(OR(A906+1>(IF(Simulador!$E$7=\"Autopatrocínio\",Simulador!$C$10,Simulador!$C$9)-Simulador!$C$8)*12,A906=0),0,A906+1)","v":0},{"$f":"IF($A907=0,0,IF(INT($A906/12)-$A906/12=0,B906*(1+Simulador!$C$35),B906))","v":0},{"$f":"MAX(IF(A907=0,0,B907-IF(Simulador!$C$11=\"Individual\",0,Simulador!$C$14)),0)","v":0},null,0,0,0,0,0,0,null,0,0,0,0,0,0,null,0,0,0,0,0,null,{"$f":"IF(OR(Y906+1>(IF(AND(Simulador!$C$9<Simulador!$C$10,OR(Simulador!$E$7=\"Resgate\",Simulador!$E$7=\"Portabilidade\")),Simulador!$C$9,Simulador!$C$10)-Simulador!$C$8)*12,Y906=0),0,Y906+1)","v":0},{"$f":"IF($Y907=0,0,Z906*(1+Simulador!$D$34)+E907+L907)","v":0},{"$f":"IF($Y907=0,0,AA906*(1+Simulador!$D$34)+S907)","v":0},{"$f":"IF(OR(AB906+1>(IF(AND(Simulador!$C$9<Simulador!$C$10,OR(Simulador!$E$7=\"Resgate\",Simulador!$E$7=\"Portabilidade\")),Simulador!$C$9,Simulador!$C$50)-Simulador!$C$8)*12,AB906=0),0,AB906+1)","v":0},{"$f":"IF($AB907=0,0,AC906*(1+Simulador!$D$34)+F907+M907)","v":0},{"$f":"IF($AB907=0,0,AD906*(1+Simulador!$D$34)+T907)","v":0}]
[{"$f":"IF(OR(A907+1>(IF(Simulador!$E$7=\"Autopatrocínio\",Simulador!$C$10,Simulador!$C$9)-Simulador!$C$8)*12,A907=0),0,A907+1)","v":0},{"$f":"IF($A908=0,0,IF(INT($A907/12)-$A907/12=0,B907*(1+Simulador!$C$35),B907))","v":0},{"$f":"MAX(IF(A908=0,0,B908-IF(Simulador!$C$11=\"Individual\",0,Simulador!$C$14)),0)","v":0},null,0,0,0,0,0,0,null,0,0,0,0,0,0,null,0,0,0,0,0,null,{"$f":"IF(OR(Y907+1>(IF(AND(Simulador!$C$9<Simulador!$C$10,OR(Simulador!$E$7=\"Resgate\",Simulador!$E$7=\"Portabilidade\")),Simulador!$C$9,Simulador!$C$10)-Simulador!$C$8)*12,Y907=0),0,Y907+1)","v":0},{"$f":"IF($Y908=0,0,Z907*(1+Simulador!$D$34)+E908+L908)","v":0},{"$f":"IF($Y908=0,0,AA907*(1+Simulador!$D$34)+S908)","v":0},{"$f":"IF(OR(AB907+1>(IF(AND(Simulador!$C$9<Simulador!$C$10,OR(Simulador!$E$7=\"Resgate\",Simulador!$E$7=\"Portabilidade\")),Simulador!$C$9,Simulador!$C$50)-Simulador!$C$8)*12,AB907=0),0,AB907+1)","v":0},{"$f":"IF($AB908=0,0,AC907*(1+Simulador!$D$34)+F908+M908)","v":0},{"$f":"IF($AB908=0,0,AD907*(1+Simulador!$D$34)+T908)","v":0}]
[{"$f":"IF(OR(A908+1>(IF(Simulador!$E$7=\"Autopatrocínio\",Simulador!$C$10,Simulador!$C$9)-Simulador!$C$8)*12,A908=0),0,A908+1)","v":0},{"$f":"IF($A909=0,0,IF(INT($A908/12)-$A908/12=0,B908*(1+Simulador!$C$35),B908))","v":0},{"$f":"MAX(IF(A909=0,0,B909-IF(Simulador!$C$11=\"Individual\",0,Simulador!$C$14)),0)","v":0},null,0,0,0,0,0,0,null,0,0,0,0,0,0,null,0,0,0,0,0,null,{"$f":"IF(OR(Y908+1>(IF(AND(Simulador!$C$9<Simulador!$C$10,OR(Simulador!$E$7=\"Resgate\",Simulador!$E$7=\"Portabilidade\")),Simulador!$C$9,Simulador!$C$10)-Simulador!$C$8)*12,Y908=0),0,Y908+1)","v":0},{"$f":"IF($Y909=0,0,Z908*(1+Simulador!$D$34)+E909+L909)","v":0},{"$f":"IF($Y909=0,0,AA908*(1+Simulador!$D$34)+S909)","v":0},{"$f":"IF(OR(AB908+1>(IF(AND(Simulador!$C$9<Simulador!$C$10,OR(Simulador!$E$7=\"Resgate\",Simulador!$E$7=\"Portabilidade\")),Simulador!$C$9,Simulador!$C$50)-Simulador!$C$8)*12,AB908=0),0,AB908+1)","v":0},{"$f":"IF($AB909=0,0,AC908*(1+Simulador!$D$34)+F909+M909)","v":0},{"$f":"IF($AB909=0,0,AD908*(1+Simulador!$D$34)+T909)","v":0}]
[{"$f":"IF(OR(A909+1>(IF(Simulador!$E$7=\"Autopatrocínio\",Simulador!$C$10,Simulador!$C$9)-Simulador!$C$8)*12,A909=0),0,A909+1)","v":0},{"$f":"IF($A910=0,0,IF(INT($A909/12)-$A909/12=0,B909*(1+Simulador!$C$35),B909))","v":0},{"$f":"MAX(IF(A910=0,0,B910-IF(Simulador!$C$11=\"Individual\",0,Simulador!$C$14)),0)","v":0},null,0,0,0,0,0,0,null,0,0,0,0,0,0,null,0,0,0,0,0,null,{"$f":"IF(OR(Y909+1>(IF(AND(Simulador!$C$9<Simulador!$C$10,OR(Simulador!$E$7=\"Resgate\",Simulador!$E$7=\"Portabilidade\")),Simulador!$C$9,Simulador!$C$10)-Simulador!$C$8)*12,Y909=0),0,Y909+1)","v":0},{"$f":"IF($Y910=0,0,Z909*(1+Simulador!$D$34)+E910+L910)","v":0},{"$f":"IF($Y910=0,0,AA909*(1+Simulador!$D$34)+S910)","v":0},{"$f":"IF(OR(AB909+1>(IF(AND(Simulador!$C$9<Simulador!$C$10,OR(Simulador!$E$7=\"Resgate\",Simulador!$E$7=\"Portabilidade\")),Simulador!$C$9,Simulador!$C$50)-Simulador!$C$8)*12,AB909=0),0,AB909+1)","v":0},{"$f":"IF($AB910=0,0,AC909*(1+Simulador!$D$34)+F910+M910)","v":0},{"$f":"IF($AB910=0,0,AD909*(1+Simulador!$D$34)+T910)","v":0}]
[{"$f":"IF(OR(A910+1>(IF(Simulador!$E$7=\"Autopatrocínio\",Simulador!$C$10,Simulador!$C$9)-Simulador!$C$8)*12,A910=0),0,A910+1)","v":0},{"$f":"IF($A911=0,0,IF(INT($A910/12)-$A910/12=0,B910*(1+Simulador!$C$35),B910))","v":0},{"$f":"MAX(IF(A911=0,0,B911-IF(Simulador!$C$11=\"Individual\",0,Simulador!$C$14)),0)","v":0},null,0,0,0,0,0,0,null,0,0,0,0,0,0,null,0,0,0,0,0,null,{"$f":"IF(OR(Y910+1>(IF(AND(Simulador!$C$9<Simulador!$C$10,OR(Simulador!$E$7=\"Resgate\",Simulador!$E$7=\"Portabilidade\")),Simulador!$C$9,Simulador!$C$10)-Simulador!$C$8)*12,Y910=0),0,Y910+1)","v":0},{"$f":"IF($Y911=0,0,Z910*(1+Simulador!$D$34)+E911+L911)","v":0},{"$f":"IF($Y911=0,0,AA910*(1+Simulador!$D$34)+S911)","v":0},{"$f":"IF(OR(AB910+1>(IF(AND(Simulador!$C$9<Simulador!$C$10,OR(Simulador!$E$7=\"Resgate\",Simulador!$E$7=\"Portabilidade\")),Simulador!$C$9,Simulador!$C$50)-Simulador!$C$8)*12,AB910=0),0,AB910+1)","v":0},{"$f":"IF($AB911=0,0,AC910*(1+Simulador!$D$34)+F911+M911)","v":0},{"$f":"IF($AB911=0,0,AD910*(1+Simulador!$D$34)+T911)","v":0}]
[{"$f":"IF(OR(A911+1>(IF(Simulador!$E$7=\"Autopatrocínio\",Simulador!$C$10,Simulador!$C$9)-Simulador!$C$8)*12,A911=0),0,A911+1)","v":0},{"$f":"IF($A912=0,0,IF(INT($A911/12)-$A911/12=0,B911*(1+Simulador!$C$35),B911))","v":0},{"$f":"MAX(IF(A912=0,0,B912-IF(Simulador!$C$11=\"Individual\",0,Simulador!$C$14)),0)","v":0},null,0,0,0,0,0,0,null,0,0,0,0,0,0,null,0,0,0,0,0,null,{"$f":"IF(OR(Y911+1>(IF(AND(Simulador!$C$9<Simulador!$C$10,OR(Simulador!$E$7=\"Resgate\",Simulador!$E$7=\"Portabilidade\")),Simulador!$C$9,Simulador!$C$10)-Simulador!$C$8)*12,Y911=0),0,Y911+1)","v":0},{"$f":"IF($Y912=0,0,Z911*(1+Simulador!$D$34)+E912+L912)","v":0},{"$f":"IF($Y912=0,0,AA911*(1+Simulador!$D$34)+S912)","v":0},{"$f":"IF(OR(AB911+1>(IF(AND(Simulador!$C$9<Simulador!$C$10,OR(Simulador!$E$7=\"Resgate\",Simulador!$E$7=\"Portabilidade\")),Simulador!$C$9,Simulador!$C$50)-Simulador!$C$8)*12,AB911=0),0,AB911+1)","v":0},{"$f":"IF($AB912=0,0,AC911*(1+Simulador!$D$34)+F912+M912)","v":0},{"$f":"IF($AB912=0,0,AD911*(1+Simulador!$D$34)+T912)","v":0}]
[{"$f":"IF(OR(A912+1>(IF(Simulador!$E$7=\"Autopatrocínio\",Simulador!$C$10,Simulador!$C$9)-Simulador!$C$8)*12,A912=0),0,A912+1)","v":0},{"$f":"IF($A913=0,0,IF(INT($A912/12)-$A912/12=0,B912*(1+Simulador!$C$35),B912))","v":0},{"$f":"MAX(IF(A913=0,0,B913-IF(Simulador!$C$11=\"Individual\",0,Simulador!$C$14)),0)","v":0},null,0,0,0,0,0,0,null,0,0,0,0,0,0,null,0,0,0,0,0,null,{"$f":"IF(OR(Y912+1>(IF(AND(Simulador!$C$9<Simulador!$C$10,OR(Simulador!$E$7=\"Resgate\",Simulador!$E$7=\"Portabilidade\")),Simulador!$C$9,Simulador!$C$10)-Simulador!$C$8)*12,Y912=0),0,Y912+1)","v":0},{"$f":"IF($Y913=0,0,Z912*(1+Simulador!$D$34)+E913+L913)","v":0},{"$f":"IF($Y913=0,0,AA912*(1+Simulador!$D$34)+S913)","v":0},{"$f":"IF(OR(AB912+1>(IF(AND(Simulador!$C$9<Simulador!$C$10,OR(Simulador!$E$7=\"Resgate\",Simulador!$E$7=\"Portabilidade\")),Simulador!$C$9,Simulador!$C$50)-Simulador!$C$8)*12,AB912=0),0,AB912+1)","v":0},{"$f":"IF($AB913=0,0,AC912*(1+Simulador!$D$34)+F913+M913)","v":0},{"$f":"IF($AB913=0,0,AD912*(1+Simulador!$D$34)+T913)","v":0}]
[{"$f":"IF(OR(A913+1>(IF(Simulador!$E$7=\"Autopatrocínio\",Simulador!$C$10,Simulador!$C$9)-Simulador!$C$8)*12,A913=0),0,A913+1)","v":0},{"$f":"IF($A914=0,0,IF(INT($A913/12)-$A913/12=0,B913*(1+Simulador!$C$35),B913))","v":0},{"$f":"MAX(IF(A914=0,0,B914-IF(Simulador!$C$11=\"Individual\",0,Simulador!$C$14)),0)","v":0},null,0,0,0,0,0,0,null,0,0,0,0,0,0,null,0,0,0,0,0,null,{"$f":"IF(OR(Y913+1>(IF(AND(Simulador!$C$9<Simulador!$C$10,OR(Simulador!$E$7=\"Resgate\",Simulador!$E$7=\"Portabilidade\")),Simulador!$C$9,Simulador!$C$10)-Simulador!$C$8)*12,Y913=0),0,Y913+1)","v":0},{"$f":"IF($Y914=0,0,Z913*(1+Simulador!$D$34)+E914+L914)","v":0},{"$f":"IF($Y914=0,0,AA913*(1+Simulador!$D$34)+S914)","v":0},{"$f":"IF(OR(AB913+1>(IF(AND(Simulador!$C$9<Simulador!$C$10,OR(Simulador!$E$7=\"Resgate\",Simulador!$E$7=\"Portabilidade\")),Simulador!$C$9,Simulador!$C$50)-Simulador!$C$8)*12,AB913=0),0,AB913+1)","v":0},{"$f":"IF($AB914=0,0,AC913*(1+Simulador!$D$34)+F914+M914)","v":0},{"$f":"IF($AB914=0,0,AD913*(1+Simulador!$D$34)+T914)","v":0}]
[{"$f":"IF(OR(A914+1>(IF(Simulador!$E$7=\"Autopatrocínio\",Simulador!$C$10,Simulador!$C$9)-Simulador!$C$8)*12,A914=0),0,A914+1)","v":0},{"$f":"IF($A915=0,0,IF(INT($A914/12)-$A914/12=0,B914*(1+Simulador!$C$35),B914))","v":0},{"$f":"MAX(IF(A915=0,0,B915-IF(Simulador!$C$11=\"Individual\",0,Simulador!$C$14)),0)","v":0},null,0,0,0,0,0,0,null,0,0,0,0,0,0,null,0,0,0,0,0,null,{"$f":"IF(OR(Y914+1>(IF(AND(Simulador!$C$9<Simulador!$C$10,OR(Simulador!$E$7=\"Resgate\",Simulador!$E$7=\"Portabilidade\")),Simulador!$C$9,Simulador!$C$10)-Simulador!$C$8)*12,Y914=0),0,Y914+1)","v":0},{"$f":"IF($Y915=0,0,Z914*(1+Simulador!$D$34)+E915+L915)","v":0},{"$f":"IF($Y915=0,0,AA914*(1+Simulador!$D$34)+S915)","v":0},{"$f":"IF(OR(AB914+1>(IF(AND(Simulador!$C$9<Simulador!$C$10,OR(Simulador!$E$7=\"Resgate\",Simulador!$E$7=\"Portabilidade\")),Simulador!$C$9,Simulador!$C$50)-Simulador!$C$8)*12,AB914=0),0,AB914+1)","v":0},{"$f":"IF($AB915=0,0,AC914*(1+Simulador!$D$34)+F915+M915)","v":0},{"$f":"IF($AB915=0,0,AD914*(1+Simulador!$D$34)+T915)","v":0}]
[{"$f":"IF(OR(A915+1>(IF(Simulador!$E$7=\"Autopatrocínio\",Simulador!$C$10,Simulador!$C$9)-Simulador!$C$8)*12,A915=0),0,A915+1)","v":0},{"$f":"IF($A916=0,0,IF(INT($A915/12)-$A915/12=0,B915*(1+Simulador!$C$35),B915))","v":0},{"$f":"MAX(IF(A916=0,0,B916-IF(Simulador!$C$11=\"Individual\",0,Simulador!$C$14)),0)","v":0},null,0,0,0,0,0,0,null,0,0,0,0,0,0,null,0,0,0,0,0,null,{"$f":"IF(OR(Y915+1>(IF(AND(Simulador!$C$9<Simulador!$C$10,OR(Simulador!$E$7=\"Resgate\",Simulador!$E$7=\"Portabilidade\")),Simulador!$C$9,Simulador!$C$10)-Simulador!$C$8)*12,Y915=0),0,Y915+1)","v":0},{"$f":"IF($Y916=0,0,Z915*(1+Simulador!$D$34)+E916+L916)","v":0},{"$f":"IF($Y916=0,0,AA915*(1+Simulador!$D$34)+S916)","v":0},{"$f":"IF(OR(AB915+1>(IF(AND(Simulador!$C$9<Simulador!$C$10,OR(Simulador!$E$7=\"Resgate\",Simulador!$E$7=\"Portabilidade\")),Simulador!$C$9,Simulador!$C$50)-Simulador!$C$8)*12,AB915=0),0,AB915+1)","v":0},{"$f":"IF($AB916=0,0,AC915*(1+Simulador!$D$34)+F916+M916)","v":0},{"$f":"IF($AB916=0,0,AD915*(1+Simulador!$D$34)+T916)","v":0}]
[{"$f":"IF(OR(A916+1>(IF(Simulador!$E$7=\"Autopatrocínio\",Simulador!$C$10,Simulador!$C$9)-Simulador!$C$8)*12,A916=0),0,A916+1)","v":0},{"$f":"IF($A917=0,0,IF(INT($A916/12)-$A916/12=0,B916*(1+Simulador!$C$35),B916))","v":0},{"$f":"MAX(IF(A917=0,0,B917-IF(Simulador!$C$11=\"Individual\",0,Simulador!$C$14)),0)","v":0},null,0,0,0,0,0,0,null,0,0,0,0,0,0,null,0,0,0,0,0,null,{"$f":"IF(OR(Y916+1>(IF(AND(Simulador!$C$9<Simulador!$C$10,OR(Simulador!$E$7=\"Resgate\",Simulador!$E$7=\"Portabilidade\")),Simulador!$C$9,Simulador!$C$10)-Simulador!$C$8)*12,Y916=0),0,Y916+1)","v":0},{"$f":"IF($Y917=0,0,Z916*(1+Simulador!$D$34)+E917+L917)","v":0},{"$f":"IF($Y917=0,0,AA916*(1+Simulador!$D$34)+S917)","v":0},{"$f":"IF(OR(AB916+1>(IF(AND(Simulador!$C$9<Simulador!$C$10,OR(Simulador!$E$7=\"Resgate\",Simulador!$E$7=\"Portabilidade\")),Simulador!$C$9,Simulador!$C$50)-Simulador!$C$8)*12,AB916=0),0,AB916+1)","v":0},{"$f":"IF($AB917=0,0,AC916*(1+Simulador!$D$34)+F917+M917)","v":0},{"$f":"IF($AB917=0,0,AD916*(1+Simulador!$D$34)+T917)","v":0}]
[{"$f":"IF(OR(A917+1>(IF(Simulador!$E$7=\"Autopatrocínio\",Simulador!$C$10,Simulador!$C$9)-Simulador!$C$8)*12,A917=0),0,A917+1)","v":0},{"$f":"IF($A918=0,0,IF(INT($A917/12)-$A917/12=0,B917*(1+Simulador!$C$35),B917))","v":0},{"$f":"MAX(IF(A918=0,0,B918-IF(Simulador!$C$11=\"Individual\",0,Simulador!$C$14)),0)","v":0},null,0,0,0,0,0,0,null,0,0,0,0,0,0,null,0,0,0,0,0,null,{"$f":"IF(OR(Y917+1>(IF(AND(Simulador!$C$9<Simulador!$C$10,OR(Simulador!$E$7=\"Resgate\",Simulador!$E$7=\"Portabilidade\")),Simulador!$C$9,Simulador!$C$10)-Simulador!$C$8)*12,Y917=0),0,Y917+1)","v":0},{"$f":"IF($Y918=0,0,Z917*(1+Simulador!$D$34)+E918+L918)","v":0},{"$f":"IF($Y918=0,0,AA917*(1+Simulador!$D$34)+S918)","v":0},{"$f":"IF(OR(AB917+1>(IF(AND(Simulador!$C$9<Simulador!$C$10,OR(Simulador!$E$7=\"Resgate\",Simulador!$E$7=\"Portabilidade\")),Simulador!$C$9,Simulador!$C$50)-Simulador!$C$8)*12,AB917=0),0,AB917+1)","v":0},{"$f":"IF($AB918=0,0,AC917*(1+Simulador!$D$34)+F918+M918)","v":0},{"$f":"IF($AB918=0,0,AD917*(1+Simulador!$D$34)+T918)","v":0}]
[{"$f":"IF(OR(A918+1>(IF(Simulador!$E$7=\"Autopatrocínio\",Simulador!$C$10,Simulador!$C$9)-Simulador!$C$8)*12,A918=0),0,A918+1)","v":0},{"$f":"IF($A919=0,0,IF(INT($A918/12)-$A918/12=0,B918*(1+Simulador!$C$35),B918))","v":0},{"$f":"MAX(IF(A919=0,0,B919-IF(Simulador!$C$11=\"Individual\",0,Simulador!$C$14)),0)","v":0},null,0,0,0,0,0,0,null,0,0,0,0,0,0,null,0,0,0,0,0,null,{"$f":"IF(OR(Y918+1>(IF(AND(Simulador!$C$9<Simulador!$C$10,OR(Simulador!$E$7=\"Resgate\",Simulador!$E$7=\"Portabilidade\")),Simulador!$C$9,Simulador!$C$10)-Simulador!$C$8)*12,Y918=0),0,Y918+1)","v":0},{"$f":"IF($Y919=0,0,Z918*(1+Simulador!$D$34)+E919+L919)","v":0},{"$f":"IF($Y919=0,0,AA918*(1+Simulador!$D$34)+S919)","v":0},{"$f":"IF(OR(AB918+1>(IF(AND(Simulador!$C$9<Simulador!$C$10,OR(Simulador!$E$7=\"Resgate\",Simulador!$E$7=\"Portabilidade\")),Simulador!$C$9,Simulador!$C$50)-Simulador!$C$8)*12,AB918=0),0,AB918+1)","v":0},{"$f":"IF($AB919=0,0,AC918*(1+Simulador!$D$34)+F919+M919)","v":0},{"$f":"IF($AB919=0,0,AD918*(1+Simulador!$D$34)+T919)","v":0}]
[{"$f":"IF(OR(A919+1>(IF(Simulador!$E$7=\"Autopatrocínio\",Simulador!$C$10,Simulador!$C$9)-Simulador!$C$8)*12,A919=0),0,A919+1)","v":0},{"$f":"IF($A920=0,0,IF(INT($A919/12)-$A919/12=0,B919*(1+Simulador!$C$35),B919))","v":0},{"$f":"MAX(IF(A920=0,0,B920-IF(Simulador!$C$11=\"Individual\",0,Simulador!$C$14)),0)","v":0},null,0,0,0,0,0,0,null,0,0,0,0,0,0,null,0,0,0,0,0,null,{"$f":"IF(OR(Y919+1>(IF(AND(Simulador!$C$9<Simulador!$C$10,OR(Simulador!$E$7=\"Resgate\",Simulador!$E$7=\"Portabilidade\")),Simulador!$C$9,Simulador!$C$10)-Simulador!$C$8)*12,Y919=0),0,Y919+1)","v":0},{"$f":"IF($Y920=0,0,Z919*(1+Simulador!$D$34)+E920+L920)","v":0},{"$f":"IF($Y920=0,0,AA919*(1+Simulador!$D$34)+S920)","v":0},{"$f":"IF(OR(AB919+1>(IF(AND(Simulador!$C$9<Simulador!$C$10,OR(Simulador!$E$7=\"Resgate\",Simulador!$E$7=\"Portabilidade\")),Simulador!$C$9,Simulador!$C$50)-Simulador!$C$8)*12,AB919=0),0,AB919+1)","v":0},{"$f":"IF($AB920=0,0,AC919*(1+Simulador!$D$34)+F920+M920)","v":0},{"$f":"IF($AB920=0,0,AD919*(1+Simulador!$D$34)+T920)","v":0}]
[{"$f":"IF(OR(A920+1>(IF(Simulador!$E$7=\"Autopatrocínio\",Simulador!$C$10,Simulador!$C$9)-Simulador!$C$8)*12,A920=0),0,A920+1)","v":0},{"$f":"IF($A921=0,0,IF(INT($A920/12)-$A920/12=0,B920*(1+Simulador!$C$35),B920))","v":0},{"$f":"MAX(IF(A921=0,0,B921-IF(Simulador!$C$11=\"Individual\",0,Simulador!$C$14)),0)","v":0},null,0,0,0,0,0,0,null,0,0,0,0,0,0,null,0,0,0,0,0,null,{"$f":"IF(OR(Y920+1>(IF(AND(Simulador!$C$9<Simulador!$C$10,OR(Simulador!$E$7=\"Resgate\",Simulador!$E$7=\"Portabilidade\")),Simulador!$C$9,Simulador!$C$10)-Simulador!$C$8)*12,Y920=0),0,Y920+1)","v":0},{"$f":"IF($Y921=0,0,Z920*(1+Simulador!$D$34)+E921+L921)","v":0},{"$f":"IF($Y921=0,0,AA920*(1+Simulador!$D$34)+S921)","v":0},{"$f":"IF(OR(AB920+1>(IF(AND(Simulador!$C$9<Simulador!$C$10,OR(Simulador!$E$7=\"Resgate\",Simulador!$E$7=\"Portabilidade\")),Simulador!$C$9,Simulador!$C$50)-Simulador!$C$8)*12,AB920=0),0,AB920+1)","v":0},{"$f":"IF($AB921=0,0,AC920*(1+Simulador!$D$34)+F921+M921)","v":0},{"$f":"IF($AB921=0,0,AD920*(1+Simulador!$D$34)+T921)","v":0}]
[{"$f":"IF(OR(A921+1>(IF(Simulador!$E$7=\"Autopatrocínio\",Simulador!$C$10,Simulador!$C$9)-Simulador!$C$8)*12,A921=0),0,A921+1)","v":0},{"$f":"IF($A922=0,0,IF(INT($A921/12)-$A921/12=0,B921*(1+Simulador!$C$35),B921))","v":0},{"$f":"MAX(IF(A922=0,0,B922-IF(Simulador!$C$11=\"Individual\",0,Simulador!$C$14)),0)","v":0},null,0,0,0,0,0,0,null,0,0,0,0,0,0,null,0,0,0,0,0,null,{"$f":"IF(OR(Y921+1>(IF(AND(Simulador!$C$9<Simulador!$C$10,OR(Simulador!$E$7=\"Resgate\",Simulador!$E$7=\"Portabilidade\")),Simulador!$C$9,Simulador!$C$10)-Simulador!$C$8)*12,Y921=0),0,Y921+1)","v":0},{"$f":"IF($Y922=0,0,Z921*(1+Simulador!$D$34)+E922+L922)","v":0},{"$f":"IF($Y922=0,0,AA921*(1+Simulador!$D$34)+S922)","v":0},{"$f":"IF(OR(AB921+1>(IF(AND(Simulador!$C$9<Simulador!$C$10,OR(Simulador!$E$7=\"Resgate\",Simulador!$E$7=\"Portabilidade\")),Simulador!$C$9,Simulador!$C$50)-Simulador!$C$8)*12,AB921=0),0,AB921+1)","v":0},{"$f":"IF($AB922=0,0,AC921*(1+Simulador!$D$34)+F922+M922)","v":0},{"$f":"IF($AB922=0,0,AD921*(1+Simulador!$D$34)+T922)","v":0}]
[{"$f":"IF(OR(A922+1>(IF(Simulador!$E$7=\"Autopatrocínio\",Simulador!$C$10,Simulador!$C$9)-Simulador!$C$8)*12,A922=0),0,A922+1)","v":0},{"$f":"IF($A923=0,0,IF(INT($A922/12)-$A922/12=0,B922*(1+Simulador!$C$35),B922))","v":0},{"$f":"MAX(IF(A923=0,0,B923-IF(Simulador!$C$11=\"Individual\",0,Simulador!$C$14)),0)","v":0},null,0,0,0,0,0,0,null,0,0,0,0,0,0,null,0,0,0,0,0,null,{"$f":"IF(OR(Y922+1>(IF(AND(Simulador!$C$9<Simulador!$C$10,OR(Simulador!$E$7=\"Resgate\",Simulador!$E$7=\"Portabilidade\")),Simulador!$C$9,Simulador!$C$10)-Simulador!$C$8)*12,Y922=0),0,Y922+1)","v":0},{"$f":"IF($Y923=0,0,Z922*(1+Simulador!$D$34)+E923+L923)","v":0},{"$f":"IF($Y923=0,0,AA922*(1+Simulador!$D$34)+S923)","v":0},{"$f":"IF(OR(AB922+1>(IF(AND(Simulador!$C$9<Simulador!$C$10,OR(Simulador!$E$7=\"Resgate\",Simulador!$E$7=\"Portabilidade\")),Simulador!$C$9,Simulador!$C$50)-Simulador!$C$8)*12,AB922=0),0,AB922+1)","v":0},{"$f":"IF($AB923=0,0,AC922*(1+Simulador!$D$34)+F923+M923)","v":0},{"$f":"IF($AB923=0,0,AD922*(1+Simulador!$D$34)+T923)","v":0}]
[{"$f":"IF(OR(A923+1>(IF(Simulador!$E$7=\"Autopatrocínio\",Simulador!$C$10,Simulador!$C$9)-Simulador!$C$8)*12,A923=0),0,A923+1)","v":0},{"$f":"IF($A924=0,0,IF(INT($A923/12)-$A923/12=0,B923*(1+Simulador!$C$35),B923))","v":0},{"$f":"MAX(IF(A924=0,0,B924-IF(Simulador!$C$11=\"Individual\",0,Simulador!$C$14)),0)","v":0},null,0,0,0,0,0,0,null,0,0,0,0,0,0,null,0,0,0,0,0,null,{"$f":"IF(OR(Y923+1>(IF(AND(Simulador!$C$9<Simulador!$C$10,OR(Simulador!$E$7=\"Resgate\",Simulador!$E$7=\"Portabilidade\")),Simulador!$C$9,Simulador!$C$10)-Simulador!$C$8)*12,Y923=0),0,Y923+1)","v":0},{"$f":"IF($Y924=0,0,Z923*(1+Simulador!$D$34)+E924+L924)","v":0},{"$f":"IF($Y924=0,0,AA923*(1+Simulador!$D$34)+S924)","v":0},{"$f":"IF(OR(AB923+1>(IF(AND(Simulador!$C$9<Simulador!$C$10,OR(Simulador!$E$7=\"Resgate\",Simulador!$E$7=\"Portabilidade\")),Simulador!$C$9,Simulador!$C$50)-Simulador!$C$8)*12,AB923=0),0,AB923+1)","v":0},{"$f":"IF($AB924=0,0,AC923*(1+Simulador!$D$34)+F924+M924)","v":0},{"$f":"IF($AB924=0,0,AD923*(1+Simulador!$D$34)+T924)","v":0}]
[{"$f":"IF(OR(A924+1>(IF(Simulador!$E$7=\"Autopatrocínio\",Simulador!$C$10,Simulador!$C$9)-Simulador!$C$8)*12,A924=0),0,A924+1)","v":0},{"$f":"IF($A925=0,0,IF(INT($A924/12)-$A924/12=0,B924*(1+Simulador!$C$35),B924))","v":0},{"$f":"MAX(IF(A925=0,0,B925-IF(Simulador!$C$11=\"Individual\",0,Simulador!$C$14)),0)","v":0},null,0,0,0,0,0,0,null,0,0,0,0,0,0,null,0,0,0,0,0,null,{"$f":"IF(OR(Y924+1>(IF(AND(Simulador!$C$9<Simulador!$C$10,OR(Simulador!$E$7=\"Resgate\",Simulador!$E$7=\"Portabilidade\")),Simulador!$C$9,Simulador!$C$10)-Simulador!$C$8)*12,Y924=0),0,Y924+1)","v":0},{"$f":"IF($Y925=0,0,Z924*(1+Simulador!$D$34)+E925+L925)","v":0},{"$f":"IF($Y925=0,0,AA924*(1+Simulador!$D$34)+S925)","v":0},{"$f":"IF(OR(AB924+1>(IF(AND(Simulador!$C$9<Simulador!$C$10,OR(Simulador!$E$7=\"Resgate\",Simulador!$E$7=\"Portabilidade\")),Simulador!$C$9,Simulador!$C$50)-Simulador!$C$8)*12,AB924=0),0,AB924+1)","v":0},{"$f":"IF($AB925=0,0,AC924*(1+Simulador!$D$34)+F925+M925)","v":0},{"$f":"IF($AB925=0,0,AD924*(1+Simulador!$D$34)+T925)","v":0}]
[{"$f":"IF(OR(A925+1>(IF(Simulador!$E$7=\"Autopatrocínio\",Simulador!$C$10,Simulador!$C$9)-Simulador!$C$8)*12,A925=0),0,A925+1)","v":0},{"$f":"IF($A926=0,0,IF(INT($A925/12)-$A925/12=0,B925*(1+Simulador!$C$35),B925))","v":0},{"$f":"MAX(IF(A926=0,0,B926-IF(Simulador!$C$11=\"Individual\",0,Simulador!$C$14)),0)","v":0},null,0,0,0,0,0,0,null,0,0,0,0,0,0,null,0,0,0,0,0,null,{"$f":"IF(OR(Y925+1>(IF(AND(Simulador!$C$9<Simulador!$C$10,OR(Simulador!$E$7=\"Resgate\",Simulador!$E$7=\"Portabilidade\")),Simulador!$C$9,Simulador!$C$10)-Simulador!$C$8)*12,Y925=0),0,Y925+1)","v":0},{"$f":"IF($Y926=0,0,Z925*(1+Simulador!$D$34)+E926+L926)","v":0},{"$f":"IF($Y926=0,0,AA925*(1+Simulador!$D$34)+S926)","v":0},{"$f":"IF(OR(AB925+1>(IF(AND(Simulador!$C$9<Simulador!$C$10,OR(Simulador!$E$7=\"Resgate\",Simulador!$E$7=\"Portabilidade\")),Simulador!$C$9,Simulador!$C$50)-Simulador!$C$8)*12,AB925=0),0,AB925+1)","v":0},{"$f":"IF($AB926=0,0,AC925*(1+Simulador!$D$34)+F926+M926)","v":0},{"$f":"IF($AB926=0,0,AD925*(1+Simulador!$D$34)+T926)","v":0}]
[{"$f":"IF(OR(A926+1>(IF(Simulador!$E$7=\"Autopatrocínio\",Simulador!$C$10,Simulador!$C$9)-Simulador!$C$8)*12,A926=0),0,A926+1)","v":0},{"$f":"IF($A927=0,0,IF(INT($A926/12)-$A926/12=0,B926*(1+Simulador!$C$35),B926))","v":0},{"$f":"MAX(IF(A927=0,0,B927-IF(Simulador!$C$11=\"Individual\",0,Simulador!$C$14)),0)","v":0},null,0,0,0,0,0,0,null,0,0,0,0,0,0,null,0,0,0,0,0,null,{"$f":"IF(OR(Y926+1>(IF(AND(Simulador!$C$9<Simulador!$C$10,OR(Simulador!$E$7=\"Resgate\",Simulador!$E$7=\"Portabilidade\")),Simulador!$C$9,Simulador!$C$10)-Simulador!$C$8)*12,Y926=0),0,Y926+1)","v":0},{"$f":"IF($Y927=0,0,Z926*(1+Simulador!$D$34)+E927+L927)","v":0},{"$f":"IF($Y927=0,0,AA926*(1+Simulador!$D$34)+S927)","v":0},{"$f":"IF(OR(AB926+1>(IF(AND(Simulador!$C$9<Simulador!$C$10,OR(Simulador!$E$7=\"Resgate\",Simulador!$E$7=\"Portabilidade\")),Simulador!$C$9,Simulador!$C$50)-Simulador!$C$8)*12,AB926=0),0,AB926+1)","v":0},{"$f":"IF($AB927=0,0,AC926*(1+Simulador!$D$34)+F927+M927)","v":0},{"$f":"IF($AB927=0,0,AD926*(1+Simulador!$D$34)+T927)","v":0}]
[{"$f":"IF(OR(A927+1>(IF(Simulador!$E$7=\"Autopatrocínio\",Simulador!$C$10,Simulador!$C$9)-Simulador!$C$8)*12,A927=0),0,A927+1)","v":0},{"$f":"IF($A928=0,0,IF(INT($A927/12)-$A927/12=0,B927*(1+Simulador!$C$35),B927))","v":0},{"$f":"MAX(IF(A928=0,0,B928-IF(Simulador!$C$11=\"Individual\",0,Simulador!$C$14)),0)","v":0},null,0,0,0,0,0,0,null,0,0,0,0,0,0,null,0,0,0,0,0,null,{"$f":"IF(OR(Y927+1>(IF(AND(Simulador!$C$9<Simulador!$C$10,OR(Simulador!$E$7=\"Resgate\",Simulador!$E$7=\"Portabilidade\")),Simulador!$C$9,Simulador!$C$10)-Simulador!$C$8)*12,Y927=0),0,Y927+1)","v":0},{"$f":"IF($Y928=0,0,Z927*(1+Simulador!$D$34)+E928+L928)","v":0},{"$f":"IF($Y928=0,0,AA927*(1+Simulador!$D$34)+S928)","v":0},{"$f":"IF(OR(AB927+1>(IF(AND(Simulador!$C$9<Simulador!$C$10,OR(Simulador!$E$7=\"Resgate\",Simulador!$E$7=\"Portabilidade\")),Simulador!$C$9,Simulador!$C$50)-Simulador!$C$8)*12,AB927=0),0,AB927+1)","v":0},{"$f":"IF($AB928=0,0,AC927*(1+Simulador!$D$34)+F928+M928)","v":0},{"$f":"IF($AB928=0,0,AD927*(1+Simulador!$D$34)+T928)","v":0}]
[{"$f":"IF(OR(A928+1>(IF(Simulador!$E$7=\"Autopatrocínio\",Simulador!$C$10,Simulador!$C$9)-Simulador!$C$8)*12,A928=0),0,A928+1)","v":0},{"$f":"IF($A929=0,0,IF(INT($A928/12)-$A928/12=0,B928*(1+Simulador!$C$35),B928))","v":0},{"$f":"MAX(IF(A929=0,0,B929-IF(Simulador!$C$11=\"Individual\",0,Simulador!$C$14)),0)","v":0},null,0,0,0,0,0,0,null,0,0,0,0,0,0,null,0,0,0,0,0,null,{"$f":"IF(OR(Y928+1>(IF(AND(Simulador!$C$9<Simulador!$C$10,OR(Simulador!$E$7=\"Resgate\",Simulador!$E$7=\"Portabilidade\")),Simulador!$C$9,Simulador!$C$10)-Simulador!$C$8)*12,Y928=0),0,Y928+1)","v":0},{"$f":"IF($Y929=0,0,Z928*(1+Simulador!$D$34)+E929+L929)","v":0},{"$f":"IF($Y929=0,0,AA928*(1+Simulador!$D$34)+S929)","v":0},{"$f":"IF(OR(AB928+1>(IF(AND(Simulador!$C$9<Simulador!$C$10,OR(Simulador!$E$7=\"Resgate\",Simulador!$E$7=\"Portabilidade\")),Simulador!$C$9,Simulador!$C$50)-Simulador!$C$8)*12,AB928=0),0,AB928+1)","v":0},{"$f":"IF($AB929=0,0,AC928*(1+Simulador!$D$34)+F929+M929)","v":0},{"$f":"IF($AB929=0,0,AD928*(1+Simulador!$D$34)+T929)","v":0}]
[{"$f":"IF(OR(A929+1>(IF(Simulador!$E$7=\"Autopatrocínio\",Simulador!$C$10,Simulador!$C$9)-Simulador!$C$8)*12,A929=0),0,A929+1)","v":0},{"$f":"IF($A930=0,0,IF(INT($A929/12)-$A929/12=0,B929*(1+Simulador!$C$35),B929))","v":0},{"$f":"MAX(IF(A930=0,0,B930-IF(Simulador!$C$11=\"Individual\",0,Simulador!$C$14)),0)","v":0},null,0,0,0,0,0,0,null,0,0,0,0,0,0,null,0,0,0,0,0,null,{"$f":"IF(OR(Y929+1>(IF(AND(Simulador!$C$9<Simulador!$C$10,OR(Simulador!$E$7=\"Resgate\",Simulador!$E$7=\"Portabilidade\")),Simulador!$C$9,Simulador!$C$10)-Simulador!$C$8)*12,Y929=0),0,Y929+1)","v":0},{"$f":"IF($Y930=0,0,Z929*(1+Simulador!$D$34)+E930+L930)","v":0},{"$f":"IF($Y930=0,0,AA929*(1+Simulador!$D$34)+S930)","v":0},{"$f":"IF(OR(AB929+1>(IF(AND(Simulador!$C$9<Simulador!$C$10,OR(Simulador!$E$7=\"Resgate\",Simulador!$E$7=\"Portabilidade\")),Simulador!$C$9,Simulador!$C$50)-Simulador!$C$8)*12,AB929=0),0,AB929+1)","v":0},{"$f":"IF($AB930=0,0,AC929*(1+Simulador!$D$34)+F930+M930)","v":0},{"$f":"IF($AB930=0,0,AD929*(1+Simulador!$D$34)+T930)","v":0}]
[{"$f":"IF(OR(A930+1>(IF(Simulador!$E$7=\"Autopatrocínio\",Simulador!$C$10,Simulador!$C$9)-Simulador!$C$8)*12,A930=0),0,A930+1)","v":0},{"$f":"IF($A931=0,0,IF(INT($A930/12)-$A930/12=0,B930*(1+Simulador!$C$35),B930))","v":0},{"$f":"MAX(IF(A931=0,0,B931-IF(Simulador!$C$11=\"Individual\",0,Simulador!$C$14)),0)","v":0},null,0,0,0,0,0,0,null,0,0,0,0,0,0,null,0,0,0,0,0,null,{"$f":"IF(OR(Y930+1>(IF(AND(Simulador!$C$9<Simulador!$C$10,OR(Simulador!$E$7=\"Resgate\",Simulador!$E$7=\"Portabilidade\")),Simulador!$C$9,Simulador!$C$10)-Simulador!$C$8)*12,Y930=0),0,Y930+1)","v":0},{"$f":"IF($Y931=0,0,Z930*(1+Simulador!$D$34)+E931+L931)","v":0},{"$f":"IF($Y931=0,0,AA930*(1+Simulador!$D$34)+S931)","v":0},{"$f":"IF(OR(AB930+1>(IF(AND(Simulador!$C$9<Simulador!$C$10,OR(Simulador!$E$7=\"Resgate\",Simulador!$E$7=\"Portabilidade\")),Simulador!$C$9,Simulador!$C$50)-Simulador!$C$8)*12,AB930=0),0,AB930+1)","v":0},{"$f":"IF($AB931=0,0,AC930*(1+Simulador!$D$34)+F931+M931)","v":0},{"$f":"IF($AB931=0,0,AD930*(1+Simulador!$D$34)+T931)","v":0}]
[{"$f":"IF(OR(A931+1>(IF(Simulador!$E$7=\"Autopatrocínio\",Simulador!$C$10,Simulador!$C$9)-Simulador!$C$8)*12,A931=0),0,A931+1)","v":0},{"$f":"IF($A932=0,0,IF(INT($A931/12)-$A931/12=0,B931*(1+Simulador!$C$35),B931))","v":0},{"$f":"MAX(IF(A932=0,0,B932-IF(Simulador!$C$11=\"Individual\",0,Simulador!$C$14)),0)","v":0},null,0,0,0,0,0,0,null,0,0,0,0,0,0,null,0,0,0,0,0,null,{"$f":"IF(OR(Y931+1>(IF(AND(Simulador!$C$9<Simulador!$C$10,OR(Simulador!$E$7=\"Resgate\",Simulador!$E$7=\"Portabilidade\")),Simulador!$C$9,Simulador!$C$10)-Simulador!$C$8)*12,Y931=0),0,Y931+1)","v":0},{"$f":"IF($Y932=0,0,Z931*(1+Simulador!$D$34)+E932+L932)","v":0},{"$f":"IF($Y932=0,0,AA931*(1+Simulador!$D$34)+S932)","v":0},{"$f":"IF(OR(AB931+1>(IF(AND(Simulador!$C$9<Simulador!$C$10,OR(Simulador!$E$7=\"Resgate\",Simulador!$E$7=\"Portabilidade\")),Simulador!$C$9,Simulador!$C$50)-Simulador!$C$8)*12,AB931=0),0,AB931+1)","v":0},{"$f":"IF($AB932=0,0,AC931*(1+Simulador!$D$34)+F932+M932)","v":0},{"$f":"IF($AB932=0,0,AD931*(1+Simulador!$D$34)+T932)","v":0}]
[{"$f":"IF(OR(A932+1>(IF(Simulador!$E$7=\"Autopatrocínio\",Simulador!$C$10,Simulador!$C$9)-Simulador!$C$8)*12,A932=0),0,A932+1)","v":0},{"$f":"IF($A933=0,0,IF(INT($A932/12)-$A932/12=0,B932*(1+Simulador!$C$35),B932))","v":0},{"$f":"MAX(IF(A933=0,0,B933-IF(Simulador!$C$11=\"Individual\",0,Simulador!$C$14)),0)","v":0},null,0,0,0,0,0,0,null,0,0,0,0,0,0,null,0,0,0,0,0,null,{"$f":"IF(OR(Y932+1>(IF(AND(Simulador!$C$9<Simulador!$C$10,OR(Simulador!$E$7=\"Resgate\",Simulador!$E$7=\"Portabilidade\")),Simulador!$C$9,Simulador!$C$10)-Simulador!$C$8)*12,Y932=0),0,Y932+1)","v":0},{"$f":"IF($Y933=0,0,Z932*(1+Simulador!$D$34)+E933+L933)","v":0},{"$f":"IF($Y933=0,0,AA932*(1+Simulador!$D$34)+S933)","v":0},{"$f":"IF(OR(AB932+1>(IF(AND(Simulador!$C$9<Simulador!$C$10,OR(Simulador!$E$7=\"Resgate\",Simulador!$E$7=\"Portabilidade\")),Simulador!$C$9,Simulador!$C$50)-Simulador!$C$8)*12,AB932=0),0,AB932+1)","v":0},{"$f":"IF($AB933=0,0,AC932*(1+Simulador!$D$34)+F933+M933)","v":0},{"$f":"IF($AB933=0,0,AD932*(1+Simulador!$D$34)+T933)","v":0}]
[{"$f":"IF(OR(A933+1>(IF(Simulador!$E$7=\"Autopatrocínio\",Simulador!$C$10,Simulador!$C$9)-Simulador!$C$8)*12,A933=0),0,A933+1)","v":0},{"$f":"IF($A934=0,0,IF(INT($A933/12)-$A933/12=0,B933*(1+Simulador!$C$35),B933))","v":0},{"$f":"MAX(IF(A934=0,0,B934-IF(Simulador!$C$11=\"Individual\",0,Simulador!$C$14)),0)","v":0},null,0,0,0,0,0,0,null,0,0,0,0,0,0,null,0,0,0,0,0,null,{"$f":"IF(OR(Y933+1>(IF(AND(Simulador!$C$9<Simulador!$C$10,OR(Simulador!$E$7=\"Resgate\",Simulador!$E$7=\"Portabilidade\")),Simulador!$C$9,Simulador!$C$10)-Simulador!$C$8)*12,Y933=0),0,Y933+1)","v":0},{"$f":"IF($Y934=0,0,Z933*(1+Simulador!$D$34)+E934+L934)","v":0},{"$f":"IF($Y934=0,0,AA933*(1+Simulador!$D$34)+S934)","v":0},{"$f":"IF(OR(AB933+1>(IF(AND(Simulador!$C$9<Simulador!$C$10,OR(Simulador!$E$7=\"Resgate\",Simulador!$E$7=\"Portabilidade\")),Simulador!$C$9,Simulador!$C$50)-Simulador!$C$8)*12,AB933=0),0,AB933+1)","v":0},{"$f":"IF($AB934=0,0,AC933*(1+Simulador!$D$34)+F934+M934)","v":0},{"$f":"IF($AB934=0,0,AD933*(1+Simulador!$D$34)+T934)","v":0}]
[{"$f":"IF(OR(A934+1>(IF(Simulador!$E$7=\"Autopatrocínio\",Simulador!$C$10,Simulador!$C$9)-Simulador!$C$8)*12,A934=0),0,A934+1)","v":0},{"$f":"IF($A935=0,0,IF(INT($A934/12)-$A934/12=0,B934*(1+Simulador!$C$35),B934))","v":0},{"$f":"MAX(IF(A935=0,0,B935-IF(Simulador!$C$11=\"Individual\",0,Simulador!$C$14)),0)","v":0},null,0,0,0,0,0,0,null,0,0,0,0,0,0,null,0,0,0,0,0,null,{"$f":"IF(OR(Y934+1>(IF(AND(Simulador!$C$9<Simulador!$C$10,OR(Simulador!$E$7=\"Resgate\",Simulador!$E$7=\"Portabilidade\")),Simulador!$C$9,Simulador!$C$10)-Simulador!$C$8)*12,Y934=0),0,Y934+1)","v":0},{"$f":"IF($Y935=0,0,Z934*(1+Simulador!$D$34)+E935+L935)","v":0},{"$f":"IF($Y935=0,0,AA934*(1+Simulador!$D$34)+S935)","v":0},{"$f":"IF(OR(AB934+1>(IF(AND(Simulador!$C$9<Simulador!$C$10,OR(Simulador!$E$7=\"Resgate\",Simulador!$E$7=\"Portabilidade\")),Simulador!$C$9,Simulador!$C$50)-Simulador!$C$8)*12,AB934=0),0,AB934+1)","v":0},{"$f":"IF($AB935=0,0,AC934*(1+Simulador!$D$34)+F935+M935)","v":0},{"$f":"IF($AB935=0,0,AD934*(1+Simulador!$D$34)+T935)","v":0}]
[{"$f":"IF(OR(A935+1>(IF(Simulador!$E$7=\"Autopatrocínio\",Simulador!$C$10,Simulador!$C$9)-Simulador!$C$8)*12,A935=0),0,A935+1)","v":0},{"$f":"IF($A936=0,0,IF(INT($A935/12)-$A935/12=0,B935*(1+Simulador!$C$35),B935))","v":0},{"$f":"MAX(IF(A936=0,0,B936-IF(Simulador!$C$11=\"Individual\",0,Simulador!$C$14)),0)","v":0},null,0,0,0,0,0,0,null,0,0,0,0,0,0,null,0,0,0,0,0,null,{"$f":"IF(OR(Y935+1>(IF(AND(Simulador!$C$9<Simulador!$C$10,OR(Simulador!$E$7=\"Resgate\",Simulador!$E$7=\"Portabilidade\")),Simulador!$C$9,Simulador!$C$10)-Simulador!$C$8)*12,Y935=0),0,Y935+1)","v":0},{"$f":"IF($Y936=0,0,Z935*(1+Simulador!$D$34)+E936+L936)","v":0},{"$f":"IF($Y936=0,0,AA935*(1+Simulador!$D$34)+S936)","v":0},{"$f":"IF(OR(AB935+1>(IF(AND(Simulador!$C$9<Simulador!$C$10,OR(Simulador!$E$7=\"Resgate\",Simulador!$E$7=\"Portabilidade\")),Simulador!$C$9,Simulador!$C$50)-Simulador!$C$8)*12,AB935=0),0,AB935+1)","v":0},{"$f":"IF($AB936=0,0,AC935*(1+Simulador!$D$34)+F936+M936)","v":0},{"$f":"IF($AB936=0,0,AD935*(1+Simulador!$D$34)+T936)","v":0}]
[{"$f":"IF(OR(A936+1>(IF(Simulador!$E$7=\"Autopatrocínio\",Simulador!$C$10,Simulador!$C$9)-Simulador!$C$8)*12,A936=0),0,A936+1)","v":0},{"$f":"IF($A937=0,0,IF(INT($A936/12)-$A936/12=0,B936*(1+Simulador!$C$35),B936))","v":0},{"$f":"MAX(IF(A937=0,0,B937-IF(Simulador!$C$11=\"Individual\",0,Simulador!$C$14)),0)","v":0},null,0,0,0,0,0,0,null,0,0,0,0,0,0,null,0,0,0,0,0,null,{"$f":"IF(OR(Y936+1>(IF(AND(Simulador!$C$9<Simulador!$C$10,OR(Simulador!$E$7=\"Resgate\",Simulador!$E$7=\"Portabilidade\")),Simulador!$C$9,Simulador!$C$10)-Simulador!$C$8)*12,Y936=0),0,Y936+1)","v":0},{"$f":"IF($Y937=0,0,Z936*(1+Simulador!$D$34)+E937+L937)","v":0},{"$f":"IF($Y937=0,0,AA936*(1+Simulador!$D$34)+S937)","v":0},{"$f":"IF(OR(AB936+1>(IF(AND(Simulador!$C$9<Simulador!$C$10,OR(Simulador!$E$7=\"Resgate\",Simulador!$E$7=\"Portabilidade\")),Simulador!$C$9,Simulador!$C$50)-Simulador!$C$8)*12,AB936=0),0,AB936+1)","v":0},{"$f":"IF($AB937=0,0,AC936*(1+Simulador!$D$34)+F937+M937)","v":0},{"$f":"IF($AB937=0,0,AD936*(1+Simulador!$D$34)+T937)","v":0}]
[{"$f":"IF(OR(A937+1>(IF(Simulador!$E$7=\"Autopatrocínio\",Simulador!$C$10,Simulador!$C$9)-Simulador!$C$8)*12,A937=0),0,A937+1)","v":0},{"$f":"IF($A938=0,0,IF(INT($A937/12)-$A937/12=0,B937*(1+Simulador!$C$35),B937))","v":0},{"$f":"MAX(IF(A938=0,0,B938-IF(Simulador!$C$11=\"Individual\",0,Simulador!$C$14)),0)","v":0},null,{"$f":"E$4*$C938*(1+$J938)","v":0},0,0,0,0,0,null,{"$f":"L$4*$C938*$Q938","v":0},0,0,0,0,0,null,{"$f":"S$4*$C938*(1+$J938)","v":0},0,0,0,0,null,{"$f":"IF(OR(Y937+1>(IF(AND(Simulador!$C$9<Simulador!$C$10,OR(Simulador!$E$7=\"Resgate\",Simulador!$E$7=\"Portabilidade\")),Simulador!$C$9,Simulador!$C$10)-Simulador!$C$8)*12,Y937=0),0,Y937+1)","v":0},{"$f":"IF($Y938=0,0,Z937*(1+Simulador!$D$34)+E938+L938)","v":0},{"$f":"IF($Y938=0,0,AA937*(1+Simulador!$D$34)+S938)","v":0},{"$f":"IF(OR(AB937+1>(IF(AND(Simulador!$C$9<Simulador!$C$10,OR(Simulador!$E$7=\"Resgate\",Simulador!$E$7=\"Portabilidade\")),Simulador!$C$9,Simulador!$C$50)-Simulador!$C$8)*12,AB937=0),0,AB937+1)","v":0},{"$f":"IF($AB938=0,0,AC937*(1+Simulador!$D$34)+F938+M938)","v":0},{"$f":"IF($AB938=0,0,AD937*(1+Simulador!$D$34)+T938)","v":0}]
[{"$f":"IF(OR(A938+1>(IF(Simulador!$E$7=\"Autopatrocínio\",Simulador!$C$10,Simulador!$C$9)-Simulador!$C$8)*12,A938=0),0,A938+1)","v":0},{"$f":"IF($A939=0,0,IF(INT($A938/12)-$A938/12=0,B938*(1+Simulador!$C$35),B938))","v":0},{"$f":"MAX(IF(A939=0,0,B939-IF(Simulador!$C$11=\"Individual\",0,Simulador!$C$14)),0)","v":0},null,0,0,0,0,0,0,null,0,0,0,0,0,0,null,0,0,0,0,0,null,{"$f":"IF(OR(Y938+1>(IF(AND(Simulador!$C$9<Simulador!$C$10,OR(Simulador!$E$7=\"Resgate\",Simulador!$E$7=\"Portabilidade\")),Simulador!$C$9,Simulador!$C$10)-Simulador!$C$8)*12,Y938=0),0,Y938+1)","v":0},{"$f":"IF($Y939=0,0,Z938*(1+Simulador!$D$34)+E939+L939)","v":0},{"$f":"IF($Y939=0,0,AA938*(1+Simulador!$D$34)+S939)","v":0},{"$f":"IF(OR(AB938+1>(IF(AND(Simulador!$C$9<Simulador!$C$10,OR(Simulador!$E$7=\"Resgate\",Simulador!$E$7=\"Portabilidade\")),Simulador!$C$9,Simulador!$C$50)-Simulador!$C$8)*12,AB938=0),0,AB938+1)","v":0},{"$f":"IF($AB939=0,0,AC938*(1+Simulador!$D$34)+F939+M939)","v":0},{"$f":"IF($AB939=0,0,AD938*(1+Simulador!$D$34)+T939)","v":0}]
[{"$f":"IF(OR(A939+1>(IF(Simulador!$E$7=\"Autopatrocínio\",Simulador!$C$10,Simulador!$C$9)-Simulador!$C$8)*12,A939=0),0,A939+1)","v":0},{"$f":"IF($A940=0,0,IF(INT($A939/12)-$A939/12=0,B939*(1+Simulador!$C$35),B939))","v":0},{"$f":"MAX(IF(A940=0,0,B940-IF(Simulador!$C$11=\"Individual\",0,Simulador!$C$14)),0)","v":0},null,0,0,0,0,0,0,null,0,0,0,0,0,0,null,0,0,0,0,0,null,{"$f":"IF(OR(Y939+1>(IF(AND(Simulador!$C$9<Simulador!$C$10,OR(Simulador!$E$7=\"Resgate\",Simulador!$E$7=\"Portabilidade\")),Simulador!$C$9,Simulador!$C$10)-Simulador!$C$8)*12,Y939=0),0,Y939+1)","v":0},{"$f":"IF($Y940=0,0,Z939*(1+Simulador!$D$34)+E940+L940)","v":0},{"$f":"IF($Y940=0,0,AA939*(1+Simulador!$D$34)+S940)","v":0},{"$f":"IF(OR(AB939+1>(IF(AND(Simulador!$C$9<Simulador!$C$10,OR(Simulador!$E$7=\"Resgate\",Simulador!$E$7=\"Portabilidade\")),Simulador!$C$9,Simulador!$C$50)-Simulador!$C$8)*12,AB939=0),0,AB939+1)","v":0},{"$f":"IF($AB940=0,0,AC939*(1+Simulador!$D$34)+F940+M940)","v":0},{"$f":"IF($AB940=0,0,AD939*(1+Simulador!$D$34)+T940)","v":0}]
[{"$f":"IF(OR(A940+1>(IF(Simulador!$E$7=\"Autopatrocínio\",Simulador!$C$10,Simulador!$C$9)-Simulador!$C$8)*12,A940=0),0,A940+1)","v":0},{"$f":"IF($A941=0,0,IF(INT($A940/12)-$A940/12=0,B940*(1+Simulador!$C$35),B940))","v":0},{"$f":"MAX(IF(A941=0,0,B941-IF(Simulador!$C$11=\"Individual\",0,Simulador!$C$14)),0)","v":0},null,0,0,0,0,0,0,null,0,0,0,0,0,0,null,0,0,0,0,0,null,{"$f":"IF(OR(Y940+1>(IF(AND(Simulador!$C$9<Simulador!$C$10,OR(Simulador!$E$7=\"Resgate\",Simulador!$E$7=\"Portabilidade\")),Simulador!$C$9,Simulador!$C$10)-Simulador!$C$8)*12,Y940=0),0,Y940+1)","v":0},{"$f":"IF($Y941=0,0,Z940*(1+Simulador!$D$34)+E941+L941)","v":0},{"$f":"IF($Y941=0,0,AA940*(1+Simulador!$D$34)+S941)","v":0},{"$f":"IF(OR(AB940+1>(IF(AND(Simulador!$C$9<Simulador!$C$10,OR(Simulador!$E$7=\"Resgate\",Simulador!$E$7=\"Portabilidade\")),Simulador!$C$9,Simulador!$C$50)-Simulador!$C$8)*12,AB940=0),0,AB940+1)","v":0},{"$f":"IF($AB941=0,0,AC940*(1+Simulador!$D$34)+F941+M941)","v":0},{"$f":"IF($AB941=0,0,AD940*(1+Simulador!$D$34)+T941)","v":0}]
[{"$f":"IF(OR(A941+1>(IF(Simulador!$E$7=\"Autopatrocínio\",Simulador!$C$10,Simulador!$C$9)-Simulador!$C$8)*12,A941=0),0,A941+1)","v":0},{"$f":"IF($A942=0,0,IF(INT($A941/12)-$A941/12=0,B941*(1+Simulador!$C$35),B941))","v":0},{"$f":"MAX(IF(A942=0,0,B942-IF(Simulador!$C$11=\"Individual\",0,Simulador!$C$14)),0)","v":0},null,0,0,0,0,0,0,null,0,0,0,0,0,0,null,0,0,0,0,0,null,{"$f":"IF(OR(Y941+1>(IF(AND(Simulador!$C$9<Simulador!$C$10,OR(Simulador!$E$7=\"Resgate\",Simulador!$E$7=\"Portabilidade\")),Simulador!$C$9,Simulador!$C$10)-Simulador!$C$8)*12,Y941=0),0,Y941+1)","v":0},{"$f":"IF($Y942=0,0,Z941*(1+Simulador!$D$34)+E942+L942)","v":0},{"$f":"IF($Y942=0,0,AA941*(1+Simulador!$D$34)+S942)","v":0},{"$f":"IF(OR(AB941+1>(IF(AND(Simulador!$C$9<Simulador!$C$10,OR(Simulador!$E$7=\"Resgate\",Simulador!$E$7=\"Portabilidade\")),Simulador!$C$9,Simulador!$C$50)-Simulador!$C$8)*12,AB941=0),0,AB941+1)","v":0},{"$f":"IF($AB942=0,0,AC941*(1+Simulador!$D$34)+F942+M942)","v":0},{"$f":"IF($AB942=0,0,AD941*(1+Simulador!$D$34)+T942)","v":0}]
[{"$f":"IF(OR(A942+1>(IF(Simulador!$E$7=\"Autopatrocínio\",Simulador!$C$10,Simulador!$C$9)-Simulador!$C$8)*12,A942=0),0,A942+1)","v":0},{"$f":"IF($A943=0,0,IF(INT($A942/12)-$A942/12=0,B942*(1+Simulador!$C$35),B942))","v":0},{"$f":"MAX(IF(A943=0,0,B943-IF(Simulador!$C$11=\"Individual\",0,Simulador!$C$14)),0)","v":0},null,0,0,0,0,0,0,null,0,0,0,0,0,0,null,0,0,0,0,0,null,{"$f":"IF(OR(Y942+1>(IF(AND(Simulador!$C$9<Simulador!$C$10,OR(Simulador!$E$7=\"Resgate\",Simulador!$E$7=\"Portabilidade\")),Simulador!$C$9,Simulador!$C$10)-Simulador!$C$8)*12,Y942=0),0,Y942+1)","v":0},{"$f":"IF($Y943=0,0,Z942*(1+Simulador!$D$34)+E943+L943)","v":0},{"$f":"IF($Y943=0,0,AA942*(1+Simulador!$D$34)+S943)","v":0},{"$f":"IF(OR(AB942+1>(IF(AND(Simulador!$C$9<Simulador!$C$10,OR(Simulador!$E$7=\"Resgate\",Simulador!$E$7=\"Portabilidade\")),Simulador!$C$9,Simulador!$C$50)-Simulador!$C$8)*12,AB942=0),0,AB942+1)","v":0},{"$f":"IF($AB943=0,0,AC942*(1+Simulador!$D$34)+F943+M943)","v":0},{"$f":"IF($AB943=0,0,AD942*(1+Simulador!$D$34)+T943)","v":0}]
[{"$f":"IF(OR(A943+1>(IF(Simulador!$E$7=\"Autopatrocínio\",Simulador!$C$10,Simulador!$C$9)-Simulador!$C$8)*12,A943=0),0,A943+1)","v":0},{"$f":"IF($A944=0,0,IF(INT($A943/12)-$A943/12=0,B943*(1+Simulador!$C$35),B943))","v":0},{"$f":"MAX(IF(A944=0,0,B944-IF(Simulador!$C$11=\"Individual\",0,Simulador!$C$14)),0)","v":0},null,0,0,0,0,0,0,null,0,0,0,0,0,0,null,0,0,0,0,0,null,{"$f":"IF(OR(Y943+1>(IF(AND(Simulador!$C$9<Simulador!$C$10,OR(Simulador!$E$7=\"Resgate\",Simulador!$E$7=\"Portabilidade\")),Simulador!$C$9,Simulador!$C$10)-Simulador!$C$8)*12,Y943=0),0,Y943+1)","v":0},{"$f":"IF($Y944=0,0,Z943*(1+Simulador!$D$34)+E944+L944)","v":0},{"$f":"IF($Y944=0,0,AA943*(1+Simulador!$D$34)+S944)","v":0},{"$f":"IF(OR(AB943+1>(IF(AND(Simulador!$C$9<Simulador!$C$10,OR(Simulador!$E$7=\"Resgate\",Simulador!$E$7=\"Portabilidade\")),Simulador!$C$9,Simulador!$C$50)-Simulador!$C$8)*12,AB943=0),0,AB943+1)","v":0},{"$f":"IF($AB944=0,0,AC943*(1+Simulador!$D$34)+F944+M944)","v":0},{"$f":"IF($AB944=0,0,AD943*(1+Simulador!$D$34)+T944)","v":0}]
[{"$f":"IF(OR(A944+1>(IF(Simulador!$E$7=\"Autopatrocínio\",Simulador!$C$10,Simulador!$C$9)-Simulador!$C$8)*12,A944=0),0,A944+1)","v":0},{"$f":"IF($A945=0,0,IF(INT($A944/12)-$A944/12=0,B944*(1+Simulador!$C$35),B944))","v":0},{"$f":"MAX(IF(A945=0,0,B945-IF(Simulador!$C$11=\"Individual\",0,Simulador!$C$14)),0)","v":0},null,0,0,0,0,0,0,null,0,0,0,0,0,0,null,0,0,0,0,0,null,{"$f":"IF(OR(Y944+1>(IF(AND(Simulador!$C$9<Simulador!$C$10,OR(Simulador!$E$7=\"Resgate\",Simulador!$E$7=\"Portabilidade\")),Simulador!$C$9,Simulador!$C$10)-Simulador!$C$8)*12,Y944=0),0,Y944+1)","v":0},{"$f":"IF($Y945=0,0,Z944*(1+Simulador!$D$34)+E945+L945)","v":0},{"$f":"IF($Y945=0,0,AA944*(1+Simulador!$D$34)+S945)","v":0},{"$f":"IF(OR(AB944+1>(IF(AND(Simulador!$C$9<Simulador!$C$10,OR(Simulador!$E$7=\"Resgate\",Simulador!$E$7=\"Portabilidade\")),Simulador!$C$9,Simulador!$C$50)-Simulador!$C$8)*12,AB944=0),0,AB944+1)","v":0},{"$f":"IF($AB945=0,0,AC944*(1+Simulador!$D$34)+F945+M945)","v":0},{"$f":"IF($AB945=0,0,AD944*(1+Simulador!$D$34)+T945)","v":0}]
[{"$f":"IF(OR(A945+1>(IF(Simulador!$E$7=\"Autopatrocínio\",Simulador!$C$10,Simulador!$C$9)-Simulador!$C$8)*12,A945=0),0,A945+1)","v":0},{"$f":"IF($A946=0,0,IF(INT($A945/12)-$A945/12=0,B945*(1+Simulador!$C$35),B945))","v":0},{"$f":"MAX(IF(A946=0,0,B946-IF(Simulador!$C$11=\"Individual\",0,Simulador!$C$14)),0)","v":0},null,0,0,0,0,0,0,null,0,0,0,0,0,0,null,0,0,0,0,0,null,{"$f":"IF(OR(Y945+1>(IF(AND(Simulador!$C$9<Simulador!$C$10,OR(Simulador!$E$7=\"Resgate\",Simulador!$E$7=\"Portabilidade\")),Simulador!$C$9,Simulador!$C$10)-Simulador!$C$8)*12,Y945=0),0,Y945+1)","v":0},{"$f":"IF($Y946=0,0,Z945*(1+Simulador!$D$34)+E946+L946)","v":0},{"$f":"IF($Y946=0,0,AA945*(1+Simulador!$D$34)+S946)","v":0},{"$f":"IF(OR(AB945+1>(IF(AND(Simulador!$C$9<Simulador!$C$10,OR(Simulador!$E$7=\"Resgate\",Simulador!$E$7=\"Portabilidade\")),Simulador!$C$9,Simulador!$C$50)-Simulador!$C$8)*12,AB945=0),0,AB945+1)","v":0},{"$f":"IF($AB946=0,0,AC945*(1+Simulador!$D$34)+F946+M946)","v":0},{"$f":"IF($AB946=0,0,AD945*(1+Simulador!$D$34)+T946)","v":0}]
[{"$f":"IF(OR(A946+1>(IF(Simulador!$E$7=\"Autopatrocínio\",Simulador!$C$10,Simulador!$C$9)-Simulador!$C$8)*12,A946=0),0,A946+1)","v":0},{"$f":"IF($A947=0,0,IF(INT($A946/12)-$A946/12=0,B946*(1+Simulador!$C$35),B946))","v":0},{"$f":"MAX(IF(A947=0,0,B947-IF(Simulador!$C$11=\"Individual\",0,Simulador!$C$14)),0)","v":0},null,0,0,0,0,0,0,null,0,0,0,0,0,0,null,0,0,0,0,0,null,{"$f":"IF(OR(Y946+1>(IF(AND(Simulador!$C$9<Simulador!$C$10,OR(Simulador!$E$7=\"Resgate\",Simulador!$E$7=\"Portabilidade\")),Simulador!$C$9,Simulador!$C$10)-Simulador!$C$8)*12,Y946=0),0,Y946+1)","v":0},{"$f":"IF($Y947=0,0,Z946*(1+Simulador!$D$34)+E947+L947)","v":0},{"$f":"IF($Y947=0,0,AA946*(1+Simulador!$D$34)+S947)","v":0},{"$f":"IF(OR(AB946+1>(IF(AND(Simulador!$C$9<Simulador!$C$10,OR(Simulador!$E$7=\"Resgate\",Simulador!$E$7=\"Portabilidade\")),Simulador!$C$9,Simulador!$C$50)-Simulador!$C$8)*12,AB946=0),0,AB946+1)","v":0},{"$f":"IF($AB947=0,0,AC946*(1+Simulador!$D$34)+F947+M947)","v":0},{"$f":"IF($AB947=0,0,AD946*(1+Simulador!$D$34)+T947)","v":0}]
[{"$f":"IF(OR(A947+1>(IF(Simulador!$E$7=\"Autopatrocínio\",Simulador!$C$10,Simulador!$C$9)-Simulador!$C$8)*12,A947=0),0,A947+1)","v":0},{"$f":"IF($A948=0,0,IF(INT($A947/12)-$A947/12=0,B947*(1+Simulador!$C$35),B947))","v":0},{"$f":"MAX(IF(A948=0,0,B948-IF(Simulador!$C$11=\"Individual\",0,Simulador!$C$14)),0)","v":0},null,0,0,0,0,0,0,null,0,0,0,0,0,0,null,0,0,0,0,0,null,{"$f":"IF(OR(Y947+1>(IF(AND(Simulador!$C$9<Simulador!$C$10,OR(Simulador!$E$7=\"Resgate\",Simulador!$E$7=\"Portabilidade\")),Simulador!$C$9,Simulador!$C$10)-Simulador!$C$8)*12,Y947=0),0,Y947+1)","v":0},{"$f":"IF($Y948=0,0,Z947*(1+Simulador!$D$34)+E948+L948)","v":0},{"$f":"IF($Y948=0,0,AA947*(1+Simulador!$D$34)+S948)","v":0},{"$f":"IF(OR(AB947+1>(IF(AND(Simulador!$C$9<Simulador!$C$10,OR(Simulador!$E$7=\"Resgate\",Simulador!$E$7=\"Portabilidade\")),Simulador!$C$9,Simulador!$C$50)-Simulador!$C$8)*12,AB947=0),0,AB947+1)","v":0},{"$f":"IF($AB948=0,0,AC947*(1+Simulador!$D$34)+F948+M948)","v":0},{"$f":"IF($AB948=0,0,AD947*(1+Simulador!$D$34)+T948)","v":0}]
[{"$f":"IF(OR(A948+1>(IF(Simulador!$E$7=\"Autopatrocínio\",Simulador!$C$10,Simulador!$C$9)-Simulador!$C$8)*12,A948=0),0,A948+1)","v":0},{"$f":"IF($A949=0,0,IF(INT($A948/12)-$A948/12=0,B948*(1+Simulador!$C$35),B948))","v":0},{"$f":"MAX(IF(A949=0,0,B949-IF(Simulador!$C$11=\"Individual\",0,Simulador!$C$14)),0)","v":0},null,0,0,0,0,0,0,null,0,0,0,0,0,0,null,0,0,0,0,0,null,{"$f":"IF(OR(Y948+1>(IF(AND(Simulador!$C$9<Simulador!$C$10,OR(Simulador!$E$7=\"Resgate\",Simulador!$E$7=\"Portabilidade\")),Simulador!$C$9,Simulador!$C$10)-Simulador!$C$8)*12,Y948=0),0,Y948+1)","v":0},{"$f":"IF($Y949=0,0,Z948*(1+Simulador!$D$34)+E949+L949)","v":0},{"$f":"IF($Y949=0,0,AA948*(1+Simulador!$D$34)+S949)","v":0},{"$f":"IF(OR(AB948+1>(IF(AND(Simulador!$C$9<Simulador!$C$10,OR(Simulador!$E$7=\"Resgate\",Simulador!$E$7=\"Portabilidade\")),Simulador!$C$9,Simulador!$C$50)-Simulador!$C$8)*12,AB948=0),0,AB948+1)","v":0},{"$f":"IF($AB949=0,0,AC948*(1+Simulador!$D$34)+F949+M949)","v":0},{"$f":"IF($AB949=0,0,AD948*(1+Simulador!$D$34)+T949)","v":0}]
[{"$f":"IF(OR(A949+1>(IF(Simulador!$E$7=\"Autopatrocínio\",Simulador!$C$10,Simulador!$C$9)-Simulador!$C$8)*12,A949=0),0,A949+1)","v":0},{"$f":"IF($A950=0,0,IF(INT($A949/12)-$A949/12=0,B949*(1+Simulador!$C$35),B949))","v":0},{"$f":"MAX(IF(A950=0,0,B950-IF(Simulador!$C$11=\"Individual\",0,Simulador!$C$14)),0)","v":0},null,0,0,0,0,0,0,null,0,0,0,0,0,0,null,0,0,0,0,0,null,{"$f":"IF(OR(Y949+1>(IF(AND(Simulador!$C$9<Simulador!$C$10,OR(Simulador!$E$7=\"Resgate\",Simulador!$E$7=\"Portabilidade\")),Simulador!$C$9,Simulador!$C$10)-Simulador!$C$8)*12,Y949=0),0,Y949+1)","v":0},{"$f":"IF($Y950=0,0,Z949*(1+Simulador!$D$34)+E950+L950)","v":0},{"$f":"IF($Y950=0,0,AA949*(1+Simulador!$D$34)+S950)","v":0},{"$f":"IF(OR(AB949+1>(IF(AND(Simulador!$C$9<Simulador!$C$10,OR(Simulador!$E$7=\"Resgate\",Simulador!$E$7=\"Portabilidade\")),Simulador!$C$9,Simulador!$C$50)-Simulador!$C$8)*12,AB949=0),0,AB949+1)","v":0},{"$f":"IF($AB950=0,0,AC949*(1+Simulador!$D$34)+F950+M950)","v":0},{"$f":"IF($AB950=0,0,AD949*(1+Simulador!$D$34)+T950)","v":0}]
[{"$f":"IF(OR(A950+1>(IF(Simulador!$E$7=\"Autopatrocínio\",Simulador!$C$10,Simulador!$C$9)-Simulador!$C$8)*12,A950=0),0,A950+1)","v":0},{"$f":"IF($A951=0,0,IF(INT($A950/12)-$A950/12=0,B950*(1+Simulador!$C$35),B950))","v":0},{"$f":"MAX(IF(A951=0,0,B951-IF(Simulador!$C$11=\"Individual\",0,Simulador!$C$14)),0)","v":0},null,0,0,0,0,0,0,null,0,0,0,0,0,0,null,0,0,0,0,0,null,{"$f":"IF(OR(Y950+1>(IF(AND(Simulador!$C$9<Simulador!$C$10,OR(Simulador!$E$7=\"Resgate\",Simulador!$E$7=\"Portabilidade\")),Simulador!$C$9,Simulador!$C$10)-Simulador!$C$8)*12,Y950=0),0,Y950+1)","v":0},{"$f":"IF($Y951=0,0,Z950*(1+Simulador!$D$34)+E951+L951)","v":0},{"$f":"IF($Y951=0,0,AA950*(1+Simulador!$D$34)+S951)","v":0},{"$f":"IF(OR(AB950+1>(IF(AND(Simulador!$C$9<Simulador!$C$10,OR(Simulador!$E$7=\"Resgate\",Simulador!$E$7=\"Portabilidade\")),Simulador!$C$9,Simulador!$C$50)-Simulador!$C$8)*12,AB950=0),0,AB950+1)","v":0},{"$f":"IF($AB951=0,0,AC950*(1+Simulador!$D$34)+F951+M951)","v":0},{"$f":"IF($AB951=0,0,AD950*(1+Simulador!$D$34)+T951)","v":0}]
[{"$f":"IF(OR(A951+1>(IF(Simulador!$E$7=\"Autopatrocínio\",Simulador!$C$10,Simulador!$C$9)-Simulador!$C$8)*12,A951=0),0,A951+1)","v":0},{"$f":"IF($A952=0,0,IF(INT($A951/12)-$A951/12=0,B951*(1+Simulador!$C$35),B951))","v":0},{"$f":"MAX(IF(A952=0,0,B952-IF(Simulador!$C$11=\"Individual\",0,Simulador!$C$14)),0)","v":0},null,0,0,0,0,0,0,null,0,0,0,0,0,0,null,0,0,0,0,0,null,{"$f":"IF(OR(Y951+1>(IF(AND(Simulador!$C$9<Simulador!$C$10,OR(Simulador!$E$7=\"Resgate\",Simulador!$E$7=\"Portabilidade\")),Simulador!$C$9,Simulador!$C$10)-Simulador!$C$8)*12,Y951=0),0,Y951+1)","v":0},{"$f":"IF($Y952=0,0,Z951*(1+Simulador!$D$34)+E952+L952)","v":0},{"$f":"IF($Y952=0,0,AA951*(1+Simulador!$D$34)+S952)","v":0},{"$f":"IF(OR(AB951+1>(IF(AND(Simulador!$C$9<Simulador!$C$10,OR(Simulador!$E$7=\"Resgate\",Simulador!$E$7=\"Portabilidade\")),Simulador!$C$9,Simulador!$C$50)-Simulador!$C$8)*12,AB951=0),0,AB951+1)","v":0},{"$f":"IF($AB952=0,0,AC951*(1+Simulador!$D$34)+F952+M952)","v":0},{"$f":"IF($AB952=0,0,AD951*(1+Simulador!$D$34)+T952)","v":0}]
[{"$f":"IF(OR(A952+1>(IF(Simulador!$E$7=\"Autopatrocínio\",Simulador!$C$10,Simulador!$C$9)-Simulador!$C$8)*12,A952=0),0,A952+1)","v":0},{"$f":"IF($A953=0,0,IF(INT($A952/12)-$A952/12=0,B952*(1+Simulador!$C$35),B952))","v":0},{"$f":"MAX(IF(A953=0,0,B953-IF(Simulador!$C$11=\"Individual\",0,Simulador!$C$14)),0)","v":0},null,0,0,0,0,0,0,null,0,0,0,0,0,0,null,0,0,0,0,0,null,{"$f":"IF(OR(Y952+1>(IF(AND(Simulador!$C$9<Simulador!$C$10,OR(Simulador!$E$7=\"Resgate\",Simulador!$E$7=\"Portabilidade\")),Simulador!$C$9,Simulador!$C$10)-Simulador!$C$8)*12,Y952=0),0,Y952+1)","v":0},{"$f":"IF($Y953=0,0,Z952*(1+Simulador!$D$34)+E953+L953)","v":0},{"$f":"IF($Y953=0,0,AA952*(1+Simulador!$D$34)+S953)","v":0},{"$f":"IF(OR(AB952+1>(IF(AND(Simulador!$C$9<Simulador!$C$10,OR(Simulador!$E$7=\"Resgate\",Simulador!$E$7=\"Portabilidade\")),Simulador!$C$9,Simulador!$C$50)-Simulador!$C$8)*12,AB952=0),0,AB952+1)","v":0},{"$f":"IF($AB953=0,0,AC952*(1+Simulador!$D$34)+F953+M953)","v":0},{"$f":"IF($AB953=0,0,AD952*(1+Simulador!$D$34)+T953)","v":0}]
[{"$f":"IF(OR(A953+1>(IF(Simulador!$E$7=\"Autopatrocínio\",Simulador!$C$10,Simulador!$C$9)-Simulador!$C$8)*12,A953=0),0,A953+1)","v":0},{"$f":"IF($A954=0,0,IF(INT($A953/12)-$A953/12=0,B953*(1+Simulador!$C$35),B953))","v":0},{"$f":"MAX(IF(A954=0,0,B954-IF(Simulador!$C$11=\"Individual\",0,Simulador!$C$14)),0)","v":0},null,0,0,0,0,0,0,null,0,0,0,0,0,0,null,0,0,0,0,0,null,{"$f":"IF(OR(Y953+1>(IF(AND(Simulador!$C$9<Simulador!$C$10,OR(Simulador!$E$7=\"Resgate\",Simulador!$E$7=\"Portabilidade\")),Simulador!$C$9,Simulador!$C$10)-Simulador!$C$8)*12,Y953=0),0,Y953+1)","v":0},{"$f":"IF($Y954=0,0,Z953*(1+Simulador!$D$34)+E954+L954)","v":0},{"$f":"IF($Y954=0,0,AA953*(1+Simulador!$D$34)+S954)","v":0},{"$f":"IF(OR(AB953+1>(IF(AND(Simulador!$C$9<Simulador!$C$10,OR(Simulador!$E$7=\"Resgate\",Simulador!$E$7=\"Portabilidade\")),Simulador!$C$9,Simulador!$C$50)-Simulador!$C$8)*12,AB953=0),0,AB953+1)","v":0},{"$f":"IF($AB954=0,0,AC953*(1+Simulador!$D$34)+F954+M954)","v":0},{"$f":"IF($AB954=0,0,AD953*(1+Simulador!$D$34)+T954)","v":0}]
[{"$f":"IF(OR(A954+1>(IF(Simulador!$E$7=\"Autopatrocínio\",Simulador!$C$10,Simulador!$C$9)-Simulador!$C$8)*12,A954=0),0,A954+1)","v":0},{"$f":"IF($A955=0,0,IF(INT($A954/12)-$A954/12=0,B954*(1+Simulador!$C$35),B954))","v":0},{"$f":"MAX(IF(A955=0,0,B955-IF(Simulador!$C$11=\"Individual\",0,Simulador!$C$14)),0)","v":0},null,0,0,0,0,0,0,null,0,0,0,0,0,0,null,0,0,0,0,0,null,{"$f":"IF(OR(Y954+1>(IF(AND(Simulador!$C$9<Simulador!$C$10,OR(Simulador!$E$7=\"Resgate\",Simulador!$E$7=\"Portabilidade\")),Simulador!$C$9,Simulador!$C$10)-Simulador!$C$8)*12,Y954=0),0,Y954+1)","v":0},{"$f":"IF($Y955=0,0,Z954*(1+Simulador!$D$34)+E955+L955)","v":0},{"$f":"IF($Y955=0,0,AA954*(1+Simulador!$D$34)+S955)","v":0},{"$f":"IF(OR(AB954+1>(IF(AND(Simulador!$C$9<Simulador!$C$10,OR(Simulador!$E$7=\"Resgate\",Simulador!$E$7=\"Portabilidade\")),Simulador!$C$9,Simulador!$C$50)-Simulador!$C$8)*12,AB954=0),0,AB954+1)","v":0},{"$f":"IF($AB955=0,0,AC954*(1+Simulador!$D$34)+F955+M955)","v":0},{"$f":"IF($AB955=0,0,AD954*(1+Simulador!$D$34)+T955)","v":0}]
[{"$f":"IF(OR(A955+1>(IF(Simulador!$E$7=\"Autopatrocínio\",Simulador!$C$10,Simulador!$C$9)-Simulador!$C$8)*12,A955=0),0,A955+1)","v":0},{"$f":"IF($A956=0,0,IF(INT($A955/12)-$A955/12=0,B955*(1+Simulador!$C$35),B955))","v":0},{"$f":"MAX(IF(A956=0,0,B956-IF(Simulador!$C$11=\"Individual\",0,Simulador!$C$14)),0)","v":0},null,0,0,0,0,0,0,null,0,0,0,0,0,0,null,0,0,0,0,0,null,{"$f":"IF(OR(Y955+1>(IF(AND(Simulador!$C$9<Simulador!$C$10,OR(Simulador!$E$7=\"Resgate\",Simulador!$E$7=\"Portabilidade\")),Simulador!$C$9,Simulador!$C$10)-Simulador!$C$8)*12,Y955=0),0,Y955+1)","v":0},{"$f":"IF($Y956=0,0,Z955*(1+Simulador!$D$34)+E956+L956)","v":0},{"$f":"IF($Y956=0,0,AA955*(1+Simulador!$D$34)+S956)","v":0},{"$f":"IF(OR(AB955+1>(IF(AND(Simulador!$C$9<Simulador!$C$10,OR(Simulador!$E$7=\"Resgate\",Simulador!$E$7=\"Portabilidade\")),Simulador!$C$9,Simulador!$C$50)-Simulador!$C$8)*12,AB955=0),0,AB955+1)","v":0},{"$f":"IF($AB956=0,0,AC955*(1+Simulador!$D$34)+F956+M956)","v":0},{"$f":"IF($AB956=0,0,AD955*(1+Simulador!$D$34)+T956)","v":0}]
[{"$f":"IF(OR(A956+1>(IF(Simulador!$E$7=\"Autopatrocínio\",Simulador!$C$10,Simulador!$C$9)-Simulador!$C$8)*12,A956=0),0,A956+1)","v":0},{"$f":"IF($A957=0,0,IF(INT($A956/12)-$A956/12=0,B956*(1+Simulador!$C$35),B956))","v":0},{"$f":"MAX(IF(A957=0,0,B957-IF(Simulador!$C$11=\"Individual\",0,Simulador!$C$14)),0)","v":0},null,0,0,0,0,0,0,null,0,0,0,0,0,0,null,0,0,0,0,0,null,{"$f":"IF(OR(Y956+1>(IF(AND(Simulador!$C$9<Simulador!$C$10,OR(Simulador!$E$7=\"Resgate\",Simulador!$E$7=\"Portabilidade\")),Simulador!$C$9,Simulador!$C$10)-Simulador!$C$8)*12,Y956=0),0,Y956+1)","v":0},{"$f":"IF($Y957=0,0,Z956*(1+Simulador!$D$34)+E957+L957)","v":0},{"$f":"IF($Y957=0,0,AA956*(1+Simulador!$D$34)+S957)","v":0},{"$f":"IF(OR(AB956+1>(IF(AND(Simulador!$C$9<Simulador!$C$10,OR(Simulador!$E$7=\"Resgate\",Simulador!$E$7=\"Portabilidade\")),Simulador!$C$9,Simulador!$C$50)-Simulador!$C$8)*12,AB956=0),0,AB956+1)","v":0},{"$f":"IF($AB957=0,0,AC956*(1+Simulador!$D$34)+F957+M957)","v":0},{"$f":"IF($AB957=0,0,AD956*(1+Simulador!$D$34)+T957)","v":0}]
[{"$f":"IF(OR(A957+1>(IF(Simulador!$E$7=\"Autopatrocínio\",Simulador!$C$10,Simulador!$C$9)-Simulador!$C$8)*12,A957=0),0,A957+1)","v":0},{"$f":"IF($A958=0,0,IF(INT($A957/12)-$A957/12=0,B957*(1+Simulador!$C$35),B957))","v":0},{"$f":"MAX(IF(A958=0,0,B958-IF(Simulador!$C$11=\"Individual\",0,Simulador!$C$14)),0)","v":0},null,0,0,0,0,0,0,null,0,0,0,0,0,0,null,0,0,0,0,0,null,{"$f":"IF(OR(Y957+1>(IF(AND(Simulador!$C$9<Simulador!$C$10,OR(Simulador!$E$7=\"Resgate\",Simulador!$E$7=\"Portabilidade\")),Simulador!$C$9,Simulador!$C$10)-Simulador!$C$8)*12,Y957=0),0,Y957+1)","v":0},{"$f":"IF($Y958=0,0,Z957*(1+Simulador!$D$34)+E958+L958)","v":0},{"$f":"IF($Y958=0,0,AA957*(1+Simulador!$D$34)+S958)","v":0},{"$f":"IF(OR(AB957+1>(IF(AND(Simulador!$C$9<Simulador!$C$10,OR(Simulador!$E$7=\"Resgate\",Simulador!$E$7=\"Portabilidade\")),Simulador!$C$9,Simulador!$C$50)-Simulador!$C$8)*12,AB957=0),0,AB957+1)","v":0},{"$f":"IF($AB958=0,0,AC957*(1+Simulador!$D$34)+F958+M958)","v":0},{"$f":"IF($AB958=0,0,AD957*(1+Simulador!$D$34)+T958)","v":0}]
[{"$f":"IF(OR(A958+1>(IF(Simulador!$E$7=\"Autopatrocínio\",Simulador!$C$10,Simulador!$C$9)-Simulador!$C$8)*12,A958=0),0,A958+1)","v":0},{"$f":"IF($A959=0,0,IF(INT($A958/12)-$A958/12=0,B958*(1+Simulador!$C$35),B958))","v":0},{"$f":"MAX(IF(A959=0,0,B959-IF(Simulador!$C$11=\"Individual\",0,Simulador!$C$14)),0)","v":0},null,0,0,0,0,0,0,null,0,0,0,0,0,0,null,0,0,0,0,0,null,{"$f":"IF(OR(Y958+1>(IF(AND(Simulador!$C$9<Simulador!$C$10,OR(Simulador!$E$7=\"Resgate\",Simulador!$E$7=\"Portabilidade\")),Simulador!$C$9,Simulador!$C$10)-Simulador!$C$8)*12,Y958=0),0,Y958+1)","v":0},{"$f":"IF($Y959=0,0,Z958*(1+Simulador!$D$34)+E959+L959)","v":0},{"$f":"IF($Y959=0,0,AA958*(1+Simulador!$D$34)+S959)","v":0},{"$f":"IF(OR(AB958+1>(IF(AND(Simulador!$C$9<Simulador!$C$10,OR(Simulador!$E$7=\"Resgate\",Simulador!$E$7=\"Portabilidade\")),Simulador!$C$9,Simulador!$C$50)-Simulador!$C$8)*12,AB958=0),0,AB958+1)","v":0},{"$f":"IF($AB959=0,0,AC958*(1+Simulador!$D$34)+F959+M959)","v":0},{"$f":"IF($AB959=0,0,AD958*(1+Simulador!$D$34)+T959)","v":0}]
[{"$f":"IF(OR(A959+1>(IF(Simulador!$E$7=\"Autopatrocínio\",Simulador!$C$10,Simulador!$C$9)-Simulador!$C$8)*12,A959=0),0,A959+1)","v":0},{"$f":"IF($A960=0,0,IF(INT($A959/12)-$A959/12=0,B959*(1+Simulador!$C$35),B959))","v":0},{"$f":"MAX(IF(A960=0,0,B960-IF(Simulador!$C$11=\"Individual\",0,Simulador!$C$14)),0)","v":0},null,0,0,0,0,0,0,null,0,0,0,0,0,0,null,0,0,0,0,0,null,{"$f":"IF(OR(Y959+1>(IF(AND(Simulador!$C$9<Simulador!$C$10,OR(Simulador!$E$7=\"Resgate\",Simulador!$E$7=\"Portabilidade\")),Simulador!$C$9,Simulador!$C$10)-Simulador!$C$8)*12,Y959=0),0,Y959+1)","v":0},{"$f":"IF($Y960=0,0,Z959*(1+Simulador!$D$34)+E960+L960)","v":0},{"$f":"IF($Y960=0,0,AA959*(1+Simulador!$D$34)+S960)","v":0},{"$f":"IF(OR(AB959+1>(IF(AND(Simulador!$C$9<Simulador!$C$10,OR(Simulador!$E$7=\"Resgate\",Simulador!$E$7=\"Portabilidade\")),Simulador!$C$9,Simulador!$C$50)-Simulador!$C$8)*12,AB959=0),0,AB959+1)","v":0},{"$f":"IF($AB960=0,0,AC959*(1+Simulador!$D$34)+F960+M960)","v":0},{"$f":"IF($AB960=0,0,AD959*(1+Simulador!$D$34)+T960)","v":0}]
[{"$f":"IF(OR(A960+1>(IF(Simulador!$E$7=\"Autopatrocínio\",Simulador!$C$10,Simulador!$C$9)-Simulador!$C$8)*12,A960=0),0,A960+1)","v":0},{"$f":"IF($A961=0,0,IF(INT($A960/12)-$A960/12=0,B960*(1+Simulador!$C$35),B960))","v":0},{"$f":"MAX(IF(A961=0,0,B961-IF(Simulador!$C$11=\"Individual\",0,Simulador!$C$14)),0)","v":0},null,0,0,0,0,0,0,null,0,0,0,0,0,0,null,0,0,0,0,0,null,{"$f":"IF(OR(Y960+1>(IF(AND(Simulador!$C$9<Simulador!$C$10,OR(Simulador!$E$7=\"Resgate\",Simulador!$E$7=\"Portabilidade\")),Simulador!$C$9,Simulador!$C$10)-Simulador!$C$8)*12,Y960=0),0,Y960+1)","v":0},{"$f":"IF($Y961=0,0,Z960*(1+Simulador!$D$34)+E961+L961)","v":0},{"$f":"IF($Y961=0,0,AA960*(1+Simulador!$D$34)+S961)","v":0},{"$f":"IF(OR(AB960+1>(IF(AND(Simulador!$C$9<Simulador!$C$10,OR(Simulador!$E$7=\"Resgate\",Simulador!$E$7=\"Portabilidade\")),Simulador!$C$9,Simulador!$C$50)-Simulador!$C$8)*12,AB960=0),0,AB960+1)","v":0},{"$f":"IF($AB961=0,0,AC960*(1+Simulador!$D$34)+F961+M961)","v":0},{"$f":"IF($AB961=0,0,AD960*(1+Simulador!$D$34)+T961)","v":0}]
[{"$f":"IF(OR(A961+1>(IF(Simulador!$E$7=\"Autopatrocínio\",Simulador!$C$10,Simulador!$C$9)-Simulador!$C$8)*12,A961=0),0,A961+1)","v":0},{"$f":"IF($A962=0,0,IF(INT($A961/12)-$A961/12=0,B961*(1+Simulador!$C$35),B961))","v":0},{"$f":"MAX(IF(A962=0,0,B962-IF(Simulador!$C$11=\"Individual\",0,Simulador!$C$14)),0)","v":0},null,0,0,0,0,0,0,null,0,0,0,0,0,0,null,0,0,0,0,0,null,{"$f":"IF(OR(Y961+1>(IF(AND(Simulador!$C$9<Simulador!$C$10,OR(Simulador!$E$7=\"Resgate\",Simulador!$E$7=\"Portabilidade\")),Simulador!$C$9,Simulador!$C$10)-Simulador!$C$8)*12,Y961=0),0,Y961+1)","v":0},{"$f":"IF($Y962=0,0,Z961*(1+Simulador!$D$34)+E962+L962)","v":0},{"$f":"IF($Y962=0,0,AA961*(1+Simulador!$D$34)+S962)","v":0},{"$f":"IF(OR(AB961+1>(IF(AND(Simulador!$C$9<Simulador!$C$10,OR(Simulador!$E$7=\"Resgate\",Simulador!$E$7=\"Portabilidade\")),Simulador!$C$9,Simulador!$C$50)-Simulador!$C$8)*12,AB961=0),0,AB961+1)","v":0},{"$f":"IF($AB962=0,0,AC961*(1+Simulador!$D$34)+F962+M962)","v":0},{"$f":"IF($AB962=0,0,AD961*(1+Simulador!$D$34)+T962)","v":0}]
[{"$f":"IF(OR(A962+1>(IF(Simulador!$E$7=\"Autopatrocínio\",Simulador!$C$10,Simulador!$C$9)-Simulador!$C$8)*12,A962=0),0,A962+1)","v":0},{"$f":"IF($A963=0,0,IF(INT($A962/12)-$A962/12=0,B962*(1+Simulador!$C$35),B962))","v":0},{"$f":"MAX(IF(A963=0,0,B963-IF(Simulador!$C$11=\"Individual\",0,Simulador!$C$14)),0)","v":0},null,0,0,0,0,0,0,null,0,0,0,0,0,0,null,0,0,0,0,0,null,{"$f":"IF(OR(Y962+1>(IF(AND(Simulador!$C$9<Simulador!$C$10,OR(Simulador!$E$7=\"Resgate\",Simulador!$E$7=\"Portabilidade\")),Simulador!$C$9,Simulador!$C$10)-Simulador!$C$8)*12,Y962=0),0,Y962+1)","v":0},{"$f":"IF($Y963=0,0,Z962*(1+Simulador!$D$34)+E963+L963)","v":0},{"$f":"IF($Y963=0,0,AA962*(1+Simulador!$D$34)+S963)","v":0},{"$f":"IF(OR(AB962+1>(IF(AND(Simulador!$C$9<Simulador!$C$10,OR(Simulador!$E$7=\"Resgate\",Simulador!$E$7=\"Portabilidade\")),Simulador!$C$9,Simulador!$C$50)-Simulador!$C$8)*12,AB962=0),0,AB962+1)","v":0},{"$f":"IF($AB963=0,0,AC962*(1+Simulador!$D$34)+F963+M963)","v":0},{"$f":"IF($AB963=0,0,AD962*(1+Simulador!$D$34)+T963)","v":0}]
[{"$f":"IF(OR(A963+1>(IF(Simulador!$E$7=\"Autopatrocínio\",Simulador!$C$10,Simulador!$C$9)-Simulador!$C$8)*12,A963=0),0,A963+1)","v":0},{"$f":"IF($A964=0,0,IF(INT($A963/12)-$A963/12=0,B963*(1+Simulador!$C$35),B963))","v":0},{"$f":"MAX(IF(A964=0,0,B964-IF(Simulador!$C$11=\"Individual\",0,Simulador!$C$14)),0)","v":0},null,0,0,0,0,0,0,null,0,0,0,0,0,0,null,0,0,0,0,0,null,{"$f":"IF(OR(Y963+1>(IF(AND(Simulador!$C$9<Simulador!$C$10,OR(Simulador!$E$7=\"Resgate\",Simulador!$E$7=\"Portabilidade\")),Simulador!$C$9,Simulador!$C$10)-Simulador!$C$8)*12,Y963=0),0,Y963+1)","v":0},{"$f":"IF($Y964=0,0,Z963*(1+Simulador!$D$34)+E964+L964)","v":0},{"$f":"IF($Y964=0,0,AA963*(1+Simulador!$D$34)+S964)","v":0},{"$f":"IF(OR(AB963+1>(IF(AND(Simulador!$C$9<Simulador!$C$10,OR(Simulador!$E$7=\"Resgate\",Simulador!$E$7=\"Portabilidade\")),Simulador!$C$9,Simulador!$C$50)-Simulador!$C$8)*12,AB963=0),0,AB963+1)","v":0},{"$f":"IF($AB964=0,0,AC963*(1+Simulador!$D$34)+F964+M964)","v":0},{"$f":"IF($AB964=0,0,AD963*(1+Simulador!$D$34)+T964)","v":0}]
[{"$f":"IF(OR(A964+1>(IF(Simulador!$E$7=\"Autopatrocínio\",Simulador!$C$10,Simulador!$C$9)-Simulador!$C$8)*12,A964=0),0,A964+1)","v":0},{"$f":"IF($A965=0,0,IF(INT($A964/12)-$A964/12=0,B964*(1+Simulador!$C$35),B964))","v":0},{"$f":"MAX(IF(A965=0,0,B965-IF(Simulador!$C$11=\"Individual\",0,Simulador!$C$14)),0)","v":0},null,0,0,0,0,0,{"$f":"IF($A965=0,0,IF(INT($A965/12)-$A965/12=0,1,0))","v":0},null,0,0,0,0,0,{"$f":"IF($A965=0,0,IF($Q$4=\"Mensal\",1,IF($Q$4=\"Semestral\",IF(INT(($A965+5)/6)-($A965+5)/6=0,1,0),IF($Q$4=\"Anual\",IF(INT(($A965+11)/12)-($A965+11)/12=0,1,0)))))","v":0},null,0,0,0,0,0,null,{"$f":"IF(OR(Y964+1>(IF(AND(Simulador!$C$9<Simulador!$C$10,OR(Simulador!$E$7=\"Resgate\",Simulador!$E$7=\"Portabilidade\")),Simulador!$C$9,Simulador!$C$10)-Simulador!$C$8)*12,Y964=0),0,Y964+1)","v":0},{"$f":"IF($Y965=0,0,Z964*(1+Simulador!$D$34)+E965+L965)","v":0},{"$f":"IF($Y965=0,0,AA964*(1+Simulador!$D$34)+S965)","v":0},{"$f":"IF(OR(AB964+1>(IF(AND(Simulador!$C$9<Simulador!$C$10,OR(Simulador!$E$7=\"Resgate\",Simulador!$E$7=\"Portabilidade\")),Simulador!$C$9,Simulador!$C$50)-Simulador!$C$8)*12,AB964=0),0,AB964+1)","v":0},{"$f":"IF($AB965=0,0,AC964*(1+Simulador!$D$34)+F965+M965)","v":0},{"$f":"IF($AB965=0,0,AD964*(1+Simulador!$D$34)+T965)","v":0}]
[{"$f":"IF(OR(A965+1>(IF(Simulador!$E$7=\"Autopatrocínio\",Simulador!$C$10,Simulador!$C$9)-Simulador!$C$8)*12,A965=0),0,A965+1)","v":0},{"$f":"IF($A966=0,0,IF(INT($A965/12)-$A965/12=0,B965*(1+Simulador!$C$35),B965))","v":0},{"$f":"MAX(IF(A966=0,0,B966-IF(Simulador!$C$11=\"Individual\",0,Simulador!$C$14)),0)","v":0},null,0,0,0,0,0,0,null,0,0,0,0,0,0,null,0,0,0,0,0,null,{"$f":"IF(OR(Y965+1>(IF(AND(Simulador!$C$9<Simulador!$C$10,OR(Simulador!$E$7=\"Resgate\",Simulador!$E$7=\"Portabilidade\")),Simulador!$C$9,Simulador!$C$10)-Simulador!$C$8)*12,Y965=0),0,Y965+1)","v":0},{"$f":"IF($Y966=0,0,Z965*(1+Simulador!$D$34)+E966+L966)","v":0},{"$f":"IF($Y966=0,0,AA965*(1+Simulador!$D$34)+S966)","v":0},{"$f":"IF(OR(AB965+1>(IF(AND(Simulador!$C$9<Simulador!$C$10,OR(Simulador!$E$7=\"Resgate\",Simulador!$E$7=\"Portabilidade\")),Simulador!$C$9,Simulador!$C$50)-Simulador!$C$8)*12,AB965=0),0,AB965+1)","v":0},{"$f":"IF($AB966=0,0,AC965*(1+Simulador!$D$34)+F966+M966)","v":0},{"$f":"IF($AB966=0,0,AD965*(1+Simulador!$D$34)+T966)","v":0}]
[{"$f":"IF(OR(A966+1>(IF(Simulador!$E$7=\"Autopatrocínio\",Simulador!$C$10,Simulador!$C$9)-Simulador!$C$8)*12,A966=0),0,A966+1)","v":0},{"$f":"IF($A967=0,0,IF(INT($A966/12)-$A966/12=0,B966*(1+Simulador!$C$35),B966))","v":0},{"$f":"MAX(IF(A967=0,0,B967-IF(Simulador!$C$11=\"Individual\",0,Simulador!$C$14)),0)","v":0},null,0,0,0,0,0,0,null,0,0,0,0,0,0,null,0,0,0,0,0,null,{"$f":"IF(OR(Y966+1>(IF(AND(Simulador!$C$9<Simulador!$C$10,OR(Simulador!$E$7=\"Resgate\",Simulador!$E$7=\"Portabilidade\")),Simulador!$C$9,Simulador!$C$10)-Simulador!$C$8)*12,Y966=0),0,Y966+1)","v":0},{"$f":"IF($Y967=0,0,Z966*(1+Simulador!$D$34)+E967+L967)","v":0},{"$f":"IF($Y967=0,0,AA966*(1+Simulador!$D$34)+S967)","v":0},{"$f":"IF(OR(AB966+1>(IF(AND(Simulador!$C$9<Simulador!$C$10,OR(Simulador!$E$7=\"Resgate\",Simulador!$E$7=\"Portabilidade\")),Simulador!$C$9,Simulador!$C$50)-Simulador!$C$8)*12,AB966=0),0,AB966+1)","v":0},{"$f":"IF($AB967=0,0,AC966*(1+Simulador!$D$34)+F967+M967)","v":0},{"$f":"IF($AB967=0,0,AD966*(1+Simulador!$D$34)+T967)","v":0}]
[{"$f":"IF(OR(A967+1>(IF(Simulador!$E$7=\"Autopatrocínio\",Simulador!$C$10,Simulador!$C$9)-Simulador!$C$8)*12,A967=0),0,A967+1)","v":0},{"$f":"IF($A968=0,0,IF(INT($A967/12)-$A967/12=0,B967*(1+Simulador!$C$35),B967))","v":0},{"$f":"MAX(IF(A968=0,0,B968-IF(Simulador!$C$11=\"Individual\",0,Simulador!$C$14)),0)","v":0},null,0,0,0,0,0,0,null,0,0,0,0,0,0,null,0,0,0,0,0,null,{"$f":"IF(OR(Y967+1>(IF(AND(Simulador!$C$9<Simulador!$C$10,OR(Simulador!$E$7=\"Resgate\",Simulador!$E$7=\"Portabilidade\")),Simulador!$C$9,Simulador!$C$10)-Simulador!$C$8)*12,Y967=0),0,Y967+1)","v":0},{"$f":"IF($Y968=0,0,Z967*(1+Simulador!$D$34)+E968+L968)","v":0},{"$f":"IF($Y968=0,0,AA967*(1+Simulador!$D$34)+S968)","v":0},{"$f":"IF(OR(AB967+1>(IF(AND(Simulador!$C$9<Simulador!$C$10,OR(Simulador!$E$7=\"Resgate\",Simulador!$E$7=\"Portabilidade\")),Simulador!$C$9,Simulador!$C$50)-Simulador!$C$8)*12,AB967=0),0,AB967+1)","v":0},{"$f":"IF($AB968=0,0,AC967*(1+Simulador!$D$34)+F968+M968)","v":0},{"$f":"IF($AB968=0,0,AD967*(1+Simulador!$D$34)+T968)","v":0}]
[{"$f":"IF(OR(A968+1>(IF(Simulador!$E$7=\"Autopatrocínio\",Simulador!$C$10,Simulador!$C$9)-Simulador!$C$8)*12,A968=0),0,A968+1)","v":0},{"$f":"IF($A969=0,0,IF(INT($A968/12)-$A968/12=0,B968*(1+Simulador!$C$35),B968))","v":0},{"$f":"MAX(IF(A969=0,0,B969-IF(Simulador!$C$11=\"Individual\",0,Simulador!$C$14)),0)","v":0},null,0,0,0,0,0,0,null,0,0,0,0,0,0,null,0,0,0,0,0,null,{"$f":"IF(OR(Y968+1>(IF(AND(Simulador!$C$9<Simulador!$C$10,OR(Simulador!$E$7=\"Resgate\",Simulador!$E$7=\"Portabilidade\")),Simulador!$C$9,Simulador!$C$10)-Simulador!$C$8)*12,Y968=0),0,Y968+1)","v":0},{"$f":"IF($Y969=0,0,Z968*(1+Simulador!$D$34)+E969+L969)","v":0},{"$f":"IF($Y969=0,0,AA968*(1+Simulador!$D$34)+S969)","v":0},{"$f":"IF(OR(AB968+1>(IF(AND(Simulador!$C$9<Simulador!$C$10,OR(Simulador!$E$7=\"Resgate\",Simulador!$E$7=\"Portabilidade\")),Simulador!$C$9,Simulador!$C$50)-Simulador!$C$8)*12,AB968=0),0,AB968+1)","v":0},{"$f":"IF($AB969=0,0,AC968*(1+Simulador!$D$34)+F969+M969)","v":0},{"$f":"IF($AB969=0,0,AD968*(1+Simulador!$D$34)+T969)","v":0}]
[{"$f":"IF(OR(A969+1>(IF(Simulador!$E$7=\"Autopatrocínio\",Simulador!$C$10,Simulador!$C$9)-Simulador!$C$8)*12,A969=0),0,A969+1)","v":0},{"$f":"IF($A970=0,0,IF(INT($A969/12)-$A969/12=0,B969*(1+Simulador!$C$35),B969))","v":0},{"$f":"MAX(IF(A970=0,0,B970-IF(Simulador!$C$11=\"Individual\",0,Simulador!$C$14)),0)","v":0},null,0,0,0,0,0,0,null,0,0,0,0,0,0,null,0,0,0,0,0,null,{"$f":"IF(OR(Y969+1>(IF(AND(Simulador!$C$9<Simulador!$C$10,OR(Simulador!$E$7=\"Resgate\",Simulador!$E$7=\"Portabilidade\")),Simulador!$C$9,Simulador!$C$10)-Simulador!$C$8)*12,Y969=0),0,Y969+1)","v":0},{"$f":"IF($Y970=0,0,Z969*(1+Simulador!$D$34)+E970+L970)","v":0},{"$f":"IF($Y970=0,0,AA969*(1+Simulador!$D$34)+S970)","v":0},{"$f":"IF(OR(AB969+1>(IF(AND(Simulador!$C$9<Simulador!$C$10,OR(Simulador!$E$7=\"Resgate\",Simulador!$E$7=\"Portabilidade\")),Simulador!$C$9,Simulador!$C$50)-Simulador!$C$8)*12,AB969=0),0,AB969+1)","v":0},{"$f":"IF($AB970=0,0,AC969*(1+Simulador!$D$34)+F970+M970)","v":0},{"$f":"IF($AB970=0,0,AD969*(1+Simulador!$D$34)+T970)","v":0}]
[{"$f":"IF(OR(A970+1>(IF(Simulador!$E$7=\"Autopatrocínio\",Simulador!$C$10,Simulador!$C$9)-Simulador!$C$8)*12,A970=0),0,A970+1)","v":0},{"$f":"IF($A971=0,0,IF(INT($A970/12)-$A970/12=0,B970*(1+Simulador!$C$35),B970))","v":0},{"$f":"MAX(IF(A971=0,0,B971-IF(Simulador!$C$11=\"Individual\",0,Simulador!$C$14)),0)","v":0},null,0,0,0,0,0,0,null,0,0,0,0,0,0,null,0,0,0,0,0,null,{"$f":"IF(OR(Y970+1>(IF(AND(Simulador!$C$9<Simulador!$C$10,OR(Simulador!$E$7=\"Resgate\",Simulador!$E$7=\"Portabilidade\")),Simulador!$C$9,Simulador!$C$10)-Simulador!$C$8)*12,Y970=0),0,Y970+1)","v":0},{"$f":"IF($Y971=0,0,Z970*(1+Simulador!$D$34)+E971+L971)","v":0},{"$f":"IF($Y971=0,0,AA970*(1+Simulador!$D$34)+S971)","v":0},{"$f":"IF(OR(AB970+1>(IF(AND(Simulador!$C$9<Simulador!$C$10,OR(Simulador!$E$7=\"Resgate\",Simulador!$E$7=\"Portabilidade\")),Simulador!$C$9,Simulador!$C$50)-Simulador!$C$8)*12,AB970=0),0,AB970+1)","v":0},{"$f":"IF($AB971=0,0,AC970*(1+Simulador!$D$34)+F971+M971)","v":0},{"$f":"IF($AB971=0,0,AD970*(1+Simulador!$D$34)+T971)","v":0}]
[{"$f":"IF(OR(A971+1>(IF(Simulador!$E$7=\"Autopatrocínio\",Simulador!$C$10,Simulador!$C$9)-Simulador!$C$8)*12,A971=0),0,A971+1)","v":0},{"$f":"IF($A972=0,0,IF(INT($A971/12)-$A971/12=0,B971*(1+Simulador!$C$35),B971))","v":0},{"$f":"MAX(IF(A972=0,0,B972-IF(Simulador!$C$11=\"Individual\",0,Simulador!$C$14)),0)","v":0},null,0,0,0,0,0,0,null,0,0,0,0,0,0,null,0,0,0,0,0,null,{"$f":"IF(OR(Y971+1>(IF(AND(Simulador!$C$9<Simulador!$C$10,OR(Simulador!$E$7=\"Resgate\",Simulador!$E$7=\"Portabilidade\")),Simulador!$C$9,Simulador!$C$10)-Simulador!$C$8)*12,Y971=0),0,Y971+1)","v":0},{"$f":"IF($Y972=0,0,Z971*(1+Simulador!$D$34)+E972+L972)","v":0},{"$f":"IF($Y972=0,0,AA971*(1+Simulador!$D$34)+S972)","v":0},{"$f":"IF(OR(AB971+1>(IF(AND(Simulador!$C$9<Simulador!$C$10,OR(Simulador!$E$7=\"Resgate\",Simulador!$E$7=\"Portabilidade\")),Simulador!$C$9,Simulador!$C$50)-Simulador!$C$8)*12,AB971=0),0,AB971+1)","v":0},{"$f":"IF($AB972=0,0,AC971*(1+Simulador!$D$34)+F972+M972)","v":0},{"$f":"IF($AB972=0,0,AD971*(1+Simulador!$D$34)+T972)","v":0}]
[{"$f":"IF(OR(A972+1>(IF(Simulador!$E$7=\"Autopatrocínio\",Simulador!$C$10,Simulador!$C$9)-Simulador!$C$8)*12,A972=0),0,A972+1)","v":0},{"$f":"IF($A973=0,0,IF(INT($A972/12)-$A972/12=0,B972*(1+Simulador!$C$35),B972))","v":0},{"$f":"MAX(IF(A973=0,0,B973-IF(Simulador!$C$11=\"Individual\",0,Simulador!$C$14)),0)","v":0},null,0,0,0,0,0,0,null,0,0,0,0,0,0,null,0,0,0,0,0,null,{"$f":"IF(OR(Y972+1>(IF(AND(Simulador!$C$9<Simulador!$C$10,OR(Simulador!$E$7=\"Resgate\",Simulador!$E$7=\"Portabilidade\")),Simulador!$C$9,Simulador!$C$10)-Simulador!$C$8)*12,Y972=0),0,Y972+1)","v":0},{"$f":"IF($Y973=0,0,Z972*(1+Simulador!$D$34)+E973+L973)","v":0},{"$f":"IF($Y973=0,0,AA972*(1+Simulador!$D$34)+S973)","v":0},{"$f":"IF(OR(AB972+1>(IF(AND(Simulador!$C$9<Simulador!$C$10,OR(Simulador!$E$7=\"Resgate\",Simulador!$E$7=\"Portabilidade\")),Simulador!$C$9,Simulador!$C$50)-Simulador!$C$8)*12,AB972=0),0,AB972+1)","v":0},{"$f":"IF($AB973=0,0,AC972*(1+Simulador!$D$34)+F973+M973)","v":0},{"$f":"IF($AB973=0,0,AD972*(1+Simulador!$D$34)+T973)","v":0}]
[{"$f":"IF(OR(A973+1>(IF(Simulador!$E$7=\"Autopatrocínio\",Simulador!$C$10,Simulador!$C$9)-Simulador!$C$8)*12,A973=0),0,A973+1)","v":0},{"$f":"IF($A974=0,0,IF(INT($A973/12)-$A973/12=0,B973*(1+Simulador!$C$35),B973))","v":0},{"$f":"MAX(IF(A974=0,0,B974-IF(Simulador!$C$11=\"Individual\",0,Simulador!$C$14)),0)","v":0},null,0,0,0,0,0,0,null,0,0,0,0,0,0,null,0,0,0,0,0,null,{"$f":"IF(OR(Y973+1>(IF(AND(Simulador!$C$9<Simulador!$C$10,OR(Simulador!$E$7=\"Resgate\",Simulador!$E$7=\"Portabilidade\")),Simulador!$C$9,Simulador!$C$10)-Simulador!$C$8)*12,Y973=0),0,Y973+1)","v":0},{"$f":"IF($Y974=0,0,Z973*(1+Simulador!$D$34)+E974+L974)","v":0},{"$f":"IF($Y974=0,0,AA973*(1+Simulador!$D$34)+S974)","v":0},{"$f":"IF(OR(AB973+1>(IF(AND(Simulador!$C$9<Simulador!$C$10,OR(Simulador!$E$7=\"Resgate\",Simulador!$E$7=\"Portabilidade\")),Simulador!$C$9,Simulador!$C$50)-Simulador!$C$8)*12,AB973=0),0,AB973+1)","v":0},{"$f":"IF($AB974=0,0,AC973*(1+Simulador!$D$34)+F974+M974)","v":0},{"$f":"IF($AB974=0,0,AD973*(1+Simulador!$D$34)+T974)","v":0}]
[{"$f":"IF(OR(A974+1>(IF(Simulador!$E$7=\"Autopatrocínio\",Simulador!$C$10,Simulador!$C$9)-Simulador!$C$8)*12,A974=0),0,A974+1)","v":0},{"$f":"IF($A975=0,0,IF(INT($A974/12)-$A974/12=0,B974*(1+Simulador!$C$35),B974))","v":0},{"$f":"MAX(IF(A975=0,0,B975-IF(Simulador!$C$11=\"Individual\",0,Simulador!$C$14)),0)","v":0},null,0,0,0,0,0,0,null,0,0,0,0,0,0,null,0,0,0,0,0,null,{"$f":"IF(OR(Y974+1>(IF(AND(Simulador!$C$9<Simulador!$C$10,OR(Simulador!$E$7=\"Resgate\",Simulador!$E$7=\"Portabilidade\")),Simulador!$C$9,Simulador!$C$10)-Simulador!$C$8)*12,Y974=0),0,Y974+1)","v":0},{"$f":"IF($Y975=0,0,Z974*(1+Simulador!$D$34)+E975+L975)","v":0},{"$f":"IF($Y975=0,0,AA974*(1+Simulador!$D$34)+S975)","v":0},{"$f":"IF(OR(AB974+1>(IF(AND(Simulador!$C$9<Simulador!$C$10,OR(Simulador!$E$7=\"Resgate\",Simulador!$E$7=\"Portabilidade\")),Simulador!$C$9,Simulador!$C$50)-Simulador!$C$8)*12,AB974=0),0,AB974+1)","v":0},{"$f":"IF($AB975=0,0,AC974*(1+Simulador!$D$34)+F975+M975)","v":0},{"$f":"IF($AB975=0,0,AD974*(1+Simulador!$D$34)+T975)","v":0}]
[{"$f":"IF(OR(A975+1>(IF(Simulador!$E$7=\"Autopatrocínio\",Simulador!$C$10,Simulador!$C$9)-Simulador!$C$8)*12,A975=0),0,A975+1)","v":0},{"$f":"IF($A976=0,0,IF(INT($A975/12)-$A975/12=0,B975*(1+Simulador!$C$35),B975))","v":0},{"$f":"MAX(IF(A976=0,0,B976-IF(Simulador!$C$11=\"Individual\",0,Simulador!$C$14)),0)","v":0},null,0,0,0,0,0,0,null,0,0,0,0,0,0,null,0,0,0,0,0,null,{"$f":"IF(OR(Y975+1>(IF(AND(Simulador!$C$9<Simulador!$C$10,OR(Simulador!$E$7=\"Resgate\",Simulador!$E$7=\"Portabilidade\")),Simulador!$C$9,Simulador!$C$10)-Simulador!$C$8)*12,Y975=0),0,Y975+1)","v":0},{"$f":"IF($Y976=0,0,Z975*(1+Simulador!$D$34)+E976+L976)","v":0},{"$f":"IF($Y976=0,0,AA975*(1+Simulador!$D$34)+S976)","v":0},{"$f":"IF(OR(AB975+1>(IF(AND(Simulador!$C$9<Simulador!$C$10,OR(Simulador!$E$7=\"Resgate\",Simulador!$E$7=\"Portabilidade\")),Simulador!$C$9,Simulador!$C$50)-Simulador!$C$8)*12,AB975=0),0,AB975+1)","v":0},{"$f":"IF($AB976=0,0,AC975*(1+Simulador!$D$34)+F976+M976)","v":0},{"$f":"IF($AB976=0,0,AD975*(1+Simulador!$D$34)+T976)","v":0}]
[{"$f":"IF(OR(A976+1>(IF(Simulador!$E$7=\"Autopatrocínio\",Simulador!$C$10,Simulador!$C$9)-Simulador!$C$8)*12,A976=0),0,A976+1)","v":0},{"$f":"IF($A977=0,0,IF(INT($A976/12)-$A976/12=0,B976*(1+Simulador!$C$35),B976))","v":0},{"$f":"MAX(IF(A977=0,0,B977-IF(Simulador!$C$11=\"Individual\",0,Simulador!$C$14)),0)","v":0},null,0,0,0,0,0,0,null,0,0,0,0,0,0,null,0,0,0,0,0,null,{"$f":"IF(OR(Y976+1>(IF(AND(Simulador!$C$9<Simulador!$C$10,OR(Simulador!$E$7=\"Resgate\",Simulador!$E$7=\"Portabilidade\")),Simulador!$C$9,Simulador!$C$10)-Simulador!$C$8)*12,Y976=0),0,Y976+1)","v":0},{"$f":"IF($Y977=0,0,Z976*(1+Simulador!$D$34)+E977+L977)","v":0},{"$f":"IF($Y977=0,0,AA976*(1+Simulador!$D$34)+S977)","v":0},{"$f":"IF(OR(AB976+1>(IF(AND(Simulador!$C$9<Simulador!$C$10,OR(Simulador!$E$7=\"Resgate\",Simulador!$E$7=\"Portabilidade\")),Simulador!$C$9,Simulador!$C$50)-Simulador!$C$8)*12,AB976=0),0,AB976+1)","v":0},{"$f":"IF($AB977=0,0,AC976*(1+Simulador!$D$34)+F977+M977)","v":0},{"$f":"IF($AB977=0,0,AD976*(1+Simulador!$D$34)+T977)","v":0}]
[{"$f":"IF(OR(A977+1>(IF(Simulador!$E$7=\"Autopatrocínio\",Simulador!$C$10,Simulador!$C$9)-Simulador!$C$8)*12,A977=0),0,A977+1)","v":0},{"$f":"IF($A978=0,0,IF(INT($A977/12)-$A977/12=0,B977*(1+Simulador!$C$35),B977))","v":0},{"$f":"MAX(IF(A978=0,0,B978-IF(Simulador!$C$11=\"Individual\",0,Simulador!$C$14)),0)","v":0},null,0,0,0,0,0,0,null,0,0,0,0,0,0,null,0,0,0,0,0,null,{"$f":"IF(OR(Y977+1>(IF(AND(Simulador!$C$9<Simulador!$C$10,OR(Simulador!$E$7=\"Resgate\",Simulador!$E$7=\"Portabilidade\")),Simulador!$C$9,Simulador!$C$10)-Simulador!$C$8)*12,Y977=0),0,Y977+1)","v":0},{"$f":"IF($Y978=0,0,Z977*(1+Simulador!$D$34)+E978+L978)","v":0},{"$f":"IF($Y978=0,0,AA977*(1+Simulador!$D$34)+S978)","v":0},{"$f":"IF(OR(AB977+1>(IF(AND(Simulador!$C$9<Simulador!$C$10,OR(Simulador!$E$7=\"Resgate\",Simulador!$E$7=\"Portabilidade\")),Simulador!$C$9,Simulador!$C$50)-Simulador!$C$8)*12,AB977=0),0,AB977+1)","v":0},{"$f":"IF($AB978=0,0,AC977*(1+Simulador!$D$34)+F978+M978)","v":0},{"$f":"IF($AB978=0,0,AD977*(1+Simulador!$D$34)+T978)","v":0}]
[{"$f":"IF(OR(A978+1>(IF(Simulador!$E$7=\"Autopatrocínio\",Simulador!$C$10,Simulador!$C$9)-Simulador!$C$8)*12,A978=0),0,A978+1)","v":0},{"$f":"IF($A979=0,0,IF(INT($A978/12)-$A978/12=0,B978*(1+Simulador!$C$35),B978))","v":0},{"$f":"MAX(IF(A979=0,0,B979-IF(Simulador!$C$11=\"Individual\",0,Simulador!$C$14)),0)","v":0},null,0,0,0,0,0,0,null,0,0,0,0,0,0,null,0,0,0,0,0,null,{"$f":"IF(OR(Y978+1>(IF(AND(Simulador!$C$9<Simulador!$C$10,OR(Simulador!$E$7=\"Resgate\",Simulador!$E$7=\"Portabilidade\")),Simulador!$C$9,Simulador!$C$10)-Simulador!$C$8)*12,Y978=0),0,Y978+1)","v":0},{"$f":"IF($Y979=0,0,Z978*(1+Simulador!$D$34)+E979+L979)","v":0},{"$f":"IF($Y979=0,0,AA978*(1+Simulador!$D$34)+S979)","v":0},{"$f":"IF(OR(AB978+1>(IF(AND(Simulador!$C$9<Simulador!$C$10,OR(Simulador!$E$7=\"Resgate\",Simulador!$E$7=\"Portabilidade\")),Simulador!$C$9,Simulador!$C$50)-Simulador!$C$8)*12,AB978=0),0,AB978+1)","v":0},{"$f":"IF($AB979=0,0,AC978*(1+Simulador!$D$34)+F979+M979)","v":0},{"$f":"IF($AB979=0,0,AD978*(1+Simulador!$D$34)+T979)","v":0}]
[{"$f":"IF(OR(A979+1>(IF(Simulador!$E$7=\"Autopatrocínio\",Simulador!$C$10,Simulador!$C$9)-Simulador!$C$8)*12,A979=0),0,A979+1)","v":0},{"$f":"IF($A980=0,0,IF(INT($A979/12)-$A979/12=0,B979*(1+Simulador!$C$35),B979))","v":0},{"$f":"MAX(IF(A980=0,0,B980-IF(Simulador!$C$11=\"Individual\",0,Simulador!$C$14)),0)","v":0},null,0,0,0,0,0,0,null,0,0,0,0,0,0,null,0,0,0,0,0,null,{"$f":"IF(OR(Y979+1>(IF(AND(Simulador!$C$9<Simulador!$C$10,OR(Simulador!$E$7=\"Resgate\",Simulador!$E$7=\"Portabilidade\")),Simulador!$C$9,Simulador!$C$10)-Simulador!$C$8)*12,Y979=0),0,Y979+1)","v":0},{"$f":"IF($Y980=0,0,Z979*(1+Simulador!$D$34)+E980+L980)","v":0},{"$f":"IF($Y980=0,0,AA979*(1+Simulador!$D$34)+S980)","v":0},{"$f":"IF(OR(AB979+1>(IF(AND(Simulador!$C$9<Simulador!$C$10,OR(Simulador!$E$7=\"Resgate\",Simulador!$E$7=\"Portabilidade\")),Simulador!$C$9,Simulador!$C$50)-Simulador!$C$8)*12,AB979=0),0,AB979+1)","v":0},{"$f":"IF($AB980=0,0,AC979*(1+Simulador!$D$34)+F980+M980)","v":0},{"$f":"IF($AB980=0,0,AD979*(1+Simulador!$D$34)+T980)","v":0}]
[{"$f":"IF(OR(A980+1>(IF(Simulador!$E$7=\"Autopatrocínio\",Simulador!$C$10,Simulador!$C$9)-Simulador!$C$8)*12,A980=0),0,A980+1)","v":0},{"$f":"IF($A981=0,0,IF(INT($A980/12)-$A980/12=0,B980*(1+Simulador!$C$35),B980))","v":0},{"$f":"MAX(IF(A981=0,0,B981-IF(Simulador!$C$11=\"Individual\",0,Simulador!$C$14)),0)","v":0},null,0,0,0,0,0,0,null,0,0,0,0,0,0,null,0,0,0,0,0,null,{"$f":"IF(OR(Y980+1>(IF(AND(Simulador!$C$9<Simulador!$C$10,OR(Simulador!$E$7=\"Resgate\",Simulador!$E$7=\"Portabilidade\")),Simulador!$C$9,Simulador!$C$10)-Simulador!$C$8)*12,Y980=0),0,Y980+1)","v":0},{"$f":"IF($Y981=0,0,Z980*(1+Simulador!$D$34)+E981+L981)","v":0},{"$f":"IF($Y981=0,0,AA980*(1+Simulador!$D$34)+S981)","v":0},{"$f":"IF(OR(AB980+1>(IF(AND(Simulador!$C$9<Simulador!$C$10,OR(Simulador!$E$7=\"Resgate\",Simulador!$E$7=\"Portabilidade\")),Simulador!$C$9,Simulador!$C$50)-Simulador!$C$8)*12,AB980=0),0,AB980+1)","v":0},{"$f":"IF($AB981=0,0,AC980*(1+Simulador!$D$34)+F981+M981)","v":0},{"$f":"IF($AB981=0,0,AD980*(1+Simulador!$D$34)+T981)","v":0}]
[{"$f":"IF(OR(A981+1>(IF(Simulador!$E$7=\"Autopatrocínio\",Simulador!$C$10,Simulador!$C$9)-Simulador!$C$8)*12,A981=0),0,A981+1)","v":0},{"$f":"IF($A982=0,0,IF(INT($A981/12)-$A981/12=0,B981*(1+Simulador!$C$35),B981))","v":0},{"$f":"MAX(IF(A982=0,0,B982-IF(Simulador!$C$11=\"Individual\",0,Simulador!$C$14)),0)","v":0},null,0,0,0,0,0,0,null,0,0,0,0,0,0,null,0,0,0,0,0,null,{"$f":"IF(OR(Y981+1>(IF(AND(Simulador!$C$9<Simulador!$C$10,OR(Simulador!$E$7=\"Resgate\",Simulador!$E$7=\"Portabilidade\")),Simulador!$C$9,Simulador!$C$10)-Simulador!$C$8)*12,Y981=0),0,Y981+1)","v":0},{"$f":"IF($Y982=0,0,Z981*(1+Simulador!$D$34)+E982+L982)","v":0},{"$f":"IF($Y982=0,0,AA981*(1+Simulador!$D$34)+S982)","v":0},{"$f":"IF(OR(AB981+1>(IF(AND(Simulador!$C$9<Simulador!$C$10,OR(Simulador!$E$7=\"Resgate\",Simulador!$E$7=\"Portabilidade\")),Simulador!$C$9,Simulador!$C$50)-Simulador!$C$8)*12,AB981=0),0,AB981+1)","v":0},{"$f":"IF($AB982=0,0,AC981*(1+Simulador!$D$34)+F982+M982)","v":0},{"$f":"IF($AB982=0,0,AD981*(1+Simulador!$D$34)+T982)","v":0}]
[{"$f":"IF(OR(A982+1>(IF(Simulador!$E$7=\"Autopatrocínio\",Simulador!$C$10,Simulador!$C$9)-Simulador!$C$8)*12,A982=0),0,A982+1)","v":0},{"$f":"IF($A983=0,0,IF(INT($A982/12)-$A982/12=0,B982*(1+Simulador!$C$35),B982))","v":0},{"$f":"MAX(IF(A983=0,0,B983-IF(Simulador!$C$11=\"Individual\",0,Simulador!$C$14)),0)","v":0},null,0,0,0,0,0,0,null,0,0,0,0,0,0,null,0,0,0,0,0,null,{"$f":"IF(OR(Y982+1>(IF(AND(Simulador!$C$9<Simulador!$C$10,OR(Simulador!$E$7=\"Resgate\",Simulador!$E$7=\"Portabilidade\")),Simulador!$C$9,Simulador!$C$10)-Simulador!$C$8)*12,Y982=0),0,Y982+1)","v":0},{"$f":"IF($Y983=0,0,Z982*(1+Simulador!$D$34)+E983+L983)","v":0},{"$f":"IF($Y983=0,0,AA982*(1+Simulador!$D$34)+S983)","v":0},{"$f":"IF(OR(AB982+1>(IF(AND(Simulador!$C$9<Simulador!$C$10,OR(Simulador!$E$7=\"Resgate\",Simulador!$E$7=\"Portabilidade\")),Simulador!$C$9,Simulador!$C$50)-Simulador!$C$8)*12,AB982=0),0,AB982+1)","v":0},{"$f":"IF($AB983=0,0,AC982*(1+Simulador!$D$34)+F983+M983)","v":0},{"$f":"IF($AB983=0,0,AD982*(1+Simulador!$D$34)+T983)","v":0}]
[{"$f":"IF(OR(A983+1>(IF(Simulador!$E$7=\"Autopatrocínio\",Simulador!$C$10,Simulador!$C$9)-Simulador!$C$8)*12,A983=0),0,A983+1)","v":0},{"$f":"IF($A984=0,0,IF(INT($A983/12)-$A983/12=0,B983*(1+Simulador!$C$35),B983))","v":0},{"$f":"MAX(IF(A984=0,0,B984-IF(Simulador!$C$11=\"Individual\",0,Simulador!$C$14)),0)","v":0},null,0,0,0,0,0,0,null,0,0,0,0,0,0,null,0,0,0,0,0,null,{"$f":"IF(OR(Y983+1>(IF(AND(Simulador!$C$9<Simulador!$C$10,OR(Simulador!$E$7=\"Resgate\",Simulador!$E$7=\"Portabilidade\")),Simulador!$C$9,Simulador!$C$10)-Simulador!$C$8)*12,Y983=0),0,Y983+1)","v":0},{"$f":"IF($Y984=0,0,Z983*(1+Simulador!$D$34)+E984+L984)","v":0},{"$f":"IF($Y984=0,0,AA983*(1+Simulador!$D$34)+S984)","v":0},{"$f":"IF(OR(AB983+1>(IF(AND(Simulador!$C$9<Simulador!$C$10,OR(Simulador!$E$7=\"Resgate\",Simulador!$E$7=\"Portabilidade\")),Simulador!$C$9,Simulador!$C$50)-Simulador!$C$8)*12,AB983=0),0,AB983+1)","v":0},{"$f":"IF($AB984=0,0,AC983*(1+Simulador!$D$34)+F984+M984)","v":0},{"$f":"IF($AB984=0,0,AD983*(1+Simulador!$D$34)+T984)","v":0}]
[{"$f":"IF(OR(A984+1>(IF(Simulador!$E$7=\"Autopatrocínio\",Simulador!$C$10,Simulador!$C$9)-Simulador!$C$8)*12,A984=0),0,A984+1)","v":0},{"$f":"IF($A985=0,0,IF(INT($A984/12)-$A984/12=0,B984*(1+Simulador!$C$35),B984))","v":0},{"$f":"MAX(IF(A985=0,0,B985-IF(Simulador!$C$11=\"Individual\",0,Simulador!$C$14)),0)","v":0},null,0,0,0,0,0,0,null,0,0,0,0,0,0,null,0,0,0,0,0,null,{"$f":"IF(OR(Y984+1>(IF(AND(Simulador!$C$9<Simulador!$C$10,OR(Simulador!$E$7=\"Resgate\",Simulador!$E$7=\"Portabilidade\")),Simulador!$C$9,Simulador!$C$10)-Simulador!$C$8)*12,Y984=0),0,Y984+1)","v":0},{"$f":"IF($Y985=0,0,Z984*(1+Simulador!$D$34)+E985+L985)","v":0},{"$f":"IF($Y985=0,0,AA984*(1+Simulador!$D$34)+S985)","v":0},{"$f":"IF(OR(AB984+1>(IF(AND(Simulador!$C$9<Simulador!$C$10,OR(Simulador!$E$7=\"Resgate\",Simulador!$E$7=\"Portabilidade\")),Simulador!$C$9,Simulador!$C$50)-Simulador!$C$8)*12,AB984=0),0,AB984+1)","v":0},{"$f":"IF($AB985=0,0,AC984*(1+Simulador!$D$34)+F985+M985)","v":0},{"$f":"IF($AB985=0,0,AD984*(1+Simulador!$D$34)+T985)","v":0}]
[{"$f":"IF(OR(A985+1>(IF(Simulador!$E$7=\"Autopatrocínio\",Simulador!$C$10,Simulador!$C$9)-Simulador!$C$8)*12,A985=0),0,A985+1)","v":0},{"$f":"IF($A986=0,0,IF(INT($A985/12)-$A985/12=0,B985*(1+Simulador!$C$35),B985))","v":0},{"$f":"MAX(IF(A986=0,0,B986-IF(Simulador!$C$11=\"Individual\",0,Simulador!$C$14)),0)","v":0},null,0,0,0,0,0,0,null,0,0,0,0,0,0,null,0,0,0,0,0,null,{"$f":"IF(OR(Y985+1>(IF(AND(Simulador!$C$9<Simulador!$C$10,OR(Simulador!$E$7=\"Resgate\",Simulador!$E$7=\"Portabilidade\")),Simulador!$C$9,Simulador!$C$10)-Simulador!$C$8)*12,Y985=0),0,Y985+1)","v":0},{"$f":"IF($Y986=0,0,Z985*(1+Simulador!$D$34)+E986+L986)","v":0},{"$f":"IF($Y986=0,0,AA985*(1+Simulador!$D$34)+S986)","v":0},{"$f":"IF(OR(AB985+1>(IF(AND(Simulador!$C$9<Simulador!$C$10,OR(Simulador!$E$7=\"Resgate\",Simulador!$E$7=\"Portabilidade\")),Simulador!$C$9,Simulador!$C$50)-Simulador!$C$8)*12,AB985=0),0,AB985+1)","v":0},{"$f":"IF($AB986=0,0,AC985*(1+Simulador!$D$34)+F986+M986)","v":0},{"$f":"IF($AB986=0,0,AD985*(1+Simulador!$D$34)+T986)","v":0}]
[{"$f":"IF(OR(A986+1>(IF(Simulador!$E$7=\"Autopatrocínio\",Simulador!$C$10,Simulador!$C$9)-Simulador!$C$8)*12,A986=0),0,A986+1)","v":0},{"$f":"IF($A987=0,0,IF(INT($A986/12)-$A986/12=0,B986*(1+Simulador!$C$35),B986))","v":0},{"$f":"MAX(IF(A987=0,0,B987-IF(Simulador!$C$11=\"Individual\",0,Simulador!$C$14)),0)","v":0},null,0,0,0,0,0,0,null,0,0,0,0,0,0,null,0,0,0,0,0,null,{"$f":"IF(OR(Y986+1>(IF(AND(Simulador!$C$9<Simulador!$C$10,OR(Simulador!$E$7=\"Resgate\",Simulador!$E$7=\"Portabilidade\")),Simulador!$C$9,Simulador!$C$10)-Simulador!$C$8)*12,Y986=0),0,Y986+1)","v":0},{"$f":"IF($Y987=0,0,Z986*(1+Simulador!$D$34)+E987+L987)","v":0},{"$f":"IF($Y987=0,0,AA986*(1+Simulador!$D$34)+S987)","v":0},{"$f":"IF(OR(AB986+1>(IF(AND(Simulador!$C$9<Simulador!$C$10,OR(Simulador!$E$7=\"Resgate\",Simulador!$E$7=\"Portabilidade\")),Simulador!$C$9,Simulador!$C$50)-Simulador!$C$8)*12,AB986=0),0,AB986+1)","v":0},{"$f":"IF($AB987=0,0,AC986*(1+Simulador!$D$34)+F987+M987)","v":0},{"$f":"IF($AB987=0,0,AD986*(1+Simulador!$D$34)+T987)","v":0}]
[{"$f":"IF(OR(A987+1>(IF(Simulador!$E$7=\"Autopatrocínio\",Simulador!$C$10,Simulador!$C$9)-Simulador!$C$8)*12,A987=0),0,A987+1)","v":0},{"$f":"IF($A988=0,0,IF(INT($A987/12)-$A987/12=0,B987*(1+Simulador!$C$35),B987))","v":0},{"$f":"MAX(IF(A988=0,0,B988-IF(Simulador!$C$11=\"Individual\",0,Simulador!$C$14)),0)","v":0},null,0,0,0,0,0,0,null,0,0,0,0,0,0,null,0,0,0,0,0,null,{"$f":"IF(OR(Y987+1>(IF(AND(Simulador!$C$9<Simulador!$C$10,OR(Simulador!$E$7=\"Resgate\",Simulador!$E$7=\"Portabilidade\")),Simulador!$C$9,Simulador!$C$10)-Simulador!$C$8)*12,Y987=0),0,Y987+1)","v":0},{"$f":"IF($Y988=0,0,Z987*(1+Simulador!$D$34)+E988+L988)","v":0},{"$f":"IF($Y988=0,0,AA987*(1+Simulador!$D$34)+S988)","v":0},{"$f":"IF(OR(AB987+1>(IF(AND(Simulador!$C$9<Simulador!$C$10,OR(Simulador!$E$7=\"Resgate\",Simulador!$E$7=\"Portabilidade\")),Simulador!$C$9,Simulador!$C$50)-Simulador!$C$8)*12,AB987=0),0,AB987+1)","v":0},{"$f":"IF($AB988=0,0,AC987*(1+Simulador!$D$34)+F988+M988)","v":0},{"$f":"IF($AB988=0,0,AD987*(1+Simulador!$D$34)+T988)","v":0}]
[{"$f":"IF(OR(A988+1>(IF(Simulador!$E$7=\"Autopatrocínio\",Simulador!$C$10,Simulador!$C$9)-Simulador!$C$8)*12,A988=0),0,A988+1)","v":0},{"$f":"IF($A989=0,0,IF(INT($A988/12)-$A988/12=0,B988*(1+Simulador!$C$35),B988))","v":0},{"$f":"MAX(IF(A989=0,0,B989-IF(Simulador!$C$11=\"Individual\",0,Simulador!$C$14)),0)","v":0},null,{"$f":"E$4*$C989*(1+$J989)","v":0},0,0,0,0,0,null,{"$f":"L$4*$C989*$Q989","v":0},0,0,0,0,0,null,{"$f":"S$4*$C989*(1+$J989)","v":0},0,0,0,0,null,{"$f":"IF(OR(Y988+1>(IF(AND(Simulador!$C$9<Simulador!$C$10,OR(Simulador!$E$7=\"Resgate\",Simulador!$E$7=\"Portabilidade\")),Simulador!$C$9,Simulador!$C$10)-Simulador!$C$8)*12,Y988=0),0,Y988+1)","v":0},{"$f":"IF($Y989=0,0,Z988*(1+Simulador!$D$34)+E989+L989)","v":0},{"$f":"IF($Y989=0,0,AA988*(1+Simulador!$D$34)+S989)","v":0},{"$f":"IF(OR(AB988+1>(IF(AND(Simulador!$C$9<Simulador!$C$10,OR(Simulador!$E$7=\"Resgate\",Simulador!$E$7=\"Portabilidade\")),Simulador!$C$9,Simulador!$C$50)-Simulador!$C$8)*12,AB988=0),0,AB988+1)","v":0},{"$f":"IF($AB989=0,0,AC988*(1+Simulador!$D$34)+F989+M989)","v":0},{"$f":"IF($AB989=0,0,AD988*(1+Simulador!$D$34)+T989)","v":0}]
[{"$f":"IF(OR(A989+1>(IF(Simulador!$E$7=\"Autopatrocínio\",Simulador!$C$10,Simulador!$C$9)-Simulador!$C$8)*12,A989=0),0,A989+1)","v":0},{"$f":"IF($A990=0,0,IF(INT($A989/12)-$A989/12=0,B989*(1+Simulador!$C$35),B989))","v":0},{"$f":"MAX(IF(A990=0,0,B990-IF(Simulador!$C$11=\"Individual\",0,Simulador!$C$14)),0)","v":0},null,0,0,0,0,0,0,null,0,0,0,0,0,0,null,0,0,0,0,0,null,{"$f":"IF(OR(Y989+1>(IF(AND(Simulador!$C$9<Simulador!$C$10,OR(Simulador!$E$7=\"Resgate\",Simulador!$E$7=\"Portabilidade\")),Simulador!$C$9,Simulador!$C$10)-Simulador!$C$8)*12,Y989=0),0,Y989+1)","v":0},{"$f":"IF($Y990=0,0,Z989*(1+Simulador!$D$34)+E990+L990)","v":0},{"$f":"IF($Y990=0,0,AA989*(1+Simulador!$D$34)+S990)","v":0},{"$f":"IF(OR(AB989+1>(IF(AND(Simulador!$C$9<Simulador!$C$10,OR(Simulador!$E$7=\"Resgate\",Simulador!$E$7=\"Portabilidade\")),Simulador!$C$9,Simulador!$C$50)-Simulador!$C$8)*12,AB989=0),0,AB989+1)","v":0},{"$f":"IF($AB990=0,0,AC989*(1+Simulador!$D$34)+F990+M990)","v":0},{"$f":"IF($AB990=0,0,AD989*(1+Simulador!$D$34)+T990)","v":0}]
[{"$f":"IF(OR(A990+1>(IF(Simulador!$E$7=\"Autopatrocínio\",Simulador!$C$10,Simulador!$C$9)-Simulador!$C$8)*12,A990=0),0,A990+1)","v":0},{"$f":"IF($A991=0,0,IF(INT($A990/12)-$A990/12=0,B990*(1+Simulador!$C$35),B990))","v":0},{"$f":"MAX(IF(A991=0,0,B991-IF(Simulador!$C$11=\"Individual\",0,Simulador!$C$14)),0)","v":0},null,0,0,0,0,0,0,null,0,0,0,0,0,0,null,0,0,0,0,0,null,{"$f":"IF(OR(Y990+1>(IF(AND(Simulador!$C$9<Simulador!$C$10,OR(Simulador!$E$7=\"Resgate\",Simulador!$E$7=\"Portabilidade\")),Simulador!$C$9,Simulador!$C$10)-Simulador!$C$8)*12,Y990=0),0,Y990+1)","v":0},{"$f":"IF($Y991=0,0,Z990*(1+Simulador!$D$34)+E991+L991)","v":0},{"$f":"IF($Y991=0,0,AA990*(1+Simulador!$D$34)+S991)","v":0},{"$f":"IF(OR(AB990+1>(IF(AND(Simulador!$C$9<Simulador!$C$10,OR(Simulador!$E$7=\"Resgate\",Simulador!$E$7=\"Portabilidade\")),Simulador!$C$9,Simulador!$C$50)-Simulador!$C$8)*12,AB990=0),0,AB990+1)","v":0},{"$f":"IF($AB991=0,0,AC990*(1+Simulador!$D$34)+F991+M991)","v":0},{"$f":"IF($AB991=0,0,AD990*(1+Simulador!$D$34)+T991)","v":0}]
[{"$f":"IF(OR(A991+1>(IF(Simulador!$E$7=\"Autopatrocínio\",Simulador!$C$10,Simulador!$C$9)-Simulador!$C$8)*12,A991=0),0,A991+1)","v":0},{"$f":"IF($A992=0,0,IF(INT($A991/12)-$A991/12=0,B991*(1+Simulador!$C$35),B991))","v":0},{"$f":"MAX(IF(A992=0,0,B992-IF(Simulador!$C$11=\"Individual\",0,Simulador!$C$14)),0)","v":0},null,0,0,0,0,0,0,null,0,0,0,0,0,0,null,0,0,0,0,0,null,{"$f":"IF(OR(Y991+1>(IF(AND(Simulador!$C$9<Simulador!$C$10,OR(Simulador!$E$7=\"Resgate\",Simulador!$E$7=\"Portabilidade\")),Simulador!$C$9,Simulador!$C$10)-Simulador!$C$8)*12,Y991=0),0,Y991+1)","v":0},{"$f":"IF($Y992=0,0,Z991*(1+Simulador!$D$34)+E992+L992)","v":0},{"$f":"IF($Y992=0,0,AA991*(1+Simulador!$D$34)+S992)","v":0},{"$f":"IF(OR(AB991+1>(IF(AND(Simulador!$C$9<Simulador!$C$10,OR(Simulador!$E$7=\"Resgate\",Simulador!$E$7=\"Portabilidade\")),Simulador!$C$9,Simulador!$C$50)-Simulador!$C$8)*12,AB991=0),0,AB991+1)","v":0},{"$f":"IF($AB992=0,0,AC991*(1+Simulador!$D$34)+F992+M992)","v":0},{"$f":"IF($AB992=0,0,AD991*(1+Simulador!$D$34)+T992)","v":0}]
[{"$f":"IF(OR(A992+1>(IF(Simulador!$E$7=\"Autopatrocínio\",Simulador!$C$10,Simulador!$C$9)-Simulador!$C$8)*12,A992=0),0,A992+1)","v":0},{"$f":"IF($A993=0,0,IF(INT($A992/12)-$A992/12=0,B992*(1+Simulador!$C$35),B992))","v":0},{"$f":"MAX(IF(A993=0,0,B993-IF(Simulador!$C$11=\"Individual\",0,Simulador!$C$14)),0)","v":0},null,0,0,0,0,0,0,null,0,0,0,0,0,0,null,0,0,0,0,0,null,{"$f":"IF(OR(Y992+1>(IF(AND(Simulador!$C$9<Simulador!$C$10,OR(Simulador!$E$7=\"Resgate\",Simulador!$E$7=\"Portabilidade\")),Simulador!$C$9,Simulador!$C$10)-Simulador!$C$8)*12,Y992=0),0,Y992+1)","v":0},{"$f":"IF($Y993=0,0,Z992*(1+Simulador!$D$34)+E993+L993)","v":0},{"$f":"IF($Y993=0,0,AA992*(1+Simulador!$D$34)+S993)","v":0},{"$f":"IF(OR(AB992+1>(IF(AND(Simulador!$C$9<Simulador!$C$10,OR(Simulador!$E$7=\"Resgate\",Simulador!$E$7=\"Portabilidade\")),Simulador!$C$9,Simulador!$C$50)-Simulador!$C$8)*12,AB992=0),0,AB992+1)","v":0},{"$f":"IF($AB993=0,0,AC992*(1+Simulador!$D$34)+F993+M993)","v":0},{"$f":"IF($AB993=0,0,AD992*(1+Simulador!$D$34)+T993)","v":0}]
[{"$f":"IF(OR(A993+1>(IF(Simulador!$E$7=\"Autopatrocínio\",Simulador!$C$10,Simulador!$C$9)-Simulador!$C$8)*12,A993=0),0,A993+1)","v":0},{"$f":"IF($A994=0,0,IF(INT($A993/12)-$A993/12=0,B993*(1+Simulador!$C$35),B993))","v":0},{"$f":"MAX(IF(A994=0,0,B994-IF(Simulador!$C$11=\"Individual\",0,Simulador!$C$14)),0)","v":0},null,0,0,0,0,0,0,null,0,0,0,0,0,0,null,0,0,0,0,0,null,{"$f":"IF(OR(Y993+1>(IF(AND(Simulador!$C$9<Simulador!$C$10,OR(Simulador!$E$7=\"Resgate\",Simulador!$E$7=\"Portabilidade\")),Simulador!$C$9,Simulador!$C$10)-Simulador!$C$8)*12,Y993=0),0,Y993+1)","v":0},{"$f":"IF($Y994=0,0,Z993*(1+Simulador!$D$34)+E994+L994)","v":0},{"$f":"IF($Y994=0,0,AA993*(1+Simulador!$D$34)+S994)","v":0},{"$f":"IF(OR(AB993+1>(IF(AND(Simulador!$C$9<Simulador!$C$10,OR(Simulador!$E$7=\"Resgate\",Simulador!$E$7=\"Portabilidade\")),Simulador!$C$9,Simulador!$C$50)-Simulador!$C$8)*12,AB993=0),0,AB993+1)","v":0},{"$f":"IF($AB994=0,0,AC993*(1+Simulador!$D$34)+F994+M994)","v":0},{"$f":"IF($AB994=0,0,AD993*(1+Simulador!$D$34)+T994)","v":0}]
[{"$f":"IF(OR(A994+1>(IF(Simulador!$E$7=\"Autopatrocínio\",Simulador!$C$10,Simulador!$C$9)-Simulador!$C$8)*12,A994=0),0,A994+1)","v":0},{"$f":"IF($A995=0,0,IF(INT($A994/12)-$A994/12=0,B994*(1+Simulador!$C$35),B994))","v":0},{"$f":"MAX(IF(A995=0,0,B995-IF(Simulador!$C$11=\"Individual\",0,Simulador!$C$14)),0)","v":0},null,0,0,0,0,0,0,null,0,0,0,0,0,0,null,0,0,0,0,0,null,{"$f":"IF(OR(Y994+1>(IF(AND(Simulador!$C$9<Simulador!$C$10,OR(Simulador!$E$7=\"Resgate\",Simulador!$E$7=\"Portabilidade\")),Simulador!$C$9,Simulador!$C$10)-Simulador!$C$8)*12,Y994=0),0,Y994+1)","v":0},{"$f":"IF($Y995=0,0,Z994*(1+Simulador!$D$34)+E995+L995)","v":0},{"$f":"IF($Y995=0,0,AA994*(1+Simulador!$D$34)+S995)","v":0},{"$f":"IF(OR(AB994+1>(IF(AND(Simulador!$C$9<Simulador!$C$10,OR(Simulador!$E$7=\"Resgate\",Simulador!$E$7=\"Portabilidade\")),Simulador!$C$9,Simulador!$C$50)-Simulador!$C$8)*12,AB994=0),0,AB994+1)","v":0},{"$f":"IF($AB995=0,0,AC994*(1+Simulador!$D$34)+F995+M995)","v":0},{"$f":"IF($AB995=0,0,AD994*(1+Simulador!$D$34)+T995)","v":0}]
[{"$f":"IF(OR(A995+1>(IF(Simulador!$E$7=\"Autopatrocínio\",Simulador!$C$10,Simulador!$C$9)-Simulador!$C$8)*12,A995=0),0,A995+1)","v":0},{"$f":"IF($A996=0,0,IF(INT($A995/12)-$A995/12=0,B995*(1+Simulador!$C$35),B995))","v":0},{"$f":"MAX(IF(A996=0,0,B996-IF(Simulador!$C$11=\"Individual\",0,Simulador!$C$14)),0)","v":0},null,0,0,0,0,0,0,null,0,0,0,0,0,0,null,0,0,0,0,0,null,{"$f":"IF(OR(Y995+1>(IF(AND(Simulador!$C$9<Simulador!$C$10,OR(Simulador!$E$7=\"Resgate\",Simulador!$E$7=\"Portabilidade\")),Simulador!$C$9,Simulador!$C$10)-Simulador!$C$8)*12,Y995=0),0,Y995+1)","v":0},{"$f":"IF($Y996=0,0,Z995*(1+Simulador!$D$34)+E996+L996)","v":0},{"$f":"IF($Y996=0,0,AA995*(1+Simulador!$D$34)+S996)","v":0},{"$f":"IF(OR(AB995+1>(IF(AND(Simulador!$C$9<Simulador!$C$10,OR(Simulador!$E$7=\"Resgate\",Simulador!$E$7=\"Portabilidade\")),Simulador!$C$9,Simulador!$C$50)-Simulador!$C$8)*12,AB995=0),0,AB995+1)","v":0},{"$f":"IF($AB996=0,0,AC995*(1+Simulador!$D$34)+F996+M996)","v":0},{"$f":"IF($AB996=0,0,AD995*(1+Simulador!$D$34)+T996)","v":0}]
[{"$f":"IF(OR(A996+1>(IF(Simulador!$E$7=\"Autopatrocínio\",Simulador!$C$10,Simulador!$C$9)-Simulador!$C$8)*12,A996=0),0,A996+1)","v":0},{"$f":"IF($A997=0,0,IF(INT($A996/12)-$A996/12=0,B996*(1+Simulador!$C$35),B996))","v":0},{"$f":"MAX(IF(A997=0,0,B997-IF(Simulador!$C$11=\"Individual\",0,Simulador!$C$14)),0)","v":0},null,0,0,0,0,0,0,null,0,0,0,0,0,0,null,0,0,0,0,0,null,{"$f":"IF(OR(Y996+1>(IF(AND(Simulador!$C$9<Simulador!$C$10,OR(Simulador!$E$7=\"Resgate\",Simulador!$E$7=\"Portabilidade\")),Simulador!$C$9,Simulador!$C$10)-Simulador!$C$8)*12,Y996=0),0,Y996+1)","v":0},{"$f":"IF($Y997=0,0,Z996*(1+Simulador!$D$34)+E997+L997)","v":0},{"$f":"IF($Y997=0,0,AA996*(1+Simulador!$D$34)+S997)","v":0},{"$f":"IF(OR(AB996+1>(IF(AND(Simulador!$C$9<Simulador!$C$10,OR(Simulador!$E$7=\"Resgate\",Simulador!$E$7=\"Portabilidade\")),Simulador!$C$9,Simulador!$C$50)-Simulador!$C$8)*12,AB996=0),0,AB996+1)","v":0},{"$f":"IF($AB997=0,0,AC996*(1+Simulador!$D$34)+F997+M997)","v":0},{"$f":"IF($AB997=0,0,AD996*(1+Simulador!$D$34)+T997)","v":0}]

{"sheet":"Ev. Benefícios","index":4,"n_rows":499,"n_cols":27,"rows_kept":499,"cut":false,"hidden":true,"merged":[[3,23,3,24],[3,26,4,26],[3,14,4,14],[3,15,3,16],[3,17,3,18],[3,20,4,20],[3,21,3,22],[3,12,4,12],[3,1,3,2],[3,3,3,4],[3,0,4,0],[3,7,3,8],[3,9,3,10],[3,6,4,6]]}
[null,null,null,null,null,null,null,"Cota Inicial",1,null,null,null,null,null,null,null,null,null,null,null,null,"Cota Inicial",{"$f":"VLOOKUP(0,$A$6:$M$499,7,0)","v":1}]
[null,null,null,null,null,null,null,"Taxa Rent. Cota",{"$f":"Simulador!$C$34","v":0},null,null,null,null,null,null,null,null,null,null,null,null,"Taxa Rent. Cota",{"$f":"Simulador!$C$34","v":0}]
[null,"Evolução dos Benefícios em R$",null,null,null,null,null,"Evolução dos Benefícios em Cotas",null,null,null,null,null,null,null,"Evolução dos Benefícios de Longevidade em R$",null,null,null,null,null,"Evolução dos Benefícios de Longevidade em Cotas"]
["Mês","Cotas Constantes",null,"Cotas Decrescentes",null,null,"Cota","Cotas Constantes",null,"Cotas Decrescentes",null,null,"Abono",null,"Mês","Cotas Constantes",null,"Cotas Decrescentes",null,null,"Cota","Cotas Constantes",null,"Cotas Decrescentes",null,null,"Abono"]
[null,"Benefício / R$","Saldo / R$","Benefício / R$","Saldo / R$",null,null,"Benefício / Cotas","Saldo / Cotas","Benefício / Cotas","Saldo / Cotas",null,"Abono",null,null,"Benefício / R$","Saldo / R$","Benefício / R$","Saldo / R$",null,null,"Benefício / Cotas","Saldo / Cotas","Benefício / Cotas","Saldo / Cotas",null,"Abono"]
[1,{"$f":"H6*G6","v":{"$error":"#DIV/0!"}},{"$f":"I6*G6","v":0},{"$f":"G6*J6","v":{"$error":"#DIV/0!"}},{"$f":"C6","v":0},null,{"$f":"I1","v":1},{"$f":"I6/IF(Simulador!$C$47=12,Simulador!$C$46,(Simulador!$C$46+ROUNDDOWN(Simulador!$C$46/12,0)))","v":{"$error":"#DIV/0!"}},{"$f":"IF(OR(Simulador!$E$7=\"Resgate\",Simulador!$E$7=\"Portabilidade\"),0,(Simulador!$D$37+Simulador!$D$38-Simulador!$D$43)/G6)","v":0},{"$f":"K6/IF(Simulador!$C$47=12,PV(Simulador!$D$34,Simulador!$C$46,-1,,1),PV(Simulador!$D$34,Simulador!$C$46,-1,,1)+PV(Simulador!$C$34,Simulador!$C$46/12,-1,,0)*((1+Simulador!$C$34)^(1/12)))","v":{"$error":"#DIV/0!"}},{"$f":"I6","v":0},null,{"$f":"IF(Simulador!$C$47=12,0,IF(A6/12=INT(A6/12),1,0))","v":0},null,1,{"$f":"V6*U6","v":0},{"$f":"W6*U6","v":0},{"$f":"U6*X6","v":0},{"$f":"Q6","v":0},null,{"$f":"W1","v":1},{"$f":"W6/IF(Simulador!$C$54=12,Simulador!$C$53,(Simulador!$C$53+ROUNDDOWN(Simulador!$C$53/12,0)))","v":0},{"$f":"IF(OR(Simulador!$E$7=\"Resgate\",Simulador!$E$7=\"Portabilidade\"),0,(Simulador!$D$39+Simulador!$D$40)/U6)","v":0},{"$f":"Y6/IF(Simulador!$C$54=12,PV(Simulador!$D$34,Simulador!$C$53,-1,,1),PV(Simulador!$D$34,Simulador!$C$53,-1,,1)+PV(Simulador!$C$34,Simulador!$C$53/12,-1,,0)*((1+Simulador!$C$34)^(1/12)))","v":0},{"$f":"W6","v":0},null,{"$f":"IF(Simulador!$C$54=12,0,IF(O6/12=INT(O6/12),1,0))","v":0}]
[{"$f":"IF(OR(A6+1>Simulador!$C$46,A6=0),0,A6+1)","v":0},{"$f":"IF($A7=0,0,G7*H7)","v":0},{"$f":"IF($A7=0,0,G7*I7)","v":0},{"$f":"IF($A7=0,0,G7*J7)","v":0},{"$f":"IF($A7=0,0,(E6-D6)*((1+Simulador!$C$34)^(1/12)))","v":0},null,{"$f":"G6*((1+$I$2)^(1/12))","v":1},{"$f":"IF($A7=0,0,$H$6)*(1+M7)","v":0},{"$f":"IF($A7=0,0,I6-H6)","v":0},{"$f":"IF(A7=0,0,J$6/((1+Simulador!$C$34)^((A7-A$6)/12)))*(1+M7)","v":0},{"$f":"IF($A7=0,0,K6-J6)","v":0},null,{"$f":"IF(Simulador!$C$47=12,0,IF(A7/12=INT(A7/12),1,0))","v":1},null,{"$f":"IF(OR(O6+1>Simulador!$C$53,O6=0),0,O6+1)","v":2},{"$f":"IF($A7=0,0,U7*V7)","v":0},{"$f":"IF($O7=0,0,U7*W7)","v":0},{"$f":"IF($A7=0,0,U7*X7)","v":0},{"$f":"IF($O7=0,0,(S6-R6)*((1+Simulador!$C$34)^(1/12)))","v":0},null,{"$f":"U6*((1+$I$2)^(1/12))","v":1},{"$f":"IF($O7=0,0,$V$6)*(1+AA7)","v":0},{"$f":"IF($O7=0,0,W6-V6)","v":0},{"$f":"IF(O7=0,0,X$6/((1+Simulador!$C$34)^((O7-O$6)/12)))*(1+AA7)","v":0},{"$f":"IF($O7=0,0,Y6-X6)","v":0},null,{"$f":"IF(Simulador!$C$54=12,0,IF(O7/12=INT(O7/12),1,0))","v":0}]
[{"$f":"IF(OR(A7+1>Simulador!$C$46,A7=0),0,A7+1)","v":0},0,0,0,{"$f":"IF($A8=0,0,(E7-D7)*((1+Simulador!$C$34)^(1/12)))","v":0},null,1,0,0,{"$f":"IF(A8=0,0,J$6/((1+Simulador!$C$34)^((A8-A$6)/12)))*(1+M8)","v":0},0,null,{"$f":"IF(Simulador!$C$47=12,0,IF(A8/12=INT(A8/12),1,0))","v":1},null,{"$f":"IF(OR(O7+1>Simulador!$C$53,O7=0),0,O7+1)","v":3},0,0,0,{"$f":"IF($O8=0,0,(S7-R7)*((1+Simulador!$C$34)^(1/12)))","v":0},null,1,0,0,{"$f":"IF(O8=0,0,X$6/((1+Simulador!$C$34)^((O8-O$6)/12)))*(1+AA8)","v":0},0,null,{"$f":"IF(Simulador!$C$54=12,0,IF(O8/12=INT(O8/12),1,0))","v":0}]
[{"$f":"IF(OR(A8+1>Simulador!$C$46,A8=0),0,A8+1)","v":0},0,0,0,{"$f":"IF($A9=0,0,(E8-D8)*((1+Simulador!$C$34)^(1/12)))","v":0},null,1,0,0,{"$f":"IF(A9=0,0,J$6/((1+Simulador!$C$34)^((A9-A$6)/12)))*(1+M9)","v":0},0,null,{"$f":"IF(Simulador!$C$47=12,0,IF(A9/12=INT(A9/12),1,0))","v":1},null,{"$f":"IF(OR(O8+1>Simulador!$C$53,O8=0),0,O8+1)","v":4},0,0,0,{"$f":"IF($O9=0,0,(S8-R8)*((1+Simulador!$C$34)^(1/12)))","v":0},null,1,0,0,{"$f":"IF(O9=0,0,X$6/((1+Simulador!$C$34)^((O9-O$6)/12)))*(1+AA9)","v":0},0,null,{"$f":"IF(Simulador!$C$54=12,0,IF(O9/12=INT(O9/12),1,0))","v":0}]
[{"$f":"IF(OR(A9+1>Simulador!$C$46,A9=0),0,A9+1)","v":0},0,0,0,{"$f":"IF($A10=0,0,(E9-D9)*((1+Simulador!$C$34)^(1/12)))","v":0},null,1,0,0,{"$f":"IF(A10=0,0,J$6/((1+Simulador!$C$34)^((A10-A$6)/12)))*(1+M10)","v":0},0,null,{"$f":"IF(Simulador!$C$47=12,0,IF(A10/12=INT(A10/12),1,0))","v":1},null,{"$f":"IF(OR(O9+1>Simulador!$C$53,O9=0),0,O9+1)","v":5},0,0,0,{"$f":"IF($O10=0,0,(S9-R9)*((1+Simulador!$C$34)^(1/12)))","v":0},null,1,0,0,{"$f":"IF(O10=0,0,X$6/((1+Simulador!$C$34)^((O10-O$6)/12)))*(1+AA10)","v":0},0,null,{"$f":"IF(Simulador!$C$54=12,0,IF(O10/12=INT(O10/12),1,0))","v":0}]
[{"$f":"IF(OR(A10+1>Simulador!$C$46,A10=0),0,A10+1)","v":0},0,0,0,{"$f":"IF($A11=0,0,(E10-D10)*((1+Simulador!$C$34)^(1/12)))","v":0},null,1,0,0,{"$f":"IF(A11=0,0,J$6/((1+Simulador!$C$34)^((A11-A$6)/12)))*(1+M11)","v":0},0,null,{"$f":"IF(Simulador!$C$47=12,0,IF(A11/12=INT(A11/12),1,0))","v":1},null,{"$f":"IF(OR(O10+1>Simulador!$C$53,O10=0),0,O10+1)","v":6},0,0,0,{"$f":"IF($O11=0,0,(S10-R10)*((1+Simulador!$C$34)^(1/12)))","v":0},null,1,0,0,{"$f":"IF(O11=0,0,X$6/((1+Simulador!$C$34)^((O11-O$6)/12)))*(1+AA11)","v":0},0,null,{"$f":"IF(Simulador!$C$54=12,0,IF(O11/12=INT(O11/12),1,0))","v":0}]
[{"$f":"IF(OR(A11+1>Simulador!$C$46,A11=0),0,A11+1)","v":0},0,0,0,{"$f":"IF($A12=0,0,(E11-D11)*((1+Simulador!$C$34)^(1/12)))","v":0},null,1,0,0,{"$f":"IF(A12=0,0,J$6/((1+Simulador!$C$34)^((A12-A$6)/12)))*(1+M12)","v":0},0,null,{"$f":"IF(Simulador!$C$47=12,0,IF(A12/12=INT(A12/12),1,0))","v":1},null,{"$f":"IF(OR(O11+1>Simulador!$C$53,O11=0),0,O11+1)","v":7},0,0,0,{"$f":"IF($O12=0,0,(S11-R11)*((1+Simulador!$C$34)^(1/12)))","v":0},null,1,0,0,{"$f":"IF(O12=0,0,X$6/((1+Simulador!$C$34)^((O12-O$6)/12)))*(1+AA12)","v":0},0,null,{"$f":"IF(Simulador!$C$54=12,0,IF(O12/12=INT(O12/12),1,0))","v":0}]
[{"$f":"IF(OR(A12+1>Simulador!$C$46,A12=0),0,A12+1)","v":0},0,0,0,{"$f":"IF($A13=0,0,(E12-D12)*((1+Simulador!$C$34)^(1/12)))","v":0},null,1,0,0,{"$f":"IF(A13=0,0,J$6/((1+Simulador!$C$34)^((A13-A$6)/12)))*(1+M13)","v":0},0,null,{"$f":"IF(Simulador!$C$47=12,0,IF(A13/12=INT(A13/12),1,0))","v":1},null,{"$f":"IF(OR(O12+1>Simulador!$C$53,O12=0),0,O12+1)","v":8},0,0,0,{"$f":"IF($O13=0,0,(S12-R12)*((1+Simulador!$C$34)^(1/12)))","v":0},null,1,0,0,{"$f":"IF(O13=0,0,X$6/((1+Simulador!$C$34)^((O13-O$6)/12)))*(1+AA13)","v":0},0,null,{"$f":"IF(Simulador!$C$54=12,0,IF(O13/12=INT(O13/12),1,0))","v":0}]
[{"$f":"IF(OR(A13+1>Simulador!$C$46,A13=0),0,A13+1)","v":0},0,0,0,{"$f":"IF($A14=0,0,(E13-D13)*((1+Simulador!$C$34)^(1/12)))","v":0},null,1,0,0,{"$f":"IF(A14=0,0,J$6/((1+Simulador!$C$34)^((A14-A$6)/12)))*(1+M14)","v":0},0,null,{"$f":"IF(Simulador!$C$47=12,0,IF(A14/12=INT(A14/12),1,0))","v":1},null,{"$f":"IF(OR(O13+1>Simulador!$C$53,O13=0),0,O13+1)","v":9},0,0,0,{"$f":"IF($O14=0,0,(S13-R13)*((1+Simulador!$C$34)^(1/12)))","v":0},null,1,0,0,{"$f":"IF(O14=0,0,X$6/((1+Simulador!$C$34)^((O14-O$6)/12)))*(1+AA14)","v":0},0,null,{"$f":"IF(Simulador!$C$54=12,0,IF(O14/12=INT(O14/12),1,0))","v":0}]
[{"$f":"IF(OR(A14+1>Simulador!$C$46,A14=0),0,A14+1)","v":0},0,0,0,{"$f":"IF($A15=0,0,(E14-D14)*((1+Simulador!$C$34)^(1/12)))","v":0},null,1,0,0,{"$f":"IF(A15=0,0,J$6/((1+Simulador!$C$34)^((A15-A$6)/12)))*(1+M15)","v":0},0,null,{"$f":"IF(Simulador!$C$47=12,0,IF(A15/12=INT(A15/12),1,0))","v":1},null,{"$f":"IF(OR(O14+1>Simulador!$C$53,O14=0),0,O14+1)","v":10},0,0,0,{"$f":"IF($O15=0,0,(S14-R14)*((1+Simulador!$C$34)^(1/12)))","v":0},null,1,0,0,{"$f":"IF(O15=0,0,X$6/((1+Simulador!$C$34)^((O15-O$6)/12)))*(1+AA15)","v":0},0,null,{"$f":"IF(Simulador!$C$54=12,0,IF(O15/12=INT(O15/12),1,0))","v":0}]
[{"$f":"IF(OR(A15+1>Simulador!$C$46,A15=0),0,A15+1)","v":0},0,0,0,{"$f":"IF($A16=0,0,(E15-D15)*((1+Simulador!$C$34)^(1/12)))","v":0},null,1,0,0,{"$f":"IF(A16=0,0,J$6/((1+Simulador!$C$34)^((A16-A$6)/12)))*(1+M16)","v":0},0,null,{"$f":"IF(Simulador!$C$47=12,0,IF(A16/12=INT(A16/12),1,0))","v":1},null,{"$f":"IF(OR(O15+1>Simulador!$C$53,O15=0),0,O15+1)","v":11},0,0,0,{"$f":"IF($O16=0,0,(S15-R15)*((1+Simulador!$C$34)^(1/12)))","v":0},null,1,0,0,{"$f":"IF(O16=0,0,X$6/((1+Simulador!$C$34)^((O16-O$6)/12)))*(1+AA16)","v":0},0,null,{"$f":"IF(Simulador!$C$54=12,0,IF(O16/12=INT(O16/12),1,0))","v":0}]
[{"$f":"IF(OR(A16+1>Simulador!$C$46,A16=0),0,A16+1)","v":0},0,0,0,{"$f":"IF($A17=0,0,(E16-D16)*((1+Simulador!$C$34)^(1/12)))","v":0},null,1,0,0,{"$f":"IF(A17=0,0,J$6/((1+Simulador!$C$34)^((A17-A$6)/12)))*(1+M17)","v":0},0,null,{"$f":"IF(Simulador!$C$47=12,0,IF(A17/12=INT(A17/12),1,0))","v":1},null,{"$f":"IF(OR(O16+1>Simulador!$C$53,O16=0),0,O16+1)","v":12},0,0,0,{"$f":"IF($O17=0,0,(S16-R16)*((1+Simulador!$C$34)^(1/12)))","v":0},null,1,0,0,{"$f":"IF(O17=0,0,X$6/((1+Simulador!$C$34)^((O17-O$6)/12)))*(1+AA17)","v":0},0,null,{"$f":"IF(Simulador!$C$54=12,0,IF(O17/12=INT(O17/12),1,0))","v":0}]
[{"$f":"IF(OR(A17+1>Simulador!$C$46,A17=0),0,A17+1)","v":0},0,0,0,{"$f":"IF($A18=0,0,(E17-D17)*((1+Simulador!$C$34)^(1/12)))","v":0},null,1,0,0,{"$f":"IF(A18=0,0,J$6/((1+Simulador!$C$34)^((A18-A$6)/12)))*(1+M18)","v":0},0,null,{"$f":"IF(Simulador!$C$47=12,0,IF(A18/12=INT(A18/12),1,0))","v":1},null,{"$f":"IF(OR(O17+1>Simulador!$C$53,O17=0),0,O17+1)","v":13},0,0,0,{"$f":"IF($O18=0,0,(S17-R17)*((1+Simulador!$C$34)^(1/12)))","v":0},null,1,0,0,{"$f":"IF(O18=0,0,X$6/((1+Simulador!$C$34)^((O18-O$6)/12)))*(1+AA18)","v":0},0,null,{"$f":"IF(Simulador!$C$54=12,0,IF(O18/12=INT(O18/12),1,0))","v":0}]
[{"$f":"IF(OR(A18+1>Simulador!$C$46,A18=0),0,A18+1)","v":0},0,0,0,{"$f":"IF($A19=0,0,(E18-D18)*((1+Simulador!$C$34)^(1/12)))","v":0},null,1,0,0,{"$f":"IF(A19=0,0,J$6/((1+Simulador!$C$34)^((A19-A$6)/12)))*(1+M19)","v":0},0,null,{"$f":"IF(Simulador!$C$47=12,0,IF(A19/12=INT(A19/12),1,0))","v":1},null,{"$f":"IF(OR(O18+1>Simulador!$C$53,O18=0),0,O18+1)","v":14},0,0,0,{"$f":"IF($O19=0,0,(S18-R18)*((1+Simulador!$C$34)^(1/12)))","v":0},null,1,0,0,{"$f":"IF(O19=0,0,X$6/((1+Simulador!$C$34)^((O19-O$6)/12)))*(1+AA19)","v":0},0,null,{"$f":"IF(Simulador!$C$54=12,0,IF(O19/12=INT(O19/12),1,0))","v":0}]
[{"$f":"IF(OR(A19+1>Simulador!$C$46,A19=0),0,A19+1)","v":0},0,0,0,{"$f":"IF($A20=0,0,(E19-D19)*((1+Simulador!$C$34)^(1/12)))","v":0},null,1,0,0,{"$f":"IF(A20=0,0,J$6/((1+Simulador!$C$34)^((A20-A$6)/12)))*(1+M20)","v":0},0,null,{"$f":"IF(Simulador!$C$47=12,0,IF(A20/12=INT(A20/12),1,0))","v":1},null,{"$f":"IF(OR(O19+1>Simulador!$C$53,O19=0),0,O19+1)","v":15},0,0,0,{"$f":"IF($O20=0,0,(S19-R19)*((1+Simulador!$C$34)^(1/12)))","v":0},null,1,0,0,{"$f":"IF(O20=0,0,X$6/((1+Simulador!$C$34)^((O20-O$6)/12)))*(1+AA20)","v":0},0,null,{"$f":"IF(Simulador!$C$54=12,0,IF(O20/12=INT(O20/12),1,0))","v":0}]
[{"$f":"IF(OR(A20+1>Simulador!$C$46,A20=0),0,A20+1)","v":0},0,0,0,{"$f":"IF($A21=0,0,(E20-D20)*((1+Simulador!$C$34)^(1/12)))","v":0},null,1,0,0,{"$f":"IF(A21=0,0,J$6/((1+Simulador!$C$34)^((A21-A$6)/12)))*(1+M21)","v":0},0,null,{"$f":"IF(Simulador!$C$47=12,0,IF(A21/12=INT(A21/12),1,0))","v":1},null,{"$f":"IF(OR(O20+1>Simulador!$C$53,O20=0),0,O20+1)","v":16},0,0,0,{"$f":"IF($O21=0,0,(S20-R20)*((1+Simulador!$C$34)^(1/12)))","v":0},null,1,0,0,{"$f":"IF(O21=0,0,X$6/((1+Simulador!$C$34)^((O21-O$6)/12)))*(1+AA21)","v":0},0,null,{"$f":"IF(Simulador!$C$54=12,0,IF(O21/12=INT(O21/12),1,0))","v":0}]
[{"$f":"IF(OR(A21+1>Simulador!$C$46,A21=0),0,A21+1)","v":0},0,0,0,{"$f":"IF($A22=0,0,(E21-D21)*((1+Simulador!$C$34)^(1/12)))","v":0},null,1,0,0,{"$f":"IF(A22=0,0,J$6/((1+Simulador!$C$34)^((A22-A$6)/12)))*(1+M22)","v":0},0,null,{"$f":"IF(Simulador!$C$47=12,0,IF(A22/12=INT(A22/12),1,0))","v":1},null,{"$f":"IF(OR(O21+1>Simulador!$C$53,O21=0),0,O21+1)","v":17},0,0,0,{"$f":"IF($O22=0,0,(S21-R21)*((1+Simulador!$C$34)^(1/12)))","v":0},null,1,0,0,{"$f":"IF(O22=0,0,X$6/((1+Simulador!$C$34)^((O22-O$6)/12)))*(1+AA22)","v":0},0,null,{"$f":"IF(Simulador!$C$54=12,0,IF(O22/12=INT(O22/12),1,0))","v":0}]
[{"$f":"IF(OR(A22+1>Simulador!$C$46,A22=0),0,A22+1)","v":0},0,0,0,{"$f":"IF($A23=0,0,(E22-D22)*((1+Simulador!$C$34)^(1/12)))","v":0},null,1,0,0,{"$f":"IF(A23=0,0,J$6/((1+Simulador!$C$34)^((A23-A$6)/12)))*(1+M23)","v":0},0,null,{"$f":"IF(Simulador!$C$47=12,0,IF(A23/12=INT(A23/12),1,0))","v":1},null,{"$f":"IF(OR(O22+1>Simulador!$C$53,O22=0),0,O22+1)","v":18},0,0,0,{"$f":"IF($O23=0,0,(S22-R22)*((1+Simulador!$C$34)^(1/12)))","v":0},null,1,0,0,{"$f":"IF(O23=0,0,X$6/((1+Simulador!$C$34)^((O23-O$6)/12)))*(1+AA23)","v":0},0,null,{"$f":"IF(Simulador!$C$54=12,0,IF(O23/12=INT(O23/12),1,0))","v":0}]
[{"$f":"IF(OR(A23+1>Simulador!$C$46,A23=0),0,A23+1)","v":0},0,0,0,{"$f":"IF($A24=0,0,(E23-D23)*((1+Simulador!$C$34)^(1/12)))","v":0},null,1,0,0,{"$f":"IF(A24=0,0,J$6/((1+Simulador!$C$34)^((A24-A$6)/12)))*(1+M24)","v":0},0,null,{"$f":"IF(Simulador!$C$47=12,0,IF(A24/12=INT(A24/12),1,0))","v":1},null,{"$f":"IF(OR(O23+1>Simulador!$C$53,O23=0),0,O23+1)","v":19},0,0,0,{"$f":"IF($O24=0,0,(S23-R23)*((1+Simulador!$C$34)^(1/12)))","v":0},null,1,0,0,{"$f":"IF(O24=0,0,X$6/((1+Simulador!$C$34)^((O24-O$6)/12)))*(1+AA24)","v":0},0,null,{"$f":"IF(Simulador!$C$54=12,0,IF(O24/12=INT(O24/12),1,0))","v":0}]
[{"$f":"IF(OR(A24+1>Simulador!$C$46,A24=0),0,A24+1)","v":0},0,0,0,{"$f":"IF($A25=0,0,(E24-D24)*((1+Simulador!$C$34)^(1/12)))","v":0},null,1,0,0,{"$f":"IF(A25=0,0,J$6/((1+Simulador!$C$34)^((A25-A$6)/12)))*(1+M25)","v":0},0,null,{"$f":"IF(Simulador!$C$47=12,0,IF(A25/12=INT(A25/12),1,0))","v":1},null,{"$f":"IF(OR(O24+1>Simulador!$C$53,O24=0),0,O24+1)","v":20},0,0,0,{"$f":"IF($O25=0,0,(S24-R24)*((1+Simulador!$C$34)^(1/12)))","v":0},null,1,0,0,{"$f":"IF(O25=0,0,X$6/((1+Simulador!$C$34)^((O25-O$6)/12)))*(1+AA25)","v":0},0,null,{"$f":"IF(Simulador!$C$54=12,0,IF(O25/12=INT(O25/12),1,0))","v":0}]
[{"$f":"IF(OR(A25+1>Simulador!$C$46,A25=0),0,A25+1)","v":0},0,0,0,{"$f":"IF($A26=0,0,(E25-D25)*((1+Simulador!$C$34)^(1/12)))","v":0},null,1,0,0,{"$f":"IF(A26=0,0,J$6/((1+Simulador!$C$34)^((A26-A$6)/12)))*(1+M26)","v":0},0,null,{"$f":"IF(Simulador!$C$47=12,0,IF(A26/12=INT(A26/12),1,0))","v":1},null,{"$f":"IF(OR(O25+1>Simulador!$C$53,O25=0),0,O25+1)","v":21},0,0,0,{"$f":"IF($O26=0,0,(S25-R25)*((1+Simulador!$C$34)^(1/12)))","v":0},null,1,0,0,{"$f":"IF(O26=0,0,X$6/((1+Simulador!$C$34)^((O26-O$6)/12)))*(1+AA26)","v":0},0,null,{"$f":"IF(Simulador!$C$54=12,0,IF(O26/12=INT(O26/12),1,0))","v":0}]
[{"$f":"IF(OR(A26+1>Simulador!$C$46,A26=0),0,A26+1)","v":0},0,0,0,{"$f":"IF($A27=0,0,(E26-D26)*((1+Simulador!$C$34)^(1/12)))","v":0},null,1,0,0,{"$f":"IF(A27=0,0,J$6/((1+Simulador!$C$34)^((A27-A$6)/12)))*(1+M27)","v":0},0,null,{"$f":"IF(Simulador!$C$47=12,0,IF(A27/12=INT(A27/12),1,0))","v":1},null,{"$f":"IF(OR(O26+1>Simulador!$C$53,O26=0),0,O26+1)","v":22},0,0,0,{"$f":"IF($O27=0,0,(S26-R26)*((1+Simulador!$C$34)^(1/12)))","v":0},null,1,0,0,{"$f":"IF(O27=0,0,X$6/((1+Simulador!$C$34)^((O27-O$6)/12)))*(1+AA27)","v":0},0,null,{"$f":"IF(Simulador!$C$54=12,0,IF(O27/12=INT(O27/12),1,0))","v":0}]
[{"$f":"IF(OR(A27+1>Simulador!$C$46,A27=0),0,A27+1)","v":0},0,0,0,{"$f":"IF($A28=0,0,(E27-D27)*((1+Simulador!$C$34)^(1/12)))","v":0},null,1,0,0,{"$f":"IF(A28=0,0,J$6/((1+Simulador!$C$34)^((A28-A$6)/12)))*(1+M28)","v":0},0,null,{"$f":"IF(Simulador!$C$47=12,0,IF(A28/12=INT(A28/12),1,0))","v":1},null,{"$f":"IF(OR(O27+1>Simulador!$C$53,O27=0),0,O27+1)","v":23},0,0,0,{"$f":"IF($O28=0,0,(S27-R27)*((1+Simulador!$C$34)^(1/12)))","v":0},null,1,0,0,{"$f":"IF(O28=0,0,X$6/((1+Simulador!$C$34)^((O28-O$6)/12)))*(1+AA28)","v":0},0,null,{"$f":"IF(Simulador!$C$54=12,0,IF(O28/12=INT(O28/12),1,0))","v":0}]
[{"$f":"IF(OR(A28+1>Simulador!$C$46,A28=0),0,A28+1)","v":0},0,0,0,{"$f":"IF($A29=0,0,(E28-D28)*((1+Simulador!$C$34)^(1/12)))","v":0},null,1,0,0,{"$f":"IF(A29=0,0,J$6/((1+Simulador!$C$34)^((A29-A$6)/12)))*(1+M29)","v":0},0,null,{"$f":"IF(Simulador!$C$47=12,0,IF(A29/12=INT(A29/12),1,0))","v":1},null,{"$f":"IF(OR(O28+1>Simulador!$C$53,O28=0),0,O28+1)","v":24},0,0,0,{"$f":"IF($O29=0,0,(S28-R28)*((1+Simulador!$C$34)^(1/12)))","v":0},null,1,0,0,{"$f":"IF(O29=0,0,X$6/((1+Simulador!$C$34)^((O29-O$6)/12)))*(1+AA29)","v":0},0,null,{"$f":"IF(Simulador!$C$54=12,0,IF(O29/12=INT(O29/12),1,0))","v":0}]
[{"$f":"IF(OR(A29+1>Simulador!$C$46,A29=0),0,A29+1)","v":0},0,0,0,{"$f":"IF($A30=0,0,(E29-D29)*((1+Simulador!$C$34)^(1/12)))","v":0},null,1,0,0,{"$f":"IF(A30=0,0,J$6/((1+Simulador!$C$34)^((A30-A$6)/12)))*(1+M30)","v":0},0,null,{"$f":"IF(Simulador!$C$47=12,0,IF(A30/12=INT(A30/12),1,0))","v":1},null,{"$f":"IF(OR(O29+1>Simulador!$C$53,O29=0),0,O29+1)","v":25},0,0,0,{"$f":"IF($O30=0,0,(S29-R29)*((1+Simulador!$C$34)^(1/12)))","v":0},null,1,0,0,{"$f":"IF(O30=0,0,X$6/((1+Simulador!$C$34)^((O30-O$6)/12)))*(1+AA30)","v":0},0,null,{"$f":"IF(Simulador!$C$54=12,0,IF(O30/12=INT(O30/12),1,0))","v":0}]
[{"$f":"IF(OR(A30+1>Simulador!$C$46,A30=0),0,A30+1)","v":0},0,0,0,{"$f":"IF($A31=0,0,(E30-D30)*((1+Simulador!$C$34)^(1/12)))","v":0},null,1,0,0,{"$f":"IF(A31=0,0,J$6/((1+Simulador!$C$34)^((A31-A$6)/12)))*(1+M31)","v":0},0,null,{"$f":"IF(Simulador!$C$47=12,0,IF(A31/12=INT(A31/12),1,0))","v":1},null,{"$f":"IF(OR(O30+1>Simulador!$C$53,O30=0),0,O30+1)","v":26},0,0,0,{"$f":"IF($O31=0,0,(S30-R30)*((1+Simulador!$C$34)^(1/12)))","v":0},null,1,0,0,{"$f":"IF(O31=0,0,X$6/((1+Simulador!$C$34)^((O31-O$6)/12)))*(1+AA31)","v":0},0,null,{"$f":"IF(Simulador!$C$54=12,0,IF(O31/12=INT(O31/12),1,0))","v":0}]
[{"$f":"IF(OR(A31+1>Simulador!$C$46,A31=0),0,A31+1)","v":0},0,0,0,{"$f":"IF($A32=0,0,(E31-D31)*((1+Simulador!$C$34)^(1/12)))","v":0},null,1,0,0,{"$f":"IF(A32=0,0,J$6/((1+Simulador!$C$34)^((A32-A$6)/12)))*(1+M32)","v":0},0,null,{"$f":"IF(Simulador!$C$47=12,0,IF(A32/12=INT(A32/12),1,0))","v":1},null,{"$f":"IF(OR(O31+1>Simulador!$C$53,O31=0),0,O31+1)","v":27},0,0,0,{"$f":"IF($O32=0,0,(S31-R31)*((1+Simulador!$C$34)^(1/12)))","v":0},null,1,0,0,{"$f":"IF(O32=0,0,X$6/((1+Simulador!$C$34)^((O32-O$6)/12)))*(1+AA32)","v":0},0,null,{"$f":"IF(Simulador!$C$54=12,0,IF(O32/12=INT(O32/12),1,0))","v":0}]
[{"$f":"IF(OR(A32+1>Simulador!$C$46,A32=0),0,A32+1)","v":0},0,0,0,{"$f":"IF($A33=0,0,(E32-D32)*((1+Simulador!$C$34)^(1/12)))","v":0},null,1,0,0,{"$f":"IF(A33=0,0,J$6/((1+Simulador!$C$34)^((A33-A$6)/12)))*(1+M33)","v":0},0,null,{"$f":"IF(Simulador!$C$47=12,0,IF(A33/12=INT(A33/12),1,0))","v":1},null,{"$f":"IF(OR(O32+1>Simulador!$C$53,O32=0),0,O32+1)","v":28},0,0,0,{"$f":"IF($O33=0,0,(S32-R32)*((1+Simulador!$C$34)^(1/12)))","v":0},null,1,0,0,{"$f":"IF(O33=0,0,X$6/((1+Simulador!$C$34)^((O33-O$6)/12)))*(1+AA33)","v":0},0,null,{"$f":"IF(Simulador!$C$54=12,0,IF(O33/12=INT(O33/12),1,0))","v":0}]
[{"$f":"IF(OR(A33+1>Simulador!$C$46,A33=0),0,A33+1)","v":0},0,0,0,{"$f":"IF($A34=0,0,(E33-D33)*((1+Simulador!$C$34)^(1/12)))","v":0},null,1,0,0,{"$f":"IF(A34=0,0,J$6/((1+Simulador!$C$34)^((A34-A$6)/12)))*(1+M34)","v":0},0,null,{"$f":"IF(Simulador!$C$47=12,0,IF(A34/12=INT(A34/12),1,0))","v":1},null,{"$f":"IF(OR(O33+1>Simulador!$C$53,O33=0),0,O33+1)","v":29},0,0,0,{"$f":"IF($O34=0,0,(S33-R33)*((1+Simulador!$C$34)^(1/12)))","v":0},null,1,0,0,{"$f":"IF(O34=0,0,X$6/((1+Simulador!$C$34)^((O34-O$6)/12)))*(1+AA34)","v":0},0,null,{"$f":"IF(Simulador!$C$54=12,0,IF(O34/12=INT(O34/12),1,0))","v":0}]
[{"$f":"IF(OR(A34+1>Simulador!$C$46,A34=0),0,A34+1)","v":0},0,0,0,{"$f":"IF($A35=0,0,(E34-D34)*((1+Simulador!$C$34)^(1/12)))","v":0},null,1,0,0,{"$f":"IF(A35=0,0,J$6/((1+Simulador!$C$34)^((A35-A$6)/12)))*(1+M35)","v":0},0,null,{"$f":"IF(Simulador!$C$47=12,0,IF(A35/12=INT(A35/12),1,0))","v":1},null,{"$f":"IF(OR(O34+1>Simulador!$C$53,O34=0),0,O34+1)","v":30},0,0,0,{"$f":"IF($O35=0,0,(S34-R34)*((1+Simulador!$C$34)^(1/12)))","v":0},null,1,0,0,{"$f":"IF(O35=0,0,X$6/((1+Simulador!$C$34)^((O35-O$6)/12)))*(1+AA35)","v":0},0,null,{"$f":"IF(Simulador!$C$54=12,0,IF(O35/12=INT(O35/12),1,0))","v":0}]
[{"$f":"IF(OR(A35+1>Simulador!$C$46,A35=0),0,A35+1)","v":0},0,0,0,{"$f":"IF($A36=0,0,(E35-D35)*((1+Simulador!$C$34)^(1/12)))","v":0},null,1,0,0,{"$f":"IF(A36=0,0,J$6/((1+Simulador!$C$34)^((A36-A$6)/12)))*(1+M36)","v":0},0,null,{"$f":"IF(Simulador!$C$47=12,0,IF(A36/12=INT(A36/12),1,0))","v":1},null,{"$f":"IF(OR(O35+1>Simulador!$C$53,O35=0),0,O35+1)","v":31},0,0,0,{"$f":"IF($O36=0,0,(S35-R35)*((1+Simulador!$C$34)^(1/12)))","v":0},null,1,0,0,{"$f":"IF(O36=0,0,X$6/((1+Simulador!$C$34)^((O36-O$6)/12)))*(1+AA36)","v":0},0,null,{"$f":"IF(Simulador!$C$54=12,0,IF(O36/12=INT(O36/12),1,0))","v":0}]
[{"$f":"IF(OR(A36+1>Simulador!$C$46,A36=0),0,A36+1)","v":0},0,0,0,{"$f":"IF($A37=0,0,(E36-D36)*((1+Simulador!$C$34)^(1/12)))","v":0},null,1,0,0,{"$f":"IF(A37=0,0,J$6/((1+Simulador!$C$34)^((A37-A$6)/12)))*(1+M37)","v":0},0,null,{"$f":"IF(Simulador!$C$47=12,0,IF(A37/12=INT(A37/12),1,0))","v":1},null,{"$f":"IF(OR(O36+1>Simulador!$C$53,O36=0),0,O36+1)","v":32},0,0,0,{"$f":"IF($O37=0,0,(S36-R36)*((1+Simulador!$C$34)^(1/12)))","v":0},null,1,0,0,{"$f":"IF(O37=0,0,X$6/((1+Simulador!$C$34)^((O37-O$6)/12)))*(1+AA37)","v":0},0,null,{"$f":"IF(Simulador!$C$54=12,0,IF(O37/12=INT(O37/12),1,0))","v":0}]
[{"$f":"IF(OR(A37+1>Simulador!$C$46,A37=0),0,A37+1)","v":0},0,0,0,{"$f":"IF($A38=0,0,(E37-D37)*((1+Simulador!$C$34)^(1/12)))","v":0},null,1,0,0,{"$f":"IF(A38=0,0,J$6/((1+Simulador!$C$34)^((A38-A$6)/12)))*(1+M38)","v":0},0,null,{"$f":"IF(Simulador!$C$47=12,0,IF(A38/12=INT(A38/12),1,0))","v":1},null,{"$f":"IF(OR(O37+1>Simulador!$C$53,O37=0),0,O37+1)","v":33},0,0,0,{"$f":"IF($O38=0,0,(S37-R37)*((1+Simulador!$C$34)^(1/12)))","v":0},null,1,0,0,{"$f":"IF(O38=0,0,X$6/((1+Simulador!$C$34)^((O38-O$6)/12)))*(1+AA38)","v":0},0,null,{"$f":"IF(Simulador!$C$54=12,0,IF(O38/12=INT(O38/12),1,0))","v":0}]
[{"$f":"IF(OR(A38+1>Simulador!$C$46,A38=0),0,A38+1)","v":0},0,0,0,{"$f":"IF($A39=0,0,(E38-D38)*((1+Simulador!$C$34)^(1/12)))","v":0},null,1,0,0,{"$f":"IF(A39=0,0,J$6/((1+Simulador!$C$34)^((A39-A$6)/12)))*(1+M39)","v":0},0,null,{"$f":"IF(Simulador!$C$47=12,0,IF(A39/12=INT(A39/12),1,0))","v":1},null,{"$f":"IF(OR(O38+1>Simulador!$C$53,O38=0),0,O38+1)","v":34},0,0,0,{"$f":"IF($O39=0,0,(S38-R38)*((1+Simulador!$C$34)^(1/12)))","v":0},null,1,0,0,{"$f":"IF(O39=0,0,X$6/((1+Simulador!$C$34)^((O39-O$6)/12)))*(1+AA39)","v":0},0,null,{"$f":"IF(Simulador!$C$54=12,0,IF(O39/12=INT(O39/12),1,0))","v":0}]
[{"$f":"IF(OR(A39+1>Simulador!$C$46,A39=0),0,A39+1)","v":0},0,0,0,{"$f":"IF($A40=0,0,(E39-D39)*((1+Simulador!$C$34)^(1/12)))","v":0},null,1,0,0,{"$f":"IF(A40=0,0,J$6/((1+Simulador!$C$34)^((A40-A$6)/12)))*(1+M40)","v":0},0,null,{"$f":"IF(Simulador!$C$47=12,0,IF(A40/12=INT(A40/12),1,0))","v":1},null,{"$f":"IF(OR(O39+1>Simulador!$C$53,O39=0),0,O39+1)","v":35},0,0,0,{"$f":"IF($O40=0,0,(S39-R39)*((1+Simulador!$C$34)^(1/12)))","v":0},null,1,0,0,{"$f":"IF(O40=0,0,X$6/((1+Simulador!$C$34)^((O40-O$6)/12)))*(1+AA40)","v":0},0,null,{"$f":"IF(Simulador!$C$54=12,0,IF(O40/12=INT(O40/12),1,0))","v":0}]
[{"$f":"IF(OR(A40+1>Simulador!$C$46,A40=0),0,A40+1)","v":0},0,0,0,{"$f":"IF($A41=0,0,(E40-D40)*((1+Simulador!$C$34)^(1/12)))","v":0},null,1,0,0,{"$f":"IF(A41=0,0,J$6/((1+Simulador!$C$34)^((A41-A$6)/12)))*(1+M41)","v":0},0,null,{"$f":"IF(Simulador!$C$47=12,0,IF(A41/12=INT(A41/12),1,0))","v":1},null,{"$f":"IF(OR(O40+1>Simulador!$C$53,O40=0),0,O40+1)","v":36},0,0,0,{"$f":"IF($O41=0,0,(S40-R40)*((1+Simulador!$C$34)^(1/12)))","v":0},null,1,0,0,{"$f":"IF(O41=0,0,X$6/((1+Simulador!$C$34)^((O41-O$6)/12)))*(1+AA41)","v":0},0,null,{"$f":"IF(Simulador!$C$54=12,0,IF(O41/12=INT(O41/12),1,0))","v":0}]
[{"$f":"IF(OR(A41+1>Simulador!$C$46,A41=0),0,A41+1)","v":0},0,0,0,{"$f":"IF($A42=0,0,(E41-D41)*((1+Simulador!$C$34)^(1/12)))","v":0},null,1,0,0,{"$f":"IF(A42=0,0,J$6/((1+Simulador!$C$34)^((A42-A$6)/12)))*(1+M42)","v":0},0,null,{"$f":"IF(Simulador!$C$47=12,0,IF(A42/12=INT(A42/12),1,0))","v":1},null,{"$f":"IF(OR(O41+1>Simulador!$C$53,O41=0),0,O41+1)","v":37},0,0,0,{"$f":"IF($O42=0,0,(S41-R41)*((1+Simulador!$C$34)^(1/12)))","v":0},null,1,0,0,{"$f":"IF(O42=0,0,X$6/((1+Simulador!$C$34)^((O42-O$6)/12)))*(1+AA42)","v":0},0,null,{"$f":"IF(Simulador!$C$54=12,0,IF(O42/12=INT(O42/12),1,0))","v":0}]
[{"$f":"IF(OR(A42+1>Simulador!$C$46,A42=0),0,A42+1)","v":0},0,0,0,{"$f":"IF($A43=0,0,(E42-D42)*((1+Simulador!$C$34)^(1/12)))","v":0},null,1,0,0,{"$f":"IF(A43=0,0,J$6/((1+Simulador!$C$34)^((A43-A$6)/12)))*(1+M43)","v":0},0,null,{"$f":"IF(Simulador!$C$47=12,0,IF(A43/12=INT(A43/12),1,0))","v":1},null,{"$f":"IF(OR(O42+1>Simulador!$C$53,O42=0),0,O42+1)","v":38},0,0,0,{"$f":"IF($O43=0,0,(S42-R42)*((1+Simulador!$C$34)^(1/12)))","v":0},null,1,0,0,{"$f":"IF(O43=0,0,X$6/((1+Simulador!$C$34)^((O43-O$6)/12)))*(1+AA43)","v":0},0,null,{"$f":"IF(Simulador!$C$54=12,0,IF(O43/12=INT(O43/12),1,0))","v":0}]
[{"$f":"IF(OR(A43+1>Simulador!$C$46,A43=0),0,A43+1)","v":0},0,0,0,{"$f":"IF($A44=0,0,(E43-D43)*((1+Simulador!$C$34)^(1/12)))","v":0},null,1,0,0,{"$f":"IF(A44=0,0,J$6/((1+Simulador!$C$34)^((A44-A$6)/12)))*(1+M44)","v":0},0,null,{"$f":"IF(Simulador!$C$47=12,0,IF(A44/12=INT(A44/12),1,0))","v":1},null,{"$f":"IF(OR(O43+1>Simulador!$C$53,O43=0),0,O43+1)","v":39},0,0,0,{"$f":"IF($O44=0,0,(S43-R43)*((1+Simulador!$C$34)^(1/12)))","v":0},null,1,0,0,{"$f":"IF(O44=0,0,X$6/((1+Simulador!$C$34)^((O44-O$6)/12)))*(1+AA44)","v":0},0,null,{"$f":"IF(Simulador!$C$54=12,0,IF(O44/12=INT(O44/12),1,0))","v":0}]
[{"$f":"IF(OR(A44+1>Simulador!$C$46,A44=0),0,A44+1)","v":0},0,0,0,{"$f":"IF($A45=0,0,(E44-D44)*((1+Simulador!$C$34)^(1/12)))","v":0},null,1,0,0,{"$f":"IF(A45=0,0,J$6/((1+Simulador!$C$34)^((A45-A$6)/12)))*(1+M45)","v":0},0,null,{"$f":"IF(Simulador!$C$47=12,0,IF(A45/12=INT(A45/12),1,0))","v":1},null,{"$f":"IF(OR(O44+1>Simulador!$C$53,O44=0),0,O44+1)","v":40},0,0,0,{"$f":"IF($O45=0,0,(S44-R44)*((1+Simulador!$C$34)^(1/12)))","v":0},null,1,0,0,{"$f":"IF(O45=0,0,X$6/((1+Simulador!$C$34)^((O45-O$6)/12)))*(1+AA45)","v":0},0,null,{"$f":"IF(Simulador!$C$54=12,0,IF(O45/12=INT(O45/12),1,0))","v":0}]
[{"$f":"IF(OR(A45+1>Simulador!$C$46,A45=0),0,A45+1)","v":0},0,0,0,{"$f":"IF($A46=0,0,(E45-D45)*((1+Simulador!$C$34)^(1/12)))","v":0},null,1,0,0,{"$f":"IF(A46=0,0,J$6/((1+Simulador!$C$34)^((A46-A$6)/12)))*(1+M46)","v":0},0,null,{"$f":"IF(Simulador!$C$47=12,0,IF(A46/12=INT(A46/12),1,0))","v":1},null,{"$f":"IF(OR(O45+1>Simulador!$C$53,O45=0),0,O45+1)","v":41},0,0,0,{"$f":"IF($O46=0,0,(S45-R45)*((1+Simulador!$C$34)^(1/12)))","v":0},null,1,0,0,{"$f":"IF(O46=0,0,X$6/((1+Simulador!$C$34)^((O46-O$6)/12)))*(1+AA46)","v":0},0,null,{"$f":"IF(Simulador!$C$54=12,0,IF(O46/12=INT(O46/12),1,0))","v":0}]
[{"$f":"IF(OR(A46+1>Simulador!$C$46,A46=0),0,A46+1)","v":0},0,0,0,{"$f":"IF($A47=0,0,(E46-D46)*((1+Simulador!$C$34)^(1/12)))","v":0},null,1,0,0,{"$f":"IF(A47=0,0,J$6/((1+Simulador!$C$34)^((A47-A$6)/12)))*(1+M47)","v":0},0,null,{"$f":"IF(Simulador!$C$47=12,0,IF(A47/12=INT(A47/12),1,0))","v":1},null,{"$f":"IF(OR(O46+1>Simulador!$C$53,O46=0),0,O46+1)","v":42},0,0,0,{"$f":"IF($O47=0,0,(S46-R46)*((1+Simulador!$C$34)^(1/12)))","v":0},null,1,0,0,{"$f":"IF(O47=0,0,X$6/((1+Simulador!$C$34)^((O47-O$6)/12)))*(1+AA47)","v":0},0,null,{"$f":"IF(Simulador!$C$54=12,0,IF(O47/12=INT(O47/12),1,0))","v":0}]
[{"$f":"IF(OR(A47+1>Simulador!$C$46,A47=0),0,A47+1)","v":0},0,0,0,{"$f":"IF($A48=0,0,(E47-D47)*((1+Simulador!$C$34)^(1/12)))","v":0},null,1,0,0,{"$f":"IF(A48=0,0,J$6/((1+Simulador!$C$34)^((A48-A$6)/12)))*(1+M48)","v":0},0,null,{"$f":"IF(Simulador!$C$47=12,0,IF(A48/12=INT(A48/12),1,0))","v":1},null,{"$f":"IF(OR(O47+1>Simulador!$C$53,O47=0),0,O47+1)","v":43},0,0,0,{"$f":"IF($O48=0,0,(S47-R47)*((1+Simulador!$C$34)^(1/12)))","v":0},null,1,0,0,{"$f":"IF(O48=0,0,X$6/((1+Simulador!$C$34)^((O48-O$6)/12)))*(1+AA48)","v":0},0,null,{"$f":"IF(Simulador!$C$54=12,0,IF(O48/12=INT(O48/12),1,0))","v":0}]
[{"$f":"IF(OR(A48+1>Simulador!$C$46,A48=0),0,A48+1)","v":0},0,0,0,{"$f":"IF($A49=0,0,(E48-D48)*((1+Simulador!$C$34)^(1/12)))","v":0},null,1,0,0,{"$f":"IF(A49=0,0,J$6/((1+Simulador!$C$34)^((A49-A$6)/12)))*(1+M49)","v":0},0,null,{"$f":"IF(Simulador!$C$47=12,0,IF(A49/12=INT(A49/12),1,0))","v":1},null,{"$f":"IF(OR(O48+1>Simulador!$C$53,O48=0),0,O48+1)","v":44},0,0,0,{"$f":"IF($O49=0,0,(S48-R48)*((1+Simulador!$C$34)^(1/12)))","v":0},null,1,0,0,{"$f":"IF(O49=0,0,X$6/((1+Simulador!$C$34)^((O49-O$6)/12)))*(1+AA49)","v":0},0,null,{"$f":"IF(Simulador!$C$54=12,0,IF(O49/12=INT(O49/12),1,0))","v":0}]
[{"$f":"IF(OR(A49+1>Simulador!$C$46,A49=0),0,A49+1)","v":0},0,0,0,{"$f":"IF($A50=0,0,(E49-D49)*((1+Simulador!$C$34)^(1/12)))","v":0},null,1,0,0,{"$f":"IF(A50=0,0,J$6/((1+Simulador!$C$34)^((A50-A$6)/12)))*(1+M50)","v":0},0,null,{"$f":"IF(Simulador!$C$47=12,0,IF(A50/12=INT(A50/12),1,0))","v":1},null,{"$f":"IF(OR(O49+1>Simulador!$C$53,O49=0),0,O49+1)","v":45},0,0,0,{"$f":"IF($O50=0,0,(S49-R49)*((1+Simulador!$C$34)^(1/12)))","v":0},null,1,0,0,{"$f":"IF(O50=0,0,X$6/((1+Simulador!$C$34)^((O50-O$6)/12)))*(1+AA50)","v":0},0,null,{"$f":"IF(Simulador!$C$54=12,0,IF(O50/12=INT(O50/12),1,0))","v":0}]
[{"$f":"IF(OR(A50+1>Simulador!$C$46,A50=0),0,A50+1)","v":0},0,0,0,{"$f":"IF($A51=0,0,(E50-D50)*((1+Simulador!$C$34)^(1/12)))","v":0},null,1,0,0,{"$f":"IF(A51=0,0,J$6/((1+Simulador!$C$34)^((A51-A$6)/12)))*(1+M51)","v":0},0,null,{"$f":"IF(Simulador!$C$47=12,0,IF(A51/12=INT(A51/12),1,0))","v":1},null,{"$f":"IF(OR(O50+1>Simulador!$C$53,O50=0),0,O50+1)","v":46},0,0,0,{"$f":"IF($O51=0,0,(S50-R50)*((1+Simulador!$C$34)^(1/12)))","v":0},null,1,0,0,{"$f":"IF(O51=0,0,X$6/((1+Simulador!$C$34)^((O51-O$6)/12)))*(1+AA51)","v":0},0,null,{"$f":"IF(Simulador!$C$54=12,0,IF(O51/12=INT(O51/12),1,0))","v":0}]
[{"$f":"IF(OR(A51+1>Simulador!$C$46,A51=0),0,A51+1)","v":0},0,0,0,{"$f":"IF($A52=0,0,(E51-D51)*((1+Simulador!$C$34)^(1/12)))","v":0},null,1,0,0,{"$f":"IF(A52=0,0,J$6/((1+Simulador!$C$34)^((A52-A$6)/12)))*(1+M52)","v":0},0,null,{"$f":"IF(Simulador!$C$47=12,0,IF(A52/12=INT(A52/12),1,0))","v":1},null,{"$f":"IF(OR(O51+1>Simulador!$C$53,O51=0),0,O51+1)","v":47},0,0,0,{"$f":"IF($O52=0,0,(S51-R51)*((1+Simulador!$C$34)^(1/12)))","v":0},null,1,0,0,{"$f":"IF(O52=0,0,X$6/((1+Simulador!$C$34)^((O52-O$6)/12)))*(1+AA52)","v":0},0,null,{"$f":"IF(Simulador!$C$54=12,0,IF(O52/12=INT(O52/12),1,0))","v":0}]
[{"$f":"IF(OR(A52+1>Simulador!$C$46,A52=0),0,A52+1)","v":0},0,0,0,{"$f":"IF($A53=0,0,(E52-D52)*((1+Simulador!$C$34)^(1/12)))","v":0},null,1,0,0,{"$f":"IF(A53=0,0,J$6/((1+Simulador!$C$34)^((A53-A$6)/12)))*(1+M53)","v":0},0,null,{"$f":"IF(Simulador!$C$47=12,0,IF(A53/12=INT(A53/12),1,0))","v":1},null,{"$f":"IF(OR(O52+1>Simulador!$C$53,O52=0),0,O52+1)","v":48},0,0,0,{"$f":"IF($O53=0,0,(S52-R52)*((1+Simulador!$C$34)^(1/12)))","v":0},null,1,0,0,{"$f":"IF(O53=0,0,X$6/((1+Simulador!$C$34)^((O53-O$6)/12)))*(1+AA53)","v":0},0,null,{"$f":"IF(Simulador!$C$54=12,0,IF(O53/12=INT(O53/12),1,0))","v":0}]
[{"$f":"IF(OR(A53+1>Simulador!$C$46,A53=0),0,A53+1)","v":0},0,0,0,{"$f":"IF($A54=0,0,(E53-D53)*((1+Simulador!$C$34)^(1/12)))","v":0},null,1,0,0,{"$f":"IF(A54=0,0,J$6/((1+Simulador!$C$34)^((A54-A$6)/12)))*(1+M54)","v":0},0,null,{"$f":"IF(Simulador!$C$47=12,0,IF(A54/12=INT(A54/12),1,0))","v":1},null,{"$f":"IF(OR(O53+1>Simulador!$C$53,O53=0),0,O53+1)","v":49},0,0,0,{"$f":"IF($O54=0,0,(S53-R53)*((1+Simulador!$C$34)^(1/12)))","v":0},null,1,0,0,{"$f":"IF(O54=0,0,X$6/((1+Simulador!$C$34)^((O54-O$6)/12)))*(1+AA54)","v":0},0,null,{"$f":"IF(Simulador!$C$54=12,0,IF(O54/12=INT(O54/12),1,0))","v":0}]
[{"$f":"IF(OR(A54+1>Simulador!$C$46,A54=0),0,A54+1)","v":0},0,0,0,{"$f":"IF($A55=0,0,(E54-D54)*((1+Simulador!$C$34)^(1/12)))","v":0},null,1,0,0,{"$f":"IF(A55=0,0,J$6/((1+Simulador!$C$34)^((A55-A$6)/12)))*(1+M55)","v":0},0,null,{"$f":"IF(Simulador!$C$47=12,0,IF(A55/12=INT(A55/12),1,0))","v":1},null,{"$f":"IF(OR(O54+1>Simulador!$C$53,O54=0),0,O54+1)","v":50},0,0,0,{"$f":"IF($O55=0,0,(S54-R54)*((1+Simulador!$C$34)^(1/12)))","v":0},null,1,0,0,{"$f":"IF(O55=0,0,X$6/((1+Simulador!$C$34)^((O55-O$6)/12)))*(1+AA55)","v":0},0,null,{"$f":"IF(Simulador!$C$54=12,0,IF(O55/12=INT(O55/12),1,0))","v":0}]
[{"$f":"IF(OR(A55+1>Simulador!$C$46,A55=0),0,A55+1)","v":0},0,0,0,{"$f":"IF($A56=0,0,(E55-D55)*((1+Simulador!$C$34)^(1/12)))","v":0},null,1,0,0,{"$f":"IF(A56=0,0,J$6/((1+Simulador!$C$34)^((A56-A$6)/12)))*(1+M56)","v":0},0,null,{"$f":"IF(Simulador!$C$47=12,0,IF(A56/12=INT(A56/12),1,0))","v":1},null,{"$f":"IF(OR(O55+1>Simulador!$C$53,O55=0),0,O55+1)","v":51},0,0,0,{"$f":"IF($O56=0,0,(S55-R55)*((1+Simulador!$C$34)^(1/12)))","v":0},null,1,0,0,{"$f":"IF(O56=0,0,X$6/((1+Simulador!$C$34)^((O56-O$6)/12)))*(1+AA56)","v":0},0,null,{"$f":"IF(Simulador!$C$54=12,0,IF(O56/12=INT(O56/12),1,0))","v":0}]
[{"$f":"IF(OR(A56+1>Simulador!$C$46,A56=0),0,A56+1)","v":0},0,0,0,{"$f":"IF($A57=0,0,(E56-D56)*((1+Simulador!$C$34)^(1/12)))","v":0},null,1,0,0,{"$f":"IF(A57=0,0,J$6/((1+Simulador!$C$34)^((A57-A$6)/12)))*(1+M57)","v":0},0,null,{"$f":"IF(Simulador!$C$47=12,0,IF(A57/12=INT(A57/12),1,0))","v":1},null,{"$f":"IF(OR(O56+1>Simulador!$C$53,O56=0),0,O56+1)","v":52},0,0,0,{"$f":"IF($O57=0,0,(S56-R56)*((1+Simulador!$C$34)^(1/12)))","v":0},null,1,0,0,{"$f":"IF(O57=0,0,X$6/((1+Simulador!$C$34)^((O57-O$6)/12)))*(1+AA57)","v":0},0,null,{"$f":"IF(Simulador!$C$54=12,0,IF(O57/12=INT(O57/12),1,0))","v":0}]
[{"$f":"IF(OR(A57+1>Simulador!$C$46,A57=0),0,A57+1)","v":0},0,0,0,{"$f":"IF($A58=0,0,(E57-D57)*((1+Simulador!$C$34)^(1/12)))","v":0},null,1,0,0,{"$f":"IF(A58=0,0,J$6/((1+Simulador!$C$34)^((A58-A$6)/12)))*(1+M58)","v":0},0,null,{"$f":"IF(Simulador!$C$47=12,0,IF(A58/12=INT(A58/12),1,0))","v":1},null,{"$f":"IF(OR(O57+1>Simulador!$C$53,O57=0),0,O57+1)","v":53},0,0,0,{"$f":"IF($O58=0,0,(S57-R57)*((1+Simulador!$C$34)^(1/12)))","v":0},null,1,0,0,{"$f":"IF(O58=0,0,X$6/((1+Simulador!$C$34)^((O58-O$6)/12)))*(1+AA58)","v":0},0,null,{"$f":"IF(Simulador!$C$54=12,0,IF(O58/12=INT(O58/12),1,0))","v":0}]
[{"$f":"IF(OR(A58+1>Simulador!$C$46,A58=0),0,A58+1)","v":0},0,0,0,{"$f":"IF($A59=0,0,(E58-D58)*((1+Simulador!$C$34)^(1/12)))","v":0},null,1,0,0,{"$f":"IF(A59=0,0,J$6/((1+Simulador!$C$34)^((A59-A$6)/12)))*(1+M59)","v":0},0,null,{"$f":"IF(Simulador!$C$47=12,0,IF(A59/12=INT(A59/12),1,0))","v":1},null,{"$f":"IF(OR(O58+1>Simulador!$C$53,O58=0),0,O58+1)","v":54},0,0,0,{"$f":"IF($O59=0,0,(S58-R58)*((1+Simulador!$C$34)^(1/12)))","v":0},null,1,0,0,{"$f":"IF(O59=0,0,X$6/((1+Simulador!$C$34)^((O59-O$6)/12)))*(1+AA59)","v":0},0,null,{"$f":"IF(Simulador!$C$54=12,0,IF(O59/12=INT(O59/12),1,0))","v":0}]
[{"$f":"IF(OR(A59+1>Simulador!$C$46,A59=0),0,A59+1)","v":0},0,0,0,{"$f":"IF($A60=0,0,(E59-D59)*((1+Simulador!$C$34)^(1/12)))","v":0},null,1,0,0,{"$f":"IF(A60=0,0,J$6/((1+Simulador!$C$34)^((A60-A$6)/12)))*(1+M60)","v":0},0,null,{"$f":"IF(Simulador!$C$47=12,0,IF(A60/12=INT(A60/12),1,0))","v":1},null,{"$f":"IF(OR(O59+1>Simulador!$C$53,O59=0),0,O59+1)","v":55},0,0,0,{"$f":"IF($O60=0,0,(S59-R59)*((1+Simulador!$C$34)^(1/12)))","v":0},null,1,0,0,{"$f":"IF(O60=0,0,X$6/((1+Simulador!$C$34)^((O60-O$6)/12)))*(1+AA60)","v":0},0,null,{"$f":"IF(Simulador!$C$54=12,0,IF(O60/12=INT(O60/12),1,0))","v":0}]
[{"$f":"IF(OR(A60+1>Simulador!$C$46,A60=0),0,A60+1)","v":0},0,0,0,{"$f":"IF($A61=0,0,(E60-D60)*((1+Simulador!$C$34)^(1/12)))","v":0},null,1,0,0,{"$f":"IF(A61=0,0,J$6/((1+Simulador!$C$34)^((A61-A$6)/12)))*(1+M61)","v":0},0,null,{"$f":"IF(Simulador!$C$47=12,0,IF(A61/12=INT(A61/12),1,0))","v":1},null,{"$f":"IF(OR(O60+1>Simulador!$C$53,O60=0),0,O60+1)","v":56},0,0,0,{"$f":"IF($O61=0,0,(S60-R60)*((1+Simulador!$C$34)^(1/12)))","v":0},null,1,0,0,{"$f":"IF(O61=0,0,X$6/((1+Simulador!$C$34)^((O61-O$6)/12)))*(1+AA61)","v":0},0,null,{"$f":"IF(Simulador!$C$54=12,0,IF(O61/12=INT(O61/12),1,0))","v":0}]
[{"$f":"IF(OR(A61+1>Simulador!$C$46,A61=0),0,A61+1)","v":0},0,0,0,{"$f":"IF($A62=0,0,(E61-D61)*((1+Simulador!$C$34)^(1/12)))","v":0},null,1,0,0,{"$f":"IF(A62=0,0,J$6/((1+Simulador!$C$34)^((A62-A$6)/12)))*(1+M62)","v":0},0,null,{"$f":"IF(Simulador!$C$47=12,0,IF(A62/12=INT(A62/12),1,0))","v":1},null,{"$f":"IF(OR(O61+1>Simulador!$C$53,O61=0),0,O61+1)","v":57},0,0,0,{"$f":"IF($O62=0,0,(S61-R61)*((1+Simulador!$C$34)^(1/12)))","v":0},null,1,0,0,{"$f":"IF(O62=0,0,X$6/((1+Simulador!$C$34)^((O62-O$6)/12)))*(1+AA62)","v":0},0,null,{"$f":"IF(Simulador!$C$54=12,0,IF(O62/12=INT(O62/12),1,0))","v":0}]
[{"$f":"IF(OR(A62+1>Simulador!$C$46,A62=0),0,A62+1)","v":0},0,0,0,{"$f":"IF($A63=0,0,(E62-D62)*((1+Simulador!$C$34)^(1/12)))","v":0},null,1,0,0,{"$f":"IF(A63=0,0,J$6/((1+Simulador!$C$34)^((A63-A$6)/12)))*(1+M63)","v":0},0,null,{"$f":"IF(Simulador!$C$47=12,0,IF(A63/12=INT(A63/12),1,0))","v":1},null,{"$f":"IF(OR(O62+1>Simulador!$C$53,O62=0),0,O62+1)","v":58},0,0,0,{"$f":"IF($O63=0,0,(S62-R62)*((1+Simulador!$C$34)^(1/12)))","v":0},null,1,0,0,{"$f":"IF(O63=0,0,X$6/((1+Simulador!$C$34)^((O63-O$6)/12)))*(1+AA63)","v":0},0,null,{"$f":"IF(Simulador!$C$54=12,0,IF(O63/12=INT(O63/12),1,0))","v":0}]
[{"$f":"IF(OR(A63+1>Simulador!$C$46,A63=0),0,A63+1)","v":0},0,0,0,{"$f":"IF($A64=0,0,(E63-D63)*((1+Simulador!$C$34)^(1/12)))","v":0},null,1,0,0,{"$f":"IF(A64=0,0,J$6/((1+Simulador!$C$34)^((A64-A$6)/12)))*(1+M64)","v":0},0,null,{"$f":"IF(Simulador!$C$47=12,0,IF(A64/12=INT(A64/12),1,0))","v":1},null,{"$f":"IF(OR(O63+1>Simulador!$C$53,O63=0),0,O63+1)","v":59},0,0,0,{"$f":"IF($O64=0,0,(S63-R63)*((1+Simulador!$C$34)^(1/12)))","v":0},null,1,0,0,{"$f":"IF(O64=0,0,X$6/((1+Simulador!$C$34)^((O64-O$6)/12)))*(1+AA64)","v":0},0,null,{"$f":"IF(Simulador!$C$54=12,0,IF(O64/12=INT(O64/12),1,0))","v":0}]
[{"$f":"IF(OR(A64+1>Simulador!$C$46,A64=0),0,A64+1)","v":0},0,0,0,{"$f":"IF($A65=0,0,(E64-D64)*((1+Simulador!$C$34)^(1/12)))","v":0},null,1,0,0,{"$f":"IF(A65=0,0,J$6/((1+Simulador!$C$34)^((A65-A$6)/12)))*(1+M65)","v":0},0,null,{"$f":"IF(Simulador!$C$47=12,0,IF(A65/12=INT(A65/12),1,0))","v":1},null,{"$f":"IF(OR(O64+1>Simulador!$C$53,O64=0),0,O64+1)","v":60},0,0,0,{"$f":"IF($O65=0,0,(S64-R64)*((1+Simulador!$C$34)^(1/12)))","v":0},null,1,0,0,{"$f":"IF(O65=0,0,X$6/((1+Simulador!$C$34)^((O65-O$6)/12)))*(1+AA65)","v":0},0,null,{"$f":"IF(Simulador!$C$54=12,0,IF(O65/12=INT(O65/12),1,0))","v":0}]
[{"$f":"IF(OR(A65+1>Simulador!$C$46,A65=0),0,A65+1)","v":0},0,0,0,{"$f":"IF($A66=0,0,(E65-D65)*((1+Simulador!$C$34)^(1/12)))","v":0},null,1,0,0,{"$f":"IF(A66=0,0,J$6/((1+Simulador!$C$34)^((A66-A$6)/12)))*(1+M66)","v":0},0,null,{"$f":"IF(Simulador!$C$47=12,0,IF(A66/12=INT(A66/12),1,0))","v":1},null,{"$f":"IF(OR(O65+1>Simulador!$C$53,O65=0),0,O65+1)","v":61},0,0,0,{"$f":"IF($O66=0,0,(S65-R65)*((1+Simulador!$C$34)^(1/12)))","v":0},null,1,0,0,{"$f":"IF(O66=0,0,X$6/((1+Simulador!$C$34)^((O66-O$6)/12)))*(1+AA66)","v":0},0,null,{"$f":"IF(Simulador!$C$54=12,0,IF(O66/12=INT(O66/12),1,0))","v":0}]
[{"$f":"IF(OR(A66+1>Simulador!$C$46,A66=0),0,A66+1)","v":0},0,0,0,{"$f":"IF($A67=0,0,(E66-D66)*((1+Simulador!$C$34)^(1/12)))","v":0},null,1,0,0,{"$f":"IF(A67=0,0,J$6/((1+Simulador!$C$34)^((A67-A$6)/12)))*(1+M67)","v":0},0,null,{"$f":"IF(Simulador!$C$47=12,0,IF(A67/12=INT(A67/12),1,0))","v":1},null,{"$f":"IF(OR(O66+1>Simulador!$C$53,O66=0),0,O66+1)","v":62},0,0,0,{"$f":"IF($O67=0,0,(S66-R66)*((1+Simulador!$C$34)^(1/12)))","v":0},null,1,0,0,{"$f":"IF(O67=0,0,X$6/((1+Simulador!$C$34)^((O67-O$6)/12)))*(1+AA67)","v":0},0,null,{"$f":"IF(Simulador!$C$54=12,0,IF(O67/12=INT(O67/12),1,0))","v":0}]
[{"$f":"IF(OR(A67+1>Simulador!$C$46,A67=0),0,A67+1)","v":0},0,0,0,{"$f":"IF($A68=0,0,(E67-D67)*((1+Simulador!$C$34)^(1/12)))","v":0},null,1,0,0,{"$f":"IF(A68=0,0,J$6/((1+Simulador!$C$34)^((A68-A$6)/12)))*(1+M68)","v":0},0,null,{"$f":"IF(Simulador!$C$47=12,0,IF(A68/12=INT(A68/12),1,0))","v":1},null,{"$f":"IF(OR(O67+1>Simulador!$C$53,O67=0),0,O67+1)","v":63},0,0,0,{"$f":"IF($O68=0,0,(S67-R67)*((1+Simulador!$C$34)^(1/12)))","v":0},null,1,0,0,{"$f":"IF(O68=0,0,X$6/((1+Simulador!$C$34)^((O68-O$6)/12)))*(1+AA68)","v":0},0,null,{"$f":"IF(Simulador!$C$54=12,0,IF(O68/12=INT(O68/12),1,0))","v":0}]
[{"$f":"IF(OR(A68+1>Simulador!$C$46,A68=0),0,A68+1)","v":0},0,0,0,{"$f":"IF($A69=0,0,(E68-D68)*((1+Simulador!$C$34)^(1/12)))","v":0},null,1,0,0,{"$f":"IF(A69=0,0,J$6/((1+Simulador!$C$34)^((A69-A$6)/12)))*(1+M69)","v":0},0,null,{"$f":"IF(Simulador!$C$47=12,0,IF(A69/12=INT(A69/12),1,0))","v":1},null,{"$f":"IF(OR(O68+1>Simulador!$C$53,O68=0),0,O68+1)","v":64},0,0,0,{"$f":"IF($O69=0,0,(S68-R68)*((1+Simulador!$C$34)^(1/12)))","v":0},null,1,0,0,{"$f":"IF(O69=0,0,X$6/((1+Simulador!$C$34)^((O69-O$6)/12)))*(1+AA69)","v":0},0,null,{"$f":"IF(Simulador!$C$54=12,0,IF(O69/12=INT(O69/12),1,0))","v":0}]
[{"$f":"IF(OR(A69+1>Simulador!$C$46,A69=0),0,A69+1)","v":0},0,0,0,{"$f":"IF($A70=0,0,(E69-D69)*((1+Simulador!$C$34)^(1/12)))","v":0},null,1,0,0,{"$f":"IF(A70=0,0,J$6/((1+Simulador!$C$34)^((A70-A$6)/12)))*(1+M70)","v":0},0,null,{"$f":"IF(Simulador!$C$47=12,0,IF(A70/12=INT(A70/12),1,0))","v":1},null,{"$f":"IF(OR(O69+1>Simulador!$C$53,O69=0),0,O69+1)","v":65},0,0,0,{"$f":"IF($O70=0,0,(S69-R69)*((1+Simulador!$C$34)^(1/12)))","v":0},null,1,0,0,{"$f":"IF(O70=0,0,X$6/((1+Simulador!$C$34)^((O70-O$6)/12)))*(1+AA70)","v":0},0,null,{"$f":"IF(Simulador!$C$54=12,0,IF(O70/12=INT(O70/12),1,0))","v":0}]
[{"$f":"IF(OR(A70+1>Simulador!$C$46,A70=0),0,A70+1)","v":0},{"$f":"IF($A71=0,0,G71*H71)","v":0},{"$f":"IF($A71=0,0,G71*I71)","v":0},{"$f":"IF($A71=0,0,G71*J71)","v":0},{"$f":"IF($A71=0,0,(E70-D70)*((1+Simulador!$C$34)^(1/12)))","v":0},null,{"$f":"G70*((1+$I$2)^(1/12))","v":1},{"$f":"IF($A71=0,0,$H$6)*(1+M71)","v":0},{"$f":"IF($A71=0,0,I70-H70)","v":0},{"$f":"IF(A71=0,0,J$6/((1+Simulador!$C$34)^((A71-A$6)/12)))*(1+M71)","v":0},{"$f":"IF($A71=0,0,K70-J70)","v":0},null,{"$f":"IF(Simulador!$C$47=12,0,IF(A71/12=INT(A71/12),1,0))","v":1},null,{"$f":"IF(OR(O70+1>Simulador!$C$53,O70=0),0,O70+1)","v":66},{"$f":"IF($A71=0,0,U71*V71)","v":0},{"$f":"IF($O71=0,0,U71*W71)","v":0},{"$f":"IF($A71=0,0,U71*X71)","v":0},{"$f":"IF($O71=0,0,(S70-R70)*((1+Simulador!$C$34)^(1/12)))","v":0},null,{"$f":"U70*((1+$I$2)^(1/12))","v":1},{"$f":"IF($O71=0,0,$V$6)*(1+AA71)","v":0},{"$f":"IF($O71=0,0,W70-V70)","v":0},{"$f":"IF(O71=0,0,X$6/((1+Simulador!$C$34)^((O71-O$6)/12)))*(1+AA71)","v":0},{"$f":"IF($O71=0,0,Y70-X70)","v":0},null,{"$f":"IF(Simulador!$C$54=12,0,IF(O71/12=INT(O71/12),1,0))","v":0}]
[{"$f":"IF(OR(A71+1>Simulador!$C$46,A71=0),0,A71+1)","v":0},0,0,0,{"$f":"IF($A72=0,0,(E71-D71)*((1+Simulador!$C$34)^(1/12)))","v":0},null,1,0,0,{"$f":"IF(A72=0,0,J$6/((1+Simulador!$C$34)^((A72-A$6)/12)))*(1+M72)","v":0},0,null,{"$f":"IF(Simulador!$C$47=12,0,IF(A72/12=INT(A72/12),1,0))","v":1},null,{"$f":"IF(OR(O71+1>Simulador!$C$53,O71=0),0,O71+1)","v":67},0,0,0,{"$f":"IF($O72=0,0,(S71-R71)*((1+Simulador!$C$34)^(1/12)))","v":0},null,1,0,0,{"$f":"IF(O72=0,0,X$6/((1+Simulador!$C$34)^((O72-O$6)/12)))*(1+AA72)","v":0},0,null,{"$f":"IF(Simulador!$C$54=12,0,IF(O72/12=INT(O72/12),1,0))","v":0}]
[{"$f":"IF(OR(A72+1>Simulador!$C$46,A72=0),0,A72+1)","v":0},0,0,0,{"$f":"IF($A73=0,0,(E72-D72)*((1+Simulador!$C$34)^(1/12)))","v":0},null,1,0,0,{"$f":"IF(A73=0,0,J$6/((1+Simulador!$C$34)^((A73-A$6)/12)))*(1+M73)","v":0},0,null,{"$f":"IF(Simulador!$C$47=12,0,IF(A73/12=INT(A73/12),1,0))","v":1},null,{"$f":"IF(OR(O72+1>Simulador!$C$53,O72=0),0,O72+1)","v":68},0,0,0,{"$f":"IF($O73=0,0,(S72-R72)*((1+Simulador!$C$34)^(1/12)))","v":0},null,1,0,0,{"$f":"IF(O73=0,0,X$6/((1+Simulador!$C$34)^((O73-O$6)/12)))*(1+AA73)","v":0},0,null,{"$f":"IF(Simulador!$C$54=12,0,IF(O73/12=INT(O73/12),1,0))","v":0}]
[{"$f":"IF(OR(A73+1>Simulador!$C$46,A73=0),0,A73+1)","v":0},0,0,0,{"$f":"IF($A74=0,0,(E73-D73)*((1+Simulador!$C$34)^(1/12)))","v":0},null,1,0,0,{"$f":"IF(A74=0,0,J$6/((1+Simulador!$C$34)^((A74-A$6)/12)))*(1+M74)","v":0},0,null,{"$f":"IF(Simulador!$C$47=12,0,IF(A74/12=INT(A74/12),1,0))","v":1},null,{"$f":"IF(OR(O73+1>Simulador!$C$53,O73=0),0,O73+1)","v":69},0,0,0,{"$f":"IF($O74=0,0,(S73-R73)*((1+Simulador!$C$34)^(1/12)))","v":0},null,1,0,0,{"$f":"IF(O74=0,0,X$6/((1+Simulador!$C$34)^((O74-O$6)/12)))*(1+AA74)","v":0},0,null,{"$f":"IF(Simulador!$C$54=12,0,IF(O74/12=INT(O74/12),1,0))","v":0}]
[{"$f":"IF(OR(A74+1>Simulador!$C$46,A74=0),0,A74+1)","v":0},0,0,0,{"$f":"IF($A75=0,0,(E74-D74)*((1+Simulador!$C$34)^(1/12)))","v":0},null,1,0,0,{"$f":"IF(A75=0,0,J$6/((1+Simulador!$C$34)^((A75-A$6)/12)))*(1+M75)","v":0},0,null,{"$f":"IF(Simulador!$C$47=12,0,IF(A75/12=INT(A75/12),1,0))","v":1},null,{"$f":"IF(OR(O74+1>Simulador!$C$53,O74=0),0,O74+1)","v":70},0,0,0,{"$f":"IF($O75=0,0,(S74-R74)*((1+Simulador!$C$34)^(1/12)))","v":0},null,1,0,0,{"$f":"IF(O75=0,0,X$6/((1+Simulador!$C$34)^((O75-O$6)/12)))*(1+AA75)","v":0},0,null,{"$f":"IF(Simulador!$C$54=12,0,IF(O75/12=INT(O75/12),1,0))","v":0}]
[{"$f":"IF(OR(A75+1>Simulador!$C$46,A75=0),0,A75+1)","v":0},0,0,0,{"$f":"IF($A76=0,0,(E75-D75)*((1+Simulador!$C$34)^(1/12)))","v":0},null,1,0,0,{"$f":"IF(A76=0,0,J$6/((1+Simulador!$C$34)^((A76-A$6)/12)))*(1+M76)","v":0},0,null,{"$f":"IF(Simulador!$C$47=12,0,IF(A76/12=INT(A76/12),1,0))","v":1},null,{"$f":"IF(OR(O75+1>Simulador!$C$53,O75=0),0,O75+1)","v":71},0,0,0,{"$f":"IF($O76=0,0,(S75-R75)*((1+Simulador!$C$34)^(1/12)))","v":0},null,1,0,0,{"$f":"IF(O76=0,0,X$6/((1+Simulador!$C$34)^((O76-O$6)/12)))*(1+AA76)","v":0},0,null,{"$f":"IF(Simulador!$C$54=12,0,IF(O76/12=INT(O76/12),1,0))","v":0}]
[{"$f":"IF(OR(A76+1>Simulador!$C$46,A76=0),0,A76+1)","v":0},0,0,0,{"$f":"IF($A77=0,0,(E76-D76)*((1+Simulador!$C$34)^(1/12)))","v":0},null,1,0,0,{"$f":"IF(A77=0,0,J$6/((1+Simulador!$C$34)^((A77-A$6)/12)))*(1+M77)","v":0},0,null,{"$f":"IF(Simulador!$C$47=12,0,IF(A77/12=INT(A77/12),1,0))","v":1},null,{"$f":"IF(OR(O76+1>Simulador!$C$53,O76=0),0,O76+1)","v":72},0,0,0,{"$f":"IF($O77=0,0,(S76-R76)*((1+Simulador!$C$34)^(1/12)))","v":0},null,1,0,0,{"$f":"IF(O77=0,0,X$6/((1+Simulador!$C$34)^((O77-O$6)/12)))*(1+AA77)","v":0},0,null,{"$f":"IF(Simulador!$C$54=12,0,IF(O77/12=INT(O77/12),1,0))","v":0}]
[{"$f":"IF(OR(A77+1>Simulador!$C$46,A77=0),0,A77+1)","v":0},0,0,0,{"$f":"IF($A78=0,0,(E77-D77)*((1+Simulador!$C$34)^(1/12)))","v":0},null,1,0,0,{"$f":"IF(A78=0,0,J$6/((1+Simulador!$C$34)^((A78-A$6)/12)))*(1+M78)","v":0},0,null,{"$f":"IF(Simulador!$C$47=12,0,IF(A78/12=INT(A78/12),1,0))","v":1},null,{"$f":"IF(OR(O77+1>Simulador!$C$53,O77=0),0,O77+1)","v":73},0,0,0,{"$f":"IF($O78=0,0,(S77-R77)*((1+Simulador!$C$34)^(1/12)))","v":0},null,1,0,0,{"$f":"IF(O78=0,0,X$6/((1+Simulador!$C$34)^((O78-O$6)/12)))*(1+AA78)","v":0},0,null,{"$f":"IF(Simulador!$C$54=12,0,IF(O78/12=INT(O78/12),1,0))","v":0}]
[{"$f":"IF(OR(A78+1>Simulador!$C$46,A78=0),0,A78+1)","v":0},0,0,0,{"$f":"IF($A79=0,0,(E78-D78)*((1+Simulador!$C$34)^(1/12)))","v":0},null,1,0,0,{"$f":"IF(A79=0,0,J$6/((1+Simulador!$C$34)^((A79-A$6)/12)))*(1+M79)","v":0},0,null,{"$f":"IF(Simulador!$C$47=12,0,IF(A79/12=INT(A79/12),1,0))","v":1},null,{"$f":"IF(OR(O78+1>Simulador!$C$53,O78=0),0,O78+1)","v":74},0,0,0,{"$f":"IF($O79=0,0,(S78-R78)*((1+Simulador!$C$34)^(1/12)))","v":0},null,1,0,0,{"$f":"IF(O79=0,0,X$6/((1+Simulador!$C$34)^((O79-O$6)/12)))*(1+AA79)","v":0},0,null,{"$f":"IF(Simulador!$C$54=12,0,IF(O79/12=INT(O79/12),1,0))","v":0}]
[{"$f":"IF(OR(A79+1>Simulador!$C$46,A79=0),0,A79+1)","v":0},0,0,0,{"$f":"IF($A80=0,0,(E79-D79)*((1+Simulador!$C$34)^(1/12)))","v":0},null,1,0,0,{"$f":"IF(A80=0,0,J$6/((1+Simulador!$C$34)^((A80-A$6)/12)))*(1+M80)","v":0},0,null,{"$f":"IF(Simulador!$C$47=12,0,IF(A80/12=INT(A80/12),1,0))","v":1},null,{"$f":"IF(OR(O79+1>Simulador!$C$53,O79=0),0,O79+1)","v":75},0,0,0,{"$f":"IF($O80=0,0,(S79-R79)*((1+Simulador!$C$34)^(1/12)))","v":0},null,1,0,0,{"$f":"IF(O80=0,0,X$6/((1+Simulador!$C$34)^((O80-O$6)/12)))*(1+AA80)","v":0},0,null,{"$f":"IF(Simulador!$C$54=12,0,IF(O80/12=INT(O80/12),1,0))","v":0}]
[{"$f":"IF(OR(A80+1>Simulador!$C$46,A80=0),0,A80+1)","v":0},0,0,0,{"$f":"IF($A81=0,0,(E80-D80)*((1+Simulador!$C$34)^(1/12)))","v":0},null,1,0,0,{"$f":"IF(A81=0,0,J$6/((1+Simulador!$C$34)^((A81-A$6)/12)))*(1+M81)","v":0},0,null,{"$f":"IF(Simulador!$C$47=12,0,IF(A81/12=INT(A81/12),1,0))","v":1},null,{"$f":"IF(OR(O80+1>Simulador!$C$53,O80=0),0,O80+1)","v":76},0,0,0,{"$f":"IF($O81=0,0,(S80-R80)*((1+Simulador!$C$34)^(1/12)))","v":0},null,1,0,0,{"$f":"IF(O81=0,0,X$6/((1+Simulador!$C$34)^((O81-O$6)/12)))*(1+AA81)","v":0},0,null,{"$f":"IF(Simulador!$C$54=12,0,IF(O81/12=INT(O81/12),1,0))","v":0}]
[{"$f":"IF(OR(A81+1>Simulador!$C$46,A81=0),0,A81+1)","v":0},0,0,0,{"$f":"IF($A82=0,0,(E81-D81)*((1+Simulador!$C$34)^(1/12)))","v":0},null,1,0,0,{"$f":"IF(A82=0,0,J$6/((1+Simulador!$C$34)^((A82-A$6)/12)))*(1+M82)","v":0},0,null,{"$f":"IF(Simulador!$C$47=12,0,IF(A82/12=INT(A82/12),1,0))","v":1},null,{"$f":"IF(OR(O81+1>Simulador!$C$53,O81=0),0,O81+1)","v":77},0,0,0,{"$f":"IF($O82=0,0,(S81-R81)*((1+Simulador!$C$34)^(1/12)))","v":0},null,1,0,0,{"$f":"IF(O82=0,0,X$6/((1+Simulador!$C$34)^((O82-O$6)/12)))*(1+AA82)","v":0},0,null,{"$f":"IF(Simulador!$C$54=12,0,IF(O82/12=INT(O82/12),1,0))","v":0}]
[{"$f":"IF(OR(A82+1>Simulador!$C$46,A82=0),0,A82+1)","v":0},0,0,0,{"$f":"IF($A83=0,0,(E82-D82)*((1+Simulador!$C$34)^(1/12)))","v":0},null,1,0,0,{"$f":"IF(A83=0,0,J$6/((1+Simulador!$C$34)^((A83-A$6)/12)))*(1+M83)","v":0},0,null,{"$f":"IF(Simulador!$C$47=12,0,IF(A83/12=INT(A83/12),1,0))","v":1},null,{"$f":"IF(OR(O82+1>Simulador!$C$53,O82=0),0,O82+1)","v":78},0,0,0,{"$f":"IF($O83=0,0,(S82-R82)*((1+Simulador!$C$34)^(1/12)))","v":0},null,1,0,0,{"$f":"IF(O83=0,0,X$6/((1+Simulador!$C$34)^((O83-O$6)/12)))*(1+AA83)","v":0},0,null,{"$f":"IF(Simulador!$C$54=12,0,IF(O83/12=INT(O83/12),1,0))","v":0}]
[{"$f":"IF(OR(A83+1>Simulador!$C$46,A83=0),0,A83+1)","v":0},0,0,0,{"$f":"IF($A84=0,0,(E83-D83)*((1+Simulador!$C$34)^(1/12)))","v":0},null,1,0,0,{"$f":"IF(A84=0,0,J$6/((1+Simulador!$C$34)^((A84-A$6)/12)))*(1+M84)","v":0},0,null,{"$f":"IF(Simulador!$C$47=12,0,IF(A84/12=INT(A84/12),1,0))","v":1},null,{"$f":"IF(OR(O83+1>Simulador!$C$53,O83=0),0,O83+1)","v":79},0,0,0,{"$f":"IF($O84=0,0,(S83-R83)*((1+Simulador!$C$34)^(1/12)))","v":0},null,1,0,0,{"$f":"IF(O84=0,0,X$6/((1+Simulador!$C$34)^((O84-O$6)/12)))*(1+AA84)","v":0},0,null,{"$f":"IF(Simulador!$C$54=12,0,IF(O84/12=INT(O84/12),1,0))","v":0}]
[{"$f":"IF(OR(A84+1>Simulador!$C$46,A84=0),0,A84+1)","v":0},0,0,0,{"$f":"IF($A85=0,0,(E84-D84)*((1+Simulador!$C$34)^(1/12)))","v":0},null,1,0,0,{"$f":"IF(A85=0,0,J$6/((1+Simulador!$C$34)^((A85-A$6)/12)))*(1+M85)","v":0},0,null,{"$f":"IF(Simulador!$C$47=12,0,IF(A85/12=INT(A85/12),1,0))","v":1},null,{"$f":"IF(OR(O84+1>Simulador!$C$53,O84=0),0,O84+1)","v":80},0,0,0,{"$f":"IF($O85=0,0,(S84-R84)*((1+Simulador!$C$34)^(1/12)))","v":0},null,1,0,0,{"$f":"IF(O85=0,0,X$6/((1+Simulador!$C$34)^((O85-O$6)/12)))*(1+AA85)","v":0},0,null,{"$f":"IF(Simulador!$C$54=12,0,IF(O85/12=INT(O85/12),1,0))","v":0}]
[{"$f":"IF(OR(A85+1>Simulador!$C$46,A85=0),0,A85+1)","v":0},0,0,0,{"$f":"IF($A86=0,0,(E85-D85)*((1+Simulador!$C$34)^(1/12)))","v":0},null,1,0,0,{"$f":"IF(A86=0,0,J$6/((1+Simulador!$C$34)^((A86-A$6)/12)))*(1+M86)","v":0},0,null,{"$f":"IF(Simulador!$C$47=12,0,IF(A86/12=INT(A86/12),1,0))","v":1},null,{"$f":"IF(OR(O85+1>Simulador!$C$53,O85=0),0,O85+1)","v":81},0,0,0,{"$f":"IF($O86=0,0,(S85-R85)*((1+Simulador!$C$34)^(1/12)))","v":0},null,1,0,0,{"$f":"IF(O86=0,0,X$6/((1+Simulador!$C$34)^((O86-O$6)/12)))*(1+AA86)","v":0},0,null,{"$f":"IF(Simulador!$C$54=12,0,IF(O86/12=INT(O86/12),1,0))","v":0}]
[{"$f":"IF(OR(A86+1>Simulador!$C$46,A86=0),0,A86+1)","v":0},0,0,0,{"$f":"IF($A87=0,0,(E86-D86)*((1+Simulador!$C$34)^(1/12)))","v":0},null,1,0,0,{"$f":"IF(A87=0,0,J$6/((1+Simulador!$C$34)^((A87-A$6)/12)))*(1+M87)","v":0},0,null,{"$f":"IF(Simulador!$C$47=12,0,IF(A87/12=INT(A87/12),1,0))","v":1},null,{"$f":"IF(OR(O86+1>Simulador!$C$53,O86=0),0,O86+1)","v":82},0,0,0,{"$f":"IF($O87=0,0,(S86-R86)*((1+Simulador!$C$34)^(1/12)))","v":0},null,1,0,0,{"$f":"IF(O87=0,0,X$6/((1+Simulador!$C$34)^((O87-O$6)/12)))*(1+AA87)","v":0},0,null,{"$f":"IF(Simulador!$C$54=12,0,IF(O87/12=INT(O87/12),1,0))","v":0}]
[{"$f":"IF(OR(A87+1>Simulador!$C$46,A87=0),0,A87+1)","v":0},0,0,0,{"$f":"IF($A88=0,0,(E87-D87)*((1+Simulador!$C$34)^(1/12)))","v":0},null,1,0,0,{"$f":"IF(A88=0,0,J$6/((1+Simulador!$C$34)^((A88-A$6)/12)))*(1+M88)","v":0},0,null,{"$f":"IF(Simulador!$C$47=12,0,IF(A88/12=INT(A88/12),1,0))","v":1},null,{"$f":"IF(OR(O87+1>Simulador!$C$53,O87=0),0,O87+1)","v":83},0,0,0,{"$f":"IF($O88=0,0,(S87-R87)*((1+Simulador!$C$34)^(1/12)))","v":0},null,1,0,0,{"$f":"IF(O88=0,0,X$6/((1+Simulador!$C$34)^((O88-O$6)/12)))*(1+AA88)","v":0},0,null,{"$f":"IF(Simulador!$C$54=12,0,IF(O88/12=INT(O88/12),1,0))","v":0}]
[{"$f":"IF(OR(A88+1>Simulador!$C$46,A88=0),0,A88+1)","v":0},0,0,0,{"$f":"IF($A89=0,0,(E88-D88)*((1+Simulador!$C$34)^(1/12)))","v":0},null,1,0,0,{"$f":"IF(A89=0,0,J$6/((1+Simulador!$C$34)^((A89-A$6)/12)))*(1+M89)","v":0},0,null,{"$f":"IF(Simulador!$C$47=12,0,IF(A89/12=INT(A89/12),1,0))","v":1},null,{"$f":"IF(OR(O88+1>Simulador!$C$53,O88=0),0,O88+1)","v":84},0,0,0,{"$f":"IF($O89=0,0,(S88-R88)*((1+Simulador!$C$34)^(1/12)))","v":0},null,1,0,0,{"$f":"IF(O89=0,0,X$6/((1+Simulador!$C$34)^((O89-O$6)/12)))*(1+AA89)","v":0},0,null,{"$f":"IF(Simulador!$C$54=12,0,IF(O89/12=INT(O89/12),1,0))","v":0}]
[{"$f":"IF(OR(A89+1>Simulador!$C$46,A89=0),0,A89+1)","v":0},0,0,0,{"$f":"IF($A90=0,0,(E89-D89)*((1+Simulador!$C$34)^(1/12)))","v":0},null,1,0,0,{"$f":"IF(A90=0,0,J$6/((1+Simulador!$C$34)^((A90-A$6)/12)))*(1+M90)","v":0},0,null,{"$f":"IF(Simulador!$C$47=12,0,IF(A90/12=INT(A90/12),1,0))","v":1},null,{"$f":"IF(OR(O89+1>Simulador!$C$53,O89=0),0,O89+1)","v":85},0,0,0,{"$f":"IF($O90=0,0,(S89-R89)*((1+Simulador!$C$34)^(1/12)))","v":0},null,1,0,0,{"$f":"IF(O90=0,0,X$6/((1+Simulador!$C$34)^((O90-O$6)/12)))*(1+AA90)","v":0},0,null,{"$f":"IF(Simulador!$C$54=12,0,IF(O90/12=INT(O90/12),1,0))","v":0}]
[{"$f":"IF(OR(A90+1>Simulador!$C$46,A90=0),0,A90+1)","v":0},0,0,0,{"$f":"IF($A91=0,0,(E90-D90)*((1+Simulador!$C$34)^(1/12)))","v":0},null,1,0,0,{"$f":"IF(A91=0,0,J$6/((1+Simulador!$C$34)^((A91-A$6)/12)))*(1+M91)","v":0},0,null,{"$f":"IF(Simulador!$C$47=12,0,IF(A91/12=INT(A91/12),1,0))","v":1},null,{"$f":"IF(OR(O90+1>Simulador!$C$53,O90=0),0,O90+1)","v":86},0,0,0,{"$f":"IF($O91=0,0,(S90-R90)*((1+Simulador!$C$34)^(1/12)))","v":0},null,1,0,0,{"$f":"IF(O91=0,0,X$6/((1+Simulador!$C$34)^((O91-O$6)/12)))*(1+AA91)","v":0},0,null,{"$f":"IF(Simulador!$C$54=12,0,IF(O91/12=INT(O91/12),1,0))","v":0}]
[{"$f":"IF(OR(A91+1>Simulador!$C$46,A91=0),0,A91+1)","v":0},0,0,0,{"$f":"IF($A92=0,0,(E91-D91)*((1+Simulador!$C$34)^(1/12)))","v":0},null,1,0,0,{"$f":"IF(A92=0,0,J$6/((1+Simulador!$C$34)^((A92-A$6)/12)))*(1+M92)","v":0},0,null,{"$f":"IF(Simulador!$C$47=12,0,IF(A92/12=INT(A92/12),1,0))","v":1},null,{"$f":"IF(OR(O91+1>Simulador!$C$53,O91=0),0,O91+1)","v":87},0,0,0,{"$f":"IF($O92=0,0,(S91-R91)*((1+Simulador!$C$34)^(1/12)))","v":0},null,1,0,0,{"$f":"IF(O92=0,0,X$6/((1+Simulador!$C$34)^((O92-O$6)/12)))*(1+AA92)","v":0},0,null,{"$f":"IF(Simulador!$C$54=12,0,IF(O92/12=INT(O92/12),1,0))","v":0}]
[{"$f":"IF(OR(A92+1>Simulador!$C$46,A92=0),0,A92+1)","v":0},0,0,0,{"$f":"IF($A93=0,0,(E92-D92)*((1+Simulador!$C$34)^(1/12)))","v":0},null,1,0,0,{"$f":"IF(A93=0,0,J$6/((1+Simulador!$C$34)^((A93-A$6)/12)))*(1+M93)","v":0},0,null,{"$f":"IF(Simulador!$C$47=12,0,IF(A93/12=INT(A93/12),1,0))","v":1},null,{"$f":"IF(OR(O92+1>Simulador!$C$53,O92=0),0,O92+1)","v":88},0,0,0,{"$f":"IF($O93=0,0,(S92-R92)*((1+Simulador!$C$34)^(1/12)))","v":0},null,1,0,0,{"$f":"IF(O93=0,0,X$6/((1+Simulador!$C$34)^((O93-O$6)/12)))*(1+AA93)","v":0},0,null,{"$f":"IF(Simulador!$C$54=12,0,IF(O93/12=INT(O93/12),1,0))","v":0}]
[{"$f":"IF(OR(A93+1>Simulador!$C$46,A93=0),0,A93+1)","v":0},0,0,0,{"$f":"IF($A94=0,0,(E93-D93)*((1+Simulador!$C$34)^(1/12)))","v":0},null,1,0,0,{"$f":"IF(A94=0,0,J$6/((1+Simulador!$C$34)^((A94-A$6)/12)))*(1+M94)","v":0},0,null,{"$f":"IF(Simulador!$C$47=12,0,IF(A94/12=INT(A94/12),1,0))","v":1},null,{"$f":"IF(OR(O93+1>Simulador!$C$53,O93=0),0,O93+1)","v":89},0,0,0,{"$f":"IF($O94=0,0,(S93-R93)*((1+Simulador!$C$34)^(1/12)))","v":0},null,1,0,0,{"$f":"IF(O94=0,0,X$6/((1+Simulador!$C$34)^((O94-O$6)/12)))*(1+AA94)","v":0},0,null,{"$f":"IF(Simulador!$C$54=12,0,IF(O94/12=INT(O94/12),1,0))","v":0}]
[{"$f":"IF(OR(A94+1>Simulador!$C$46,A94=0),0,A94+1)","v":0},0,0,0,{"$f":"IF($A95=0,0,(E94-D94)*((1+Simulador!$C$34)^(1/12)))","v":0},null,1,0,0,{"$f":"IF(A95=0,0,J$6/((1+Simulador!$C$34)^((A95-A$6)/12)))*(1+M95)","v":0},0,null,{"$f":"IF(Simulador!$C$47=12,0,IF(A95/12=INT(A95/12),1,0))","v":1},null,{"$f":"IF(OR(O94+1>Simulador!$C$53,O94=0),0,O94+1)","v":90},0,0,0,{"$f":"IF($O95=0,0,(S94-R94)*((1+Simulador!$C$34)^(1/12)))","v":0},null,1,0,0,{"$f":"IF(O95=0,0,X$6/((1+Simulador!$C$34)^((O95-O$6)/12)))*(1+AA95)","v":0},0,null,{"$f":"IF(Simulador!$C$54=12,0,IF(O95/12=INT(O95/12),1,0))","v":0}]
[{"$f":"IF(OR(A95+1>Simulador!$C$46,A95=0),0,A95+1)","v":0},0,0,0,{"$f":"IF($A96=0,0,(E95-D95)*((1+Simulador!$C$34)^(1/12)))","v":0},null,1,0,0,{"$f":"IF(A96=0,0,J$6/((1+Simulador!$C$34)^((A96-A$6)/12)))*(1+M96)","v":0},0,null,{"$f":"IF(Simulador!$C$47=12,0,IF(A96/12=INT(A96/12),1,0))","v":1},null,{"$f":"IF(OR(O95+1>Simulador!$C$53,O95=0),0,O95+1)","v":91},0,0,0,{"$f":"IF($O96=0,0,(S95-R95)*((1+Simulador!$C$34)^(1/12)))","v":0},null,1,0,0,{"$f":"IF(O96=0,0,X$6/((1+Simulador!$C$34)^((O96-O$6)/12)))*(1+AA96)","v":0},0,null,{"$f":"IF(Simulador!$C$54=12,0,IF(O96/12=INT(O96/12),1,0))","v":0}]
[{"$f":"IF(OR(A96+1>Simulador!$C$46,A96=0),0,A96+1)","v":0},0,0,0,{"$f":"IF($A97=0,0,(E96-D96)*((1+Simulador!$C$34)^(1/12)))","v":0},null,1,0,0,{"$f":"IF(A97=0,0,J$6/((1+Simulador!$C$34)^((A97-A$6)/12)))*(1+M97)","v":0},0,null,{"$f":"IF(Simulador!$C$47=12,0,IF(A97/12=INT(A97/12),1,0))","v":1},null,{"$f":"IF(OR(O96+1>Simulador!$C$53,O96=0),0,O96+1)","v":92},0,0,0,{"$f":"IF($O97=0,0,(S96-R96)*((1+Simulador!$C$34)^(1/12)))","v":0},null,1,0,0,{"$f":"IF(O97=0,0,X$6/((1+Simulador!$C$34)^((O97-O$6)/12)))*(1+AA97)","v":0},0,null,{"$f":"IF(Simulador!$C$54=12,0,IF(O97/12=INT(O97/12),1,0))","v":0}]
[{"$f":"IF(OR(A97+1>Simulador!$C$46,A97=0),0,A97+1)","v":0},0,0,0,{"$f":"IF($A98=0,0,(E97-D97)*((1+Simulador!$C$34)^(1/12)))","v":0},null,1,0,0,{"$f":"IF(A98=0,0,J$6/((1+Simulador!$C$34)^((A98-A$6)/12)))*(1+M98)","v":0},0,null,{"$f":"IF(Simulador!$C$47=12,0,IF(A98/12=INT(A98/12),1,0))","v":1},null,{"$f":"IF(OR(O97+1>Simulador!$C$53,O97=0),0,O97+1)","v":93},0,0,0,{"$f":"IF($O98=0,0,(S97-R97)*((1+Simulador!$C$34)^(1/12)))","v":0},null,1,0,0,{"$f":"IF(O98=0,0,X$6/((1+Simulador!$C$34)^((O98-O$6)/12)))*(1+AA98)","v":0},0,null,{"$f":"IF(Simulador!$C$54=12,0,IF(O98/12=INT(O98/12),1,0))","v":0}]
[{"$f":"IF(OR(A98+1>Simulador!$C$46,A98=0),0,A98+1)","v":0},0,0,0,{"$f":"IF($A99=0,0,(E98-D98)*((1+Simulador!$C$34)^(1/12)))","v":0},null,1,0,0,{"$f":"IF(A99=0,0,J$6/((1+Simulador!$C$34)^((A99-A$6)/12)))*(1+M99)","v":0},0,null,{"$f":"IF(Simulador!$C$47=12,0,IF(A99/12=INT(A99/12),1,0))","v":1},null,{"$f":"IF(OR(O98+1>Simulador!$C$53,O98=0),0,O98+1)","v":94},0,0,0,{"$f":"IF($O99=0,0,(S98-R98)*((1+Simulador!$C$34)^(1/12)))","v":0},null,1,0,0,{"$f":"IF(O99=0,0,X$6/((1+Simulador!$C$34)^((O99-O$6)/12)))*(1+AA99)","v":0},0,null,{"$f":"IF(Simulador!$C$54=12,0,IF(O99/12=INT(O99/12),1,0))","v":0}]
[{"$f":"IF(OR(A99+1>Simulador!$C$46,A99=0),0,A99+1)","v":0},0,0,0,{"$f":"IF($A100=0,0,(E99-D99)*((1+Simulador!$C$34)^(1/12)))","v":0},null,1,0,0,{"$f":"IF(A100=0,0,J$6/((1+Simulador!$C$34)^((A100-A$6)/12)))*(1+M100)","v":0},0,null,{"$f":"IF(Simulador!$C$47=12,0,IF(A100/12=INT(A100/12),1,0))","v":1},null,{"$f":"IF(OR(O99+1>Simulador!$C$53,O99=0),0,O99+1)","v":95},0,0,0,{"$f":"IF($O100=0,0,(S99-R99)*((1+Simulador!$C$34)^(1/12)))","v":0},null,1,0,0,{"$f":"IF(O100=0,0,X$6/((1+Simulador!$C$34)^((O100-O$6)/12)))*(1+AA100)","v":0},0,null,{"$f":"IF(Simulador!$C$54=12,0,IF(O100/12=INT(O100/12),1,0))","v":0}]
[{"$f":"IF(OR(A100+1>Simulador!$C$46,A100=0),0,A100+1)","v":0},0,0,0,{"$f":"IF($A101=0,0,(E100-D100)*((1+Simulador!$C$34)^(1/12)))","v":0},null,1,0,0,{"$f":"IF(A101=0,0,J$6/((1+Simulador!$C$34)^((A101-A$6)/12)))*(1+M101)","v":0},0,null,{"$f":"IF(Simulador!$C$47=12,0,IF(A101/12=INT(A101/12),1,0))","v":1},null,{"$f":"IF(OR(O100+1>Simulador!$C$53,O100=0),0,O100+1)","v":96},0,0,0,{"$f":"IF($O101=0,0,(S100-R100)*((1+Simulador!$C$34)^(1/12)))","v":0},null,1,0,0,{"$f":"IF(O101=0,0,X$6/((1+Simulador!$C$34)^((O101-O$6)/12)))*(1+AA101)","v":0},0,null,{"$f":"IF(Simulador!$C$54=12,0,IF(O101/12=INT(O101/12),1,0))","v":0}]
[{"$f":"IF(OR(A101+1>Simulador!$C$46,A101=0),0,A101+1)","v":0},0,0,0,{"$f":"IF($A102=0,0,(E101-D101)*((1+Simulador!$C$34)^(1/12)))","v":0},null,1,0,0,{"$f":"IF(A102=0,0,J$6/((1+Simulador!$C$34)^((A102-A$6)/12)))*(1+M102)","v":0},0,null,{"$f":"IF(Simulador!$C$47=12,0,IF(A102/12=INT(A102/12),1,0))","v":1},null,{"$f":"IF(OR(O101+1>Simulador!$C$53,O101=0),0,O101+1)","v":0},0,0,0,{"$f":"IF($O102=0,0,(S101-R101)*((1+Simulador!$C$34)^(1/12)))","v":0},null,1,0,0,{"$f":"IF(O102=0,0,X$6/((1+Simulador!$C$34)^((O102-O$6)/12)))*(1+AA102)","v":0},0,null,{"$f":"IF(Simulador!$C$54=12,0,IF(O102/12=INT(O102/12),1,0))","v":0}]
[{"$f":"IF(OR(A102+1>Simulador!$C$46,A102=0),0,A102+1)","v":0},0,0,0,{"$f":"IF($A103=0,0,(E102-D102)*((1+Simulador!$C$34)^(1/12)))","v":0},null,1,0,0,{"$f":"IF(A103=0,0,J$6/((1+Simulador!$C$34)^((A103-A$6)/12)))*(1+M103)","v":0},0,null,{"$f":"IF(Simulador!$C$47=12,0,IF(A103/12=INT(A103/12),1,0))","v":1},null,{"$f":"IF(OR(O102+1>Simulador!$C$53,O102=0),0,O102+1)","v":0},0,0,0,{"$f":"IF($O103=0,0,(S102-R102)*((1+Simulador!$C$34)^(1/12)))","v":0},null,1,0,0,{"$f":"IF(O103=0,0,X$6/((1+Simulador!$C$34)^((O103-O$6)/12)))*(1+AA103)","v":0},0,null,{"$f":"IF(Simulador!$C$54=12,0,IF(O103/12=INT(O103/12),1,0))","v":0}]
[{"$f":"IF(OR(A103+1>Simulador!$C$46,A103=0),0,A103+1)","v":0},0,0,0,{"$f":"IF($A104=0,0,(E103-D103)*((1+Simulador!$C$34)^(1/12)))","v":0},null,1,0,0,{"$f":"IF(A104=0,0,J$6/((1+Simulador!$C$34)^((A104-A$6)/12)))*(1+M104)","v":0},0,null,{"$f":"IF(Simulador!$C$47=12,0,IF(A104/12=INT(A104/12),1,0))","v":1},null,{"$f":"IF(OR(O103+1>Simulador!$C$53,O103=0),0,O103+1)","v":0},0,0,0,{"$f":"IF($O104=0,0,(S103-R103)*((1+Simulador!$C$34)^(1/12)))","v":0},null,1,0,0,{"$f":"IF(O104=0,0,X$6/((1+Simulador!$C$34)^((O104-O$6)/12)))*(1+AA104)","v":0},0,null,{"$f":"IF(Simulador!$C$54=12,0,IF(O104/12=INT(O104/12),1,0))","v":0}]
[{"$f":"IF(OR(A104+1>Simulador!$C$46,A104=0),0,A104+1)","v":0},0,0,0,{"$f":"IF($A105=0,0,(E104-D104)*((1+Simulador!$C$34)^(1/12)))","v":0},null,1,0,0,{"$f":"IF(A105=0,0,J$6/((1+Simulador!$C$34)^((A105-A$6)/12)))*(1+M105)","v":0},0,null,{"$f":"IF(Simulador!$C$47=12,0,IF(A105/12=INT(A105/12),1,0))","v":1},null,{"$f":"IF(OR(O104+1>Simulador!$C$53,O104=0),0,O104+1)","v":0},0,0,0,{"$f":"IF($O105=0,0,(S104-R104)*((1+Simulador!$C$34)^(1/12)))","v":0},null,1,0,0,{"$f":"IF(O105=0,0,X$6/((1+Simulador!$C$34)^((O105-O$6)/12)))*(1+AA105)","v":0},0,null,{"$f":"IF(Simulador!$C$54=12,0,IF(O105/12=INT(O105/12),1,0))","v":0}]
[{"$f":"IF(OR(A105+1>Simulador!$C$46,A105=0),0,A105+1)","v":0},0,0,0,{"$f":"IF($A106=0,0,(E105-D105)*((1+Simulador!$C$34)^(1/12)))","v":0},null,1,0,0,{"$f":"IF(A106=0,0,J$6/((1+Simulador!$C$34)^((A106-A$6)/12)))*(1+M106)","v":0},0,null,{"$f":"IF(Simulador!$C$47=12,0,IF(A106/12=INT(A106/12),1,0))","v":1},null,{"$f":"IF(OR(O105+1>Simulador!$C$53,O105=0),0,O105+1)","v":0},0,0,0,{"$f":"IF($O106=0,0,(S105-R105)*((1+Simulador!$C$34)^(1/12)))","v":0},null,1,0,0,{"$f":"IF(O106=0,0,X$6/((1+Simulador!$C$34)^((O106-O$6)/12)))*(1+AA106)","v":0},0,null,{"$f":"IF(Simulador!$C$54=12,0,IF(O106/12=INT(O106/12),1,0))","v":0}]
[{"$f":"IF(OR(A106+1>Simulador!$C$46,A106=0),0,A106+1)","v":0},0,0,0,{"$f":"IF($A107=0,0,(E106-D106)*((1+Simulador!$C$34)^(1/12)))","v":0},null,1,0,0,{"$f":"IF(A107=0,0,J$6/((1+Simulador!$C$34)^((A107-A$6)/12)))*(1+M107)","v":0},0,null,{"$f":"IF(Simulador!$C$47=12,0,IF(A107/12=INT(A107/12),1,0))","v":1},null,{"$f":"IF(OR(O106+1>Simulador!$C$53,O106=0),0,O106+1)","v":0},0,0,0,{"$f":"IF($O107=0,0,(S106-R106)*((1+Simulador!$C$34)^(1/12)))","v":0},null,1,0,0,{"$f":"IF(O107=0,0,X$6/((1+Simulador!$C$34)^((O107-O$6)/12)))*(1+AA107)","v":0},0,null,{"$f":"IF(Simulador!$C$54=12,0,IF(O107/12=INT(O107/12),1,0))","v":0}]
[{"$f":"IF(OR(A107+1>Simulador!$C$46,A107=0),0,A107+1)","v":0},0,0,0,{"$f":"IF($A108=0,0,(E107-D107)*((1+Simulador!$C$34)^(1/12)))","v":0},null,1,0,0,{"$f":"IF(A108=0,0,J$6/((1+Simulador!$C$34)^((A108-A$6)/12)))*(1+M108)","v":0},0,null,{"$f":"IF(Simulador!$C$47=12,0,IF(A108/12=INT(A108/12),1,0))","v":1},null,{"$f":"IF(OR(O107+1>Simulador!$C$53,O107=0),0,O107+1)","v":0},0,0,0,{"$f":"IF($O108=0,0,(S107-R107)*((1+Simulador!$C$34)^(1/12)))","v":0},null,1,0,0,{"$f":"IF(O108=0,0,X$6/((1+Simulador!$C$34)^((O108-O$6)/12)))*(1+AA108)","v":0},0,null,{"$f":"IF(Simulador!$C$54=12,0,IF(O108/12=INT(O108/12),1,0))","v":0}]
[{"$f":"IF(OR(A108+1>Simulador!$C$46,A108=0),0,A108+1)","v":0},0,0,0,{"$f":"IF($A109=0,0,(E108-D108)*((1+Simulador!$C$34)^(1/12)))","v":0},null,1,0,0,{"$f":"IF(A109=0,0,J$6/((1+Simulador!$C$34)^((A109-A$6)/12)))*(1+M109)","v":0},0,null,{"$f":"IF(Simulador!$C$47=12,0,IF(A109/12=INT(A109/12),1,0))","v":1},null,{"$f":"IF(OR(O108+1>Simulador!$C$53,O108=0),0,O108+1)","v":0},0,0,0,{"$f":"IF($O109=0,0,(S108-R108)*((1+Simulador!$C$34)^(1/12)))","v":0},null,1,0,0,{"$f":"IF(O109=0,0,X$6/((1+Simulador!$C$34)^((O109-O$6)/12)))*(1+AA109)","v":0},0,null,{"$f":"IF(Simulador!$C$54=12,0,IF(O109/12=INT(O109/12),1,0))","v":0}]
[{"$f":"IF(OR(A109+1>Simulador!$C$46,A109=0),0,A109+1)","v":0},0,0,0,{"$f":"IF($A110=0,0,(E109-D109)*((1+Simulador!$C$34)^(1/12)))","v":0},null,1,0,0,{"$f":"IF(A110=0,0,J$6/((1+Simulador!$C$34)^((A110-A$6)/12)))*(1+M110)","v":0},0,null,{"$f":"IF(Simulador!$C$47=12,0,IF(A110/12=INT(A110/12),1,0))","v":1},null,{"$f":"IF(OR(O109+1>Simulador!$C$53,O109=0),0,O109+1)","v":0},0,0,0,{"$f":"IF($O110=0,0,(S109-R109)*((1+Simulador!$C$34)^(1/12)))","v":0},null,1,0,0,{"$f":"IF(O110=0,0,X$6/((1+Simulador!$C$34)^((O110-O$6)/12)))*(1+AA110)","v":0},0,null,{"$f":"IF(Simulador!$C$54=12,0,IF(O110/12=INT(O110/12),1,0))","v":0}]
[{"$f":"IF(OR(A110+1>Simulador!$C$46,A110=0),0,A110+1)","v":0},0,0,0,{"$f":"IF($A111=0,0,(E110-D110)*((1+Simulador!$C$34)^(1/12)))","v":0},null,1,0,0,{"$f":"IF(A111=0,0,J$6/((1+Simulador!$C$34)^((A111-A$6)/12)))*(1+M111)","v":0},0,null,{"$f":"IF(Simulador!$C$47=12,0,IF(A111/12=INT(A111/12),1,0))","v":1},null,{"$f":"IF(OR(O110+1>Simulador!$C$53,O110=0),0,O110+1)","v":0},0,0,0,{"$f":"IF($O111=0,0,(S110-R110)*((1+Simulador!$C$34)^(1/12)))","v":0},null,1,0,0,{"$f":"IF(O111=0,0,X$6/((1+Simulador!$C$34)^((O111-O$6)/12)))*(1+AA111)","v":0},0,null,{"$f":"IF(Simulador!$C$54=12,0,IF(O111/12=INT(O111/12),1,0))","v":0}]
[{"$f":"IF(OR(A111+1>Simulador!$C$46,A111=0),0,A111+1)","v":0},0,0,0,{"$f":"IF($A112=0,0,(E111-D111)*((1+Simulador!$C$34)^(1/12)))","v":0},null,1,0,0,{"$f":"IF(A112=0,0,J$6/((1+Simulador!$C$34)^((A112-A$6)/12)))*(1+M112)","v":0},0,null,{"$f":"IF(Simulador!$C$47=12,0,IF(A112/12=INT(A112/12),1,0))","v":1},null,{"$f":"IF(OR(O111+1>Simulador!$C$53,O111=0),0,O111+1)","v":0},0,0,0,{"$f":"IF($O112=0,0,(S111-R111)*((1+Simulador!$C$34)^(1/12)))","v":0},null,1,0,0,{"$f":"IF(O112=0,0,X$6/((1+Simulador!$C$34)^((O112-O$6)/12)))*(1+AA112)","v":0},0,null,{"$f":"IF(Simulador!$C$54=12,0,IF(O112/12=INT(O112/12),1,0))","v":0}]
[{"$f":"IF(OR(A112+1>Simulador!$C$46,A112=0),0,A112+1)","v":0},0,0,0,{"$f":"IF($A113=0,0,(E112-D112)*((1+Simulador!$C$34)^(1/12)))","v":0},null,1,0,0,{"$f":"IF(A113=0,0,J$6/((1+Simulador!$C$34)^((A113-A$6)/12)))*(1+M113)","v":0},0,null,{"$f":"IF(Simulador!$C$47=12,0,IF(A113/12=INT(A113/12),1,0))","v":1},null,{"$f":"IF(OR(O112+1>Simulador!$C$53,O112=0),0,O112+1)","v":0},0,0,0,{"$f":"IF($O113=0,0,(S112-R112)*((1+Simulador!$C$34)^(1/12)))","v":0},null,1,0,0,{"$f":"IF(O113=0,0,X$6/((1+Simulador!$C$34)^((O113-O$6)/12)))*(1+AA113)","v":0},0,null,{"$f":"IF(Simulador!$C$54=12,0,IF(O113/12=INT(O113/12),1,0))","v":0}]
[{"$f":"IF(OR(A113+1>Simulador!$C$46,A113=0),0,A113+1)","v":0},0,0,0,{"$f":"IF($A114=0,0,(E113-D113)*((1+Simulador!$C$34)^(1/12)))","v":0},null,1,0,0,{"$f":"IF(A114=0,0,J$6/((1+Simulador!$C$34)^((A114-A$6)/12)))*(1+M114)","v":0},0,null,{"$f":"IF(Simulador!$C$47=12,0,IF(A114/12=INT(A114/12),1,0))","v":1},null,{"$f":"IF(OR(O113+1>Simulador!$C$53,O113=0),0,O113+1)","v":0},0,0,0,{"$f":"IF($O114=0,0,(S113-R113)*((1+Simulador!$C$34)^(1/12)))","v":0},null,1,0,0,{"$f":"IF(O114=0,0,X$6/((1+Simulador!$C$34)^((O114-O$6)/12)))*(1+AA114)","v":0},0,null,{"$f":"IF(Simulador!$C$54=12,0,IF(O114/12=INT(O114/12),1,0))","v":0}]
[{"$f":"IF(OR(A114+1>Simulador!$C$46,A114=0),0,A114+1)","v":0},0,0,0,{"$f":"IF($A115=0,0,(E114-D114)*((1+Simulador!$C$34)^(1/12)))","v":0},null,1,0,0,{"$f":"IF(A115=0,0,J$6/((1+Simulador!$C$34)^((A115-A$6)/12)))*(1+M115)","v":0},0,null,{"$f":"IF(Simulador!$C$47=12,0,IF(A115/12=INT(A115/12),1,0))","v":1},null,{"$f":"IF(OR(O114+1>Simulador!$C$53,O114=0),0,O114+1)","v":0},0,0,0,{"$f":"IF($O115=0,0,(S114-R114)*((1+Simulador!$C$34)^(1/12)))","v":0},null,1,0,0,{"$f":"IF(O115=0,0,X$6/((1+Simulador!$C$34)^((O115-O$6)/12)))*(1+AA115)","v":0},0,null,{"$f":"IF(Simulador!$C$54=12,0,IF(O115/12=INT(O115/12),1,0))","v":0}]
[{"$f":"IF(OR(A115+1>Simulador!$C$46,A115=0),0,A115+1)","v":0},0,0,0,{"$f":"IF($A116=0,0,(E115-D115)*((1+Simulador!$C$34)^(1/12)))","v":0},null,1,0,0,{"$f":"IF(A116=0,0,J$6/((1+Simulador!$C$34)^((A116-A$6)/12)))*(1+M116)","v":0},0,null,{"$f":"IF(Simulador!$C$47=12,0,IF(A116/12=INT(A116/12),1,0))","v":1},null,{"$f":"IF(OR(O115+1>Simulador!$C$53,O115=0),0,O115+1)","v":0},0,0,0,{"$f":"IF($O116=0,0,(S115-R115)*((1+Simulador!$C$34)^(1/12)))","v":0},null,1,0,0,{"$f":"IF(O116=0,0,X$6/((1+Simulador!$C$34)^((O116-O$6)/12)))*(1+AA116)","v":0},0,null,{"$f":"IF(Simulador!$C$54=12,0,IF(O116/12=INT(O116/12),1,0))","v":0}]
[{"$f":"IF(OR(A116+1>Simulador!$C$46,A116=0),0,A116+1)","v":0},0,0,0,{"$f":"IF($A117=0,0,(E116-D116)*((1+Simulador!$C$34)^(1/12)))","v":0},null,1,0,0,{"$f":"IF(A117=0,0,J$6/((1+Simulador!$C$34)^((A117-A$6)/12)))*(1+M117)","v":0},0,null,{"$f":"IF(Simulador!$C$47=12,0,IF(A117/12=INT(A117/12),1,0))","v":1},null,{"$f":"IF(OR(O116+1>Simulador!$C$53,O116=0),0,O116+1)","v":0},0,0,0,{"$f":"IF($O117=0,0,(S116-R116)*((1+Simulador!$C$34)^(1/12)))","v":0},null,1,0,0,{"$f":"IF(O117=0,0,X$6/((1+Simulador!$C$34)^((O117-O$6)/12)))*(1+AA117)","v":0},0,null,{"$f":"IF(Simulador!$C$54=12,0,IF(O117/12=INT(O117/12),1,0))","v":0}]
[{"$f":"IF(OR(A117+1>Simulador!$C$46,A117=0),0,A117+1)","v":0},0,0,0,{"$f":"IF($A118=0,0,(E117-D117)*((1+Simulador!$C$34)^(1/12)))","v":0},null,1,0,0,{"$f":"IF(A118=0,0,J$6/((1+Simulador!$C$34)^((A118-A$6)/12)))*(1+M118)","v":0},0,null,{"$f":"IF(Simulador!$C$47=12,0,IF(A118/12=INT(A118/12),1,0))","v":1},null,{"$f":"IF(OR(O117+1>Simulador!$C$53,O117=0),0,O117+1)","v":0},0,0,0,{"$f":"IF($O118=0,0,(S117-R117)*((1+Simulador!$C$34)^(1/12)))","v":0},null,1,0,0,{"$f":"IF(O118=0,0,X$6/((1+Simulador!$C$34)^((O118-O$6)/12)))*(1+AA118)","v":0},0,null,{"$f":"IF(Simulador!$C$54=12,0,IF(O118/12=INT(O118/12),1,0))","v":0}]
[{"$f":"IF(OR(A118+1>Simulador!$C$46,A118=0),0,A118+1)","v":0},0,0,0,{"$f":"IF($A119=0,0,(E118-D118)*((1+Simulador!$C$34)^(1/12)))","v":0},null,1,0,0,{"$f":"IF(A119=0,0,J$6/((1+Simulador!$C$34)^((A119-A$6)/12)))*(1+M119)","v":0},0,null,{"$f":"IF(Simulador!$C$47=12,0,IF(A119/12=INT(A119/12),1,0))","v":1},null,{"$f":"IF(OR(O118+1>Simulador!$C$53,O118=0),0,O118+1)","v":0},0,0,0,{"$f":"IF($O119=0,0,(S118-R118)*((1+Simulador!$C$34)^(1/12)))","v":0},null,1,0,0,{"$f":"IF(O119=0,0,X$6/((1+Simulador!$C$34)^((O119-O$6)/12)))*(1+AA119)","v":0},0,null,{"$f":"IF(Simulador!$C$54=12,0,IF(O119/12=INT(O119/12),1,0))","v":0}]
[{"$f":"IF(OR(A119+1>Simulador!$C$46,A119=0),0,A119+1)","v":0},0,0,0,{"$f":"IF($A120=0,0,(E119-D119)*((1+Simulador!$C$34)^(1/12)))","v":0},null,1,0,0,{"$f":"IF(A120=0,0,J$6/((1+Simulador!$C$34)^((A120-A$6)/12)))*(1+M120)","v":0},0,null,{"$f":"IF(Simulador!$C$47=12,0,IF(A120/12=INT(A120/12),1,0))","v":1},null,{"$f":"IF(OR(O119+1>Simulador!$C$53,O119=0),0,O119+1)","v":0},0,0,0,{"$f":"IF($O120=0,0,(S119-R119)*((1+Simulador!$C$34)^(1/12)))","v":0},null,1,0,0,{"$f":"IF(O120=0,0,X$6/((1+Simulador!$C$34)^((O120-O$6)/12)))*(1+AA120)","v":0},0,null,{"$f":"IF(Simulador!$C$54=12,0,IF(O120/12=INT(O120/12),1,0))","v":0}]
[{"$f":"IF(OR(A120+1>Simulador!$C$46,A120=0),0,A120+1)","v":0},0,0,0,{"$f":"IF($A121=0,0,(E120-D120)*((1+Simulador!$C$34)^(1/12)))","v":0},null,1,0,0,{"$f":"IF(A121=0,0,J$6/((1+Simulador!$C$34)^((A121-A$6)/12)))*(1+M121)","v":0},0,null,{"$f":"IF(Simulador!$C$47=12,0,IF(A121/12=INT(A121/12),1,0))","v":1},null,{"$f":"IF(OR(O120+1>Simulador!$C$53,O120=0),0,O120+1)","v":0},0,0,0,{"$f":"IF($O121=0,0,(S120-R120)*((1+Simulador!$C$34)^(1/12)))","v":0},null,1,0,0,{"$f":"IF(O121=0,0,X$6/((1+Simulador!$C$34)^((O121-O$6)/12)))*(1+AA121)","v":0},0,null,{"$f":"IF(Simulador!$C$54=12,0,IF(O121/12=INT(O121/12),1,0))","v":0}]
[{"$f":"IF(OR(A121+1>Simulador!$C$46,A121=0),0,A121+1)","v":0},0,0,0,{"$f":"IF($A122=0,0,(E121-D121)*((1+Simulador!$C$34)^(1/12)))","v":0},null,1,0,0,{"$f":"IF(A122=0,0,J$6/((1+Simulador!$C$34)^((A122-A$6)/12)))*(1+M122)","v":0},0,null,{"$f":"IF(Simulador!$C$47=12,0,IF(A122/12=INT(A122/12),1,0))","v":1},null,{"$f":"IF(OR(O121+1>Simulador!$C$53,O121=0),0,O121+1)","v":0},0,0,0,{"$f":"IF($O122=0,0,(S121-R121)*((1+Simulador!$C$34)^(1/12)))","v":0},null,1,0,0,{"$f":"IF(O122=0,0,X$6/((1+Simulador!$C$34)^((O122-O$6)/12)))*(1+AA122)","v":0},0,null,{"$f":"IF(Simulador!$C$54=12,0,IF(O122/12=INT(O122/12),1,0))","v":0}]
[{"$f":"IF(OR(A122+1>Simulador!$C$46,A122=0),0,A122+1)","v":0},0,0,0,{"$f":"IF($A123=0,0,(E122-D122)*((1+Simulador!$C$34)^(1/12)))","v":0},null,1,0,0,{"$f":"IF(A123=0,0,J$6/((1+Simulador!$C$34)^((A123-A$6)/12)))*(1+M123)","v":0},0,null,{"$f":"IF(Simulador!$C$47=12,0,IF(A123/12=INT(A123/12),1,0))","v":1},null,{"$f":"IF(OR(O122+1>Simulador!$C$53,O122=0),0,O122+1)","v":0},0,0,0,{"$f":"IF($O123=0,0,(S122-R122)*((1+Simulador!$C$34)^(1/12)))","v":0},null,1,0,0,{"$f":"IF(O123=0,0,X$6/((1+Simulador!$C$34)^((O123-O$6)/12)))*(1+AA123)","v":0},0,null,{"$f":"IF(Simulador!$C$54=12,0,IF(O123/12=INT(O123/12),1,0))","v":0}]
[{"$f":"IF(OR(A123+1>Simulador!$C$46,A123=0),0,A123+1)","v":0},0,0,0,{"$f":"IF($A124=0,0,(E123-D123)*((1+Simulador!$C$34)^(1/12)))","v":0},null,1,0,0,{"$f":"IF(A124=0,0,J$6/((1+Simulador!$C$34)^((A124-A$6)/12)))*(1+M124)","v":0},0,null,{"$f":"IF(Simulador!$C$47=12,0,IF(A124/12=INT(A124/12),1,0))","v":1},null,{"$f":"IF(OR(O123+1>Simulador!$C$53,O123=0),0,O123+1)","v":0},0,0,0,{"$f":"IF($O124=0,0,(S123-R123)*((1+Simulador!$C$34)^(1/12)))","v":0},null,1,0,0,{"$f":"IF(O124=0,0,X$6/((1+Simulador!$C$34)^((O124-O$6)/12)))*(1+AA124)","v":0},0,null,{"$f":"IF(Simulador!$C$54=12,0,IF(O124/12=INT(O124/12),1,0))","v":0}]
[{"$f":"IF(OR(A124+1>Simulador!$C$46,A124=0),0,A124+1)","v":0},0,0,0,{"$f":"IF($A125=0,0,(E124-D124)*((1+Simulador!$C$34)^(1/12)))","v":0},null,1,0,0,{"$f":"IF(A125=0,0,J$6/((1+Simulador!$C$34)^((A125-A$6)/12)))*(1+M125)","v":0},0,null,{"$f":"IF(Simulador!$C$47=12,0,IF(A125/12=INT(A125/12),1,0))","v":1},null,{"$f":"IF(OR(O124+1>Simulador!$C$53,O124=0),0,O124+1)","v":0},0,0,0,{"$f":"IF($O125=0,0,(S124-R124)*((1+Simulador!$C$34)^(1/12)))","v":0},null,1,0,0,{"$f":"IF(O125=0,0,X$6/((1+Simulador!$C$34)^((O125-O$6)/12)))*(1+AA125)","v":0},0,null,{"$f":"IF(Simulador!$C$54=12,0,IF(O125/12=INT(O125/12),1,0))","v":0}]
[{"$f":"IF(OR(A125+1>Simulador!$C$46,A125=0),0,A125+1)","v":0},0,0,0,{"$f":"IF($A126=0,0,(E125-D125)*((1+Simulador!$C$34)^(1/12)))","v":0},null,1,0,0,{"$f":"IF(A126=0,0,J$6/((1+Simulador!$C$34)^((A126-A$6)/12)))*(1+M126)","v":0},0,null,{"$f":"IF(Simulador!$C$47=12,0,IF(A126/12=INT(A126/12),1,0))","v":1},null,{"$f":"IF(OR(O125+1>Simulador!$C$53,O125=0),0,O125+1)","v":0},0,0,0,{"$f":"IF($O126=0,0,(S125-R125)*((1+Simulador!$C$34)^(1/12)))","v":0},null,1,0,0,{"$f":"IF(O126=0,0,X$6/((1+Simulador!$C$34)^((O126-O$6)/12)))*(1+AA126)","v":0},0,null,{"$f":"IF(Simulador!$C$54=12,0,IF(O126/12=INT(O126/12),1,0))","v":0}]
[{"$f":"IF(OR(A126+1>Simulador!$C$46,A126=0),0,A126+1)","v":0},0,0,0,{"$f":"IF($A127=0,0,(E126-D126)*((1+Simulador!$C$34)^(1/12)))","v":0},null,1,0,0,{"$f":"IF(A127=0,0,J$6/((1+Simulador!$C$34)^((A127-A$6)/12)))*(1+M127)","v":0},0,null,{"$f":"IF(Simulador!$C$47=12,0,IF(A127/12=INT(A127/12),1,0))","v":1},null,{"$f":"IF(OR(O126+1>Simulador!$C$53,O126=0),0,O126+1)","v":0},0,0,0,{"$f":"IF($O127=0,0,(S126-R126)*((1+Simulador!$C$34)^(1/12)))","v":0},null,1,0,0,{"$f":"IF(O127=0,0,X$6/((1+Simulador!$C$34)^((O127-O$6)/12)))*(1+AA127)","v":0},0,null,{"$f":"IF(Simulador!$C$54=12,0,IF(O127/12=INT(O127/12),1,0))","v":0}]
[{"$f":"IF(OR(A127+1>Simulador!$C$46,A127=0),0,A127+1)","v":0},0,0,0,{"$f":"IF($A128=0,0,(E127-D127)*((1+Simulador!$C$34)^(1/12)))","v":0},null,1,0,0,{"$f":"IF(A128=0,0,J$6/((1+Simulador!$C$34)^((A128-A$6)/12)))*(1+M128)","v":0},0,null,{"$f":"IF(Simulador!$C$47=12,0,IF(A128/12=INT(A128/12),1,0))","v":1},null,{"$f":"IF(OR(O127+1>Simulador!$C$53,O127=0),0,O127+1)","v":0},0,0,0,{"$f":"IF($O128=0,0,(S127-R127)*((1+Simulador!$C$34)^(1/12)))","v":0},null,1,0,0,{"$f":"IF(O128=0,0,X$6/((1+Simulador!$C$34)^((O128-O$6)/12)))*(1+AA128)","v":0},0,null,{"$f":"IF(Simulador!$C$54=12,0,IF(O128/12=INT(O128/12),1,0))","v":0}]
[{"$f":"IF(OR(A128+1>Simulador!$C$46,A128=0),0,A128+1)","v":0},0,0,0,{"$f":"IF($A129=0,0,(E128-D128)*((1+Simulador!$C$34)^(1/12)))","v":0},null,1,0,0,{"$f":"IF(A129=0,0,J$6/((1+Simulador!$C$34)^((A129-A$6)/12)))*(1+M129)","v":0},0,null,{"$f":"IF(Simulador!$C$47=12,0,IF(A129/12=INT(A129/12),1,0))","v":1},null,{"$f":"IF(OR(O128+1>Simulador!$C$53,O128=0),0,O128+1)","v":0},0,0,0,{"$f":"IF($O129=0,0,(S128-R128)*((1+Simulador!$C$34)^(1/12)))","v":0},null,1,0,0,{"$f":"IF(O129=0,0,X$6/((1+Simulador!$C$34)^((O129-O$6)/12)))*(1+AA129)","v":0},0,null,{"$f":"IF(Simulador!$C$54=12,0,IF(O129/12=INT(O129/12),1,0))","v":0}]
[{"$f":"IF(OR(A129+1>Simulador!$C$46,A129=0),0,A129+1)","v":0},0,0,0,{"$f":"IF($A130=0,0,(E129-D129)*((1+Simulador!$C$34)^(1/12)))","v":0},null,1,0,0,{"$f":"IF(A130=0,0,J$6/((1+Simulador!$C$34)^((A130-A$6)/12)))*(1+M130)","v":0},0,null,{"$f":"IF(Simulador!$C$47=12,0,IF(A130/12=INT(A130/12),1,0))","v":1},null,{"$f":"IF(OR(O129+1>Simulador!$C$53,O129=0),0,O129+1)","v":0},0,0,0,{"$f":"IF($O130=0,0,(S129-R129)*((1+Simulador!$C$34)^(1/12)))","v":0},null,1,0,0,{"$f":"IF(O130=0,0,X$6/((1+Simulador!$C$34)^((O130-O$6)/12)))*(1+AA130)","v":0},0,null,{"$f":"IF(Simulador!$C$54=12,0,IF(O130/12=INT(O130/12),1,0))","v":0}]
[{"$f":"IF(OR(A130+1>Simulador!$C$46,A130=0),0,A130+1)","v":0},0,0,0,{"$f":"IF($A131=0,0,(E130-D130)*((1+Simulador!$C$34)^(1/12)))","v":0},null,1,0,0,{"$f":"IF(A131=0,0,J$6/((1+Simulador!$C$34)^((A131-A$6)/12)))*(1+M131)","v":0},0,null,{"$f":"IF(Simulador!$C$47=12,0,IF(A131/12=INT(A131/12),1,0))","v":1},null,{"$f":"IF(OR(O130+1>Simulador!$C$53,O130=0),0,O130+1)","v":0},0,0,0,{"$f":"IF($O131=0,0,(S130-R130)*((1+Simulador!$C$34)^(1/12)))","v":0},null,1,0,0,{"$f":"IF(O131=0,0,X$6/((1+Simulador!$C$34)^((O131-O$6)/12)))*(1+AA131)","v":0},0,null,{"$f":"IF(Simulador!$C$54=12,0,IF(O131/12=INT(O131/12),1,0))","v":0}]
[{"$f":"IF(OR(A131+1>Simulador!$C$46,A131=0),0,A131+1)","v":0},0,0,0,{"$f":"IF($A132=0,0,(E131-D131)*((1+Simulador!$C$34)^(1/12)))","v":0},null,1,0,0,{"$f":"IF(A132=0,0,J$6/((1+Simulador!$C$34)^((A132-A$6)/12)))*(1+M132)","v":0},0,null,{"$f":"IF(Simulador!$C$47=12,0,IF(A132/12=INT(A132/12),1,0))","v":1},null,{"$f":"IF(OR(O131+1>Simulador!$C$53,O131=0),0,O131+1)","v":0},0,0,0,{"$f":"IF($O132=0,0,(S131-R131)*((1+Simulador!$C$34)^(1/12)))","v":0},null,1,0,0,{"$f":"IF(O132=0,0,X$6/((1+Simulador!$C$34)^((O132-O$6)/12)))*(1+AA132)","v":0},0,null,{"$f":"IF(Simulador!$C$54=12,0,IF(O132/12=INT(O132/12),1,0))","v":0}]
[{"$f":"IF(OR(A132+1>Simulador!$C$46,A132=0),0,A132+1)","v":0},0,0,0,{"$f":"IF($A133=0,0,(E132-D132)*((1+Simulador!$C$34)^(1/12)))","v":0},null,1,0,0,{"$f":"IF(A133=0,0,J$6/((1+Simulador!$C$34)^((A133-A$6)/12)))*(1+M133)","v":0},0,null,{"$f":"IF(Simulador!$C$47=12,0,IF(A133/12=INT(A133/12),1,0))","v":1},null,{"$f":"IF(OR(O132+1>Simulador!$C$53,O132=0),0,O132+1)","v":0},0,0,0,{"$f":"IF($O133=0,0,(S132-R132)*((1+Simulador!$C$34)^(1/12)))","v":0},null,1,0,0,{"$f":"IF(O133=0,0,X$6/((1+Simulador!$C$34)^((O133-O$6)/12)))*(1+AA133)","v":0},0,null,{"$f":"IF(Simulador!$C$54=12,0,IF(O133/12=INT(O133/12),1,0))","v":0}]
[{"$f":"IF(OR(A133+1>Simulador!$C$46,A133=0),0,A133+1)","v":0},0,0,0,{"$f":"IF($A134=0,0,(E133-D133)*((1+Simulador!$C$34)^(1/12)))","v":0},null,1,0,0,{"$f":"IF(A134=0,0,J$6/((1+Simulador!$C$34)^((A134-A$6)/12)))*(1+M134)","v":0},0,null,{"$f":"IF(Simulador!$C$47=12,0,IF(A134/12=INT(A134/12),1,0))","v":1},null,{"$f":"IF(OR(O133+1>Simulador!$C$53,O133=0),0,O133+1)","v":0},0,0,0,{"$f":"IF($O134=0,0,(S133-R133)*((1+Simulador!$C$34)^(1/12)))","v":0},null,1,0,0,{"$f":"IF(O134=0,0,X$6/((1+Simulador!$C$34)^((O134-O$6)/12)))*(1+AA134)","v":0},0,null,{"$f":"IF(Simulador!$C$54=12,0,IF(O134/12=INT(O134/12),1,0))","v":0}]
[{"$f":"IF(OR(A134+1>Simulador!$C$46,A134=0),0,A134+1)","v":0},{"$f":"IF($A135=0,0,G135*H135)","v":0},{"$f":"IF($A135=0,0,G135*I135)","v":0},{"$f":"IF($A135=0,0,G135*J135)","v":0},{"$f":"IF($A135=0,0,(E134-D134)*((1+Simulador!$C$34)^(1/12)))","v":0},null,{"$f":"G134*((1+$I$2)^(1/12))","v":1},{"$f":"IF($A135=0,0,$H$6)*(1+M135)","v":0},{"$f":"IF($A135=0,0,I134-H134)","v":0},{"$f":"IF(A135=0,0,J$6/((1+Simulador!$C$34)^((A135-A$6)/12)))*(1+M135)","v":0},{"$f":"IF($A135=0,0,K134-J134)","v":0},null,{"$f":"IF(Simulador!$C$47=12,0,IF(A135/12=INT(A135/12),1,0))","v":1},null,{"$f":"IF(OR(O134+1>Simulador!$C$53,O134=0),0,O134+1)","v":0},{"$f":"IF($A135=0,0,U135*V135)","v":0},{"$f":"IF($O135=0,0,U135*W135)","v":0},{"$f":"IF($A135=0,0,U135*X135)","v":0},{"$f":"IF($O135=0,0,(S134-R134)*((1+Simulador!$C$34)^(1/12)))","v":0},null,{"$f":"U134*((1+$I$2)^(1/12))","v":1},{"$f":"IF($O135=0,0,$V$6)*(1+AA135)","v":0},{"$f":"IF($O135=0,0,W134-V134)","v":0},{"$f":"IF(O135=0,0,X$6/((1+Simulador!$C$34)^((O135-O$6)/12)))*(1+AA135)","v":0},{"$f":"IF($O135=0,0,Y134-X134)","v":0},null,{"$f":"IF(Simulador!$C$54=12,0,IF(O135/12=INT(O135/12),1,0))","v":0}]
[{"$f":"IF(OR(A135+1>Simulador!$C$46,A135=0),0,A135+1)","v":0},0,0,0,{"$f":"IF($A136=0,0,(E135-D135)*((1+Simulador!$C$34)^(1/12)))","v":0},null,1,0,0,{"$f":"IF(A136=0,0,J$6/((1+Simulador!$C$34)^((A136-A$6)/12)))*(1+M136)","v":0},0,null,{"$f":"IF(Simulador!$C$47=12,0,IF(A136/12=INT(A136/12),1,0))","v":1},null,{"$f":"IF(OR(O135+1>Simulador!$C$53,O135=0),0,O135+1)","v":0},0,0,0,{"$f":"IF($O136=0,0,(S135-R135)*((1+Simulador!$C$34)^(1/12)))","v":0},null,1,0,0,{"$f":"IF(O136=0,0,X$6/((1+Simulador!$C$34)^((O136-O$6)/12)))*(1+AA136)","v":0},0,null,{"$f":"IF(Simulador!$C$54=12,0,IF(O136/12=INT(O136/12),1,0))","v":0}]
[{"$f":"IF(OR(A136+1>Simulador!$C$46,A136=0),0,A136+1)","v":0},0,0,0,{"$f":"IF($A137=0,0,(E136-D136)*((1+Simulador!$C$34)^(1/12)))","v":0},null,1,0,0,{"$f":"IF(A137=0,0,J$6/((1+Simulador!$C$34)^((A137-A$6)/12)))*(1+M137)","v":0},0,null,{"$f":"IF(Simulador!$C$47=12,0,IF(A137/12=INT(A137/12),1,0))","v":1},null,{"$f":"IF(OR(O136+1>Simulador!$C$53,O136=0),0,O136+1)","v":0},0,0,0,{"$f":"IF($O137=0,0,(S136-R136)*((1+Simulador!$C$34)^(1/12)))","v":0},null,1,0,0,{"$f":"IF(O137=0,0,X$6/((1+Simulador!$C$34)^((O137-O$6)/12)))*(1+AA137)","v":0},0,null,{"$f":"IF(Simulador!$C$54=12,0,IF(O137/12=INT(O137/12),1,0))","v":0}]
[{"$f":"IF(OR(A137+1>Simulador!$C$46,A137=0),0,A137+1)","v":0},0,0,0,{"$f":"IF($A138=0,0,(E137-D137)*((1+Simulador!$C$34)^(1/12)))","v":0},null,1,0,0,{"$f":"IF(A138=0,0,J$6/((1+Simulador!$C$34)^((A138-A$6)/12)))*(1+M138)","v":0},0,null,{"$f":"IF(Simulador!$C$47=12,0,IF(A138/12=INT(A138/12),1,0))","v":1},null,{"$f":"IF(OR(O137+1>Simulador!$C$53,O137=0),0,O137+1)","v":0},0,0,0,{"$f":"IF($O138=0,0,(S137-R137)*((1+Simulador!$C$34)^(1/12)))","v":0},null,1,0,0,{"$f":"IF(O138=0,0,X$6/((1+Simulador!$C$34)^((O138-O$6)/12)))*(1+AA138)","v":0},0,null,{"$f":"IF(Simulador!$C$54=12,0,IF(O138/12=INT(O138/12),1,0))","v":0}]
[{"$f":"IF(OR(A138+1>Simulador!$C$46,A138=0),0,A138+1)","v":0},0,0,0,{"$f":"IF($A139=0,0,(E138-D138)*((1+Simulador!$C$34)^(1/12)))","v":0},null,1,0,0,{"$f":"IF(A139=0,0,J$6/((1+Simulador!$C$34)^((A139-A$6)/12)))*(1+M139)","v":0},0,null,{"$f":"IF(Simulador!$C$47=12,0,IF(A139/12=INT(A139/12),1,0))","v":1},null,{"$f":"IF(OR(O138+1>Simulador!$C$53,O138=0),0,O138+1)","v":0},0,0,0,{"$f":"IF($O139=0,0,(S138-R138)*((1+Simulador!$C$34)^(1/12)))","v":0},null,1,0,0,{"$f":"IF(O139=0,0,X$6/((1+Simulador!$C$34)^((O139-O$6)/12)))*(1+AA139)","v":0},0,null,{"$f":"IF(Simulador!$C$54=12,0,IF(O139/12=INT(O139/12),1,0))","v":0}]
[{"$f":"IF(OR(A139+1>Simulador!$C$46,A139=0),0,A139+1)","v":0},0,0,0,{"$f":"IF($A140=0,0,(E139-D139)*((1+Simulador!$C$34)^(1/12)))","v":0},null,1,0,0,{"$f":"IF(A140=0,0,J$6/((1+Simulador!$C$34)^((A140-A$6)/12)))*(1+M140)","v":0},0,null,{"$f":"IF(Simulador!$C$47=12,0,IF(A140/12=INT(A140/12),1,0))","v":1},null,{"$f":"IF(OR(O139+1>Simulador!$C$53,O139=0),0,O139+1)","v":0},0,0,0,{"$f":"IF($O140=0,0,(S139-R139)*((1+Simulador!$C$34)^(1/12)))","v":0},null,1,0,0,{"$f":"IF(O140=0,0,X$6/((1+Simulador!$C$34)^((O140-O$6)/12)))*(1+AA140)","v":0},0,null,{"$f":"IF(Simulador!$C$54=12,0,IF(O140/12=INT(O140/12),1,0))","v":0}]
[{"$f":"IF(OR(A140+1>Simulador!$C$46,A140=0),0,A140+1)","v":0},0,0,0,{"$f":"IF($A141=0,0,(E140-D140)*((1+Simulador!$C$34)^(1/12)))","v":0},null,1,0,0,{"$f":"IF(A141=0,0,J$6/((1+Simulador!$C$34)^((A141-A$6)/12)))*(1+M141)","v":0},0,null,{"$f":"IF(Simulador!$C$47=12,0,IF(A141/12=INT(A141/12),1,0))","v":1},null,{"$f":"IF(OR(O140+1>Simulador!$C$53,O140=0),0,O140+1)","v":0},0,0,0,{"$f":"IF($O141=0,0,(S140-R140)*((1+Simulador!$C$34)^(1/12)))","v":0},null,1,0,0,{"$f":"IF(O141=0,0,X$6/((1+Simulador!$C$34)^((O141-O$6)/12)))*(1+AA141)","v":0},0,null,{"$f":"IF(Simulador!$C$54=12,0,IF(O141/12=INT(O141/12),1,0))","v":0}]
[{"$f":"IF(OR(A141+1>Simulador!$C$46,A141=0),0,A141+1)","v":0},0,0,0,{"$f":"IF($A142=0,0,(E141-D141)*((1+Simulador!$C$34)^(1/12)))","v":0},null,1,0,0,{"$f":"IF(A142=0,0,J$6/((1+Simulador!$C$34)^((A142-A$6)/12)))*(1+M142)","v":0},0,null,{"$f":"IF(Simulador!$C$47=12,0,IF(A142/12=INT(A142/12),1,0))","v":1},null,{"$f":"IF(OR(O141+1>Simulador!$C$53,O141=0),0,O141+1)","v":0},0,0,0,{"$f":"IF($O142=0,0,(S141-R141)*((1+Simulador!$C$34)^(1/12)))","v":0},null,1,0,0,{"$f":"IF(O142=0,0,X$6/((1+Simulador!$C$34)^((O142-O$6)/12)))*(1+AA142)","v":0},0,null,{"$f":"IF(Simulador!$C$54=12,0,IF(O142/12=INT(O142/12),1,0))","v":0}]
[{"$f":"IF(OR(A142+1>Simulador!$C$46,A142=0),0,A142+1)","v":0},0,0,0,{"$f":"IF($A143=0,0,(E142-D142)*((1+Simulador!$C$34)^(1/12)))","v":0},null,1,0,0,{"$f":"IF(A143=0,0,J$6/((1+Simulador!$C$34)^((A143-A$6)/12)))*(1+M143)","v":0},0,null,{"$f":"IF(Simulador!$C$47=12,0,IF(A143/12=INT(A143/12),1,0))","v":1},null,{"$f":"IF(OR(O142+1>Simulador!$C$53,O142=0),0,O142+1)","v":0},0,0,0,{"$f":"IF($O143=0,0,(S142-R142)*((1+Simulador!$C$34)^(1/12)))","v":0},null,1,0,0,{"$f":"IF(O143=0,0,X$6/((1+Simulador!$C$34)^((O143-O$6)/12)))*(1+AA143)","v":0},0,null,{"$f":"IF(Simulador!$C$54=12,0,IF(O143/12=INT(O143/12),1,0))","v":0}]
[{"$f":"IF(OR(A143+1>Simulador!$C$46,A143=0),0,A143+1)","v":0},0,0,0,{"$f":"IF($A144=0,0,(E143-D143)*((1+Simulador!$C$34)^(1/12)))","v":0},null,1,0,0,{"$f":"IF(A144=0,0,J$6/((1+Simulador!$C$34)^((A144-A$6)/12)))*(1+M144)","v":0},0,null,{"$f":"IF(Simulador!$C$47=12,0,IF(A144/12=INT(A144/12),1,0))","v":1},null,{"$f":"IF(OR(O143+1>Simulador!$C$53,O143=0),0,O143+1)","v":0},0,0,0,{"$f":"IF($O144=0,0,(S143-R143)*((1+Simulador!$C$34)^(1/12)))","v":0},null,1,0,0,{"$f":"IF(O144=0,0,X$6/((1+Simulador!$C$34)^((O144-O$6)/12)))*(1+AA144)","v":0},0,null,{"$f":"IF(Simulador!$C$54=12,0,IF(O144/12=INT(O144/12),1,0))","v":0}]
[{"$f":"IF(OR(A144+1>Simulador!$C$46,A144=0),0,A144+1)","v":0},0,0,0,{"$f":"IF($A145=0,0,(E144-D144)*((1+Simulador!$C$34)^(1/12)))","v":0},null,1,0,0,{"$f":"IF(A145=0,0,J$6/((1+Simulador!$C$34)^((A145-A$6)/12)))*(1+M145)","v":0},0,null,{"$f":"IF(Simulador!$C$47=12,0,IF(A145/12=INT(A145/12),1,0))","v":1},null,{"$f":"IF(OR(O144+1>Simulador!$C$53,O144=0),0,O144+1)","v":0},0,0,0,{"$f":"IF($O145=0,0,(S144-R144)*((1+Simulador!$C$34)^(1/12)))","v":0},null,1,0,0,{"$f":"IF(O145=0,0,X$6/((1+Simulador!$C$34)^((O145-O$6)/12)))*(1+AA145)","v":0},0,null,{"$f":"IF(Simulador!$C$54=12,0,IF(O145/12=INT(O145/12),1,0))","v":0}]
[{"$f":"IF(OR(A145+1>Simulador!$C$46,A145=0),0,A145+1)","v":0},0,0,0,{"$f":"IF($A146=0,0,(E145-D145)*((1+Simulador!$C$34)^(1/12)))","v":0},null,1,0,0,{"$f":"IF(A146=0,0,J$6/((1+Simulador!$C$34)^((A146-A$6)/12)))*(1+M146)","v":0},0,null,{"$f":"IF(Simulador!$C$47=12,0,IF(A146/12=INT(A146/12),1,0))","v":1},null,{"$f":"IF(OR(O145+1>Simulador!$C$53,O145=0),0,O145+1)","v":0},0,0,0,{"$f":"IF($O146=0,0,(S145-R145)*((1+Simulador!$C$34)^(1/12)))","v":0},null,1,0,0,{"$f":"IF(O146=0,0,X$6/((1+Simulador!$C$34)^((O146-O$6)/12)))*(1+AA146)","v":0},0,null,{"$f":"IF(Simulador!$C$54=12,0,IF(O146/12=INT(O146/12),1,0))","v":0}]
[{"$f":"IF(OR(A146+1>Simulador!$C$46,A146=0),0,A146+1)","v":0},0,0,0,{"$f":"IF($A147=0,0,(E146-D146)*((1+Simulador!$C$34)^(1/12)))","v":0},null,1,0,0,{"$f":"IF(A147=0,0,J$6/((1+Simulador!$C$34)^((A147-A$6)/12)))*(1+M147)","v":0},0,null,{"$f":"IF(Simulador!$C$47=12,0,IF(A147/12=INT(A147/12),1,0))","v":1},null,{"$f":"IF(OR(O146+1>Simulador!$C$53,O146=0),0,O146+1)","v":0},0,0,0,{"$f":"IF($O147=0,0,(S146-R146)*((1+Simulador!$C$34)^(1/12)))","v":0},null,1,0,0,{"$f":"IF(O147=0,0,X$6/((1+Simulador!$C$34)^((O147-O$6)/12)))*(1+AA147)","v":0},0,null,{"$f":"IF(Simulador!$C$54=12,0,IF(O147/12=INT(O147/12),1,0))","v":0}]
[{"$f":"IF(OR(A147+1>Simulador!$C$46,A147=0),0,A147+1)","v":0},0,0,0,{"$f":"IF($A148=0,0,(E147-D147)*((1+Simulador!$C$34)^(1/12)))","v":0},null,1,0,0,{"$f":"IF(A148=0,0,J$6/((1+Simulador!$C$34)^((A148-A$6)/12)))*(1+M148)","v":0},0,null,{"$f":"IF(Simulador!$C$47=12,0,IF(A148/12=INT(A148/12),1,0))","v":1},null,{"$f":"IF(OR(O147+1>Simulador!$C$53,O147=0),0,O147+1)","v":0},0,0,0,{"$f":"IF($O148=0,0,(S147-R147)*((1+Simulador!$C$34)^(1/12)))","v":0},null,1,0,0,{"$f":"IF(O148=0,0,X$6/((1+Simulador!$C$34)^((O148-O$6)/12)))*(1+AA148)","v":0},0,null,{"$f":"IF(Simulador!$C$54=12,0,IF(O148/12=INT(O148/12),1,0))","v":0}]
[{"$f":"IF(OR(A148+1>Simulador!$C$46,A148=0),0,A148+1)","v":0},0,0,0,{"$f":"IF($A149=0,0,(E148-D148)*((1+Simulador!$C$34)^(1/12)))","v":0},null,1,0,0,{"$f":"IF(A149=0,0,J$6/((1+Simulador!$C$34)^((A149-A$6)/12)))*(1+M149)","v":0},0,null,{"$f":"IF(Simulador!$C$47=12,0,IF(A149/12=INT(A149/12),1,0))","v":1},null,{"$f":"IF(OR(O148+1>Simulador!$C$53,O148=0),0,O148+1)","v":0},0,0,0,{"$f":"IF($O149=0,0,(S148-R148)*((1+Simulador!$C$34)^(1/12)))","v":0},null,1,0,0,{"$f":"IF(O149=0,0,X$6/((1+Simulador!$C$34)^((O149-O$6)/12)))*(1+AA149)","v":0},0,null,{"$f":"IF(Simulador!$C$54=12,0,IF(O149/12=INT(O149/12),1,0))","v":0}]
[{"$f":"IF(OR(A149+1>Simulador!$C$46,A149=0),0,A149+1)","v":0},0,0,0,{"$f":"IF($A150=0,0,(E149-D149)*((1+Simulador!$C$34)^(1/12)))","v":0},null,1,0,0,{"$f":"IF(A150=0,0,J$6/((1+Simulador!$C$34)^((A150-A$6)/12)))*(1+M150)","v":0},0,null,{"$f":"IF(Simulador!$C$47=12,0,IF(A150/12=INT(A150/12),1,0))","v":1},null,{"$f":"IF(OR(O149+1>Simulador!$C$53,O149=0),0,O149+1)","v":0},0,0,0,{"$f":"IF($O150=0,0,(S149-R149)*((1+Simulador!$C$34)^(1/12)))","v":0},null,1,0,0,{"$f":"IF(O150=0,0,X$6/((1+Simulador!$C$34)^((O150-O$6)/12)))*(1+AA150)","v":0},0,null,{"$f":"IF(Simulador!$C$54=12,0,IF(O150/12=INT(O150/12),1,0))","v":0}]
[{"$f":"IF(OR(A150+1>Simulador!$C$46,A150=0),0,A150+1)","v":0},0,0,0,{"$f":"IF($A151=0,0,(E150-D150)*((1+Simulador!$C$34)^(1/12)))","v":0},null,1,0,0,{"$f":"IF(A151=0,0,J$6/((1+Simulador!$C$34)^((A151-A$6)/12)))*(1+M151)","v":0},0,null,{"$f":"IF(Simulador!$C$47=12,0,IF(A151/12=INT(A151/12),1,0))","v":1},null,{"$f":"IF(OR(O150+1>Simulador!$C$53,O150=0),0,O150+1)","v":0},0,0,0,{"$f":"IF($O151=0,0,(S150-R150)*((1+Simulador!$C$34)^(1/12)))","v":0},null,1,0,0,{"$f":"IF(O151=0,0,X$6/((1+Simulador!$C$34)^((O151-O$6)/12)))*(1+AA151)","v":0},0,null,{"$f":"IF(Simulador!$C$54=12,0,IF(O151/12=INT(O151/12),1,0))","v":0}]
[{"$f":"IF(OR(A151+1>Simulador!$C$46,A151=0),0,A151+1)","v":0},0,0,0,{"$f":"IF($A152=0,0,(E151-D151)*((1+Simulador!$C$34)^(1/12)))","v":0},null,1,0,0,{"$f":"IF(A152=0,0,J$6/((1+Simulador!$C$34)^((A152-A$6)/12)))*(1+M152)","v":0},0,null,{"$f":"IF(Simulador!$C$47=12,0,IF(A152/12=INT(A152/12),1,0))","v":1},null,{"$f":"IF(OR(O151+1>Simulador!$C$53,O151=0),0,O151+1)","v":0},0,0,0,{"$f":"IF($O152=0,0,(S151-R151)*((1+Simulador!$C$34)^(1/12)))","v":0},null,1,0,0,{"$f":"IF(O152=0,0,X$6/((1+Simulador!$C$34)^((O152-O$6)/12)))*(1+AA152)","v":0},0,null,{"$f":"IF(Simulador!$C$54=12,0,IF(O152/12=INT(O152/12),1,0))","v":0}]
[{"$f":"IF(OR(A152+1>Simulador!$C$46,A152=0),0,A152+1)","v":0},0,0,0,{"$f":"IF($A153=0,0,(E152-D152)*((1+Simulador!$C$34)^(1/12)))","v":0},null,1,0,0,{"$f":"IF(A153=0,0,J$6/((1+Simulador!$C$34)^((A153-A$6)/12)))*(1+M153)","v":0},0,null,{"$f":"IF(Simulador!$C$47=12,0,IF(A153/12=INT(A153/12),1,0))","v":1},null,{"$f":"IF(OR(O152+1>Simulador!$C$53,O152=0),0,O152+1)","v":0},0,0,0,{"$f":"IF($O153=0,0,(S152-R152)*((1+Simulador!$C$34)^(1/12)))","v":0},null,1,0,0,{"$f":"IF(O153=0,0,X$6/((1+Simulador!$C$34)^((O153-O$6)/12)))*(1+AA153)","v":0},0,null,{"$f":"IF(Simulador!$C$54=12,0,IF(O153/12=INT(O153/12),1,0))","v":0}]
[{"$f":"IF(OR(A153+1>Simulador!$C$46,A153=0),0,A153+1)","v":0},0,0,0,{"$f":"IF($A154=0,0,(E153-D153)*((1+Simulador!$C$34)^(1/12)))","v":0},null,1,0,0,{"$f":"IF(A154=0,0,J$6/((1+Simulador!$C$34)^((A154-A$6)/12)))*(1+M154)","v":0},0,null,{"$f":"IF(Simulador!$C$47=12,0,IF(A154/12=INT(A154/12),1,0))","v":1},null,{"$f":"IF(OR(O153+1>Simulador!$C$53,O153=0),0,O153+1)","v":0},0,0,0,{"$f":"IF($O154=0,0,(S153-R153)*((1+Simulador!$C$34)^(1/12)))","v":0},null,1,0,0,{"$f":"IF(O154=0,0,X$6/((1+Simulador!$C$34)^((O154-O$6)/12)))*(1+AA154)","v":0},0,null,{"$f":"IF(Simulador!$C$54=12,0,IF(O154/12=INT(O154/12),1,0))","v":0}]
[{"$f":"IF(OR(A154+1>Simulador!$C$46,A154=0),0,A154+1)","v":0},0,0,0,{"$f":"IF($A155=0,0,(E154-D154)*((1+Simulador!$C$34)^(1/12)))","v":0},null,1,0,0,{"$f":"IF(A155=0,0,J$6/((1+Simulador!$C$34)^((A155-A$6)/12)))*(1+M155)","v":0},0,null,{"$f":"IF(Simulador!$C$47=12,0,IF(A155/12=INT(A155/12),1,0))","v":1},null,{"$f":"IF(OR(O154+1>Simulador!$C$53,O154=0),0,O154+1)","v":0},0,0,0,{"$f":"IF($O155=0,0,(S154-R154)*((1+Simulador!$C$34)^(1/12)))","v":0},null,1,0,0,{"$f":"IF(O155=0,0,X$6/((1+Simulador!$C$34)^((O155-O$6)/12)))*(1+AA155)","v":0},0,null,{"$f":"IF(Simulador!$C$54=12,0,IF(O155/12=INT(O155/12),1,0))","v":0}]
[{"$f":"IF(OR(A155+1>Simulador!$C$46,A155=0),0,A155+1)","v":0},0,0,0,{"$f":"IF($A156=0,0,(E155-D155)*((1+Simulador!$C$34)^(1/12)))","v":0},null,1,0,0,{"$f":"IF(A156=0,0,J$6/((1+Simulador!$C$34)^((A156-A$6)/12)))*(1+M156)","v":0},0,null,{"$f":"IF(Simulador!$C$47=12,0,IF(A156/12=INT(A156/12),1,0))","v":1},null,{"$f":"IF(OR(O155+1>Simulador!$C$53,O155=0),0,O155+1)","v":0},0,0,0,{"$f":"IF($O156=0,0,(S155-R155)*((1+Simulador!$C$34)^(1/12)))","v":0},null,1,0,0,{"$f":"IF(O156=0,0,X$6/((1+Simulador!$C$34)^((O156-O$6)/12)))*(1+AA156)","v":0},0,null,{"$f":"IF(Simulador!$C$54=12,0,IF(O156/12=INT(O156/12),1,0))","v":0}]
[{"$f":"IF(OR(A156+1>Simulador!$C$46,A156=0),0,A156+1)","v":0},0,0,0,{"$f":"IF($A157=0,0,(E156-D156)*((1+Simulador!$C$34)^(1/12)))","v":0},null,1,0,0,{"$f":"IF(A157=0,0,J$6/((1+Simulador!$C$34)^((A157-A$6)/12)))*(1+M157)","v":0},0,null,{"$f":"IF(Simulador!$C$47=12,0,IF(A157/12=INT(A157/12),1,0))","v":1},null,{"$f":"IF(OR(O156+1>Simulador!$C$53,O156=0),0,O156+1)","v":0},0,0,0,{"$f":"IF($O157=0,0,(S156-R156)*((1+Simulador!$C$34)^(1/12)))","v":0},null,1,0,0,{"$f":"IF(O157=0,0,X$6/((1+Simulador!$C$34)^((O157-O$6)/12)))*(1+AA157)","v":0},0,null,{"$f":"IF(Simulador!$C$54=12,0,IF(O157/12=INT(O157/12),1,0))","v":0}]
[{"$f":"IF(OR(A157+1>Simulador!$C$46,A157=0),0,A157+1)","v":0},0,0,0,{"$f":"IF($A158=0,0,(E157-D157)*((1+Simulador!$C$34)^(1/12)))","v":0},null,1,0,0,{"$f":"IF(A158=0,0,J$6/((1+Simulador!$C$34)^((A158-A$6)/12)))*(1+M158)","v":0},0,null,{"$f":"IF(Simulador!$C$47=12,0,IF(A158/12=INT(A158/12),1,0))","v":1},null,{"$f":"IF(OR(O157+1>Simulador!$C$53,O157=0),0,O157+1)","v":0},0,0,0,{"$f":"IF($O158=0,0,(S157-R157)*((1+Simulador!$C$34)^(1/12)))","v":0},null,1,0,0,{"$f":"IF(O158=0,0,X$6/((1+Simulador!$C$34)^((O158-O$6)/12)))*(1+AA158)","v":0},0,null,{"$f":"IF(Simulador!$C$54=12,0,IF(O158/12=INT(O158/12),1,0))","v":0}]
[{"$f":"IF(OR(A158+1>Simulador!$C$46,A158=0),0,A158+1)","v":0},0,0,0,{"$f":"IF($A159=0,0,(E158-D158)*((1+Simulador!$C$34)^(1/12)))","v":0},null,1,0,0,{"$f":"IF(A159=0,0,J$6/((1+Simulador!$C$34)^((A159-A$6)/12)))*(1+M159)","v":0},0,null,{"$f":"IF(Simulador!$C$47=12,0,IF(A159/12=INT(A159/12),1,0))","v":1},null,{"$f":"IF(OR(O158+1>Simulador!$C$53,O158=0),0,O158+1)","v":0},0,0,0,{"$f":"IF($O159=0,0,(S158-R158)*((1+Simulador!$C$34)^(1/12)))","v":0},null,1,0,0,{"$f":"IF(O159=0,0,X$6/((1+Simulador!$C$34)^((O159-O$6)/12)))*(1+AA159)","v":0},0,null,{"$f":"IF(Simulador!$C$54=12,0,IF(O159/12=INT(O159/12),1,0))","v":0}]
[{"$f":"IF(OR(A159+1>Simulador!$C$46,A159=0),0,A159+1)","v":0},0,0,0,{"$f":"IF($A160=0,0,(E159-D159)*((1+Simulador!$C$34)^(1/12)))","v":0},null,1,0,0,{"$f":"IF(A160=0,0,J$6/((1+Simulador!$C$34)^((A160-A$6)/12)))*(1+M160)","v":0},0,null,{"$f":"IF(Simulador!$C$47=12,0,IF(A160/12=INT(A160/12),1,0))","v":1},null,{"$f":"IF(OR(O159+1>Simulador!$C$53,O159=0),0,O159+1)","v":0},0,0,0,{"$f":"IF($O160=0,0,(S159-R159)*((1+Simulador!$C$34)^(1/12)))","v":0},null,1,0,0,{"$f":"IF(O160=0,0,X$6/((1+Simulador!$C$34)^((O160-O$6)/12)))*(1+AA160)","v":0},0,null,{"$f":"IF(Simulador!$C$54=12,0,IF(O160/12=INT(O160/12),1,0))","v":0}]
[{"$f":"IF(OR(A160+1>Simulador!$C$46,A160=0),0,A160+1)","v":0},0,0,0,{"$f":"IF($A161=0,0,(E160-D160)*((1+Simulador!$C$34)^(1/12)))","v":0},null,1,0,0,{"$f":"IF(A161=0,0,J$6/((1+Simulador!$C$34)^((A161-A$6)/12)))*(1+M161)","v":0},0,null,{"$f":"IF(Simulador!$C$47=12,0,IF(A161/12=INT(A161/12),1,0))","v":1},null,{"$f":"IF(OR(O160+1>Simulador!$C$53,O160=0),0,O160+1)","v":0},0,0,0,{"$f":"IF($O161=0,0,(S160-R160)*((1+Simulador!$C$34)^(1/12)))","v":0},null,1,0,0,{"$f":"IF(O161=0,0,X$6/((1+Simulador!$C$34)^((O161-O$6)/12)))*(1+AA161)","v":0},0,null,{"$f":"IF(Simulador!$C$54=12,0,IF(O161/12=INT(O161/12),1,0))","v":0}]
[{"$f":"IF(OR(A161+1>Simulador!$C$46,A161=0),0,A161+1)","v":0},0,0,0,{"$f":"IF($A162=0,0,(E161-D161)*((1+Simulador!$C$34)^(1/12)))","v":0},null,1,0,0,{"$f":"IF(A162=0,0,J$6/((1+Simulador!$C$34)^((A162-A$6)/12)))*(1+M162)","v":0},0,null,{"$f":"IF(Simulador!$C$47=12,0,IF(A162/12=INT(A162/12),1,0))","v":1},null,{"$f":"IF(OR(O161+1>Simulador!$C$53,O161=0),0,O161+1)","v":0},0,0,0,{"$f":"IF($O162=0,0,(S161-R161)*((1+Simulador!$C$34)^(1/12)))","v":0},null,1,0,0,{"$f":"IF(O162=0,0,X$6/((1+Simulador!$C$34)^((O162-O$6)/12)))*(1+AA162)","v":0},0,null,{"$f":"IF(Simulador!$C$54=12,0,IF(O162/12=INT(O162/12),1,0))","v":0}]
[{"$f":"IF(OR(A162+1>Simulador!$C$46,A162=0),0,A162+1)","v":0},0,0,0,{"$f":"IF($A163=0,0,(E162-D162)*((1+Simulador!$C$34)^(1/12)))","v":0},null,1,0,0,{"$f":"IF(A163=0,0,J$6/((1+Simulador!$C$34)^((A163-A$6)/12)))*(1+M163)","v":0},0,null,{"$f":"IF(Simulador!$C$47=12,0,IF(A163/12=INT(A163/12),1,0))","v":1},null,{"$f":"IF(OR(O162+1>Simulador!$C$53,O162=0),0,O162+1)","v":0},0,0,0,{"$f":"IF($O163=0,0,(S162-R162)*((1+Simulador!$C$34)^(1/12)))","v":0},null,1,0,0,{"$f":"IF(O163=0,0,X$6/((1+Simulador!$C$34)^((O163-O$6)/12)))*(1+AA163)","v":0},0,null,{"$f":"IF(Simulador!$C$54=12,0,IF(O163/12=INT(O163/12),1,0))","v":0}]
[{"$f":"IF(OR(A163+1>Simulador!$C$46,A163=0),0,A163+1)","v":0},0,0,0,{"$f":"IF($A164=0,0,(E163-D163)*((1+Simulador!$C$34)^(1/12)))","v":0},null,1,0,0,{"$f":"IF(A164=0,0,J$6/((1+Simulador!$C$34)^((A164-A$6)/12)))*(1+M164)","v":0},0,null,{"$f":"IF(Simulador!$C$47=12,0,IF(A164/12=INT(A164/12),1,0))","v":1},null,{"$f":"IF(OR(O163+1>Simulador!$C$53,O163=0),0,O163+1)","v":0},0,0,0,{"$f":"IF($O164=0,0,(S163-R163)*((1+Simulador!$C$34)^(1/12)))","v":0},null,1,0,0,{"$f":"IF(O164=0,0,X$6/((1+Simulador!$C$34)^((O164-O$6)/12)))*(1+AA164)","v":0},0,null,{"$f":"IF(Simulador!$C$54=12,0,IF(O164/12=INT(O164/12),1,0))","v":0}]
[{"$f":"IF(OR(A164+1>Simulador!$C$46,A164=0),0,A164+1)","v":0},0,0,0,{"$f":"IF($A165=0,0,(E164-D164)*((1+Simulador!$C$34)^(1/12)))","v":0},null,1,0,0,{"$f":"IF(A165=0,0,J$6/((1+Simulador!$C$34)^((A165-A$6)/12)))*(1+M165)","v":0},0,null,{"$f":"IF(Simulador!$C$47=12,0,IF(A165/12=INT(A165/12),1,0))","v":1},null,{"$f":"IF(OR(O164+1>Simulador!$C$53,O164=0),0,O164+1)","v":0},0,0,0,{"$f":"IF($O165=0,0,(S164-R164)*((1+Simulador!$C$34)^(1/12)))","v":0},null,1,0,0,{"$f":"IF(O165=0,0,X$6/((1+Simulador!$C$34)^((O165-O$6)/12)))*(1+AA165)","v":0},0,null,{"$f":"IF(Simulador!$C$54=12,0,IF(O165/12=INT(O165/12),1,0))","v":0}]
[{"$f":"IF(OR(A165+1>Simulador!$C$46,A165=0),0,A165+1)","v":0},0,0,0,{"$f":"IF($A166=0,0,(E165-D165)*((1+Simulador!$C$34)^(1/12)))","v":0},null,1,0,0,{"$f":"IF(A166=0,0,J$6/((1+Simulador!$C$34)^((A166-A$6)/12)))*(1+M166)","v":0},0,null,{"$f":"IF(Simulador!$C$47=12,0,IF(A166/12=INT(A166/12),1,0))","v":1},null,{"$f":"IF(OR(O165+1>Simulador!$C$53,O165=0),0,O165+1)","v":0},0,0,0,{"$f":"IF($O166=0,0,(S165-R165)*((1+Simulador!$C$34)^(1/12)))","v":0},null,1,0,0,{"$f":"IF(O166=0,0,X$6/((1+Simulador!$C$34)^((O166-O$6)/12)))*(1+AA166)","v":0},0,null,{"$f":"IF(Simulador!$C$54=12,0,IF(O166/12=INT(O166/12),1,0))","v":0}]
[{"$f":"IF(OR(A166+1>Simulador!$C$46,A166=0),0,A166+1)","v":0},0,0,0,{"$f":"IF($A167=0,0,(E166-D166)*((1+Simulador!$C$34)^(1/12)))","v":0},null,1,0,0,{"$f":"IF(A167=0,0,J$6/((1+Simulador!$C$34)^((A167-A$6)/12)))*(1+M167)","v":0},0,null,{"$f":"IF(Simulador!$C$47=12,0,IF(A167/12=INT(A167/12),1,0))","v":1},null,{"$f":"IF(OR(O166+1>Simulador!$C$53,O166=0),0,O166+1)","v":0},0,0,0,{"$f":"IF($O167=0,0,(S166-R166)*((1+Simulador!$C$34)^(1/12)))","v":0},null,1,0,0,{"$f":"IF(O167=0,0,X$6/((1+Simulador!$C$34)^((O167-O$6)/12)))*(1+AA167)","v":0},0,null,{"$f":"IF(Simulador!$C$54=12,0,IF(O167/12=INT(O167/12),1,0))","v":0}]
[{"$f":"IF(OR(A167+1>Simulador!$C$46,A167=0),0,A167+1)","v":0},0,0,0,{"$f":"IF($A168=0,0,(E167-D167)*((1+Simulador!$C$34)^(1/12)))","v":0},null,1,0,0,{"$f":"IF(A168=0,0,J$6/((1+Simulador!$C$34)^((A168-A$6)/12)))*(1+M168)","v":0},0,null,{"$f":"IF(Simulador!$C$47=12,0,IF(A168/12=INT(A168/12),1,0))","v":1},null,{"$f":"IF(OR(O167+1>Simulador!$C$53,O167=0),0,O167+1)","v":0},0,0,0,{"$f":"IF($O168=0,0,(S167-R167)*((1+Simulador!$C$34)^(1/12)))","v":0},null,1,0,0,{"$f":"IF(O168=0,0,X$6/((1+Simulador!$C$34)^((O168-O$6)/12)))*(1+AA168)","v":0},0,null,{"$f":"IF(Simulador!$C$54=12,0,IF(O168/12=INT(O168/12),1,0))","v":0}]
[{"$f":"IF(OR(A168+1>Simulador!$C$46,A168=0),0,A168+1)","v":0},0,0,0,{"$f":"IF($A169=0,0,(E168-D168)*((1+Simulador!$C$34)^(1/12)))","v":0},null,1,0,0,{"$f":"IF(A169=0,0,J$6/((1+Simulador!$C$34)^((A169-A$6)/12)))*(1+M169)","v":0},0,null,{"$f":"IF(Simulador!$C$47=12,0,IF(A169/12=INT(A169/12),1,0))","v":1},null,{"$f":"IF(OR(O168+1>Simulador!$C$53,O168=0),0,O168+1)","v":0},0,0,0,{"$f":"IF($O169=0,0,(S168-R168)*((1+Simulador!$C$34)^(1/12)))","v":0},null,1,0,0,{"$f":"IF(O169=0,0,X$6/((1+Simulador!$C$34)^((O169-O$6)/12)))*(1+AA169)","v":0},0,null,{"$f":"IF(Simulador!$C$54=12,0,IF(O169/12=INT(O169/12),1,0))","v":0}]
[{"$f":"IF(OR(A169+1>Simulador!$C$46,A169=0),0,A169+1)","v":0},0,0,0,{"$f":"IF($A170=0,0,(E169-D169)*((1+Simulador!$C$34)^(1/12)))","v":0},null,1,0,0,{"$f":"IF(A170=0,0,J$6/((1+Simulador!$C$34)^((A170-A$6)/12)))*(1+M170)","v":0},0,null,{"$f":"IF(Simulador!$C$47=12,0,IF(A170/12=INT(A170/12),1,0))","v":1},null,{"$f":"IF(OR(O169+1>Simulador!$C$53,O169=0),0,O169+1)","v":0},0,0,0,{"$f":"IF($O170=0,0,(S169-R169)*((1+Simulador!$C$34)^(1/12)))","v":0},null,1,0,0,{"$f":"IF(O170=0,0,X$6/((1+Simulador!$C$34)^((O170-O$6)/12)))*(1+AA170)","v":0},0,null,{"$f":"IF(Simulador!$C$54=12,0,IF(O170/12=INT(O170/12),1,0))","v":0}]
[{"$f":"IF(OR(A170+1>Simulador!$C$46,A170=0),0,A170+1)","v":0},0,0,0,{"$f":"IF($A171=0,0,(E170-D170)*((1+Simulador!$C$34)^(1/12)))","v":0},null,1,0,0,{"$f":"IF(A171=0,0,J$6/((1+Simulador!$C$34)^((A171-A$6)/12)))*(1+M171)","v":0},0,null,{"$f":"IF(Simulador!$C$47=12,0,IF(A171/12=INT(A171/12),1,0))","v":1},null,{"$f":"IF(OR(O170+1>Simulador!$C$53,O170=0),0,O170+1)","v":0},0,0,0,{"$f":"IF($O171=0,0,(S170-R170)*((1+Simulador!$C$34)^(1/12)))","v":0},null,1,0,0,{"$f":"IF(O171=0,0,X$6/((1+Simulador!$C$34)^((O171-O$6)/12)))*(1+AA171)","v":0},0,null,{"$f":"IF(Simulador!$C$54=12,0,IF(O171/12=INT(O171/12),1,0))","v":0}]
[{"$f":"IF(OR(A171+1>Simulador!$C$46,A171=0),0,A171+1)","v":0},0,0,0,{"$f":"IF($A172=0,0,(E171-D171)*((1+Simulador!$C$34)^(1/12)))","v":0},null,1,0,0,{"$f":"IF(A172=0,0,J$6/((1+Simulador!$C$34)^((A172-A$6)/12)))*(1+M172)","v":0},0,null,{"$f":"IF(Simulador!$C$47=12,0,IF(A172/12=INT(A172/12),1,0))","v":1},null,{"$f":"IF(OR(O171+1>Simulador!$C$53,O171=0),0,O171+1)","v":0},0,0,0,{"$f":"IF($O172=0,0,(S171-R171)*((1+Simulador!$C$34)^(1/12)))","v":0},null,1,0,0,{"$f":"IF(O172=0,0,X$6/((1+Simulador!$C$34)^((O172-O$6)/12)))*(1+AA172)","v":0},0,null,{"$f":"IF(Simulador!$C$54=12,0,IF(O172/12=INT(O172/12),1,0))","v":0}]
[{"$f":"IF(OR(A172+1>Simulador!$C$46,A172=0),0,A172+1)","v":0},0,0,0,{"$f":"IF($A173=0,0,(E172-D172)*((1+Simulador!$C$34)^(1/12)))","v":0},null,1,0,0,{"$f":"IF(A173=0,0,J$6/((1+Simulador!$C$34)^((A173-A$6)/12)))*(1+M173)","v":0},0,null,{"$f":"IF(Simulador!$C$47=12,0,IF(A173/12=INT(A173/12),1,0))","v":1},null,{"$f":"IF(OR(O172+1>Simulador!$C$53,O172=0),0,O172+1)","v":0},0,0,0,{"$f":"IF($O173=0,0,(S172-R172)*((1+Simulador!$C$34)^(1/12)))","v":0},null,1,0,0,{"$f":"IF(O173=0,0,X$6/((1+Simulador!$C$34)^((O173-O$6)/12)))*(1+AA173)","v":0},0,null,{"$f":"IF(Simulador!$C$54=12,0,IF(O173/12=INT(O173/12),1,0))","v":0}]
[{"$f":"IF(OR(A173+1>Simulador!$C$46,A173=0),0,A173+1)","v":0},0,0,0,{"$f":"IF($A174=0,0,(E173-D173)*((1+Simulador!$C$34)^(1/12)))","v":0},null,1,0,0,{"$f":"IF(A174=0,0,J$6/((1+Simulador!$C$34)^((A174-A$6)/12)))*(1+M174)","v":0},0,null,{"$f":"IF(Simulador!$C$47=12,0,IF(A174/12=INT(A174/12),1,0))","v":1},null,{"$f":"IF(OR(O173+1>Simulador!$C$53,O173=0),0,O173+1)","v":0},0,0,0,{"$f":"IF($O174=0,0,(S173-R173)*((1+Simulador!$C$34)^(1/12)))","v":0},null,1,0,0,{"$f":"IF(O174=0,0,X$6/((1+Simulador!$C$34)^((O174-O$6)/12)))*(1+AA174)","v":0},0,null,{"$f":"IF(Simulador!$C$54=12,0,IF(O174/12=INT(O174/12),1,0))","v":0}]
[{"$f":"IF(OR(A174+1>Simulador!$C$46,A174=0),0,A174+1)","v":0},0,0,0,{"$f":"IF($A175=0,0,(E174-D174)*((1+Simulador!$C$34)^(1/12)))","v":0},null,1,0,0,{"$f":"IF(A175=0,0,J$6/((1+Simulador!$C$34)^((A175-A$6)/12)))*(1+M175)","v":0},0,null,{"$f":"IF(Simulador!$C$47=12,0,IF(A175/12=INT(A175/12),1,0))","v":1},null,{"$f":"IF(OR(O174+1>Simulador!$C$53,O174=0),0,O174+1)","v":0},0,0,0,{"$f":"IF($O175=0,0,(S174-R174)*((1+Simulador!$C$34)^(1/12)))","v":0},null,1,0,0,{"$f":"IF(O175=0,0,X$6/((1+Simulador!$C$34)^((O175-O$6)/12)))*(1+AA175)","v":0},0,null,{"$f":"IF(Simulador!$C$54=12,0,IF(O175/12=INT(O175/12),1,0))","v":0}]
[{"$f":"IF(OR(A175+1>Simulador!$C$46,A175=0),0,A175+1)","v":0},0,0,0,{"$f":"IF($A176=0,0,(E175-D175)*((1+Simulador!$C$34)^(1/12)))","v":0},null,1,0,0,{"$f":"IF(A176=0,0,J$6/((1+Simulador!$C$34)^((A176-A$6)/12)))*(1+M176)","v":0},0,null,{"$f":"IF(Simulador!$C$47=12,0,IF(A176/12=INT(A176/12),1,0))","v":1},null,{"$f":"IF(OR(O175+1>Simulador!$C$53,O175=0),0,O175+1)","v":0},0,0,0,{"$f":"IF($O176=0,0,(S175-R175)*((1+Simulador!$C$34)^(1/12)))","v":0},null,1,0,0,{"$f":"IF(O176=0,0,X$6/((1+Simulador!$C$34)^((O176-O$6)/12)))*(1+AA176)","v":0},0,null,{"$f":"IF(Simulador!$C$54=12,0,IF(O176/12=INT(O176/12),1,0))","v":0}]
[{"$f":"IF(OR(A176+1>Simulador!$C$46,A176=0),0,A176+1)","v":0},0,0,0,{"$f":"IF($A177=0,0,(E176-D176)*((1+Simulador!$C$34)^(1/12)))","v":0},null,1,0,0,{"$f":"IF(A177=0,0,J$6/((1+Simulador!$C$34)^((A177-A$6)/12)))*(1+M177)","v":0},0,null,{"$f":"IF(Simulador!$C$47=12,0,IF(A177/12=INT(A177/12),1,0))","v":1},null,{"$f":"IF(OR(O176+1>Simulador!$C$53,O176=0),0,O176+1)","v":0},0,0,0,{"$f":"IF($O177=0,0,(S176-R176)*((1+Simulador!$C$34)^(1/12)))","v":0},null,1,0,0,{"$f":"IF(O177=0,0,X$6/((1+Simulador!$C$34)^((O177-O$6)/12)))*(1+AA177)","v":0},0,null,{"$f":"IF(Simulador!$C$54=12,0,IF(O177/12=INT(O177/12),1,0))","v":0}]
[{"$f":"IF(OR(A177+1>Simulador!$C$46,A177=0),0,A177+1)","v":0},0,0,0,{"$f":"IF($A178=0,0,(E177-D177)*((1+Simulador!$C$34)^(1/12)))","v":0},null,1,0,0,{"$f":"IF(A178=0,0,J$6/((1+Simulador!$C$34)^((A178-A$6)/12)))*(1+M178)","v":0},0,null,{"$f":"IF(Simulador!$C$47=12,0,IF(A178/12=INT(A178/12),1,0))","v":1},null,{"$f":"IF(OR(O177+1>Simulador!$C$53,O177=0),0,O177+1)","v":0},0,0,0,{"$f":"IF($O178=0,0,(S177-R177)*((1+Simulador!$C$34)^(1/12)))","v":0},null,1,0,0,{"$f":"IF(O178=0,0,X$6/((1+Simulador!$C$34)^((O178-O$6)/12)))*(1+AA178)","v":0},0,null,{"$f":"IF(Simulador!$C$54=12,0,IF(O178/12=INT(O178/12),1,0))","v":0}]
[{"$f":"IF(OR(A178+1>Simulador!$C$46,A178=0),0,A178+1)","v":0},0,0,0,{"$f":"IF($A179=0,0,(E178-D178)*((1+Simulador!$C$34)^(1/12)))","v":0},null,1,0,0,{"$f":"IF(A179=0,0,J$6/((1+Simulador!$C$34)^((A179-A$6)/12)))*(1+M179)","v":0},0,null,{"$f":"IF(Simulador!$C$47=12,0,IF(A179/12=INT(A179/12),1,0))","v":1},null,{"$f":"IF(OR(O178+1>Simulador!$C$53,O178=0),0,O178+1)","v":0},0,0,0,{"$f":"IF($O179=0,0,(S178-R178)*((1+Simulador!$C$34)^(1/12)))","v":0},null,1,0,0,{"$f":"IF(O179=0,0,X$6/((1+Simulador!$C$34)^((O179-O$6)/12)))*(1+AA179)","v":0},0,null,{"$f":"IF(Simulador!$C$54=12,0,IF(O179/12=INT(O179/12),1,0))","v":0}]
[{"$f":"IF(OR(A179+1>Simulador!$C$46,A179=0),0,A179+1)","v":0},0,0,0,{"$f":"IF($A180=0,0,(E179-D179)*((1+Simulador!$C$34)^(1/12)))","v":0},null,1,0,0,{"$f":"IF(A180=0,0,J$6/((1+Simulador!$C$34)^((A180-A$6)/12)))*(1+M180)","v":0},0,null,{"$f":"IF(Simulador!$C$47=12,0,IF(A180/12=INT(A180/12),1,0))","v":1},null,{"$f":"IF(OR(O179+1>Simulador!$C$53,O179=0),0,O179+1)","v":0},0,0,0,{"$f":"IF($O180=0,0,(S179-R179)*((1+Simulador!$C$34)^(1/12)))","v":0},null,1,0,0,{"$f":"IF(O180=0,0,X$6/((1+Simulador!$C$34)^((O180-O$6)/12)))*(1+AA180)","v":0},0,null,{"$f":"IF(Simulador!$C$54=12,0,IF(O180/12=INT(O180/12),1,0))","v":0}]
[{"$f":"IF(OR(A180+1>Simulador!$C$46,A180=0),0,A180+1)","v":0},0,0,0,{"$f":"IF($A181=0,0,(E180-D180)*((1+Simulador!$C$34)^(1/12)))","v":0},null,1,0,0,{"$f":"IF(A181=0,0,J$6/((1+Simulador!$C$34)^((A181-A$6)/12)))*(1+M181)","v":0},0,null,{"$f":"IF(Simulador!$C$47=12,0,IF(A181/12=INT(A181/12),1,0))","v":1},null,{"$f":"IF(OR(O180+1>Simulador!$C$53,O180=0),0,O180+1)","v":0},0,0,0,{"$f":"IF($O181=0,0,(S180-R180)*((1+Simulador!$C$34)^(1/12)))","v":0},null,1,0,0,{"$f":"IF(O181=0,0,X$6/((1+Simulador!$C$34)^((O181-O$6)/12)))*(1+AA181)","v":0},0,null,{"$f":"IF(Simulador!$C$54=12,0,IF(O181/12=INT(O181/12),1,0))","v":0}]
[{"$f":"IF(OR(A181+1>Simulador!$C$46,A181=0),0,A181+1)","v":0},0,0,0,{"$f":"IF($A182=0,0,(E181-D181)*((1+Simulador!$C$34)^(1/12)))","v":0},null,1,0,0,{"$f":"IF(A182=0,0,J$6/((1+Simulador!$C$34)^((A182-A$6)/12)))*(1+M182)","v":0},0,null,{"$f":"IF(Simulador!$C$47=12,0,IF(A182/12=INT(A182/12),1,0))","v":1},null,{"$f":"IF(OR(O181+1>Simulador!$C$53,O181=0),0,O181+1)","v":0},0,0,0,{"$f":"IF($O182=0,0,(S181-R181)*((1+Simulador!$C$34)^(1/12)))","v":0},null,1,0,0,{"$f":"IF(O182=0,0,X$6/((1+Simulador!$C$34)^((O182-O$6)/12)))*(1+AA182)","v":0},0,null,{"$f":"IF(Simulador!$C$54=12,0,IF(O182/12=INT(O182/12),1,0))","v":0}]
[{"$f":"IF(OR(A182+1>Simulador!$C$46,A182=0),0,A182+1)","v":0},0,0,0,{"$f":"IF($A183=0,0,(E182-D182)*((1+Simulador!$C$34)^(1/12)))","v":0},null,1,0,0,{"$f":"IF(A183=0,0,J$6/((1+Simulador!$C$34)^((A183-A$6)/12)))*(1+M183)","v":0},0,null,{"$f":"IF(Simulador!$C$47=12,0,IF(A183/12=INT(A183/12),1,0))","v":1},null,{"$f":"IF(OR(O182+1>Simulador!$C$53,O182=0),0,O182+1)","v":0},0,0,0,{"$f":"IF($O183=0,0,(S182-R182)*((1+Simulador!$C$34)^(1/12)))","v":0},null,1,0,0,{"$f":"IF(O183=0,0,X$6/((1+Simulador!$C$34)^((O183-O$6)/12)))*(1+AA183)","v":0},0,null,{"$f":"IF(Simulador!$C$54=12,0,IF(O183/12=INT(O183/12),1,0))","v":0}]
[{"$f":"IF(OR(A183+1>Simulador!$C$46,A183=0),0,A183+1)","v":0},0,0,0,{"$f":"IF($A184=0,0,(E183-D183)*((1+Simulador!$C$34)^(1/12)))","v":0},null,1,0,0,{"$f":"IF(A184=0,0,J$6/((1+Simulador!$C$34)^((A184-A$6)/12)))*(1+M184)","v":0},0,null,{"$f":"IF(Simulador!$C$47=12,0,IF(A184/12=INT(A184/12),1,0))","v":1},null,{"$f":"IF(OR(O183+1>Simulador!$C$53,O183=0),0,O183+1)","v":0},0,0,0,{"$f":"IF($O184=0,0,(S183-R183)*((1+Simulador!$C$34)^(1/12)))","v":0},null,1,0,0,{"$f":"IF(O184=0,0,X$6/((1+Simulador!$C$34)^((O184-O$6)/12)))*(1+AA184)","v":0},0,null,{"$f":"IF(Simulador!$C$54=12,0,IF(O184/12=INT(O184/12),1,0))","v":0}]
[{"$f":"IF(OR(A184+1>Simulador!$C$46,A184=0),0,A184+1)","v":0},0,0,0,{"$f":"IF($A185=0,0,(E184-D184)*((1+Simulador!$C$34)^(1/12)))","v":0},null,1,0,0,{"$f":"IF(A185=0,0,J$6/((1+Simulador!$C$34)^((A185-A$6)/12)))*(1+M185)","v":0},0,null,{"$f":"IF(Simulador!$C$47=12,0,IF(A185/12=INT(A185/12),1,0))","v":1},null,{"$f":"IF(OR(O184+1>Simulador!$C$53,O184=0),0,O184+1)","v":0},0,0,0,{"$f":"IF($O185=0,0,(S184-R184)*((1+Simulador!$C$34)^(1/12)))","v":0},null,1,0,0,{"$f":"IF(O185=0,0,X$6/((1+Simulador!$C$34)^((O185-O$6)/12)))*(1+AA185)","v":0},0,null,{"$f":"IF(Simulador!$C$54=12,0,IF(O185/12=INT(O185/12),1,0))","v":0}]
[{"$f":"IF(OR(A185+1>Simulador!$C$46,A185=0),0,A185+1)","v":0},0,0,0,{"$f":"IF($A186=0,0,(E185-D185)*((1+Simulador!$C$34)^(1/12)))","v":0},null,1,0,0,{"$f":"IF(A186=0,0,J$6/((1+Simulador!$C$34)^((A186-A$6)/12)))*(1+M186)","v":0},0,null,{"$f":"IF(Simulador!$C$47=12,0,IF(A186/12=INT(A186/12),1,0))","v":1},null,{"$f":"IF(OR(O185+1>Simulador!$C$53,O185=0),0,O185+1)","v":0},0,0,0,{"$f":"IF($O186=0,0,(S185-R185)*((1+Simulador!$C$34)^(1/12)))","v":0},null,1,0,0,{"$f":"IF(O186=0,0,X$6/((1+Simulador!$C$34)^((O186-O$6)/12)))*(1+AA186)","v":0},0,null,{"$f":"IF(Simulador!$C$54=12,0,IF(O186/12=INT(O186/12),1,0))","v":0}]
[{"$f":"IF(OR(A186+1>Simulador!$C$46,A186=0),0,A186+1)","v":0},0,0,0,{"$f":"IF($A187=0,0,(E186-D186)*((1+Simulador!$C$34)^(1/12)))","v":0},null,1,0,0,{"$f":"IF(A187=0,0,J$6/((1+Simulador!$C$34)^((A187-A$6)/12)))*(1+M187)","v":0},0,null,{"$f":"IF(Simulador!$C$47=12,0,IF(A187/12=INT(A187/12),1,0))","v":1},null,{"$f":"IF(OR(O186+1>Simulador!$C$53,O186=0),0,O186+1)","v":0},0,0,0,{"$f":"IF($O187=0,0,(S186-R186)*((1+Simulador!$C$34)^(1/12)))","v":0},null,1,0,0,{"$f":"IF(O187=0,0,X$6/((1+Simulador!$C$34)^((O187-O$6)/12)))*(1+AA187)","v":0},0,null,{"$f":"IF(Simulador!$C$54=12,0,IF(O187/12=INT(O187/12),1,0))","v":0}]
[{"$f":"IF(OR(A187+1>Simulador!$C$46,A187=0),0,A187+1)","v":0},0,0,0,{"$f":"IF($A188=0,0,(E187-D187)*((1+Simulador!$C$34)^(1/12)))","v":0},null,1,0,0,{"$f":"IF(A188=0,0,J$6/((1+Simulador!$C$34)^((A188-A$6)/12)))*(1+M188)","v":0},0,null,{"$f":"IF(Simulador!$C$47=12,0,IF(A188/12=INT(A188/12),1,0))","v":1},null,{"$f":"IF(OR(O187+1>Simulador!$C$53,O187=0),0,O187+1)","v":0},0,0,0,{"$f":"IF($O188=0,0,(S187-R187)*((1+Simulador!$C$34)^(1/12)))","v":0},null,1,0,0,{"$f":"IF(O188=0,0,X$6/((1+Simulador!$C$34)^((O188-O$6)/12)))*(1+AA188)","v":0},0,null,{"$f":"IF(Simulador!$C$54=12,0,IF(O188/12=INT(O188/12),1,0))","v":0}]
[{"$f":"IF(OR(A188+1>Simulador!$C$46,A188=0),0,A188+1)","v":0},0,0,0,{"$f":"IF($A189=0,0,(E188-D188)*((1+Simulador!$C$34)^(1/12)))","v":0},null,1,0,0,{"$f":"IF(A189=0,0,J$6/((1+Simulador!$C$34)^((A189-A$6)/12)))*(1+M189)","v":0},0,null,{"$f":"IF(Simulador!$C$47=12,0,IF(A189/12=INT(A189/12),1,0))","v":1},null,{"$f":"IF(OR(O188+1>Simulador!$C$53,O188=0),0,O188+1)","v":0},0,0,0,{"$f":"IF($O189=0,0,(S188-R188)*((1+Simulador!$C$34)^(1/12)))","v":0},null,1,0,0,{"$f":"IF(O189=0,0,X$6/((1+Simulador!$C$34)^((O189-O$6)/12)))*(1+AA189)","v":0},0,null,{"$f":"IF(Simulador!$C$54=12,0,IF(O189/12=INT(O189/12),1,0))","v":0}]
[{"$f":"IF(OR(A189+1>Simulador!$C$46,A189=0),0,A189+1)","v":0},0,0,0,{"$f":"IF($A190=0,0,(E189-D189)*((1+Simulador!$C$34)^(1/12)))","v":0},null,1,0,0,{"$f":"IF(A190=0,0,J$6/((1+Simulador!$C$34)^((A190-A$6)/12)))*(1+M190)","v":0},0,null,{"$f":"IF(Simulador!$C$47=12,0,IF(A190/12=INT(A190/12),1,0))","v":1},null,{"$f":"IF(OR(O189+1>Simulador!$C$53,O189=0),0,O189+1)","v":0},0,0,0,{"$f":"IF($O190=0,0,(S189-R189)*((1+Simulador!$C$34)^(1/12)))","v":0},null,1,0,0,{"$f":"IF(O190=0,0,X$6/((1+Simulador!$C$34)^((O190-O$6)/12)))*(1+AA190)","v":0},0,null,{"$f":"IF(Simulador!$C$54=12,0,IF(O190/12=INT(O190/12),1,0))","v":0}]
[{"$f":"IF(OR(A190+1>Simulador!$C$46,A190=0),0,A190+1)","v":0},0,0,0,{"$f":"IF($A191=0,0,(E190-D190)*((1+Simulador!$C$34)^(1/12)))","v":0},null,1,0,0,{"$f":"IF(A191=0,0,J$6/((1+Simulador!$C$34)^((A191-A$6)/12)))*(1+M191)","v":0},0,null,{"$f":"IF(Simulador!$C$47=12,0,IF(A191/12=INT(A191/12),1,0))","v":1},null,{"$f":"IF(OR(O190+1>Simulador!$C$53,O190=0),0,O190+1)","v":0},0,0,0,{"$f":"IF($O191=0,0,(S190-R190)*((1+Simulador!$C$34)^(1/12)))","v":0},null,1,0,0,{"$f":"IF(O191=0,0,X$6/((1+Simulador!$C$34)^((O191-O$6)/12)))*(1+AA191)","v":0},0,null,{"$f":"IF(Simulador!$C$54=12,0,IF(O191/12=INT(O191/12),1,0))","v":0}]
[{"$f":"IF(OR(A191+1>Simulador!$C$46,A191=0),0,A191+1)","v":0},0,0,0,{"$f":"IF($A192=0,0,(E191-D191)*((1+Simulador!$C$34)^(1/12)))","v":0},null,1,0,0,{"$f":"IF(A192=0,0,J$6/((1+Simulador!$C$34)^((A192-A$6)/12)))*(1+M192)","v":0},0,null,{"$f":"IF(Simulador!$C$47=12,0,IF(A192/12=INT(A192/12),1,0))","v":1},null,{"$f":"IF(OR(O191+1>Simulador!$C$53,O191=0),0,O191+1)","v":0},0,0,0,{"$f":"IF($O192=0,0,(S191-R191)*((1+Simulador!$C$34)^(1/12)))","v":0},null,1,0,0,{"$f":"IF(O192=0,0,X$6/((1+Simulador!$C$34)^((O192-O$6)/12)))*(1+AA192)","v":0},0,null,{"$f":"IF(Simulador!$C$54=12,0,IF(O192/12=INT(O192/12),1,0))","v":0}]
[{"$f":"IF(OR(A192+1>Simulador!$C$46,A192=0),0,A192+1)","v":0},0,0,0,{"$f":"IF($A193=0,0,(E192-D192)*((1+Simulador!$C$34)^(1/12)))","v":0},null,1,0,0,{"$f":"IF(A193=0,0,J$6/((1+Simulador!$C$34)^((A193-A$6)/12)))*(1+M193)","v":0},0,null,{"$f":"IF(Simulador!$C$47=12,0,IF(A193/12=INT(A193/12),1,0))","v":1},null,{"$f":"IF(OR(O192+1>Simulador!$C$53,O192=0),0,O192+1)","v":0},0,0,0,{"$f":"IF($O193=0,0,(S192-R192)*((1+Simulador!$C$34)^(1/12)))","v":0},null,1,0,0,{"$f":"IF(O193=0,0,X$6/((1+Simulador!$C$34)^((O193-O$6)/12)))*(1+AA193)","v":0},0,null,{"$f":"IF(Simulador!$C$54=12,0,IF(O193/12=INT(O193/12),1,0))","v":0}]
[{"$f":"IF(OR(A193+1>Simulador!$C$46,A193=0),0,A193+1)","v":0},0,0,0,{"$f":"IF($A194=0,0,(E193-D193)*((1+Simulador!$C$34)^(1/12)))","v":0},null,1,0,0,{"$f":"IF(A194=0,0,J$6/((1+Simulador!$C$34)^((A194-A$6)/12)))*(1+M194)","v":0},0,null,{"$f":"IF(Simulador!$C$47=12,0,IF(A194/12=INT(A194/12),1,0))","v":1},null,{"$f":"IF(OR(O193+1>Simulador!$C$53,O193=0),0,O193+1)","v":0},0,0,0,{"$f":"IF($O194=0,0,(S193-R193)*((1+Simulador!$C$34)^(1/12)))","v":0},null,1,0,0,{"$f":"IF(O194=0,0,X$6/((1+Simulador!$C$34)^((O194-O$6)/12)))*(1+AA194)","v":0},0,null,{"$f":"IF(Simulador!$C$54=12,0,IF(O194/12=INT(O194/12),1,0))","v":0}]
[{"$f":"IF(OR(A194+1>Simulador!$C$46,A194=0),0,A194+1)","v":0},0,0,0,{"$f":"IF($A195=0,0,(E194-D194)*((1+Simulador!$C$34)^(1/12)))","v":0},null,1,0,0,{"$f":"IF(A195=0,0,J$6/((1+Simulador!$C$34)^((A195-A$6)/12)))*(1+M195)","v":0},0,null,{"$f":"IF(Simulador!$C$47=12,0,IF(A195/12=INT(A195/12),1,0))","v":1},null,{"$f":"IF(OR(O194+1>Simulador!$C$53,O194=0),0,O194+1)","v":0},0,0,0,{"$f":"IF($O195=0,0,(S194-R194)*((1+Simulador!$C$34)^(1/12)))","v":0},null,1,0,0,{"$f":"IF(O195=0,0,X$6/((1+Simulador!$C$34)^((O195-O$6)/12)))*(1+AA195)","v":0},0,null,{"$f":"IF(Simulador!$C$54=12,0,IF(O195/12=INT(O195/12),1,0))","v":0}]
[{"$f":"IF(OR(A195+1>Simulador!$C$46,A195=0),0,A195+1)","v":0},0,0,0,{"$f":"IF($A196=0,0,(E195-D195)*((1+Simulador!$C$34)^(1/12)))","v":0},null,1,0,0,{"$f":"IF(A196=0,0,J$6/((1+Simulador!$C$34)^((A196-A$6)/12)))*(1+M196)","v":0},0,null,{"$f":"IF(Simulador!$C$47=12,0,IF(A196/12=INT(A196/12),1,0))","v":1},null,{"$f":"IF(OR(O195+1>Simulador!$C$53,O195=0),0,O195+1)","v":0},0,0,0,{"$f":"IF($O196=0,0,(S195-R195)*((1+Simulador!$C$34)^(1/12)))","v":0},null,1,0,0,{"$f":"IF(O196=0,0,X$6/((1+Simulador!$C$34)^((O196-O$6)/12)))*(1+AA196)","v":0},0,null,{"$f":"IF(Simulador!$C$54=12,0,IF(O196/12=INT(O196/12),1,0))","v":0}]
[{"$f":"IF(OR(A196+1>Simulador!$C$46,A196=0),0,A196+1)","v":0},0,0,0,{"$f":"IF($A197=0,0,(E196-D196)*((1+Simulador!$C$34)^(1/12)))","v":0},null,1,0,0,{"$f":"IF(A197=0,0,J$6/((1+Simulador!$C$34)^((A197-A$6)/12)))*(1+M197)","v":0},0,null,{"$f":"IF(Simulador!$C$47=12,0,IF(A197/12=INT(A197/12),1,0))","v":1},null,{"$f":"IF(OR(O196+1>Simulador!$C$53,O196=0),0,O196+1)","v":0},0,0,0,{"$f":"IF($O197=0,0,(S196-R196)*((1+Simulador!$C$34)^(1/12)))","v":0},null,1,0,0,{"$f":"IF(O197=0,0,X$6/((1+Simulador!$C$34)^((O197-O$6)/12)))*(1+AA197)","v":0},0,null,{"$f":"IF(Simulador!$C$54=12,0,IF(O197/12=INT(O197/12),1,0))","v":0}]
[{"$f":"IF(OR(A197+1>Simulador!$C$46,A197=0),0,A197+1)","v":0},0,0,0,{"$f":"IF($A198=0,0,(E197-D197)*((1+Simulador!$C$34)^(1/12)))","v":0},null,1,0,0,{"$f":"IF(A198=0,0,J$6/((1+Simulador!$C$34)^((A198-A$6)/12)))*(1+M198)","v":0},0,null,{"$f":"IF(Simulador!$C$47=12,0,IF(A198/12=INT(A198/12),1,0))","v":1},null,{"$f":"IF(OR(O197+1>Simulador!$C$53,O197=0),0,O197+1)","v":0},0,0,0,{"$f":"IF($O198=0,0,(S197-R197)*((1+Simulador!$C$34)^(1/12)))","v":0},null,1,0,0,{"$f":"IF(O198=0,0,X$6/((1+Simulador!$C$34)^((O198-O$6)/12)))*(1+AA198)","v":0},0,null,{"$f":"IF(Simulador!$C$54=12,0,IF(O198/12=INT(O198/12),1,0))","v":0}]
[{"$f":"IF(OR(A198+1>Simulador!$C$46,A198=0),0,A198+1)","v":0},{"$f":"IF($A199=0,0,G199*H199)","v":0},{"$f":"IF($A199=0,0,G199*I199)","v":0},{"$f":"IF($A199=0,0,G199*J199)","v":0},{"$f":"IF($A199=0,0,(E198-D198)*((1+Simulador!$C$34)^(1/12)))","v":0},null,{"$f":"G198*((1+$I$2)^(1/12))","v":1},{"$f":"IF($A199=0,0,$H$6)*(1+M199)","v":0},{"$f":"IF($A199=0,0,I198-H198)","v":0},{"$f":"IF(A199=0,0,J$6/((1+Simulador!$C$34)^((A199-A$6)/12)))*(1+M199)","v":0},{"$f":"IF($A199=0,0,K198-J198)","v":0},null,{"$f":"IF(Simulador!$C$47=12,0,IF(A199/12=INT(A199/12),1,0))","v":1},null,{"$f":"IF(OR(O198+1>Simulador!$C$53,O198=0),0,O198+1)","v":0},{"$f":"IF($A199=0,0,U199*V199)","v":0},{"$f":"IF($O199=0,0,U199*W199)","v":0},{"$f":"IF($A199=0,0,U199*X199)","v":0},{"$f":"IF($O199=0,0,(S198-R198)*((1+Simulador!$C$34)^(1/12)))","v":0},null,{"$f":"U198*((1+$I$2)^(1/12))","v":1},{"$f":"IF($O199=0,0,$V$6)*(1+AA199)","v":0},{"$f":"IF($O199=0,0,W198-V198)","v":0},{"$f":"IF(O199=0,0,X$6/((1+Simulador!$C$34)^((O199-O$6)/12)))*(1+AA199)","v":0},{"$f":"IF($O199=0,0,Y198-X198)","v":0},null,{"$f":"IF(Simulador!$C$54=12,0,IF(O199/12=INT(O199/12),1,0))","v":0}]
[{"$f":"IF(OR(A199+1>Simulador!$C$46,A199=0),0,A199+1)","v":0},0,0,0,{"$f":"IF($A200=0,0,(E199-D199)*((1+Simulador!$C$34)^(1/12)))","v":0},null,1,0,0,{"$f":"IF(A200=0,0,J$6/((1+Simulador!$C$34)^((A200-A$6)/12)))*(1+M200)","v":0},0,null,{"$f":"IF(Simulador!$C$47=12,0,IF(A200/12=INT(A200/12),1,0))","v":1},null,{"$f":"IF(OR(O199+1>Simulador!$C$53,O199=0),0,O199+1)","v":0},0,0,0,{"$f":"IF($O200=0,0,(S199-R199)*((1+Simulador!$C$34)^(1/12)))","v":0},null,1,0,0,{"$f":"IF(O200=0,0,X$6/((1+Simulador!$C$34)^((O200-O$6)/12)))*(1+AA200)","v":0},0,null,{"$f":"IF(Simulador!$C$54=12,0,IF(O200/12=INT(O200/12),1,0))","v":0}]
[{"$f":"IF(OR(A200+1>Simulador!$C$46,A200=0),0,A200+1)","v":0},0,0,0,{"$f":"IF($A201=0,0,(E200-D200)*((1+Simulador!$C$34)^(1/12)))","v":0},null,1,0,0,{"$f":"IF(A201=0,0,J$6/((1+Simulador!$C$34)^((A201-A$6)/12)))*(1+M201)","v":0},0,null,{"$f":"IF(Simulador!$C$47=12,0,IF(A201/12=INT(A201/12),1,0))","v":1},null,{"$f":"IF(OR(O200+1>Simulador!$C$53,O200=0),0,O200+1)","v":0},0,0,0,{"$f":"IF($O201=0,0,(S200-R200)*((1+Simulador!$C$34)^(1/12)))","v":0},null,1,0,0,{"$f":"IF(O201=0,0,X$6/((1+Simulador!$C$34)^((O201-O$6)/12)))*(1+AA201)","v":0},0,null,{"$f":"IF(Simulador!$C$54=12,0,IF(O201/12=INT(O201/12),1,0))","v":0}]
[{"$f":"IF(OR(A201+1>Simulador!$C$46,A201=0),0,A201+1)","v":0},0,0,0,{"$f":"IF($A202=0,0,(E201-D201)*((1+Simulador!$C$34)^(1/12)))","v":0},null,1,0,0,{"$f":"IF(A202=0,0,J$6/((1+Simulador!$C$34)^((A202-A$6)/12)))*(1+M202)","v":0},0,null,{"$f":"IF(Simulador!$C$47=12,0,IF(A202/12=INT(A202/12),1,0))","v":1},null,{"$f":"IF(OR(O201+1>Simulador!$C$53,O201=0),0,O201+1)","v":0},0,0,0,{"$f":"IF($O202=0,0,(S201-R201)*((1+Simulador!$C$34)^(1/12)))","v":0},null,1,0,0,{"$f":"IF(O202=0,0,X$6/((1+Simulador!$C$34)^((O202-O$6)/12)))*(1+AA202)","v":0},0,null,{"$f":"IF(Simulador!$C$54=12,0,IF(O202/12=INT(O202/12),1,0))","v":0}]
[{"$f":"IF(OR(A202+1>Simulador!$C$46,A202=0),0,A202+1)","v":0},0,0,0,{"$f":"IF($A203=0,0,(E202-D202)*((1+Simulador!$C$34)^(1/12)))","v":0},null,1,0,0,{"$f":"IF(A203=0,0,J$6/((1+Simulador!$C$34)^((A203-A$6)/12)))*(1+M203)","v":0},0,null,{"$f":"IF(Simulador!$C$47=12,0,IF(A203/12=INT(A203/12),1,0))","v":1},null,{"$f":"IF(OR(O202+1>Simulador!$C$53,O202=0),0,O202+1)","v":0},0,0,0,{"$f":"IF($O203=0,0,(S202-R202)*((1+Simulador!$C$34)^(1/12)))","v":0},null,1,0,0,{"$f":"IF(O203=0,0,X$6/((1+Simulador!$C$34)^((O203-O$6)/12)))*(1+AA203)","v":0},0,null,{"$f":"IF(Simulador!$C$54=12,0,IF(O203/12=INT(O203/12),1,0))","v":0}]
[{"$f":"IF(OR(A203+1>Simulador!$C$46,A203=0),0,A203+1)","v":0},0,0,0,{"$f":"IF($A204=0,0,(E203-D203)*((1+Simulador!$C$34)^(1/12)))","v":0},null,1,0,0,{"$f":"IF(A204=0,0,J$6/((1+Simulador!$C$34)^((A204-A$6)/12)))*(1+M204)","v":0},0,null,{"$f":"IF(Simulador!$C$47=12,0,IF(A204/12=INT(A204/12),1,0))","v":1},null,{"$f":"IF(OR(O203+1>Simulador!$C$53,O203=0),0,O203+1)","v":0},0,0,0,{"$f":"IF($O204=0,0,(S203-R203)*((1+Simulador!$C$34)^(1/12)))","v":0},null,1,0,0,{"$f":"IF(O204=0,0,X$6/((1+Simulador!$C$34)^((O204-O$6)/12)))*(1+AA204)","v":0},0,null,{"$f":"IF(Simulador!$C$54=12,0,IF(O204/12=INT(O204/12),1,0))","v":0}]
[{"$f":"IF(OR(A204+1>Simulador!$C$46,A204=0),0,A204+1)","v":0},0,0,0,{"$f":"IF($A205=0,0,(E204-D204)*((1+Simulador!$C$34)^(1/12)))","v":0},null,1,0,0,{"$f":"IF(A205=0,0,J$6/((1+Simulador!$C$34)^((A205-A$6)/12)))*(1+M205)","v":0},0,null,{"$f":"IF(Simulador!$C$47=12,0,IF(A205/12=INT(A205/12),1,0))","v":1},null,{"$f":"IF(OR(O204+1>Simulador!$C$53,O204=0),0,O204+1)","v":0},0,0,0,{"$f":"IF($O205=0,0,(S204-R204)*((1+Simulador!$C$34)^(1/12)))","v":0},null,1,0,0,{"$f":"IF(O205=0,0,X$6/((1+Simulador!$C$34)^((O205-O$6)/12)))*(1+AA205)","v":0},0,null,{"$f":"IF(Simulador!$C$54=12,0,IF(O205/12=INT(O205/12),1,0))","v":0}]
[{"$f":"IF(OR(A205+1>Simulador!$C$46,A205=0),0,A205+1)","v":0},0,0,0,{"$f":"IF($A206=0,0,(E205-D205)*((1+Simulador!$C$34)^(1/12)))","v":0},null,1,0,0,{"$f":"IF(A206=0,0,J$6/((1+Simulador!$C$34)^((A206-A$6)/12)))*(1+M206)","v":0},0,null,{"$f":"IF(Simulador!$C$47=12,0,IF(A206/12=INT(A206/12),1,0))","v":1},null,{"$f":"IF(OR(O205+1>Simulador!$C$53,O205=0),0,O205+1)","v":0},0,0,0,{"$f":"IF($O206=0,0,(S205-R205)*((1+Simulador!$C$34)^(1/12)))","v":0},null,1,0,0,{"$f":"IF(O206=0,0,X$6/((1+Simulador!$C$34)^((O206-O$6)/12)))*(1+AA206)","v":0},0,null,{"$f":"IF(Simulador!$C$54=12,0,IF(O206/12=INT(O206/12),1,0))","v":0}]
[{"$f":"IF(OR(A206+1>Simulador!$C$46,A206=0),0,A206+1)","v":0},0,0,0,{"$f":"IF($A207=0,0,(E206-D206)*((1+Simulador!$C$34)^(1/12)))","v":0},null,1,0,0,{"$f":"IF(A207=0,0,J$6/((1+Simulador!$C$34)^((A207-A$6)/12)))*(1+M207)","v":0},0,null,{"$f":"IF(Simulador!$C$47=12,0,IF(A207/12=INT(A207/12),1,0))","v":1},null,{"$f":"IF(OR(O206+1>Simulador!$C$53,O206=0),0,O206+1)","v":0},0,0,0,{"$f":"IF($O207=0,0,(S206-R206)*((1+Simulador!$C$34)^(1/12)))","v":0},null,1,0,0,{"$f":"IF(O207=0,0,X$6/((1+Simulador!$C$34)^((O207-O$6)/12)))*(1+AA207)","v":0},0,null,{"$f":"IF(Simulador!$C$54=12,0,IF(O207/12=INT(O207/12),1,0))","v":0}]
[{"$f":"IF(OR(A207+1>Simulador!$C$46,A207=0),0,A207+1)","v":0},0,0,0,{"$f":"IF($A208=0,0,(E207-D207)*((1+Simulador!$C$34)^(1/12)))","v":0},null,1,0,0,{"$f":"IF(A208=0,0,J$6/((1+Simulador!$C$34)^((A208-A$6)/12)))*(1+M208)","v":0},0,null,{"$f":"IF(Simulador!$C$47=12,0,IF(A208/12=INT(A208/12),1,0))","v":1},null,{"$f":"IF(OR(O207+1>Simulador!$C$53,O207=0),0,O207+1)","v":0},0,0,0,{"$f":"IF($O208=0,0,(S207-R207)*((1+Simulador!$C$34)^(1/12)))","v":0},null,1,0,0,{"$f":"IF(O208=0,0,X$6/((1+Simulador!$C$34)^((O208-O$6)/12)))*(1+AA208)","v":0},0,null,{"$f":"IF(Simulador!$C$54=12,0,IF(O208/12=INT(O208/12),1,0))","v":0}]
[{"$f":"IF(OR(A208+1>Simulador!$C$46,A208=0),0,A208+1)","v":0},0,0,0,{"$f":"IF($A209=0,0,(E208-D208)*((1+Simulador!$C$34)^(1/12)))","v":0},null,1,0,0,{"$f":"IF(A209=0,0,J$6/((1+Simulador!$C$34)^((A209-A$6)/12)))*(1+M209)","v":0},0,null,{"$f":"IF(Simulador!$C$47=12,0,IF(A209/12=INT(A209/12),1,0))","v":1},null,{"$f":"IF(OR(O208+1>Simulador!$C$53,O208=0),0,O208+1)","v":0},0,0,0,{"$f":"IF($O209=0,0,(S208-R208)*((1+Simulador!$C$34)^(1/12)))","v":0},null,1,0,0,{"$f":"IF(O209=0,0,X$6/((1+Simulador!$C$34)^((O209-O$6)/12)))*(1+AA209)","v":0},0,null,{"$f":"IF(Simulador!$C$54=12,0,IF(O209/12=INT(O209/12),1,0))","v":0}]
[{"$f":"IF(OR(A209+1>Simulador!$C$46,A209=0),0,A209+1)","v":0},0,0,0,{"$f":"IF($A210=0,0,(E209-D209)*((1+Simulador!$C$34)^(1/12)))","v":0},null,1,0,0,{"$f":"IF(A210=0,0,J$6/((1+Simulador!$C$34)^((A210-A$6)/12)))*(1+M210)","v":0},0,null,{"$f":"IF(Simulador!$C$47=12,0,IF(A210/12=INT(A210/12),1,0))","v":1},null,{"$f":"IF(OR(O209+1>Simulador!$C$53,O209=0),0,O209+1)","v":0},0,0,0,{"$f":"IF($O210=0,0,(S209-R209)*((1+Simulador!$C$34)^(1/12)))","v":0},null,1,0,0,{"$f":"IF(O210=0,0,X$6/((1+Simulador!$C$34)^((O210-O$6)/12)))*(1+AA210)","v":0},0,null,{"$f":"IF(Simulador!$C$54=12,0,IF(O210/12=INT(O210/12),1,0))","v":0}]
[{"$f":"IF(OR(A210+1>Simulador!$C$46,A210=0),0,A210+1)","v":0},0,0,0,{"$f":"IF($A211=0,0,(E210-D210)*((1+Simulador!$C$34)^(1/12)))","v":0},null,1,0,0,{"$f":"IF(A211=0,0,J$6/((1+Simulador!$C$34)^((A211-A$6)/12)))*(1+M211)","v":0},0,null,{"$f":"IF(Simulador!$C$47=12,0,IF(A211/12=INT(A211/12),1,0))","v":1},null,{"$f":"IF(OR(O210+1>Simulador!$C$53,O210=0),0,O210+1)","v":0},0,0,0,{"$f":"IF($O211=0,0,(S210-R210)*((1+Simulador!$C$34)^(1/12)))","v":0},null,1,0,0,{"$f":"IF(O211=0,0,X$6/((1+Simulador!$C$34)^((O211-O$6)/12)))*(1+AA211)","v":0},0,null,{"$f":"IF(Simulador!$C$54=12,0,IF(O211/12=INT(O211/12),1,0))","v":0}]
[{"$f":"IF(OR(A211+1>Simulador!$C$46,A211=0),0,A211+1)","v":0},0,0,0,{"$f":"IF($A212=0,0,(E211-D211)*((1+Simulador!$C$34)^(1/12)))","v":0},null,1,0,0,{"$f":"IF(A212=0,0,J$6/((1+Simulador!$C$34)^((A212-A$6)/12)))*(1+M212)","v":0},0,null,{"$f":"IF(Simulador!$C$47=12,0,IF(A212/12=INT(A212/12),1,0))","v":1},null,{"$f":"IF(OR(O211+1>Simulador!$C$53,O211=0),0,O211+1)","v":0},0,0,0,{"$f":"IF($O212=0,0,(S211-R211)*((1+Simulador!$C$34)^(1/12)))","v":0},null,1,0,0,{"$f":"IF(O212=0,0,X$6/((1+Simulador!$C$34)^((O212-O$6)/12)))*(1+AA212)","v":0},0,null,{"$f":"IF(Simulador!$C$54=12,0,IF(O212/12=INT(O212/12),1,0))","v":0}]
[{"$f":"IF(OR(A212+1>Simulador!$C$46,A212=0),0,A212+1)","v":0},0,0,0,{"$f":"IF($A213=0,0,(E212-D212)*((1+Simulador!$C$34)^(1/12)))","v":0},null,1,0,0,{"$f":"IF(A213=0,0,J$6/((1+Simulador!$C$34)^((A213-A$6)/12)))*(1+M213)","v":0},0,null,{"$f":"IF(Simulador!$C$47=12,0,IF(A213/12=INT(A213/12),1,0))","v":1},null,{"$f":"IF(OR(O212+1>Simulador!$C$53,O212=0),0,O212+1)","v":0},0,0,0,{"$f":"IF($O213=0,0,(S212-R212)*((1+Simulador!$C$34)^(1/12)))","v":0},null,1,0,0,{"$f":"IF(O213=0,0,X$6/((1+Simulador!$C$34)^((O213-O$6)/12)))*(1+AA213)","v":0},0,null,{"$f":"IF(Simulador!$C$54=12,0,IF(O213/12=INT(O213/12),1,0))","v":0}]
[{"$f":"IF(OR(A213+1>Simulador!$C$46,A213=0),0,A213+1)","v":0},0,0,0,{"$f":"IF($A214=0,0,(E213-D213)*((1+Simulador!$C$34)^(1/12)))","v":0},null,1,0,0,{"$f":"IF(A214=0,0,J$6/((1+Simulador!$C$34)^((A214-A$6)/12)))*(1+M214)","v":0},0,null,{"$f":"IF(Simulador!$C$47=12,0,IF(A214/12=INT(A214/12),1,0))","v":1},null,{"$f":"IF(OR(O213+1>Simulador!$C$53,O213=0),0,O213+1)","v":0},0,0,0,{"$f":"IF($O214=0,0,(S213-R213)*((1+Simulador!$C$34)^(1/12)))","v":0},null,1,0,0,{"$f":"IF(O214=0,0,X$6/((1+Simulador!$C$34)^((O214-O$6)/12)))*(1+AA214)","v":0},0,null,{"$f":"IF(Simulador!$C$54=12,0,IF(O214/12=INT(O214/12),1,0))","v":0}]
[{"$f":"IF(OR(A214+1>Simulador!$C$46,A214=0),0,A214+1)","v":0},0,0,0,{"$f":"IF($A215=0,0,(E214-D214)*((1+Simulador!$C$34)^(1/12)))","v":0},null,1,0,0,{"$f":"IF(A215=0,0,J$6/((1+Simulador!$C$34)^((A215-A$6)/12)))*(1+M215)","v":0},0,null,{"$f":"IF(Simulador!$C$47=12,0,IF(A215/12=INT(A215/12),1,0))","v":1},null,{"$f":"IF(OR(O214+1>Simulador!$C$53,O214=0),0,O214+1)","v":0},0,0,0,{"$f":"IF($O215=0,0,(S214-R214)*((1+Simulador!$C$34)^(1/12)))","v":0},null,1,0,0,{"$f":"IF(O215=0,0,X$6/((1+Simulador!$C$34)^((O215-O$6)/12)))*(1+AA215)","v":0},0,null,{"$f":"IF(Simulador!$C$54=12,0,IF(O215/12=INT(O215/12),1,0))","v":0}]
[{"$f":"IF(OR(A215+1>Simulador!$C$46,A215=0),0,A215+1)","v":0},0,0,0,{"$f":"IF($A216=0,0,(E215-D215)*((1+Simulador!$C$34)^(1/12)))","v":0},null,1,0,0,{"$f":"IF(A216=0,0,J$6/((1+Simulador!$C$34)^((A216-A$6)/12)))*(1+M216)","v":0},0,null,{"$f":"IF(Simulador!$C$47=12,0,IF(A216/12=INT(A216/12),1,0))","v":1},null,{"$f":"IF(OR(O215+1>Simulador!$C$53,O215=0),0,O215+1)","v":0},0,0,0,{"$f":"IF($O216=0,0,(S215-R215)*((1+Simulador!$C$34)^(1/12)))","v":0},null,1,0,0,{"$f":"IF(O216=0,0,X$6/((1+Simulador!$C$34)^((O216-O$6)/12)))*(1+AA216)","v":0},0,null,{"$f":"IF(Simulador!$C$54=12,0,IF(O216/12=INT(O216/12),1,0))","v":0}]
[{"$f":"IF(OR(A216+1>Simulador!$C$46,A216=0),0,A216+1)","v":0},0,0,0,{"$f":"IF($A217=0,0,(E216-D216)*((1+Simulador!$C$34)^(1/12)))","v":0},null,1,0,0,{"$f":"IF(A217=0,0,J$6/((1+Simulador!$C$34)^((A217-A$6)/12)))*(1+M217)","v":0},0,null,{"$f":"IF(Simulador!$C$47=12,0,IF(A217/12=INT(A217/12),1,0))","v":1},null,{"$f":"IF(OR(O216+1>Simulador!$C$53,O216=0),0,O216+1)","v":0},0,0,0,{"$f":"IF($O217=0,0,(S216-R216)*((1+Simulador!$C$34)^(1/12)))","v":0},null,1,0,0,{"$f":"IF(O217=0,0,X$6/((1+Simulador!$C$34)^((O217-O$6)/12)))*(1+AA217)","v":0},0,null,{"$f":"IF(Simulador!$C$54=12,0,IF(O217/12=INT(O217/12),1,0))","v":0}]
[{"$f":"IF(OR(A217+1>Simulador!$C$46,A217=0),0,A217+1)","v":0},0,0,0,{"$f":"IF($A218=0,0,(E217-D217)*((1+Simulador!$C$34)^(1/12)))","v":0},null,1,0,0,{"$f":"IF(A218=0,0,J$6/((1+Simulador!$C$34)^((A218-A$6)/12)))*(1+M218)","v":0},0,null,{"$f":"IF(Simulador!$C$47=12,0,IF(A218/12=INT(A218/12),1,0))","v":1},null,{"$f":"IF(OR(O217+1>Simulador!$C$53,O217=0),0,O217+1)","v":0},0,0,0,{"$f":"IF($O218=0,0,(S217-R217)*((1+Simulador!$C$34)^(1/12)))","v":0},null,1,0,0,{"$f":"IF(O218=0,0,X$6/((1+Simulador!$C$34)^((O218-O$6)/12)))*(1+AA218)","v":0},0,null,{"$f":"IF(Simulador!$C$54=12,0,IF(O218/12=INT(O218/12),1,0))","v":0}]
[{"$f":"IF(OR(A218+1>Simulador!$C$46,A218=0),0,A218+1)","v":0},0,0,0,{"$f":"IF($A219=0,0,(E218-D218)*((1+Simulador!$C$34)^(1/12)))","v":0},null,1,0,0,{"$f":"IF(A219=0,0,J$6/((1+Simulador!$C$34)^((A219-A$6)/12)))*(1+M219)","v":0},0,null,{"$f":"IF(Simulador!$C$47=12,0,IF(A219/12=INT(A219/12),1,0))","v":1},null,{"$f":"IF(OR(O218+1>Simulador!$C$53,O218=0),0,O218+1)","v":0},0,0,0,{"$f":"IF($O219=0,0,(S218-R218)*((1+Simulador!$C$34)^(1/12)))","v":0},null,1,0,0,{"$f":"IF(O219=0,0,X$6/((1+Simulador!$C$34)^((O219-O$6)/12)))*(1+AA219)","v":0},0,null,{"$f":"IF(Simulador!$C$54=12,0,IF(O219/12=INT(O219/12),1,0))","v":0}]
[{"$f":"IF(OR(A219+1>Simulador!$C$46,A219=0),0,A219+1)","v":0},0,0,0,{"$f":"IF($A220=0,0,(E219-D219)*((1+Simulador!$C$34)^(1/12)))","v":0},null,1,0,0,{"$f":"IF(A220=0,0,J$6/((1+Simulador!$C$34)^((A220-A$6)/12)))*(1+M220)","v":0},0,null,{"$f":"IF(Simulador!$C$47=12,0,IF(A220/12=INT(A220/12),1,0))","v":1},null,{"$f":"IF(OR(O219+1>Simulador!$C$53,O219=0),0,O219+1)","v":0},0,0,0,{"$f":"IF($O220=0,0,(S219-R219)*((1+Simulador!$C$34)^(1/12)))","v":0},null,1,0,0,{"$f":"IF(O220=0,0,X$6/((1+Simulador!$C$34)^((O220-O$6)/12)))*(1+AA220)","v":0},0,null,{"$f":"IF(Simulador!$C$54=12,0,IF(O220/12=INT(O220/12),1,0))","v":0}]
[{"$f":"IF(OR(A220+1>Simulador!$C$46,A220=0),0,A220+1)","v":0},0,0,0,{"$f":"IF($A221=0,0,(E220-D220)*((1+Simulador!$C$34)^(1/12)))","v":0},null,1,0,0,{"$f":"IF(A221=0,0,J$6/((1+Simulador!$C$34)^((A221-A$6)/12)))*(1+M221)","v":0},0,null,{"$f":"IF(Simulador!$C$47=12,0,IF(A221/12=INT(A221/12),1,0))","v":1},null,{"$f":"IF(OR(O220+1>Simulador!$C$53,O220=0),0,O220+1)","v":0},0,0,0,{"$f":"IF($O221=0,0,(S220-R220)*((1+Simulador!$C$34)^(1/12)))","v":0},null,1,0,0,{"$f":"IF(O221=0,0,X$6/((1+Simulador!$C$34)^((O221-O$6)/12)))*(1+AA221)","v":0},0,null,{"$f":"IF(Simulador!$C$54=12,0,IF(O221/12=INT(O221/12),1,0))","v":0}]
[{"$f":"IF(OR(A221+1>Simulador!$C$46,A221=0),0,A221+1)","v":0},0,0,0,{"$f":"IF($A222=0,0,(E221-D221)*((1+Simulador!$C$34)^(1/12)))","v":0},null,1,0,0,{"$f":"IF(A222=0,0,J$6/((1+Simulador!$C$34)^((A222-A$6)/12)))*(1+M222)","v":0},0,null,{"$f":"IF(Simulador!$C$47=12,0,IF(A222/12=INT(A222/12),1,0))","v":1},null,{"$f":"IF(OR(O221+1>Simulador!$C$53,O221=0),0,O221+1)","v":0},0,0,0,{"$f":"IF($O222=0,0,(S221-R221)*((1+Simulador!$C$34)^(1/12)))","v":0},null,1,0,0,{"$f":"IF(O222=0,0,X$6/((1+Simulador!$C$34)^((O222-O$6)/12)))*(1+AA222)","v":0},0,null,{"$f":"IF(Simulador!$C$54=12,0,IF(O222/12=INT(O222/12),1,0))","v":0}]
[{"$f":"IF(OR(A222+1>Simulador!$C$46,A222=0),0,A222+1)","v":0},0,0,0,{"$f":"IF($A223=0,0,(E222-D222)*((1+Simulador!$C$34)^(1/12)))","v":0},null,1,0,0,{"$f":"IF(A223=0,0,J$6/((1+Simulador!$C$34)^((A223-A$6)/12)))*(1+M223)","v":0},0,null,{"$f":"IF(Simulador!$C$47=12,0,IF(A223/12=INT(A223/12),1,0))","v":1},null,{"$f":"IF(OR(O222+1>Simulador!$C$53,O222=0),0,O222+1)","v":0},0,0,0,{"$f":"IF($O223=0,0,(S222-R222)*((1+Simulador!$C$34)^(1/12)))","v":0},null,1,0,0,{"$f":"IF(O223=0,0,X$6/((1+Simulador!$C$34)^((O223-O$6)/12)))*(1+AA223)","v":0},0,null,{"$f":"IF(Simulador!$C$54=12,0,IF(O223/12=INT(O223/12),1,0))","v":0}]
[{"$f":"IF(OR(A223+1>Simulador!$C$46,A223=0),0,A223+1)","v":0},0,0,0,{"$f":"IF($A224=0,0,(E223-D223)*((1+Simulador!$C$34)^(1/12)))","v":0},null,1,0,0,{"$f":"IF(A224=0,0,J$6/((1+Simulador!$C$34)^((A224-A$6)/12)))*(1+M224)","v":0},0,null,{"$f":"IF(Simulador!$C$47=12,0,IF(A224/12=INT(A224/12),1,0))","v":1},null,{"$f":"IF(OR(O223+1>Simulador!$C$53,O223=0),0,O223+1)","v":0},0,0,0,{"$f":"IF($O224=0,0,(S223-R223)*((1+Simulador!$C$34)^(1/12)))","v":0},null,1,0,0,{"$f":"IF(O224=0,0,X$6/((1+Simulador!$C$34)^((O224-O$6)/12)))*(1+AA224)","v":0},0,null,{"$f":"IF(Simulador!$C$54=12,0,IF(O224/12=INT(O224/12),1,0))","v":0}]
[{"$f":"IF(OR(A224+1>Simulador!$C$46,A224=0),0,A224+1)","v":0},0,0,0,{"$f":"IF($A225=0,0,(E224-D224)*((1+Simulador!$C$34)^(1/12)))","v":0},null,1,0,0,{"$f":"IF(A225=0,0,J$6/((1+Simulador!$C$34)^((A225-A$6)/12)))*(1+M225)","v":0},0,null,{"$f":"IF(Simulador!$C$47=12,0,IF(A225/12=INT(A225/12),1,0))","v":1},null,{"$f":"IF(OR(O224+1>Simulador!$C$53,O224=0),0,O224+1)","v":0},0,0,0,{"$f":"IF($O225=0,0,(S224-R224)*((1+Simulador!$C$34)^(1/12)))","v":0},null,1,0,0,{"$f":"IF(O225=0,0,X$6/((1+Simulador!$C$34)^((O225-O$6)/12)))*(1+AA225)","v":0},0,null,{"$f":"IF(Simulador!$C$54=12,0,IF(O225/12=INT(O225/12),1,0))","v":0}]
[{"$f":"IF(OR(A225+1>Simulador!$C$46,A225=0),0,A225+1)","v":0},0,0,0,{"$f":"IF($A226=0,0,(E225-D225)*((1+Simulador!$C$34)^(1/12)))","v":0},null,1,0,0,{"$f":"IF(A226=0,0,J$6/((1+Simulador!$C$34)^((A226-A$6)/12)))*(1+M226)","v":0},0,null,{"$f":"IF(Simulador!$C$47=12,0,IF(A226/12=INT(A226/12),1,0))","v":1},null,{"$f":"IF(OR(O225+1>Simulador!$C$53,O225=0),0,O225+1)","v":0},0,0,0,{"$f":"IF($O226=0,0,(S225-R225)*((1+Simulador!$C$34)^(1/12)))","v":0},null,1,0,0,{"$f":"IF(O226=0,0,X$6/((1+Simulador!$C$34)^((O226-O$6)/12)))*(1+AA226)","v":0},0,null,{"$f":"IF(Simulador!$C$54=12,0,IF(O226/12=INT(O226/12),1,0))","v":0}]
[{"$f":"IF(OR(A226+1>Simulador!$C$46,A226=0),0,A226+1)","v":0},0,0,0,{"$f":"IF($A227=0,0,(E226-D226)*((1+Simulador!$C$34)^(1/12)))","v":0},null,1,0,0,{"$f":"IF(A227=0,0,J$6/((1+Simulador!$C$34)^((A227-A$6)/12)))*(1+M227)","v":0},0,null,{"$f":"IF(Simulador!$C$47=12,0,IF(A227/12=INT(A227/12),1,0))","v":1},null,{"$f":"IF(OR(O226+1>Simulador!$C$53,O226=0),0,O226+1)","v":0},0,0,0,{"$f":"IF($O227=0,0,(S226-R226)*((1+Simulador!$C$34)^(1/12)))","v":0},null,1,0,0,{"$f":"IF(O227=0,0,X$6/((1+Simulador!$C$34)^((O227-O$6)/12)))*(1+AA227)","v":0},0,null,{"$f":"IF(Simulador!$C$54=12,0,IF(O227/12=INT(O227/12),1,0))","v":0}]
[{"$f":"IF(OR(A227+1>Simulador!$C$46,A227=0),0,A227+1)","v":0},0,0,0,{"$f":"IF($A228=0,0,(E227-D227)*((1+Simulador!$C$34)^(1/12)))","v":0},null,1,0,0,{"$f":"IF(A228=0,0,J$6/((1+Simulador!$C$34)^((A228-A$6)/12)))*(1+M228)","v":0},0,null,{"$f":"IF(Simulador!$C$47=12,0,IF(A228/12=INT(A228/12),1,0))","v":1},null,{"$f":"IF(OR(O227+1>Simulador!$C$53,O227=0),0,O227+1)","v":0},0,0,0,{"$f":"IF($O228=0,0,(S227-R227)*((1+Simulador!$C$34)^(1/12)))","v":0},null,1,0,0,{"$f":"IF(O228=0,0,X$6/((1+Simulador!$C$34)^((O228-O$6)/12)))*(1+AA228)","v":0},0,null,{"$f":"IF(Simulador!$C$54=12,0,IF(O228/12=INT(O228/12),1,0))","v":0}]
[{"$f":"IF(OR(A228+1>Simulador!$C$46,A228=0),0,A228+1)","v":0},0,0,0,{"$f":"IF($A229=0,0,(E228-D228)*((1+Simulador!$C$34)^(1/12)))","v":0},null,1,0,0,{"$f":"IF(A229=0,0,J$6/((1+Simulador!$C$34)^((A229-A$6)/12)))*(1+M229)","v":0},0,null,{"$f":"IF(Simulador!$C$47=12,0,IF(A229/12=INT(A229/12),1,0))","v":1},null,{"$f":"IF(OR(O228+1>Simulador!$C$53,O228=0),0,O228+1)","v":0},0,0,0,{"$f":"IF($O229=0,0,(S228-R228)*((1+Simulador!$C$34)^(1/12)))","v":0},null,1,0,0,{"$f":"IF(O229=0,0,X$6/((1+Simulador!$C$34)^((O229-O$6)/12)))*(1+AA229)","v":0},0,null,{"$f":"IF(Simulador!$C$54=12,0,IF(O229/12=INT(O229/12),1,0))","v":0}]
[{"$f":"IF(OR(A229+1>Simulador!$C$46,A229=0),0,A229+1)","v":0},0,0,0,{"$f":"IF($A230=0,0,(E229-D229)*((1+Simulador!$C$34)^(1/12)))","v":0},null,1,0,0,{"$f":"IF(A230=0,0,J$6/((1+Simulador!$C$34)^((A230-A$6)/12)))*(1+M230)","v":0},0,null,{"$f":"IF(Simulador!$C$47=12,0,IF(A230/12=INT(A230/12),1,0))","v":1},null,{"$f":"IF(OR(O229+1>Simulador!$C$53,O229=0),0,O229+1)","v":0},0,0,0,{"$f":"IF($O230=0,0,(S229-R229)*((1+Simulador!$C$34)^(1/12)))","v":0},null,1,0,0,{"$f":"IF(O230=0,0,X$6/((1+Simulador!$C$34)^((O230-O$6)/12)))*(1+AA230)","v":0},0,null,{"$f":"IF(Simulador!$C$54=12,0,IF(O230/12=INT(O230/12),1,0))","v":0}]
[{"$f":"IF(OR(A230+1>Simulador!$C$46,A230=0),0,A230+1)","v":0},0,0,0,{"$f":"IF($A231=0,0,(E230-D230)*((1+Simulador!$C$34)^(1/12)))","v":0},null,1,0,0,{"$f":"IF(A231=0,0,J$6/((1+Simulador!$C$34)^((A231-A$6)/12)))*(1+M231)","v":0},0,null,{"$f":"IF(Simulador!$C$47=12,0,IF(A231/12=INT(A231/12),1,0))","v":1},null,{"$f":"IF(OR(O230+1>Simulador!$C$53,O230=0),0,O230+1)","v":0},0,0,0,{"$f":"IF($O231=0,0,(S230-R230)*((1+Simulador!$C$34)^(1/12)))","v":0},null,1,0,0,{"$f":"IF(O231=0,0,X$6/((1+Simulador!$C$34)^((O231-O$6)/12)))*(1+AA231)","v":0},0,null,{"$f":"IF(Simulador!$C$54=12,0,IF(O231/12=INT(O231/12),1,0))","v":0}]
[{"$f":"IF(OR(A231+1>Simulador!$C$46,A231=0),0,A231+1)","v":0},0,0,0,{"$f":"IF($A232=0,0,(E231-D231)*((1+Simulador!$C$34)^(1/12)))","v":0},null,1,0,0,{"$f":"IF(A232=0,0,J$6/((1+Simulador!$C$34)^((A232-A$6)/12)))*(1+M232)","v":0},0,null,{"$f":"IF(Simulador!$C$47=12,0,IF(A232/12=INT(A232/12),1,0))","v":1},null,{"$f":"IF(OR(O231+1>Simulador!$C$53,O231=0),0,O231+1)","v":0},0,0,0,{"$f":"IF($O232=0,0,(S231-R231)*((1+Simulador!$C$34)^(1/12)))","v":0},null,1,0,0,{"$f":"IF(O232=0,0,X$6/((1+Simulador!$C$34)^((O232-O$6)/12)))*(1+AA232)","v":0},0,null,{"$f":"IF(Simulador!$C$54=12,0,IF(O232/12=INT(O232/12),1,0))","v":0}]
[{"$f":"IF(OR(A232+1>Simulador!$C$46,A232=0),0,A232+1)","v":0},0,0,0,{"$f":"IF($A233=0,0,(E232-D232)*((1+Simulador!$C$34)^(1/12)))","v":0},null,1,0,0,{"$f":"IF(A233=0,0,J$6/((1+Simulador!$C$34)^((A233-A$6)/12)))*(1+M233)","v":0},0,null,{"$f":"IF(Simulador!$C$47=12,0,IF(A233/12=INT(A233/12),1,0))","v":1},null,{"$f":"IF(OR(O232+1>Simulador!$C$53,O232=0),0,O232+1)","v":0},0,0,0,{"$f":"IF($O233=0,0,(S232-R232)*((1+Simulador!$C$34)^(1/12)))","v":0},null,1,0,0,{"$f":"IF(O233=0,0,X$6/((1+Simulador!$C$34)^((O233-O$6)/12)))*(1+AA233)","v":0},0,null,{"$f":"IF(Simulador!$C$54=12,0,IF(O233/12=INT(O233/12),1,0))","v":0}]
[{"$f":"IF(OR(A233+1>Simulador!$C$46,A233=0),0,A233+1)","v":0},0,0,0,{"$f":"IF($A234=0,0,(E233-D233)*((1+Simulador!$C$34)^(1/12)))","v":0},null,1,0,0,{"$f":"IF(A234=0,0,J$6/((1+Simulador!$C$34)^((A234-A$6)/12)))*(1+M234)","v":0},0,null,{"$f":"IF(Simulador!$C$47=12,0,IF(A234/12=INT(A234/12),1,0))","v":1},null,{"$f":"IF(OR(O233+1>Simulador!$C$53,O233=0),0,O233+1)","v":0},0,0,0,{"$f":"IF($O234=0,0,(S233-R233)*((1+Simulador!$C$34)^(1/12)))","v":0},null,1,0,0,{"$f":"IF(O234=0,0,X$6/((1+Simulador!$C$34)^((O234-O$6)/12)))*(1+AA234)","v":0},0,null,{"$f":"IF(Simulador!$C$54=12,0,IF(O234/12=INT(O234/12),1,0))","v":0}]
[{"$f":"IF(OR(A234+1>Simulador!$C$46,A234=0),0,A234+1)","v":0},0,0,0,{"$f":"IF($A235=0,0,(E234-D234)*((1+Simulador!$C$34)^(1/12)))","v":0},null,1,0,0,{"$f":"IF(A235=0,0,J$6/((1+Simulador!$C$34)^((A235-A$6)/12)))*(1+M235)","v":0},0,null,{"$f":"IF(Simulador!$C$47=12,0,IF(A235/12=INT(A235/12),1,0))","v":1},null,{"$f":"IF(OR(O234+1>Simulador!$C$53,O234=0),0,O234+1)","v":0},0,0,0,{"$f":"IF($O235=0,0,(S234-R234)*((1+Simulador!$C$34)^(1/12)))","v":0},null,1,0,0,{"$f":"IF(O235=0,0,X$6/((1+Simulador!$C$34)^((O235-O$6)/12)))*(1+AA235)","v":0},0,null,{"$f":"IF(Simulador!$C$54=12,0,IF(O235/12=INT(O235/12),1,0))","v":0}]
[{"$f":"IF(OR(A235+1>Simulador!$C$46,A235=0),0,A235+1)","v":0},0,0,0,{"$f":"IF($A236=0,0,(E235-D235)*((1+Simulador!$C$34)^(1/12)))","v":0},null,1,0,0,{"$f":"IF(A236=0,0,J$6/((1+Simulador!$C$34)^((A236-A$6)/12)))*(1+M236)","v":0},0,null,{"$f":"IF(Simulador!$C$47=12,0,IF(A236/12=INT(A236/12),1,0))","v":1},null,{"$f":"IF(OR(O235+1>Simulador!$C$53,O235=0),0,O235+1)","v":0},0,0,0,{"$f":"IF($O236=0,0,(S235-R235)*((1+Simulador!$C$34)^(1/12)))","v":0},null,1,0,0,{"$f":"IF(O236=0,0,X$6/((1+Simulador!$C$34)^((O236-O$6)/12)))*(1+AA236)","v":0},0,null,{"$f":"IF(Simulador!$C$54=12,0,IF(O236/12=INT(O236/12),1,0))","v":0}]
[{"$f":"IF(OR(A236+1>Simulador!$C$46,A236=0),0,A236+1)","v":0},0,0,0,{"$f":"IF($A237=0,0,(E236-D236)*((1+Simulador!$C$34)^(1/12)))","v":0},null,1,0,0,{"$f":"IF(A237=0,0,J$6/((1+Simulador!$C$34)^((A237-A$6)/12)))*(1+M237)","v":0},0,null,{"$f":"IF(Simulador!$C$47=12,0,IF(A237/12=INT(A237/12),1,0))","v":1},null,{"$f":"IF(OR(O236+1>Simulador!$C$53,O236=0),0,O236+1)","v":0},0,0,0,{"$f":"IF($O237=0,0,(S236-R236)*((1+Simulador!$C$34)^(1/12)))","v":0},null,1,0,0,{"$f":"IF(O237=0,0,X$6/((1+Simulador!$C$34)^((O237-O$6)/12)))*(1+AA237)","v":0},0,null,{"$f":"IF(Simulador!$C$54=12,0,IF(O237/12=INT(O237/12),1,0))","v":0}]
[{"$f":"IF(OR(A237+1>Simulador!$C$46,A237=0),0,A237+1)","v":0},0,0,0,{"$f":"IF($A238=0,0,(E237-D237)*((1+Simulador!$C$34)^(1/12)))","v":0},null,1,0,0,{"$f":"IF(A238=0,0,J$6/((1+Simulador!$C$34)^((A238-A$6)/12)))*(1+M238)","v":0},0,null,{"$f":"IF(Simulador!$C$47=12,0,IF(A238/12=INT(A238/12),1,0))","v":1},null,{"$f":"IF(OR(O237+1>Simulador!$C$53,O237=0),0,O237+1)","v":0},0,0,0,{"$f":"IF($O238=0,0,(S237-R237)*((1+Simulador!$C$34)^(1/12)))","v":0},null,1,0,0,{"$f":"IF(O238=0,0,X$6/((1+Simulador!$C$34)^((O238-O$6)/12)))*(1+AA238)","v":0},0,null,{"$f":"IF(Simulador!$C$54=12,0,IF(O238/12=INT(O238/12),1,0))","v":0}]
[{"$f":"IF(OR(A238+1>Simulador!$C$46,A238=0),0,A238+1)","v":0},0,0,0,{"$f":"IF($A239=0,0,(E238-D238)*((1+Simulador!$C$34)^(1/12)))","v":0},null,1,0,0,{"$f":"IF(A239=0,0,J$6/((1+Simulador!$C$34)^((A239-A$6)/12)))*(1+M239)","v":0},0,null,{"$f":"IF(Simulador!$C$47=12,0,IF(A239/12=INT(A239/12),1,0))","v":1},null,{"$f":"IF(OR(O238+1>Simulador!$C$53,O238=0),0,O238+1)","v":0},0,0,0,{"$f":"IF($O239=0,0,(S238-R238)*((1+Simulador!$C$34)^(1/12)))","v":0},null,1,0,0,{"$f":"IF(O239=0,0,X$6/((1+Simulador!$C$34)^((O239-O$6)/12)))*(1+AA239)","v":0},0,null,{"$f":"IF(Simulador!$C$54=12,0,IF(O239/12=INT(O239/12),1,0))","v":0}]
[{"$f":"IF(OR(A239+1>Simulador!$C$46,A239=0),0,A239+1)","v":0},0,0,0,{"$f":"IF($A240=0,0,(E239-D239)*((1+Simulador!$C$34)^(1/12)))","v":0},null,1,0,0,{"$f":"IF(A240=0,0,J$6/((1+Simulador!$C$34)^((A240-A$6)/12)))*(1+M240)","v":0},0,null,{"$f":"IF(Simulador!$C$47=12,0,IF(A240/12=INT(A240/12),1,0))","v":1},null,{"$f":"IF(OR(O239+1>Simulador!$C$53,O239=0),0,O239+1)","v":0},0,0,0,{"$f":"IF($O240=0,0,(S239-R239)*((1+Simulador!$C$34)^(1/12)))","v":0},null,1,0,0,{"$f":"IF(O240=0,0,X$6/((1+Simulador!$C$34)^((O240-O$6)/12)))*(1+AA240)","v":0},0,null,{"$f":"IF(Simulador!$C$54=12,0,IF(O240/12=INT(O240/12),1,0))","v":0}]
[{"$f":"IF(OR(A240+1>Simulador!$C$46,A240=0),0,A240+1)","v":0},0,0,0,{"$f":"IF($A241=0,0,(E240-D240)*((1+Simulador!$C$34)^(1/12)))","v":0},null,1,0,0,{"$f":"IF(A241=0,0,J$6/((1+Simulador!$C$34)^((A241-A$6)/12)))*(1+M241)","v":0},0,null,{"$f":"IF(Simulador!$C$47=12,0,IF(A241/12=INT(A241/12),1,0))","v":1},null,{"$f":"IF(OR(O240+1>Simulador!$C$53,O240=0),0,O240+1)","v":0},0,0,0,{"$f":"IF($O241=0,0,(S240-R240)*((1+Simulador!$C$34)^(1/12)))","v":0},null,1,0,0,{"$f":"IF(O241=0,0,X$6/((1+Simulador!$C$34)^((O241-O$6)/12)))*(1+AA241)","v":0},0,null,{"$f":"IF(Simulador!$C$54=12,0,IF(O241/12=INT(O241/12),1,0))","v":0}]
[{"$f":"IF(OR(A241+1>Simulador!$C$46,A241=0),0,A241+1)","v":0},0,0,0,{"$f":"IF($A242=0,0,(E241-D241)*((1+Simulador!$C$34)^(1/12)))","v":0},null,1,0,0,{"$f":"IF(A242=0,0,J$6/((1+Simulador!$C$34)^((A242-A$6)/12)))*(1+M242)","v":0},0,null,{"$f":"IF(Simulador!$C$47=12,0,IF(A242/12=INT(A242/12),1,0))","v":1},null,{"$f":"IF(OR(O241+1>Simulador!$C$53,O241=0),0,O241+1)","v":0},0,0,0,{"$f":"IF($O242=0,0,(S241-R241)*((1+Simulador!$C$34)^(1/12)))","v":0},null,1,0,0,{"$f":"IF(O242=0,0,X$6/((1+Simulador!$C$34)^((O242-O$6)/12)))*(1+AA242)","v":0},0,null,{"$f":"IF(Simulador!$C$54=12,0,IF(O242/12=INT(O242/12),1,0))","v":0}]
[{"$f":"IF(OR(A242+1>Simulador!$C$46,A242=0),0,A242+1)","v":0},0,0,0,{"$f":"IF($A243=0,0,(E242-D242)*((1+Simulador!$C$34)^(1/12)))","v":0},null,1,0,0,{"$f":"IF(A243=0,0,J$6/((1+Simulador!$C$34)^((A243-A$6)/12)))*(1+M243)","v":0},0,null,{"$f":"IF(Simulador!$C$47=12,0,IF(A243/12=INT(A243/12),1,0))","v":1},null,{"$f":"IF(OR(O242+1>Simulador!$C$53,O242=0),0,O242+1)","v":0},0,0,0,{"$f":"IF($O243=0,0,(S242-R242)*((1+Simulador!$C$34)^(1/12)))","v":0},null,1,0,0,{"$f":"IF(O243=0,0,X$6/((1+Simulador!$C$34)^((O243-O$6)/12)))*(1+AA243)","v":0},0,null,{"$f":"IF(Simulador!$C$54=12,0,IF(O243/12=INT(O243/12),1,0))","v":0}]
[{"$f":"IF(OR(A243+1>Simulador!$C$46,A243=0),0,A243+1)","v":0},0,0,0,{"$f":"IF($A244=0,0,(E243-D243)*((1+Simulador!$C$34)^(1/12)))","v":0},null,1,0,0,{"$f":"IF(A244=0,0,J$6/((1+Simulador!$C$34)^((A244-A$6)/12)))*(1+M244)","v":0},0,null,{"$f":"IF(Simulador!$C$47=12,0,IF(A244/12=INT(A244/12),1,0))","v":1},null,{"$f":"IF(OR(O243+1>Simulador!$C$53,O243=0),0,O243+1)","v":0},0,0,0,{"$f":"IF($O244=0,0,(S243-R243)*((1+Simulador!$C$34)^(1/12)))","v":0},null,1,0,0,{"$f":"IF(O244=0,0,X$6/((1+Simulador!$C$34)^((O244-O$6)/12)))*(1+AA244)","v":0},0,null,{"$f":"IF(Simulador!$C$54=12,0,IF(O244/12=INT(O244/12),1,0))","v":0}]
[{"$f":"IF(OR(A244+1>Simulador!$C$46,A244=0),0,A244+1)","v":0},0,0,0,{"$f":"IF($A245=0,0,(E244-D244)*((1+Simulador!$C$34)^(1/12)))","v":0},null,1,0,0,{"$f":"IF(A245=0,0,J$6/((1+Simulador!$C$34)^((A245-A$6)/12)))*(1+M245)","v":0},0,null,{"$f":"IF(Simulador!$C$47=12,0,IF(A245/12=INT(A245/12),1,0))","v":1},null,{"$f":"IF(OR(O244+1>Simulador!$C$53,O244=0),0,O244+1)","v":0},0,0,0,{"$f":"IF($O245=0,0,(S244-R244)*((1+Simulador!$C$34)^(1/12)))","v":0},null,1,0,0,{"$f":"IF(O245=0,0,X$6/((1+Simulador!$C$34)^((O245-O$6)/12)))*(1+AA245)","v":0},0,null,{"$f":"IF(Simulador!$C$54=12,0,IF(O245/12=INT(O245/12),1,0))","v":0}]
[{"$f":"IF(OR(A245+1>Simulador!$C$46,A245=0),0,A245+1)","v":0},0,0,0,{"$f":"IF($A246=0,0,(E245-D245)*((1+Simulador!$C$34)^(1/12)))","v":0},null,1,0,0,{"$f":"IF(A246=0,0,J$6/((1+Simulador!$C$34)^((A246-A$6)/12)))*(1+M246)","v":0},0,null,{"$f":"IF(Simulador!$C$47=12,0,IF(A246/12=INT(A246/12),1,0))","v":1},null,{"$f":"IF(OR(O245+1>Simulador!$C$53,O245=0),0,O245+1)","v":0},0,0,0,{"$f":"IF($O246=0,0,(S245-R245)*((1+Simulador!$C$34)^(1/12)))","v":0},null,1,0,0,{"$f":"IF(O246=0,0,X$6/((1+Simulador!$C$34)^((O246-O$6)/12)))*(1+AA246)","v":0},0,null,{"$f":"IF(Simulador!$C$54=12,0,IF(O246/12=INT(O246/12),1,0))","v":0}]
[{"$f":"IF(OR(A246+1>Simulador!$C$46,A246=0),0,A246+1)","v":0},0,0,0,{"$f":"IF($A247=0,0,(E246-D246)*((1+Simulador!$C$34)^(1/12)))","v":0},null,1,0,0,{"$f":"IF(A247=0,0,J$6/((1+Simulador!$C$34)^((A247-A$6)/12)))*(1+M247)","v":0},0,null,{"$f":"IF(Simulador!$C$47=12,0,IF(A247/12=INT(A247/12),1,0))","v":1},null,{"$f":"IF(OR(O246+1>Simulador!$C$53,O246=0),0,O246+1)","v":0},0,0,0,{"$f":"IF($O247=0,0,(S246-R246)*((1+Simulador!$C$34)^(1/12)))","v":0},null,1,0,0,{"$f":"IF(O247=0,0,X$6/((1+Simulador!$C$34)^((O247-O$6)/12)))*(1+AA247)","v":0},0,null,{"$f":"IF(Simulador!$C$54=12,0,IF(O247/12=INT(O247/12),1,0))","v":0}]
[{"$f":"IF(OR(A247+1>Simulador!$C$46,A247=0),0,A247+1)","v":0},0,0,0,{"$f":"IF($A248=0,0,(E247-D247)*((1+Simulador!$C$34)^(1/12)))","v":0},null,1,0,0,{"$f":"IF(A248=0,0,J$6/((1+Simulador!$C$34)^((A248-A$6)/12)))*(1+M248)","v":0},0,null,{"$f":"IF(Simulador!$C$47=12,0,IF(A248/12=INT(A248/12),1,0))","v":1},null,{"$f":"IF(OR(O247+1>Simulador!$C$53,O247=0),0,O247+1)","v":0},0,0,0,{"$f":"IF($O248=0,0,(S247-R247)*((1+Simulador!$C$34)^(1/12)))","v":0},null,1,0,0,{"$f":"IF(O248=0,0,X$6/((1+Simulador!$C$34)^((O248-O$6)/12)))*(1+AA248)","v":0},0,null,{"$f":"IF(Simulador!$C$54=12,0,IF(O248/12=INT(O248/12),1,0))","v":0}]
[{"$f":"IF(OR(A248+1>Simulador!$C$46,A248=0),0,A248+1)","v":0},0,0,0,{"$f":"IF($A249=0,0,(E248-D248)*((1+Simulador!$C$34)^(1/12)))","v":0},null,1,0,0,{"$f":"IF(A249=0,0,J$6/((1+Simulador!$C$34)^((A249-A$6)/12)))*(1+M249)","v":0},0,null,{"$f":"IF(Simulador!$C$47=12,0,IF(A249/12=INT(A249/12),1,0))","v":1},null,{"$f":"IF(OR(O248+1>Simulador!$C$53,O248=0),0,O248+1)","v":0},0,0,0,{"$f":"IF($O249=0,0,(S248-R248)*((1+Simulador!$C$34)^(1/12)))","v":0},null,1,0,0,{"$f":"IF(O249=0,0,X$6/((1+Simulador!$C$34)^((O249-O$6)/12)))*(1+AA249)","v":0},0,null,{"$f":"IF(Simulador!$C$54=12,0,IF(O249/12=INT(O249/12),1,0))","v":0}]
[{"$f":"IF(OR(A249+1>Simulador!$C$46,A249=0),0,A249+1)","v":0},0,0,0,{"$f":"IF($A250=0,0,(E249-D249)*((1+Simulador!$C$34)^(1/12)))","v":0},null,1,0,0,{"$f":"IF(A250=0,0,J$6/((1+Simulador!$C$34)^((A250-A$6)/12)))*(1+M250)","v":0},0,null,{"$f":"IF(Simulador!$C$47=12,0,IF(A250/12=INT(A250/12),1,0))","v":1},null,{"$f":"IF(OR(O249+1>Simulador!$C$53,O249=0),0,O249+1)","v":0},0,0,0,{"$f":"IF($O250=0,0,(S249-R249)*((1+Simulador!$C$34)^(1/12)))","v":0},null,1,0,0,{"$f":"IF(O250=0,0,X$6/((1+Simulador!$C$34)^((O250-O$6)/12)))*(1+AA250)","v":0},0,null,{"$f":"IF(Simulador!$C$54=12,0,IF(O250/12=INT(O250/12),1,0))","v":0}]
[{"$f":"IF(OR(A250+1>Simulador!$C$46,A250=0),0,A250+1)","v":0},0,0,0,{"$f":"IF($A251=0,0,(E250-D250)*((1+Simulador!$C$34)^(1/12)))","v":0},null,1,0,0,{"$f":"IF(A251=0,0,J$6/((1+Simulador!$C$34)^((A251-A$6)/12)))*(1+M251)","v":0},0,null,{"$f":"IF(Simulador!$C$47=12,0,IF(A251/12=INT(A251/12),1,0))","v":1},null,{"$f":"IF(OR(O250+1>Simulador!$C$53,O250=0),0,O250+1)","v":0},0,0,0,{"$f":"IF($O251=0,0,(S250-R250)*((1+Simulador!$C$34)^(1/12)))","v":0},null,1,0,0,{"$f":"IF(O251=0,0,X$6/((1+Simulador!$C$34)^((O251-O$6)/12)))*(1+AA251)","v":0},0,null,{"$f":"IF(Simulador!$C$54=12,0,IF(O251/12=INT(O251/12),1,0))","v":0}]
[{"$f":"IF(OR(A251+1>Simulador!$C$46,A251=0),0,A251+1)","v":0},0,0,0,{"$f":"IF($A252=0,0,(E251-D251)*((1+Simulador!$C$34)^(1/12)))","v":0},null,1,0,0,{"$f":"IF(A252=0,0,J$6/((1+Simulador!$C$34)^((A252-A$6)/12)))*(1+M252)","v":0},0,null,{"$f":"IF(Simulador!$C$47=12,0,IF(A252/12=INT(A252/12),1,0))","v":1},null,{"$f":"IF(OR(O251+1>Simulador!$C$53,O251=0),0,O251+1)","v":0},0,0,0,{"$f":"IF($O252=0,0,(S251-R251)*((1+Simulador!$C$34)^(1/12)))","v":0},null,1,0,0,{"$f":"IF(O252=0,0,X$6/((1+Simulador!$C$34)^((O252-O$6)/12)))*(1+AA252)","v":0},0,null,{"$f":"IF(Simulador!$C$54=12,0,IF(O252/12=INT(O252/12),1,0))","v":0}]
[{"$f":"IF(OR(A252+1>Simulador!$C$46,A252=0),0,A252+1)","v":0},0,0,0,{"$f":"IF($A253=0,0,(E252-D252)*((1+Simulador!$C$34)^(1/12)))","v":0},null,1,0,0,{"$f":"IF(A253=0,0,J$6/((1+Simulador!$C$34)^((A253-A$6)/12)))*(1+M253)","v":0},0,null,{"$f":"IF(Simulador!$C$47=12,0,IF(A253/12=INT(A253/12),1,0))","v":1},null,{"$f":"IF(OR(O252+1>Simulador!$C$53,O252=0),0,O252+1)","v":0},0,0,0,{"$f":"IF($O253=0,0,(S252-R252)*((1+Simulador!$C$34)^(1/12)))","v":0},null,1,0,0,{"$f":"IF(O253=0,0,X$6/((1+Simulador!$C$34)^((O253-O$6)/12)))*(1+AA253)","v":0},0,null,{"$f":"IF(Simulador!$C$54=12,0,IF(O253/12=INT(O253/12),1,0))","v":0}]
[{"$f":"IF(OR(A253+1>Simulador!$C$46,A253=0),0,A253+1)","v":0},0,0,0,{"$f":"IF($A254=0,0,(E253-D253)*((1+Simulador!$C$34)^(1/12)))","v":0},null,1,0,0,{"$f":"IF(A254=0,0,J$6/((1+Simulador!$C$34)^((A254-A$6)/12)))*(1+M254)","v":0},0,null,{"$f":"IF(Simulador!$C$47=12,0,IF(A254/12=INT(A254/12),1,0))","v":1},null,{"$f":"IF(OR(O253+1>Simulador!$C$53,O253=0),0,O253+1)","v":0},0,0,0,{"$f":"IF($O254=0,0,(S253-R253)*((1+Simulador!$C$34)^(1/12)))","v":0},null,1,0,0,{"$f":"IF(O254=0,0,X$6/((1+Simulador!$C$34)^((O254-O$6)/12)))*(1+AA254)","v":0},0,null,{"$f":"IF(Simulador!$C$54=12,0,IF(O254/12=INT(O254/12),1,0))","v":0}]
[{"$f":"IF(OR(A254+1>Simulador!$C$46,A254=0),0,A254+1)","v":0},0,0,0,{"$f":"IF($A255=0,0,(E254-D254)*((1+Simulador!$C$34)^(1/12)))","v":0},null,1,0,0,{"$f":"IF(A255=0,0,J$6/((1+Simulador!$C$34)^((A255-A$6)/12)))*(1+M255)","v":0},0,null,{"$f":"IF(Simulador!$C$47=12,0,IF(A255/12=INT(A255/12),1,0))","v":1},null,{"$f":"IF(OR(O254+1>Simulador!$C$53,O254=0),0,O254+1)","v":0},0,0,0,{"$f":"IF($O255=0,0,(S254-R254)*((1+Simulador!$C$34)^(1/12)))","v":0},null,1,0,0,{"$f":"IF(O255=0,0,X$6/((1+Simulador!$C$34)^((O255-O$6)/12)))*(1+AA255)","v":0},0,null,{"$f":"IF(Simulador!$C$54=12,0,IF(O255/12=INT(O255/12),1,0))","v":0}]
[{"$f":"IF(OR(A255+1>Simulador!$C$46,A255=0),0,A255+1)","v":0},0,0,0,{"$f":"IF($A256=0,0,(E255-D255)*((1+Simulador!$C$34)^(1/12)))","v":0},null,1,0,0,{"$f":"IF(A256=0,0,J$6/((1+Simulador!$C$34)^((A256-A$6)/12)))*(1+M256)","v":0},0,null,{"$f":"IF(Simulador!$C$47=12,0,IF(A256/12=INT(A256/12),1,0))","v":1},null,{"$f":"IF(OR(O255+1>Simulador!$C$53,O255=0),0,O255+1)","v":0},0,0,0,{"$f":"IF($O256=0,0,(S255-R255)*((1+Simulador!$C$34)^(1/12)))","v":0},null,1,0,0,{"$f":"IF(O256=0,0,X$6/((1+Simulador!$C$34)^((O256-O$6)/12)))*(1+AA256)","v":0},0,null,{"$f":"IF(Simulador!$C$54=12,0,IF(O256/12=INT(O256/12),1,0))","v":0}]
[{"$f":"IF(OR(A256+1>Simulador!$C$46,A256=0),0,A256+1)","v":0},0,0,0,{"$f":"IF($A257=0,0,(E256-D256)*((1+Simulador!$C$34)^(1/12)))","v":0},null,1,0,0,{"$f":"IF(A257=0,0,J$6/((1+Simulador!$C$34)^((A257-A$6)/12)))*(1+M257)","v":0},0,null,{"$f":"IF(Simulador!$C$47=12,0,IF(A257/12=INT(A257/12),1,0))","v":1},null,{"$f":"IF(OR(O256+1>Simulador!$C$53,O256=0),0,O256+1)","v":0},0,0,0,{"$f":"IF($O257=0,0,(S256-R256)*((1+Simulador!$C$34)^(1/12)))","v":0},null,1,0,0,{"$f":"IF(O257=0,0,X$6/((1+Simulador!$C$34)^((O257-O$6)/12)))*(1+AA257)","v":0},0,null,{"$f":"IF(Simulador!$C$54=12,0,IF(O257/12=INT(O257/12),1,0))","v":0}]
[{"$f":"IF(OR(A257+1>Simulador!$C$46,A257=0),0,A257+1)","v":0},0,0,0,{"$f":"IF($A258=0,0,(E257-D257)*((1+Simulador!$C$34)^(1/12)))","v":0},null,1,0,0,{"$f":"IF(A258=0,0,J$6/((1+Simulador!$C$34)^((A258-A$6)/12)))*(1+M258)","v":0},0,null,{"$f":"IF(Simulador!$C$47=12,0,IF(A258/12=INT(A258/12),1,0))","v":1},null,{"$f":"IF(OR(O257+1>Simulador!$C$53,O257=0),0,O257+1)","v":0},0,0,0,{"$f":"IF($O258=0,0,(S257-R257)*((1+Simulador!$C$34)^(1/12)))","v":0},null,1,0,0,{"$f":"IF(O258=0,0,X$6/((1+Simulador!$C$34)^((O258-O$6)/12)))*(1+AA258)","v":0},0,null,{"$f":"IF(Simulador!$C$54=12,0,IF(O258/12=INT(O258/12),1,0))","v":0}]
[{"$f":"IF(OR(A258+1>Simulador!$C$46,A258=0),0,A258+1)","v":0},0,0,0,{"$f":"IF($A259=0,0,(E258-D258)*((1+Simulador!$C$34)^(1/12)))","v":0},null,1,0,0,{"$f":"IF(A259=0,0,J$6/((1+Simulador!$C$34)^((A259-A$6)/12)))*(1+M259)","v":0},0,null,{"$f":"IF(Simulador!$C$47=12,0,IF(A259/12=INT(A259/12),1,0))","v":1},null,{"$f":"IF(OR(O258+1>Simulador!$C$53,O258=0),0,O258+1)","v":0},0,0,0,{"$f":"IF($O259=0,0,(S258-R258)*((1+Simulador!$C$34)^(1/12)))","v":0},null,1,0,0,{"$f":"IF(O259=0,0,X$6/((1+Simulador!$C$34)^((O259-O$6)/12)))*(1+AA259)","v":0},0,null,{"$f":"IF(Simulador!$C$54=12,0,IF(O259/12=INT(O259/12),1,0))","v":0}]
[{"$f":"IF(OR(A259+1>Simulador!$C$46,A259=0),0,A259+1)","v":0},0,0,0,{"$f":"IF($A260=0,0,(E259-D259)*((1+Simulador!$C$34)^(1/12)))","v":0},null,1,0,0,{"$f":"IF(A260=0,0,J$6/((1+Simulador!$C$34)^((A260-A$6)/12)))*(1+M260)","v":0},0,null,{"$f":"IF(Simulador!$C$47=12,0,IF(A260/12=INT(A260/12),1,0))","v":1},null,{"$f":"IF(OR(O259+1>Simulador!$C$53,O259=0),0,O259+1)","v":0},0,0,0,{"$f":"IF($O260=0,0,(S259-R259)*((1+Simulador!$C$34)^(1/12)))","v":0},null,1,0,0,{"$f":"IF(O260=0,0,X$6/((1+Simulador!$C$34)^((O260-O$6)/12)))*(1+AA260)","v":0},0,null,{"$f":"IF(Simulador!$C$54=12,0,IF(O260/12=INT(O260/12),1,0))","v":0}]
[{"$f":"IF(OR(A260+1>Simulador!$C$46,A260=0),0,A260+1)","v":0},0,0,0,{"$f":"IF($A261=0,0,(E260-D260)*((1+Simulador!$C$34)^(1/12)))","v":0},null,1,0,0,{"$f":"IF(A261=0,0,J$6/((1+Simulador!$C$34)^((A261-A$6)/12)))*(1+M261)","v":0},0,null,{"$f":"IF(Simulador!$C$47=12,0,IF(A261/12=INT(A261/12),1,0))","v":1},null,{"$f":"IF(OR(O260+1>Simulador!$C$53,O260=0),0,O260+1)","v":0},0,0,0,{"$f":"IF($O261=0,0,(S260-R260)*((1+Simulador!$C$34)^(1/12)))","v":0},null,1,0,0,{"$f":"IF(O261=0,0,X$6/((1+Simulador!$C$34)^((O261-O$6)/12)))*(1+AA261)","v":0},0,null,{"$f":"IF(Simulador!$C$54=12,0,IF(O261/12=INT(O261/12),1,0))","v":0}]
[{"$f":"IF(OR(A261+1>Simulador!$C$46,A261=0),0,A261+1)","v":0},0,0,0,{"$f":"IF($A262=0,0,(E261-D261)*((1+Simulador!$C$34)^(1/12)))","v":0},null,1,0,0,{"$f":"IF(A262=0,0,J$6/((1+Simulador!$C$34)^((A262-A$6)/12)))*(1+M262)","v":0},0,null,{"$f":"IF(Simulador!$C$47=12,0,IF(A262/12=INT(A262/12),1,0))","v":1},null,{"$f":"IF(OR(O261+1>Simulador!$C$53,O261=0),0,O261+1)","v":0},0,0,0,{"$f":"IF($O262=0,0,(S261-R261)*((1+Simulador!$C$34)^(1/12)))","v":0},null,1,0,0,{"$f":"IF(O262=0,0,X$6/((1+Simulador!$C$34)^((O262-O$6)/12)))*(1+AA262)","v":0},0,null,{"$f":"IF(Simulador!$C$54=12,0,IF(O262/12=INT(O262/12),1,0))","v":0}]
[{"$f":"IF(OR(A262+1>Simulador!$C$46,A262=0),0,A262+1)","v":0},{"$f":"IF($A263=0,0,G263*H263)","v":0},{"$f":"IF($A263=0,0,G263*I263)","v":0},{"$f":"IF($A263=0,0,G263*J263)","v":0},{"$f":"IF($A263=0,0,(E262-D262)*((1+Simulador!$C$34)^(1/12)))","v":0},null,{"$f":"G262*((1+$I$2)^(1/12))","v":1},{"$f":"IF($A263=0,0,$H$6)*(1+M263)","v":0},{"$f":"IF($A263=0,0,I262-H262)","v":0},{"$f":"IF(A263=0,0,J$6/((1+Simulador!$C$34)^((A263-A$6)/12)))*(1+M263)","v":0},{"$f":"IF($A263=0,0,K262-J262)","v":0},null,{"$f":"IF(Simulador!$C$47=12,0,IF(A263/12=INT(A263/12),1,0))","v":1},null,{"$f":"IF(OR(O262+1>Simulador!$C$53,O262=0),0,O262+1)","v":0},{"$f":"IF($A263=0,0,U263*V263)","v":0},{"$f":"IF($O263=0,0,U263*W263)","v":0},{"$f":"IF($A263=0,0,U263*X263)","v":0},{"$f":"IF($O263=0,0,(S262-R262)*((1+Simulador!$C$34)^(1/12)))","v":0},null,{"$f":"U262*((1+$I$2)^(1/12))","v":1},{"$f":"IF($O263=0,0,$V$6)*(1+AA263)","v":0},{"$f":"IF($O263=0,0,W262-V262)","v":0},{"$f":"IF(O263=0,0,X$6/((1+Simulador!$C$34)^((O263-O$6)/12)))*(1+AA263)","v":0},{"$f":"IF($O263=0,0,Y262-X262)","v":0},null,{"$f":"IF(Simulador!$C$54=12,0,IF(O263/12=INT(O263/12),1,0))","v":0}]
[{"$f":"IF(OR(A263+1>Simulador!$C$46,A263=0),0,A263+1)","v":0},0,0,0,{"$f":"IF($A264=0,0,(E263-D263)*((1+Simulador!$C$34)^(1/12)))","v":0},null,1,0,0,{"$f":"IF(A264=0,0,J$6/((1+Simulador!$C$34)^((A264-A$6)/12)))*(1+M264)","v":0},0,null,{"$f":"IF(Simulador!$C$47=12,0,IF(A264/12=INT(A264/12),1,0))","v":1},null,{"$f":"IF(OR(O263+1>Simulador!$C$53,O263=0),0,O263+1)","v":0},0,0,0,{"$f":"IF($O264=0,0,(S263-R263)*((1+Simulador!$C$34)^(1/12)))","v":0},null,1,0,0,{"$f":"IF(O264=0,0,X$6/((1+Simulador!$C$34)^((O264-O$6)/12)))*(1+AA264)","v":0},0,null,{"$f":"IF(Simulador!$C$54=12,0,IF(O264/12=INT(O264/12),1,0))","v":0}]
[{"$f":"IF(OR(A264+1>Simulador!$C$46,A264=0),0,A264+1)","v":0},0,0,0,{"$f":"IF($A265=0,0,(E264-D264)*((1+Simulador!$C$34)^(1/12)))","v":0},null,1,0,0,{"$f":"IF(A265=0,0,J$6/((1+Simulador!$C$34)^((A265-A$6)/12)))*(1+M265)","v":0},0,null,{"$f":"IF(Simulador!$C$47=12,0,IF(A265/12=INT(A265/12),1,0))","v":1},null,{"$f":"IF(OR(O264+1>Simulador!$C$53,O264=0),0,O264+1)","v":0},0,0,0,{"$f":"IF($O265=0,0,(S264-R264)*((1+Simulador!$C$34)^(1/12)))","v":0},null,1,0,0,{"$f":"IF(O265=0,0,X$6/((1+Simulador!$C$34)^((O265-O$6)/12)))*(1+AA265)","v":0},0,null,{"$f":"IF(Simulador!$C$54=12,0,IF(O265/12=INT(O265/12),1,0))","v":0}]
[{"$f":"IF(OR(A265+1>Simulador!$C$46,A265=0),0,A265+1)","v":0},0,0,0,{"$f":"IF($A266=0,0,(E265-D265)*((1+Simulador!$C$34)^(1/12)))","v":0},null,1,0,0,{"$f":"IF(A266=0,0,J$6/((1+Simulador!$C$34)^((A266-A$6)/12)))*(1+M266)","v":0},0,null,{"$f":"IF(Simulador!$C$47=12,0,IF(A266/12=INT(A266/12),1,0))","v":1},null,{"$f":"IF(OR(O265+1>Simulador!$C$53,O265=0),0,O265+1)","v":0},0,0,0,{"$f":"IF($O266=0,0,(S265-R265)*((1+Simulador!$C$34)^(1/12)))","v":0},null,1,0,0,{"$f":"IF(O266=0,0,X$6/((1+Simulador!$C$34)^((O266-O$6)/12)))*(1+AA266)","v":0},0,null,{"$f":"IF(Simulador!$C$54=12,0,IF(O266/12=INT(O266/12),1,0))","v":0}]
[{"$f":"IF(OR(A266+1>Simulador!$C$46,A266=0),0,A266+1)","v":0},0,0,0,{"$f":"IF($A267=0,0,(E266-D266)*((1+Simulador!$C$34)^(1/12)))","v":0},null,1,0,0,{"$f":"IF(A267=0,0,J$6/((1+Simulador!$C$34)^((A267-A$6)/12)))*(1+M267)","v":0},0,null,{"$f":"IF(Simulador!$C$47=12,0,IF(A267/12=INT(A267/12),1,0))","v":1},null,{"$f":"IF(OR(O266+1>Simulador!$C$53,O266=0),0,O266+1)","v":0},0,0,0,{"$f":"IF($O267=0,0,(S266-R266)*((1+Simulador!$C$34)^(1/12)))","v":0},null,1,0,0,{"$f":"IF(O267=0,0,X$6/((1+Simulador!$C$34)^((O267-O$6)/12)))*(1+AA267)","v":0},0,null,{"$f":"IF(Simulador!$C$54=12,0,IF(O267/12=INT(O267/12),1,0))","v":0}]
[{"$f":"IF(OR(A267+1>Simulador!$C$46,A267=0),0,A267+1)","v":0},0,0,0,{"$f":"IF($A268=0,0,(E267-D267)*((1+Simulador!$C$34)^(1/12)))","v":0},null,1,0,0,{"$f":"IF(A268=0,0,J$6/((1+Simulador!$C$34)^((A268-A$6)/12)))*(1+M268)","v":0},0,null,{"$f":"IF(Simulador!$C$47=12,0,IF(A268/12=INT(A268/12),1,0))","v":1},null,{"$f":"IF(OR(O267+1>Simulador!$C$53,O267=0),0,O267+1)","v":0},0,0,0,{"$f":"IF($O268=0,0,(S267-R267)*((1+Simulador!$C$34)^(1/12)))","v":0},null,1,0,0,{"$f":"IF(O268=0,0,X$6/((1+Simulador!$C$34)^((O268-O$6)/12)))*(1+AA268)","v":0},0,null,{"$f":"IF(Simulador!$C$54=12,0,IF(O268/12=INT(O268/12),1,0))","v":0}]
[{"$f":"IF(OR(A268+1>Simulador!$C$46,A268=0),0,A268+1)","v":0},0,0,0,{"$f":"IF($A269=0,0,(E268-D268)*((1+Simulador!$C$34)^(1/12)))","v":0},null,1,0,0,{"$f":"IF(A269=0,0,J$6/((1+Simulador!$C$34)^((A269-A$6)/12)))*(1+M269)","v":0},0,null,{"$f":"IF(Simulador!$C$47=12,0,IF(A269/12=INT(A269/12),1,0))","v":1},null,{"$f":"IF(OR(O268+1>Simulador!$C$53,O268=0),0,O268+1)","v":0},0,0,0,{"$f":"IF($O269=0,0,(S268-R268)*((1+Simulador!$C$34)^(1/12)))","v":0},null,1,0,0,{"$f":"IF(O269=0,0,X$6/((1+Simulador!$C$34)^((O269-O$6)/12)))*(1+AA269)","v":0},0,null,{"$f":"IF(Simulador!$C$54=12,0,IF(O269/12=INT(O269/12),1,0))","v":0}]
[{"$f":"IF(OR(A269+1>Simulador!$C$46,A269=0),0,A269+1)","v":0},0,0,0,{"$f":"IF($A270=0,0,(E269-D269)*((1+Simulador!$C$34)^(1/12)))","v":0},null,1,0,0,{"$f":"IF(A270=0,0,J$6/((1+Simulador!$C$34)^((A270-A$6)/12)))*(1+M270)","v":0},0,null,{"$f":"IF(Simulador!$C$47=12,0,IF(A270/12=INT(A270/12),1,0))","v":1},null,{"$f":"IF(OR(O269+1>Simulador!$C$53,O269=0),0,O269+1)","v":0},0,0,0,{"$f":"IF($O270=0,0,(S269-R269)*((1+Simulador!$C$34)^(1/12)))","v":0},null,1,0,0,{"$f":"IF(O270=0,0,X$6/((1+Simulador!$C$34)^((O270-O$6)/12)))*(1+AA270)","v":0},0,null,{"$f":"IF(Simulador!$C$54=12,0,IF(O270/12=INT(O270/12),1,0))","v":0}]
[{"$f":"IF(OR(A270+1>Simulador!$C$46,A270=0),0,A270+1)","v":0},0,0,0,{"$f":"IF($A271=0,0,(E270-D270)*((1+Simulador!$C$34)^(1/12)))","v":0},null,1,0,0,{"$f":"IF(A271=0,0,J$6/((1+Simulador!$C$34)^((A271-A$6)/12)))*(1+M271)","v":0},0,null,{"$f":"IF(Simulador!$C$47=12,0,IF(A271/12=INT(A271/12),1,0))","v":1},null,{"$f":"IF(OR(O270+1>Simulador!$C$53,O270=0),0,O270+1)","v":0},0,0,0,{"$f":"IF($O271=0,0,(S270-R270)*((1+Simulador!$C$34)^(1/12)))","v":0},null,1,0,0,{"$f":"IF(O271=0,0,X$6/((1+Simulador!$C$34)^((O271-O$6)/12)))*(1+AA271)","v":0},0,null,{"$f":"IF(Simulador!$C$54=12,0,IF(O271/12=INT(O271/12),1,0))","v":0}]
[{"$f":"IF(OR(A271+1>Simulador!$C$46,A271=0),0,A271+1)","v":0},0,0,0,{"$f":"IF($A272=0,0,(E271-D271)*((1+Simulador!$C$34)^(1/12)))","v":0},null,1,0,0,{"$f":"IF(A272=0,0,J$6/((1+Simulador!$C$34)^((A272-A$6)/12)))*(1+M272)","v":0},0,null,{"$f":"IF(Simulador!$C$47=12,0,IF(A272/12=INT(A272/12),1,0))","v":1},null,{"$f":"IF(OR(O271+1>Simulador!$C$53,O271=0),0,O271+1)","v":0},0,0,0,{"$f":"IF($O272=0,0,(S271-R271)*((1+Simulador!$C$34)^(1/12)))","v":0},null,1,0,0,{"$f":"IF(O272=0,0,X$6/((1+Simulador!$C$34)^((O272-O$6)/12)))*(1+AA272)","v":0},0,null,{"$f":"IF(Simulador!$C$54=12,0,IF(O272/12=INT(O272/12),1,0))","v":0}]
[{"$f":"IF(OR(A272+1>Simulador!$C$46,A272=0),0,A272+1)","v":0},0,0,0,{"$f":"IF($A273=0,0,(E272-D272)*((1+Simulador!$C$34)^(1/12)))","v":0},null,1,0,0,{"$f":"IF(A273=0,0,J$6/((1+Simulador!$C$34)^((A273-A$6)/12)))*(1+M273)","v":0},0,null,{"$f":"IF(Simulador!$C$47=12,0,IF(A273/12=INT(A273/12),1,0))","v":1},null,{"$f":"IF(OR(O272+1>Simulador!$C$53,O272=0),0,O272+1)","v":0},0,0,0,{"$f":"IF($O273=0,0,(S272-R272)*((1+Simulador!$C$34)^(1/12)))","v":0},null,1,0,0,{"$f":"IF(O273=0,0,X$6/((1+Simulador!$C$34)^((O273-O$6)/12)))*(1+AA273)","v":0},0,null,{"$f":"IF(Simulador!$C$54=12,0,IF(O273/12=INT(O273/12),1,0))","v":0}]
[{"$f":"IF(OR(A273+1>Simulador!$C$46,A273=0),0,A273+1)","v":0},0,0,0,{"$f":"IF($A274=0,0,(E273-D273)*((1+Simulador!$C$34)^(1/12)))","v":0},null,1,0,0,{"$f":"IF(A274=0,0,J$6/((1+Simulador!$C$34)^((A274-A$6)/12)))*(1+M274)","v":0},0,null,{"$f":"IF(Simulador!$C$47=12,0,IF(A274/12=INT(A274/12),1,0))","v":1},null,{"$f":"IF(OR(O273+1>Simulador!$C$53,O273=0),0,O273+1)","v":0},0,0,0,{"$f":"IF($O274=0,0,(S273-R273)*((1+Simulador!$C$34)^(1/12)))","v":0},null,1,0,0,{"$f":"IF(O274=0,0,X$6/((1+Simulador!$C$34)^((O274-O$6)/12)))*(1+AA274)","v":0},0,null,{"$f":"IF(Simulador!$C$54=12,0,IF(O274/12=INT(O274/12),1,0))","v":0}]
[{"$f":"IF(OR(A274+1>Simulador!$C$46,A274=0),0,A274+1)","v":0},0,0,0,{"$f":"IF($A275=0,0,(E274-D274)*((1+Simulador!$C$34)^(1/12)))","v":0},null,1,0,0,{"$f":"IF(A275=0,0,J$6/((1+Simulador!$C$34)^((A275-A$6)/12)))*(1+M275)","v":0},0,null,{"$f":"IF(Simulador!$C$47=12,0,IF(A275/12=INT(A275/12),1,0))","v":1},null,{"$f":"IF(OR(O274+1>Simulador!$C$53,O274=0),0,O274+1)","v":0},0,0,0,{"$f":"IF($O275=0,0,(S274-R274)*((1+Simulador!$C$34)^(1/12)))","v":0},null,1,0,0,{"$f":"IF(O275=0,0,X$6/((1+Simulador!$C$34)^((O275-O$6)/12)))*(1+AA275)","v":0},0,null,{"$f":"IF(Simulador!$C$54=12,0,IF(O275/12=INT(O275/12),1,0))","v":0}]
[{"$f":"IF(OR(A275+1>Simulador!$C$46,A275=0),0,A275+1)","v":0},0,0,0,{"$f":"IF($A276=0,0,(E275-D275)*((1+Simulador!$C$34)^(1/12)))","v":0},null,1,0,0,{"$f":"IF(A276=0,0,J$6/((1+Simulador!$C$34)^((A276-A$6)/12)))*(1+M276)","v":0},0,null,{"$f":"IF(Simulador!$C$47=12,0,IF(A276/12=INT(A276/12),1,0))","v":1},null,{"$f":"IF(OR(O275+1>Simulador!$C$53,O275=0),0,O275+1)","v":0},0,0,0,{"$f":"IF($O276=0,0,(S275-R275)*((1+Simulador!$C$34)^(1/12)))","v":0},null,1,0,0,{"$f":"IF(O276=0,0,X$6/((1+Simulador!$C$34)^((O276-O$6)/12)))*(1+AA276)","v":0},0,null,{"$f":"IF(Simulador!$C$54=12,0,IF(O276/12=INT(O276/12),1,0))","v":0}]
[{"$f":"IF(OR(A276+1>Simulador!$C$46,A276=0),0,A276+1)","v":0},0,0,0,{"$f":"IF($A277=0,0,(E276-D276)*((1+Simulador!$C$34)^(1/12)))","v":0},null,1,0,0,{"$f":"IF(A277=0,0,J$6/((1+Simulador!$C$34)^((A277-A$6)/12)))*(1+M277)","v":0},0,null,{"$f":"IF(Simulador!$C$47=12,0,IF(A277/12=INT(A277/12),1,0))","v":1},null,{"$f":"IF(OR(O276+1>Simulador!$C$53,O276=0),0,O276+1)","v":0},0,0,0,{"$f":"IF($O277=0,0,(S276-R276)*((1+Simulador!$C$34)^(1/12)))","v":0},null,1,0,0,{"$f":"IF(O277=0,0,X$6/((1+Simulador!$C$34)^((O277-O$6)/12)))*(1+AA277)","v":0},0,null,{"$f":"IF(Simulador!$C$54=12,0,IF(O277/12=INT(O277/12),1,0))","v":0}]
[{"$f":"IF(OR(A277+1>Simulador!$C$46,A277=0),0,A277+1)","v":0},0,0,0,{"$f":"IF($A278=0,0,(E277-D277)*((1+Simulador!$C$34)^(1/12)))","v":0},null,1,0,0,{"$f":"IF(A278=0,0,J$6/((1+Simulador!$C$34)^((A278-A$6)/12)))*(1+M278)","v":0},0,null,{"$f":"IF(Simulador!$C$47=12,0,IF(A278/12=INT(A278/12),1,0))","v":1},null,{"$f":"IF(OR(O277+1>Simulador!$C$53,O277=0),0,O277+1)","v":0},0,0,0,{"$f":"IF($O278=0,0,(S277-R277)*((1+Simulador!$C$34)^(1/12)))","v":0},null,1,0,0,{"$f":"IF(O278=0,0,X$6/((1+Simulador!$C$34)^((O278-O$6)/12)))*(1+AA278)","v":0},0,null,{"$f":"IF(Simulador!$C$54=12,0,IF(O278/12=INT(O278/12),1,0))","v":0}]
[{"$f":"IF(OR(A278+1>Simulador!$C$46,A278=0),0,A278+1)","v":0},0,0,0,{"$f":"IF($A279=0,0,(E278-D278)*((1+Simulador!$C$34)^(1/12)))","v":0},null,1,0,0,{"$f":"IF(A279=0,0,J$6/((1+Simulador!$C$34)^((A279-A$6)/12)))*(1+M279)","v":0},0,null,{"$f":"IF(Simulador!$C$47=12,0,IF(A279/12=INT(A279/12),1,0))","v":1},null,{"$f":"IF(OR(O278+1>Simulador!$C$53,O278=0),0,O278+1)","v":0},0,0,0,{"$f":"IF($O279=0,0,(S278-R278)*((1+Simulador!$C$34)^(1/12)))","v":0},null,1,0,0,{"$f":"IF(O279=0,0,X$6/((1+Simulador!$C$34)^((O279-O$6)/12)))*(1+AA279)","v":0},0,null,{"$f":"IF(Simulador!$C$54=12,0,IF(O279/12=INT(O279/12),1,0))","v":0}]
[{"$f":"IF(OR(A279+1>Simulador!$C$46,A279=0),0,A279+1)","v":0},0,0,0,{"$f":"IF($A280=0,0,(E279-D279)*((1+Simulador!$C$34)^(1/12)))","v":0},null,1,0,0,{"$f":"IF(A280=0,0,J$6/((1+Simulador!$C$34)^((A280-A$6)/12)))*(1+M280)","v":0},0,null,{"$f":"IF(Simulador!$C$47=12,0,IF(A280/12=INT(A280/12),1,0))","v":1},null,{"$f":"IF(OR(O279+1>Simulador!$C$53,O279=0),0,O279+1)","v":0},0,0,0,{"$f":"IF($O280=0,0,(S279-R279)*((1+Simulador!$C$34)^(1/12)))","v":0},null,1,0,0,{"$f":"IF(O280=0,0,X$6/((1+Simulador!$C$34)^((O280-O$6)/12)))*(1+AA280)","v":0},0,null,{"$f":"IF(Simulador!$C$54=12,0,IF(O280/12=INT(O280/12),1,0))","v":0}]
[{"$f":"IF(OR(A280+1>Simulador!$C$46,A280=0),0,A280+1)","v":0},0,0,0,{"$f":"IF($A281=0,0,(E280-D280)*((1+Simulador!$C$34)^(1/12)))","v":0},null,1,0,0,{"$f":"IF(A281=0,0,J$6/((1+Simulador!$C$34)^((A281-A$6)/12)))*(1+M281)","v":0},0,null,{"$f":"IF(Simulador!$C$47=12,0,IF(A281/12=INT(A281/12),1,0))","v":1},null,{"$f":"IF(OR(O280+1>Simulador!$C$53,O280=0),0,O280+1)","v":0},0,0,0,{"$f":"IF($O281=0,0,(S280-R280)*((1+Simulador!$C$34)^(1/12)))","v":0},null,1,0,0,{"$f":"IF(O281=0,0,X$6/((1+Simulador!$C$34)^((O281-O$6)/12)))*(1+AA281)","v":0},0,null,{"$f":"IF(Simulador!$C$54=12,0,IF(O281/12=INT(O281/12),1,0))","v":0}]
[{"$f":"IF(OR(A281+1>Simulador!$C$46,A281=0),0,A281+1)","v":0},0,0,0,{"$f":"IF($A282=0,0,(E281-D281)*((1+Simulador!$C$34)^(1/12)))","v":0},null,1,0,0,{"$f":"IF(A282=0,0,J$6/((1+Simulador!$C$34)^((A282-A$6)/12)))*(1+M282)","v":0},0,null,{"$f":"IF(Simulador!$C$47=12,0,IF(A282/12=INT(A282/12),1,0))","v":1},null,{"$f":"IF(OR(O281+1>Simulador!$C$53,O281=0),0,O281+1)","v":0},0,0,0,{"$f":"IF($O282=0,0,(S281-R281)*((1+Simulador!$C$34)^(1/12)))","v":0},null,1,0,0,{"$f":"IF(O282=0,0,X$6/((1+Simulador!$C$34)^((O282-O$6)/12)))*(1+AA282)","v":0},0,null,{"$f":"IF(Simulador!$C$54=12,0,IF(O282/12=INT(O282/12),1,0))","v":0}]
[{"$f":"IF(OR(A282+1>Simulador!$C$46,A282=0),0,A282+1)","v":0},0,0,0,{"$f":"IF($A283=0,0,(E282-D282)*((1+Simulador!$C$34)^(1/12)))","v":0},null,1,0,0,{"$f":"IF(A283=0,0,J$6/((1+Simulador!$C$34)^((A283-A$6)/12)))*(1+M283)","v":0},0,null,{"$f":"IF(Simulador!$C$47=12,0,IF(A283/12=INT(A283/12),1,0))","v":1},null,{"$f":"IF(OR(O282+1>Simulador!$C$53,O282=0),0,O282+1)","v":0},0,0,0,{"$f":"IF($O283=0,0,(S282-R282)*((1+Simulador!$C$34)^(1/12)))","v":0},null,1,0,0,{"$f":"IF(O283=0,0,X$6/((1+Simulador!$C$34)^((O283-O$6)/12)))*(1+AA283)","v":0},0,null,{"$f":"IF(Simulador!$C$54=12,0,IF(O283/12=INT(O283/12),1,0))","v":0}]
[{"$f":"IF(OR(A283+1>Simulador!$C$46,A283=0),0,A283+1)","v":0},0,0,0,{"$f":"IF($A284=0,0,(E283-D283)*((1+Simulador!$C$34)^(1/12)))","v":0},null,1,0,0,{"$f":"IF(A284=0,0,J$6/((1+Simulador!$C$34)^((A284-A$6)/12)))*(1+M284)","v":0},0,null,{"$f":"IF(Simulador!$C$47=12,0,IF(A284/12=INT(A284/12),1,0))","v":1},null,{"$f":"IF(OR(O283+1>Simulador!$C$53,O283=0),0,O283+1)","v":0},0,0,0,{"$f":"IF($O284=0,0,(S283-R283)*((1+Simulador!$C$34)^(1/12)))","v":0},null,1,0,0,{"$f":"IF(O284=0,0,X$6/((1+Simulador!$C$34)^((O284-O$6)/12)))*(1+AA284)","v":0},0,null,{"$f":"IF(Simulador!$C$54=12,0,IF(O284/12=INT(O284/12),1,0))","v":0}]
[{"$f":"IF(OR(A284+1>Simulador!$C$46,A284=0),0,A284+1)","v":0},0,0,0,{"$f":"IF($A285=0,0,(E284-D284)*((1+Simulador!$C$34)^(1/12)))","v":0},null,1,0,0,{"$f":"IF(A285=0,0,J$6/((1+Simulador!$C$34)^((A285-A$6)/12)))*(1+M285)","v":0},0,null,{"$f":"IF(Simulador!$C$47=12,0,IF(A285/12=INT(A285/12),1,0))","v":1},null,{"$f":"IF(OR(O284+1>Simulador!$C$53,O284=0),0,O284+1)","v":0},0,0,0,{"$f":"IF($O285=0,0,(S284-R284)*((1+Simulador!$C$34)^(1/12)))","v":0},null,1,0,0,{"$f":"IF(O285=0,0,X$6/((1+Simulador!$C$34)^((O285-O$6)/12)))*(1+AA285)","v":0},0,null,{"$f":"IF(Simulador!$C$54=12,0,IF(O285/12=INT(O285/12),1,0))","v":0}]
[{"$f":"IF(OR(A285+1>Simulador!$C$46,A285=0),0,A285+1)","v":0},0,0,0,{"$f":"IF($A286=0,0,(E285-D285)*((1+Simulador!$C$34)^(1/12)))","v":0},null,1,0,0,{"$f":"IF(A286=0,0,J$6/((1+Simulador!$C$34)^((A286-A$6)/12)))*(1+M286)","v":0},0,null,{"$f":"IF(Simulador!$C$47=12,0,IF(A286/12=INT(A286/12),1,0))","v":1},null,{"$f":"IF(OR(O285+1>Simulador!$C$53,O285=0),0,O285+1)","v":0},0,0,0,{"$f":"IF($O286=0,0,(S285-R285)*((1+Simulador!$C$34)^(1/12)))","v":0},null,1,0,0,{"$f":"IF(O286=0,0,X$6/((1+Simulador!$C$34)^((O286-O$6)/12)))*(1+AA286)","v":0},0,null,{"$f":"IF(Simulador!$C$54=12,0,IF(O286/12=INT(O286/12),1,0))","v":0}]
[{"$f":"IF(OR(A286+1>Simulador!$C$46,A286=0),0,A286+1)","v":0},0,0,0,{"$f":"IF($A287=0,0,(E286-D286)*((1+Simulador!$C$34)^(1/12)))","v":0},null,1,0,0,{"$f":"IF(A287=0,0,J$6/((1+Simulador!$C$34)^((A287-A$6)/12)))*(1+M287)","v":0},0,null,{"$f":"IF(Simulador!$C$47=12,0,IF(A287/12=INT(A287/12),1,0))","v":1},null,{"$f":"IF(OR(O286+1>Simulador!$C$53,O286=0),0,O286+1)","v":0},0,0,0,{"$f":"IF($O287=0,0,(S286-R286)*((1+Simulador!$C$34)^(1/12)))","v":0},null,1,0,0,{"$f":"IF(O287=0,0,X$6/((1+Simulador!$C$34)^((O287-O$6)/12)))*(1+AA287)","v":0},0,null,{"$f":"IF(Simulador!$C$54=12,0,IF(O287/12=INT(O287/12),1,0))","v":0}]
[{"$f":"IF(OR(A287+1>Simulador!$C$46,A287=0),0,A287+1)","v":0},0,0,0,{"$f":"IF($A288=0,0,(E287-D287)*((1+Simulador!$C$34)^(1/12)))","v":0},null,1,0,0,{"$f":"IF(A288=0,0,J$6/((1+Simulador!$C$34)^((A288-A$6)/12)))*(1+M288)","v":0},0,null,{"$f":"IF(Simulador!$C$47=12,0,IF(A288/12=INT(A288/12),1,0))","v":1},null,{"$f":"IF(OR(O287+1>Simulador!$C$53,O287=0),0,O287+1)","v":0},0,0,0,{"$f":"IF($O288=0,0,(S287-R287)*((1+Simulador!$C$34)^(1/12)))","v":0},null,1,0,0,{"$f":"IF(O288=0,0,X$6/((1+Simulador!$C$34)^((O288-O$6)/12)))*(1+AA288)","v":0},0,null,{"$f":"IF(Simulador!$C$54=12,0,IF(O288/12=INT(O288/12),1,0))","v":0}]
[{"$f":"IF(OR(A288+1>Simulador!$C$46,A288=0),0,A288+1)","v":0},0,0,0,{"$f":"IF($A289=0,0,(E288-D288)*((1+Simulador!$C$34)^(1/12)))","v":0},null,1,0,0,{"$f":"IF(A289=0,0,J$6/((1+Simulador!$C$34)^((A289-A$6)/12)))*(1+M289)","v":0},0,null,{"$f":"IF(Simulador!$C$47=12,0,IF(A289/12=INT(A289/12),1,0))","v":1},null,{"$f":"IF(OR(O288+1>Simulador!$C$53,O288=0),0,O288+1)","v":0},0,0,0,{"$f":"IF($O289=0,0,(S288-R288)*((1+Simulador!$C$34)^(1/12)))","v":0},null,1,0,0,{"$f":"IF(O289=0,0,X$6/((1+Simulador!$C$34)^((O289-O$6)/12)))*(1+AA289)","v":0},0,null,{"$f":"IF(Simulador!$C$54=12,0,IF(O289/12=INT(O289/12),1,0))","v":0}]
[{"$f":"IF(OR(A289+1>Simulador!$C$46,A289=0),0,A289+1)","v":0},0,0,0,{"$f":"IF($A290=0,0,(E289-D289)*((1+Simulador!$C$34)^(1/12)))","v":0},null,1,0,0,{"$f":"IF(A290=0,0,J$6/((1+Simulador!$C$34)^((A290-A$6)/12)))*(1+M290)","v":0},0,null,{"$f":"IF(Simulador!$C$47=12,0,IF(A290/12=INT(A290/12),1,0))","v":1},null,{"$f":"IF(OR(O289+1>Simulador!$C$53,O289=0),0,O289+1)","v":0},0,0,0,{"$f":"IF($O290=0,0,(S289-R289)*((1+Simulador!$C$34)^(1/12)))","v":0},null,1,0,0,{"$f":"IF(O290=0,0,X$6/((1+Simulador!$C$34)^((O290-O$6)/12)))*(1+AA290)","v":0},0,null,{"$f":"IF(Simulador!$C$54=12,0,IF(O290/12=INT(O290/12),1,0))","v":0}]
[{"$f":"IF(OR(A290+1>Simulador!$C$46,A290=0),0,A290+1)","v":0},0,0,0,{"$f":"IF($A291=0,0,(E290-D290)*((1+Simulador!$C$34)^(1/12)))","v":0},null,1,0,0,{"$f":"IF(A291=0,0,J$6/((1+Simulador!$C$34)^((A291-A$6)/12)))*(1+M291)","v":0},0,null,{"$f":"IF(Simulador!$C$47=12,0,IF(A291/12=INT(A291/12),1,0))","v":1},null,{"$f":"IF(OR(O290+1>Simulador!$C$53,O290=0),0,O290+1)","v":0},0,0,0,{"$f":"IF($O291=0,0,(S290-R290)*((1+Simulador!$C$34)^(1/12)))","v":0},null,1,0,0,{"$f":"IF(O291=0,0,X$6/((1+Simulador!$C$34)^((O291-O$6)/12)))*(1+AA291)","v":0},0,null,{"$f":"IF(Simulador!$C$54=12,0,IF(O291/12=INT(O291/12),1,0))","v":0}]
[{"$f":"IF(OR(A291+1>Simulador!$C$46,A291=0),0,A291+1)","v":0},0,0,0,{"$f":"IF($A292=0,0,(E291-D291)*((1+Simulador!$C$34)^(1/12)))","v":0},null,1,0,0,{"$f":"IF(A292=0,0,J$6/((1+Simulador!$C$34)^((A292-A$6)/12)))*(1+M292)","v":0},0,null,{"$f":"IF(Simulador!$C$47=12,0,IF(A292/12=INT(A292/12),1,0))","v":1},null,{"$f":"IF(OR(O291+1>Simulador!$C$53,O291=0),0,O291+1)","v":0},0,0,0,{"$f":"IF($O292=0,0,(S291-R291)*((1+Simulador!$C$34)^(1/12)))","v":0},null,1,0,0,{"$f":"IF(O292=0,0,X$6/((1+Simulador!$C$34)^((O292-O$6)/12)))*(1+AA292)","v":0},0,null,{"$f":"IF(Simulador!$C$54=12,0,IF(O292/12=INT(O292/12),1,0))","v":0}]
[{"$f":"IF(OR(A292+1>Simulador!$C$46,A292=0),0,A292+1)","v":0},0,0,0,{"$f":"IF($A293=0,0,(E292-D292)*((1+Simulador!$C$34)^(1/12)))","v":0},null,1,0,0,{"$f":"IF(A293=0,0,J$6/((1+Simulador!$C$34)^((A293-A$6)/12)))*(1+M293)","v":0},0,null,{"$f":"IF(Simulador!$C$47=12,0,IF(A293/12=INT(A293/12),1,0))","v":1},null,{"$f":"IF(OR(O292+1>Simulador!$C$53,O292=0),0,O292+1)","v":0},0,0,0,{"$f":"IF($O293=0,0,(S292-R292)*((1+Simulador!$C$34)^(1/12)))","v":0},null,1,0,0,{"$f":"IF(O293=0,0,X$6/((1+Simulador!$C$34)^((O293-O$6)/12)))*(1+AA293)","v":0},0,null,{"$f":"IF(Simulador!$C$54=12,0,IF(O293/12=INT(O293/12),1,0))","v":0}]
[{"$f":"IF(OR(A293+1>Simulador!$C$46,A293=0),0,A293+1)","v":0},0,0,0,{"$f":"IF($A294=0,0,(E293-D293)*((1+Simulador!$C$34)^(1/12)))","v":0},null,1,0,0,{"$f":"IF(A294=0,0,J$6/((1+Simulador!$C$34)^((A294-A$6)/12)))*(1+M294)","v":0},0,null,{"$f":"IF(Simulador!$C$47=12,0,IF(A294/12=INT(A294/12),1,0))","v":1},null,{"$f":"IF(OR(O293+1>Simulador!$C$53,O293=0),0,O293+1)","v":0},0,0,0,{"$f":"IF($O294=0,0,(S293-R293)*((1+Simulador!$C$34)^(1/12)))","v":0},null,1,0,0,{"$f":"IF(O294=0,0,X$6/((1+Simulador!$C$34)^((O294-O$6)/12)))*(1+AA294)","v":0},0,null,{"$f":"IF(Simulador!$C$54=12,0,IF(O294/12=INT(O294/12),1,0))","v":0}]
[{"$f":"IF(OR(A294+1>Simulador!$C$46,A294=0),0,A294+1)","v":0},0,0,0,{"$f":"IF($A295=0,0,(E294-D294)*((1+Simulador!$C$34)^(1/12)))","v":0},null,1,0,0,{"$f":"IF(A295=0,0,J$6/((1+Simulador!$C$34)^((A295-A$6)/12)))*(1+M295)","v":0},0,null,{"$f":"IF(Simulador!$C$47=12,0,IF(A295/12=INT(A295/12),1,0))","v":1},null,{"$f":"IF(OR(O294+1>Simulador!$C$53,O294=0),0,O294+1)","v":0},0,0,0,{"$f":"IF($O295=0,0,(S294-R294)*((1+Simulador!$C$34)^(1/12)))","v":0},null,1,0,0,{"$f":"IF(O295=0,0,X$6/((1+Simulador!$C$34)^((O295-O$6)/12)))*(1+AA295)","v":0},0,null,{"$f":"IF(Simulador!$C$54=12,0,IF(O295/12=INT(O295/12),1,0))","v":0}]
[{"$f":"IF(OR(A295+1>Simulador!$C$46,A295=0),0,A295+1)","v":0},0,0,0,{"$f":"IF($A296=0,0,(E295-D295)*((1+Simulador!$C$34)^(1/12)))","v":0},null,1,0,0,{"$f":"IF(A296=0,0,J$6/((1+Simulador!$C$34)^((A296-A$6)/12)))*(1+M296)","v":0},0,null,{"$f":"IF(Simulador!$C$47=12,0,IF(A296/12=INT(A296/12),1,0))","v":1},null,{"$f":"IF(OR(O295+1>Simulador!$C$53,O295=0),0,O295+1)","v":0},0,0,0,{"$f":"IF($O296=0,0,(S295-R295)*((1+Simulador!$C$34)^(1/12)))","v":0},null,1,0,0,{"$f":"IF(O296=0,0,X$6/((1+Simulador!$C$34)^((O296-O$6)/12)))*(1+AA296)","v":0},0,null,{"$f":"IF(Simulador!$C$54=12,0,IF(O296/12=INT(O296/12),1,0))","v":0}]
[{"$f":"IF(OR(A296+1>Simulador!$C$46,A296=0),0,A296+1)","v":0},0,0,0,{"$f":"IF($A297=0,0,(E296-D296)*((1+Simulador!$C$34)^(1/12)))","v":0},null,1,0,0,{"$f":"IF(A297=0,0,J$6/((1+Simulador!$C$34)^((A297-A$6)/12)))*(1+M297)","v":0},0,null,{"$f":"IF(Simulador!$C$47=12,0,IF(A297/12=INT(A297/12),1,0))","v":1},null,{"$f":"IF(OR(O296+1>Simulador!$C$53,O296=0),0,O296+1)","v":0},0,0,0,{"$f":"IF($O297=0,0,(S296-R296)*((1+Simulador!$C$34)^(1/12)))","v":0},null,1,0,0,{"$f":"IF(O297=0,0,X$6/((1+Simulador!$C$34)^((O297-O$6)/12)))*(1+AA297)","v":0},0,null,{"$f":"IF(Simulador!$C$54=12,0,IF(O297/12=INT(O297/12),1,0))","v":0}]
[{"$f":"IF(OR(A297+1>Simulador!$C$46,A297=0),0,A297+1)","v":0},0,0,0,{"$f":"IF($A298=0,0,(E297-D297)*((1+Simulador!$C$34)^(1/12)))","v":0},null,1,0,0,{"$f":"IF(A298=0,0,J$6/((1+Simulador!$C$34)^((A298-A$6)/12)))*(1+M298)","v":0},0,null,{"$f":"IF(Simulador!$C$47=12,0,IF(A298/12=INT(A298/12),1,0))","v":1},null,{"$f":"IF(OR(O297+1>Simulador!$C$53,O297=0),0,O297+1)","v":0},0,0,0,{"$f":"IF($O298=0,0,(S297-R297)*((1+Simulador!$C$34)^(1/12)))","v":0},null,1,0,0,{"$f":"IF(O298=0,0,X$6/((1+Simulador!$C$34)^((O298-O$6)/12)))*(1+AA298)","v":0},0,null,{"$f":"IF(Simulador!$C$54=12,0,IF(O298/12=INT(O298/12),1,0))","v":0}]
[{"$f":"IF(OR(A298+1>Simulador!$C$46,A298=0),0,A298+1)","v":0},0,0,0,{"$f":"IF($A299=0,0,(E298-D298)*((1+Simulador!$C$34)^(1/12)))","v":0},null,1,0,0,{"$f":"IF(A299=0,0,J$6/((1+Simulador!$C$34)^((A299-A$6)/12)))*(1+M299)","v":0},0,null,{"$f":"IF(Simulador!$C$47=12,0,IF(A299/12=INT(A299/12),1,0))","v":1},null,{"$f":"IF(OR(O298+1>Simulador!$C$53,O298=0),0,O298+1)","v":0},0,0,0,{"$f":"IF($O299=0,0,(S298-R298)*((1+Simulador!$C$34)^(1/12)))","v":0},null,1,0,0,{"$f":"IF(O299=0,0,X$6/((1+Simulador!$C$34)^((O299-O$6)/12)))*(1+AA299)","v":0},0,null,{"$f":"IF(Simulador!$C$54=12,0,IF(O299/12=INT(O299/12),1,0))","v":0}]
[{"$f":"IF(OR(A299+1>Simulador!$C$46,A299=0),0,A299+1)","v":0},0,0,0,{"$f":"IF($A300=0,0,(E299-D299)*((1+Simulador!$C$34)^(1/12)))","v":0},null,1,0,0,{"$f":"IF(A300=0,0,J$6/((1+Simulador!$C$34)^((A300-A$6)/12)))*(1+M300)","v":0},0,null,{"$f":"IF(Simulador!$C$47=12,0,IF(A300/12=INT(A300/12),1,0))","v":1},null,{"$f":"IF(OR(O299+1>Simulador!$C$53,O299=0),0,O299+1)","v":0},0,0,0,{"$f":"IF($O300=0,0,(S299-R299)*((1+Simulador!$C$34)^(1/12)))","v":0},null,1,0,0,{"$f":"IF(O300=0,0,X$6/((1+Simulador!$C$34)^((O300-O$6)/12)))*(1+AA300)","v":0},0,null,{"$f":"IF(Simulador!$C$54=12,0,IF(O300/12=INT(O300/12),1,0))","v":0}]
[{"$f":"IF(OR(A300+1>Simulador!$C$46,A300=0),0,A300+1)","v":0},0,0,0,{"$f":"IF($A301=0,0,(E300-D300)*((1+Simulador!$C$34)^(1/12)))","v":0},null,1,0,0,{"$f":"IF(A301=0,0,J$6/((1+Simulador!$C$34)^((A301-A$6)/12)))*(1+M301)","v":0},0,null,{"$f":"IF(Simulador!$C$47=12,0,IF(A301/12=INT(A301/12),1,0))","v":1},null,{"$f":"IF(OR(O300+1>Simulador!$C$53,O300=0),0,O300+1)","v":0},0,0,0,{"$f":"IF($O301=0,0,(S300-R300)*((1+Simulador!$C$34)^(1/12)))","v":0},null,1,0,0,{"$f":"IF(O301=0,0,X$6/((1+Simulador!$C$34)^((O301-O$6)/12)))*(1+AA301)","v":0},0,null,{"$f":"IF(Simulador!$C$54=12,0,IF(O301/12=INT(O301/12),1,0))","v":0}]
[{"$f":"IF(OR(A301+1>Simulador!$C$46,A301=0),0,A301+1)","v":0},0,0,0,{"$f":"IF($A302=0,0,(E301-D301)*((1+Simulador!$C$34)^(1/12)))","v":0},null,1,0,0,{"$f":"IF(A302=0,0,J$6/((1+Simulador!$C$34)^((A302-A$6)/12)))*(1+M302)","v":0},0,null,{"$f":"IF(Simulador!$C$47=12,0,IF(A302/12=INT(A302/12),1,0))","v":1},null,{"$f":"IF(OR(O301+1>Simulador!$C$53,O301=0),0,O301+1)","v":0},0,0,0,{"$f":"IF($O302=0,0,(S301-R301)*((1+Simulador!$C$34)^(1/12)))","v":0},null,1,0,0,{"$f":"IF(O302=0,0,X$6/((1+Simulador!$C$34)^((O302-O$6)/12)))*(1+AA302)","v":0},0,null,{"$f":"IF(Simulador!$C$54=12,0,IF(O302/12=INT(O302/12),1,0))","v":0}]
[{"$f":"IF(OR(A302+1>Simulador!$C$46,A302=0),0,A302+1)","v":0},0,0,0,{"$f":"IF($A303=0,0,(E302-D302)*((1+Simulador!$C$34)^(1/12)))","v":0},null,1,0,0,{"$f":"IF(A303=0,0,J$6/((1+Simulador!$C$34)^((A303-A$6)/12)))*(1+M303)","v":0},0,null,{"$f":"IF(Simulador!$C$47=12,0,IF(A303/12=INT(A303/12),1,0))","v":1},null,{"$f":"IF(OR(O302+1>Simulador!$C$53,O302=0),0,O302+1)","v":0},0,0,0,{"$f":"IF($O303=0,0,(S302-R302)*((1+Simulador!$C$34)^(1/12)))","v":0},null,1,0,0,{"$f":"IF(O303=0,0,X$6/((1+Simulador!$C$34)^((O303-O$6)/12)))*(1+AA303)","v":0},0,null,{"$f":"IF(Simulador!$C$54=12,0,IF(O303/12=INT(O303/12),1,0))","v":0}]
[{"$f":"IF(OR(A303+1>Simulador!$C$46,A303=0),0,A303+1)","v":0},0,0,0,{"$f":"IF($A304=0,0,(E303-D303)*((1+Simulador!$C$34)^(1/12)))","v":0},null,1,0,0,{"$f":"IF(A304=0,0,J$6/((1+Simulador!$C$34)^((A304-A$6)/12)))*(1+M304)","v":0},0,null,{"$f":"IF(Simulador!$C$47=12,0,IF(A304/12=INT(A304/12),1,0))","v":1},null,{"$f":"IF(OR(O303+1>Simulador!$C$53,O303=0),0,O303+1)","v":0},0,0,0,{"$f":"IF($O304=0,0,(S303-R303)*((1+Simulador!$C$34)^(1/12)))","v":0},null,1,0,0,{"$f":"IF(O304=0,0,X$6/((1+Simulador!$C$34)^((O304-O$6)/12)))*(1+AA304)","v":0},0,null,{"$f":"IF(Simulador!$C$54=12,0,IF(O304/12=INT(O304/12),1,0))","v":0}]
[{"$f":"IF(OR(A304+1>Simulador!$C$46,A304=0),0,A304+1)","v":0},0,0,0,{"$f":"IF($A305=0,0,(E304-D304)*((1+Simulador!$C$34)^(1/12)))","v":0},null,1,0,0,{"$f":"IF(A305=0,0,J$6/((1+Simulador!$C$34)^((A305-A$6)/12)))*(1+M305)","v":0},0,null,{"$f":"IF(Simulador!$C$47=12,0,IF(A305/12=INT(A305/12),1,0))","v":1},null,{"$f":"IF(OR(O304+1>Simulador!$C$53,O304=0),0,O304+1)","v":0},0,0,0,{"$f":"IF($O305=0,0,(S304-R304)*((1+Simulador!$C$34)^(1/12)))","v":0},null,1,0,0,{"$f":"IF(O305=0,0,X$6/((1+Simulador!$C$34)^((O305-O$6)/12)))*(1+AA305)","v":0},0,null,{"$f":"IF(Simulador!$C$54=12,0,IF(O305/12=INT(O305/12),1,0))","v":0}]
[{"$f":"IF(OR(A305+1>Simulador!$C$46,A305=0),0,A305+1)","v":0},0,0,0,{"$f":"IF($A306=0,0,(E305-D305)*((1+Simulador!$C$34)^(1/12)))","v":0},null,1,0,0,{"$f":"IF(A306=0,0,J$6/((1+Simulador!$C$34)^((A306-A$6)/12)))*(1+M306)","v":0},0,null,{"$f":"IF(Simulador!$C$47=12,0,IF(A306/12=INT(A306/12),1,0))","v":1},null,{"$f":"IF(OR(O305+1>Simulador!$C$53,O305=0),0,O305+1)","v":0},0,0,0,{"$f":"IF($O306=0,0,(S305-R305)*((1+Simulador!$C$34)^(1/12)))","v":0},null,1,0,0,{"$f":"IF(O306=0,0,X$6/((1+Simulador!$C$34)^((O306-O$6)/12)))*(1+AA306)","v":0},0,null,{"$f":"IF(Simulador!$C$54=12,0,IF(O306/12=INT(O306/12),1,0))","v":0}]
[{"$f":"IF(OR(A306+1>Simulador!$C$46,A306=0),0,A306+1)","v":0},0,0,0,{"$f":"IF($A307=0,0,(E306-D306)*((1+Simulador!$C$34)^(1/12)))","v":0},null,1,0,0,{"$f":"IF(A307=0,0,J$6/((1+Simulador!$C$34)^((A307-A$6)/12)))*(1+M307)","v":0},0,null,{"$f":"IF(Simulador!$C$47=12,0,IF(A307/12=INT(A307/12),1,0))","v":1},null,{"$f":"IF(OR(O306+1>Simulador!$C$53,O306=0),0,O306+1)","v":0},0,0,0,{"$f":"IF($O307=0,0,(S306-R306)*((1+Simulador!$C$34)^(1/12)))","v":0},null,1,0,0,{"$f":"IF(O307=0,0,X$6/((1+Simulador!$C$34)^((O307-O$6)/12)))*(1+AA307)","v":0},0,null,{"$f":"IF(Simulador!$C$54=12,0,IF(O307/12=INT(O307/12),1,0))","v":0}]
[{"$f":"IF(OR(A307+1>Simulador!$C$46,A307=0),0,A307+1)","v":0},0,0,0,{"$f":"IF($A308=0,0,(E307-D307)*((1+Simulador!$C$34)^(1/12)))","v":0},null,1,0,0,{"$f":"IF(A308=0,0,J$6/((1+Simulador!$C$34)^((A308-A$6)/12)))*(1+M308)","v":0},0,null,{"$f":"IF(Simulador!$C$47=12,0,IF(A308/12=INT(A308/12),1,0))","v":1},null,{"$f":"IF(OR(O307+1>Simulador!$C$53,O307=0),0,O307+1)","v":0},0,0,0,{"$f":"IF($O308=0,0,(S307-R307)*((1+Simulador!$C$34)^(1/12)))","v":0},null,1,0,0,{"$f":"IF(O308=0,0,X$6/((1+Simulador!$C$34)^((O308-O$6)/12)))*(1+AA308)","v":0},0,null,{"$f":"IF(Simulador!$C$54=12,0,IF(O308/12=INT(O308/12),1,0))","v":0}]
[{"$f":"IF(OR(A308+1>Simulador!$C$46,A308=0),0,A308+1)","v":0},0,0,0,{"$f":"IF($A309=0,0,(E308-D308)*((1+Simulador!$C$34)^(1/12)))","v":0},null,1,0,0,{"$f":"IF(A309=0,0,J$6/((1+Simulador!$C$34)^((A309-A$6)/12)))*(1+M309)","v":0},0,null,{"$f":"IF(Simulador!$C$47=12,0,IF(A309/12=INT(A309/12),1,0))","v":1},null,{"$f":"IF(OR(O308+1>Simulador!$C$53,O308=0),0,O308+1)","v":0},0,0,0,{"$f":"IF($O309=0,0,(S308-R308)*((1+Simulador!$C$34)^(1/12)))","v":0},null,1,0,0,{"$f":"IF(O309=0,0,X$6/((1+Simulador!$C$34)^((O309-O$6)/12)))*(1+AA309)","v":0},0,null,{"$f":"IF(Simulador!$C$54=12,0,IF(O309/12=INT(O309/12),1,0))","v":0}]
[{"$f":"IF(OR(A309+1>Simulador!$C$46,A309=0),0,A309+1)","v":0},0,0,0,{"$f":"IF($A310=0,0,(E309-D309)*((1+Simulador!$C$34)^(1/12)))","v":0},null,1,0,0,{"$f":"IF(A310=0,0,J$6/((1+Simulador!$C$34)^((A310-A$6)/12)))*(1+M310)","v":0},0,null,{"$f":"IF(Simulador!$C$47=12,0,IF(A310/12=INT(A310/12),1,0))","v":1},null,{"$f":"IF(OR(O309+1>Simulador!$C$53,O309=0),0,O309+1)","v":0},0,0,0,{"$f":"IF($O310=0,0,(S309-R309)*((1+Simulador!$C$34)^(1/12)))","v":0},null,1,0,0,{"$f":"IF(O310=0,0,X$6/((1+Simulador!$C$34)^((O310-O$6)/12)))*(1+AA310)","v":0},0,null,{"$f":"IF(Simulador!$C$54=12,0,IF(O310/12=INT(O310/12),1,0))","v":0}]
[{"$f":"IF(OR(A310+1>Simulador!$C$46,A310=0),0,A310+1)","v":0},0,0,0,{"$f":"IF($A311=0,0,(E310-D310)*((1+Simulador!$C$34)^(1/12)))","v":0},null,1,0,0,{"$f":"IF(A311=0,0,J$6/((1+Simulador!$C$34)^((A311-A$6)/12)))*(1+M311)","v":0},0,null,{"$f":"IF(Simulador!$C$47=12,0,IF(A311/12=INT(A311/12),1,0))","v":1},null,{"$f":"IF(OR(O310+1>Simulador!$C$53,O310=0),0,O310+1)","v":0},0,0,0,{"$f":"IF($O311=0,0,(S310-R310)*((1+Simulador!$C$34)^(1/12)))","v":0},null,1,0,0,{"$f":"IF(O311=0,0,X$6/((1+Simulador!$C$34)^((O311-O$6)/12)))*(1+AA311)","v":0},0,null,{"$f":"IF(Simulador!$C$54=12,0,IF(O311/12=INT(O311/12),1,0))","v":0}]
[{"$f":"IF(OR(A311+1>Simulador!$C$46,A311=0),0,A311+1)","v":0},0,0,0,{"$f":"IF($A312=0,0,(E311-D311)*((1+Simulador!$C$34)^(1/12)))","v":0},null,1,0,0,{"$f":"IF(A312=0,0,J$6/((1+Simulador!$C$34)^((A312-A$6)/12)))*(1+M312)","v":0},0,null,{"$f":"IF(Simulador!$C$47=12,0,IF(A312/12=INT(A312/12),1,0))","v":1},null,{"$f":"IF(OR(O311+1>Simulador!$C$53,O311=0),0,O311+1)","v":0},0,0,0,{"$f":"IF($O312=0,0,(S311-R311)*((1+Simulador!$C$34)^(1/12)))","v":0},null,1,0,0,{"$f":"IF(O312=0,0,X$6/((1+Simulador!$C$34)^((O312-O$6)/12)))*(1+AA312)","v":0},0,null,{"$f":"IF(Simulador!$C$54=12,0,IF(O312/12=INT(O312/12),1,0))","v":0}]
[{"$f":"IF(OR(A312+1>Simulador!$C$46,A312=0),0,A312+1)","v":0},0,0,0,{"$f":"IF($A313=0,0,(E312-D312)*((1+Simulador!$C$34)^(1/12)))","v":0},null,1,0,0,{"$f":"IF(A313=0,0,J$6/((1+Simulador!$C$34)^((A313-A$6)/12)))*(1+M313)","v":0},0,null,{"$f":"IF(Simulador!$C$47=12,0,IF(A313/12=INT(A313/12),1,0))","v":1},null,{"$f":"IF(OR(O312+1>Simulador!$C$53,O312=0),0,O312+1)","v":0},0,0,0,{"$f":"IF($O313=0,0,(S312-R312)*((1+Simulador!$C$34)^(1/12)))","v":0},null,1,0,0,{"$f":"IF(O313=0,0,X$6/((1+Simulador!$C$34)^((O313-O$6)/12)))*(1+AA313)","v":0},0,null,{"$f":"IF(Simulador!$C$54=12,0,IF(O313/12=INT(O313/12),1,0))","v":0}]
[{"$f":"IF(OR(A313+1>Simulador!$C$46,A313=0),0,A313+1)","v":0},0,0,0,{"$f":"IF($A314=0,0,(E313-D313)*((1+Simulador!$C$34)^(1/12)))","v":0},null,1,0,0,{"$f":"IF(A314=0,0,J$6/((1+Simulador!$C$34)^((A314-A$6)/12)))*(1+M314)","v":0},0,null,{"$f":"IF(Simulador!$C$47=12,0,IF(A314/12=INT(A314/12),1,0))","v":1},null,{"$f":"IF(OR(O313+1>Simulador!$C$53,O313=0),0,O313+1)","v":0},0,0,0,{"$f":"IF($O314=0,0,(S313-R313)*((1+Simulador!$C$34)^(1/12)))","v":0},null,1,0,0,{"$f":"IF(O314=0,0,X$6/((1+Simulador!$C$34)^((O314-O$6)/12)))*(1+AA314)","v":0},0,null,{"$f":"IF(Simulador!$C$54=12,0,IF(O314/12=INT(O314/12),1,0))","v":0}]
[{"$f":"IF(OR(A314+1>Simulador!$C$46,A314=0),0,A314+1)","v":0},0,0,0,{"$f":"IF($A315=0,0,(E314-D314)*((1+Simulador!$C$34)^(1/12)))","v":0},null,1,0,0,{"$f":"IF(A315=0,0,J$6/((1+Simulador!$C$34)^((A315-A$6)/12)))*(1+M315)","v":0},0,null,{"$f":"IF(Simulador!$C$47=12,0,IF(A315/12=INT(A315/12),1,0))","v":1},null,{"$f":"IF(OR(O314+1>Simulador!$C$53,O314=0),0,O314+1)","v":0},0,0,0,{"$f":"IF($O315=0,0,(S314-R314)*((1+Simulador!$C$34)^(1/12)))","v":0},null,1,0,0,{"$f":"IF(O315=0,0,X$6/((1+Simulador!$C$34)^((O315-O$6)/12)))*(1+AA315)","v":0},0,null,{"$f":"IF(Simulador!$C$54=12,0,IF(O315/12=INT(O315/12),1,0))","v":0}]
[{"$f":"IF(OR(A315+1>Simulador!$C$46,A315=0),0,A315+1)","v":0},0,0,0,{"$f":"IF($A316=0,0,(E315-D315)*((1+Simulador!$C$34)^(1/12)))","v":0},null,1,0,0,{"$f":"IF(A316=0,0,J$6/((1+Simulador!$C$34)^((A316-A$6)/12)))*(1+M316)","v":0},0,null,{"$f":"IF(Simulador!$C$47=12,0,IF(A316/12=INT(A316/12),1,0))","v":1},null,{"$f":"IF(OR(O315+1>Simulador!$C$53,O315=0),0,O315+1)","v":0},0,0,0,{"$f":"IF($O316=0,0,(S315-R315)*((1+Simulador!$C$34)^(1/12)))","v":0},null,1,0,0,{"$f":"IF(O316=0,0,X$6/((1+Simulador!$C$34)^((O316-O$6)/12)))*(1+AA316)","v":0},0,null,{"$f":"IF(Simulador!$C$54=12,0,IF(O316/12=INT(O316/12),1,0))","v":0}]
[{"$f":"IF(OR(A316+1>Simulador!$C$46,A316=0),0,A316+1)","v":0},0,0,0,{"$f":"IF($A317=0,0,(E316-D316)*((1+Simulador!$C$34)^(1/12)))","v":0},null,1,0,0,{"$f":"IF(A317=0,0,J$6/((1+Simulador!$C$34)^((A317-A$6)/12)))*(1+M317)","v":0},0,null,{"$f":"IF(Simulador!$C$47=12,0,IF(A317/12=INT(A317/12),1,0))","v":1},null,{"$f":"IF(OR(O316+1>Simulador!$C$53,O316=0),0,O316+1)","v":0},0,0,0,{"$f":"IF($O317=0,0,(S316-R316)*((1+Simulador!$C$34)^(1/12)))","v":0},null,1,0,0,{"$f":"IF(O317=0,0,X$6/((1+Simulador!$C$34)^((O317-O$6)/12)))*(1+AA317)","v":0},0,null,{"$f":"IF(Simulador!$C$54=12,0,IF(O317/12=INT(O317/12),1,0))","v":0}]
[{"$f":"IF(OR(A317+1>Simulador!$C$46,A317=0),0,A317+1)","v":0},0,0,0,{"$f":"IF($A318=0,0,(E317-D317)*((1+Simulador!$C$34)^(1/12)))","v":0},null,1,0,0,{"$f":"IF(A318=0,0,J$6/((1+Simulador!$C$34)^((A318-A$6)/12)))*(1+M318)","v":0},0,null,{"$f":"IF(Simulador!$C$47=12,0,IF(A318/12=INT(A318/12),1,0))","v":1},null,{"$f":"IF(OR(O317+1>Simulador!$C$53,O317=0),0,O317+1)","v":0},0,0,0,{"$f":"IF($O318=0,0,(S317-R317)*((1+Simulador!$C$34)^(1/12)))","v":0},null,1,0,0,{"$f":"IF(O318=0,0,X$6/((1+Simulador!$C$34)^((O318-O$6)/12)))*(1+AA318)","v":0},0,null,{"$f":"IF(Simulador!$C$54=12,0,IF(O318/12=INT(O318/12),1,0))","v":0}]
[{"$f":"IF(OR(A318+1>Simulador!$C$46,A318=0),0,A318+1)","v":0},0,0,0,{"$f":"IF($A319=0,0,(E318-D318)*((1+Simulador!$C$34)^(1/12)))","v":0},null,1,0,0,{"$f":"IF(A319=0,0,J$6/((1+Simulador!$C$34)^((A319-A$6)/12)))*(1+M319)","v":0},0,null,{"$f":"IF(Simulador!$C$47=12,0,IF(A319/12=INT(A319/12),1,0))","v":1},null,{"$f":"IF(OR(O318+1>Simulador!$C$53,O318=0),0,O318+1)","v":0},0,0,0,{"$f":"IF($O319=0,0,(S318-R318)*((1+Simulador!$C$34)^(1/12)))","v":0},null,1,0,0,{"$f":"IF(O319=0,0,X$6/((1+Simulador!$C$34)^((O319-O$6)/12)))*(1+AA319)","v":0},0,null,{"$f":"IF(Simulador!$C$54=12,0,IF(O319/12=INT(O319/12),1,0))","v":0}]
[{"$f":"IF(OR(A319+1>Simulador!$C$46,A319=0),0,A319+1)","v":0},0,0,0,{"$f":"IF($A320=0,0,(E319-D319)*((1+Simulador!$C$34)^(1/12)))","v":0},null,1,0,0,{"$f":"IF(A320=0,0,J$6/((1+Simulador!$C$34)^((A320-A$6)/12)))*(1+M320)","v":0},0,null,{"$f":"IF(Simulador!$C$47=12,0,IF(A320/12=INT(A320/12),1,0))","v":1},null,{"$f":"IF(OR(O319+1>Simulador!$C$53,O319=0),0,O319+1)","v":0},0,0,0,{"$f":"IF($O320=0,0,(S319-R319)*((1+Simulador!$C$34)^(1/12)))","v":0},null,1,0,0,{"$f":"IF(O320=0,0,X$6/((1+Simulador!$C$34)^((O320-O$6)/12)))*(1+AA320)","v":0},0,null,{"$f":"IF(Simulador!$C$54=12,0,IF(O320/12=INT(O320/12),1,0))","v":0}]
[{"$f":"IF(OR(A320+1>Simulador!$C$46,A320=0),0,A320+1)","v":0},0,0,0,{"$f":"IF($A321=0,0,(E320-D320)*((1+Simulador!$C$34)^(1/12)))","v":0},null,1,0,0,{"$f":"IF(A321=0,0,J$6/((1+Simulador!$C$34)^((A321-A$6)/12)))*(1+M321)","v":0},0,null,{"$f":"IF(Simulador!$C$47=12,0,IF(A321/12=INT(A321/12),1,0))","v":1},null,{"$f":"IF(OR(O320+1>Simulador!$C$53,O320=0),0,O320+1)","v":0},0,0,0,{"$f":"IF($O321=0,0,(S320-R320)*((1+Simulador!$C$34)^(1/12)))","v":0},null,1,0,0,{"$f":"IF(O321=0,0,X$6/((1+Simulador!$C$34)^((O321-O$6)/12)))*(1+AA321)","v":0},0,null,{"$f":"IF(Simulador!$C$54=12,0,IF(O321/12=INT(O321/12),1,0))","v":0}]
[{"$f":"IF(OR(A321+1>Simulador!$C$46,A321=0),0,A321+1)","v":0},0,0,0,{"$f":"IF($A322=0,0,(E321-D321)*((1+Simulador!$C$34)^(1/12)))","v":0},null,1,0,0,{"$f":"IF(A322=0,0,J$6/((1+Simulador!$C$34)^((A322-A$6)/12)))*(1+M322)","v":0},0,null,{"$f":"IF(Simulador!$C$47=12,0,IF(A322/12=INT(A322/12),1,0))","v":1},null,{"$f":"IF(OR(O321+1>Simulador!$C$53,O321=0),0,O321+1)","v":0},0,0,0,{"$f":"IF($O322=0,0,(S321-R321)*((1+Simulador!$C$34)^(1/12)))","v":0},null,1,0,0,{"$f":"IF(O322=0,0,X$6/((1+Simulador!$C$34)^((O322-O$6)/12)))*(1+AA322)","v":0},0,null,{"$f":"IF(Simulador!$C$54=12,0,IF(O322/12=INT(O322/12),1,0))","v":0}]
[{"$f":"IF(OR(A322+1>Simulador!$C$46,A322=0),0,A322+1)","v":0},0,0,0,{"$f":"IF($A323=0,0,(E322-D322)*((1+Simulador!$C$34)^(1/12)))","v":0},null,1,0,0,{"$f":"IF(A323=0,0,J$6/((1+Simulador!$C$34)^((A323-A$6)/12)))*(1+M323)","v":0},0,null,{"$f":"IF(Simulador!$C$47=12,0,IF(A323/12=INT(A323/12),1,0))","v":1},null,{"$f":"IF(OR(O322+1>Simulador!$C$53,O322=0),0,O322+1)","v":0},0,0,0,{"$f":"IF($O323=0,0,(S322-R322)*((1+Simulador!$C$34)^(1/12)))","v":0},null,1,0,0,{"$f":"IF(O323=0,0,X$6/((1+Simulador!$C$34)^((O323-O$6)/12)))*(1+AA323)","v":0},0,null,{"$f":"IF(Simulador!$C$54=12,0,IF(O323/12=INT(O323/12),1,0))","v":0}]
[{"$f":"IF(OR(A323+1>Simulador!$C$46,A323=0),0,A323+1)","v":0},0,0,0,{"$f":"IF($A324=0,0,(E323-D323)*((1+Simulador!$C$34)^(1/12)))","v":0},null,1,0,0,{"$f":"IF(A324=0,0,J$6/((1+Simulador!$C$34)^((A324-A$6)/12)))*(1+M324)","v":0},0,null,{"$f":"IF(Simulador!$C$47=12,0,IF(A324/12=INT(A324/12),1,0))","v":1},null,{"$f":"IF(OR(O323+1>Simulador!$C$53,O323=0),0,O323+1)","v":0},0,0,0,{"$f":"IF($O324=0,0,(S323-R323)*((1+Simulador!$C$34)^(1/12)))","v":0},null,1,0,0,{"$f":"IF(O324=0,0,X$6/((1+Simulador!$C$34)^((O324-O$6)/12)))*(1+AA324)","v":0},0,null,{"$f":"IF(Simulador!$C$54=12,0,IF(O324/12=INT(O324/12),1,0))","v":0}]
[{"$f":"IF(OR(A324+1>Simulador!$C$46,A324=0),0,A324+1)","v":0},0,0,0,{"$f":"IF($A325=0,0,(E324-D324)*((1+Simulador!$C$34)^(1/12)))","v":0},null,1,0,0,{"$f":"IF(A325=0,0,J$6/((1+Simulador!$C$34)^((A325-A$6)/12)))*(1+M325)","v":0},0,null,{"$f":"IF(Simulador!$C$47=12,0,IF(A325/12=INT(A325/12),1,0))","v":1},null,{"$f":"IF(OR(O324+1>Simulador!$C$53,O324=0),0,O324+1)","v":0},0,0,0,{"$f":"IF($O325=0,0,(S324-R324)*((1+Simulador!$C$34)^(1/12)))","v":0},null,1,0,0,{"$f":"IF(O325=0,0,X$6/((1+Simulador!$C$34)^((O325-O$6)/12)))*(1+AA325)","v":0},0,null,{"$f":"IF(Simulador!$C$54=12,0,IF(O325/12=INT(O325/12),1,0))","v":0}]
[{"$f":"IF(OR(A325+1>Simulador!$C$46,A325=0),0,A325+1)","v":0},0,0,0,{"$f":"IF($A326=0,0,(E325-D325)*((1+Simulador!$C$34)^(1/12)))","v":0},null,1,0,0,{"$f":"IF(A326=0,0,J$6/((1+Simulador!$C$34)^((A326-A$6)/12)))*(1+M326)","v":0},0,null,{"$f":"IF(Simulador!$C$47=12,0,IF(A326/12=INT(A326/12),1,0))","v":1},null,{"$f":"IF(OR(O325+1>Simulador!$C$53,O325=0),0,O325+1)","v":0},0,0,0,{"$f":"IF($O326=0,0,(S325-R325)*((1+Simulador!$C$34)^(1/12)))","v":0},null,1,0,0,{"$f":"IF(O326=0,0,X$6/((1+Simulador!$C$34)^((O326-O$6)/12)))*(1+AA326)","v":0},0,null,{"$f":"IF(Simulador!$C$54=12,0,IF(O326/12=INT(O326/12),1,0))","v":0}]
[{"$f":"IF(OR(A326+1>Simulador!$C$46,A326=0),0,A326+1)","v":0},{"$f":"IF($A327=0,0,G327*H327)","v":0},{"$f":"IF($A327=0,0,G327*I327)","v":0},{"$f":"IF($A327=0,0,G327*J327)","v":0},{"$f":"IF($A327=0,0,(E326-D326)*((1+Simulador!$C$34)^(1/12)))","v":0},null,{"$f":"G326*((1+$I$2)^(1/12))","v":1},{"$f":"IF($A327=0,0,$H$6)*(1+M327)","v":0},{"$f":"IF($A327=0,0,I326-H326)","v":0},{"$f":"IF(A327=0,0,J$6/((1+Simulador!$C$34)^((A327-A$6)/12)))*(1+M327)","v":0},{"$f":"IF($A327=0,0,K326-J326)","v":0},null,{"$f":"IF(Simulador!$C$47=12,0,IF(A327/12=INT(A327/12),1,0))","v":1},null,{"$f":"IF(OR(O326+1>Simulador!$C$53,O326=0),0,O326+1)","v":0},{"$f":"IF($A327=0,0,U327*V327)","v":0},{"$f":"IF($O327=0,0,U327*W327)","v":0},{"$f":"IF($A327=0,0,U327*X327)","v":0},{"$f":"IF($O327=0,0,(S326-R326)*((1+Simulador!$C$34)^(1/12)))","v":0},null,{"$f":"U326*((1+$I$2)^(1/12))","v":1},{"$f":"IF($O327=0,0,$V$6)*(1+AA327)","v":0},{"$f":"IF($O327=0,0,W326-V326)","v":0},{"$f":"IF(O327=0,0,X$6/((1+Simulador!$C$34)^((O327-O$6)/12)))*(1+AA327)","v":0},{"$f":"IF($O327=0,0,Y326-X326)","v":0},null,{"$f":"IF(Simulador!$C$54=12,0,IF(O327/12=INT(O327/12),1,0))","v":0}]
[{"$f":"IF(OR(A327+1>Simulador!$C$46,A327=0),0,A327+1)","v":0},0,0,0,{"$f":"IF($A328=0,0,(E327-D327)*((1+Simulador!$C$34)^(1/12)))","v":0},null,1,0,0,{"$f":"IF(A328=0,0,J$6/((1+Simulador!$C$34)^((A328-A$6)/12)))*(1+M328)","v":0},0,null,{"$f":"IF(Simulador!$C$47=12,0,IF(A328/12=INT(A328/12),1,0))","v":1},null,{"$f":"IF(OR(O327+1>Simulador!$C$53,O327=0),0,O327+1)","v":0},0,0,0,{"$f":"IF($O328=0,0,(S327-R327)*((1+Simulador!$C$34)^(1/12)))","v":0},null,1,0,0,{"$f":"IF(O328=0,0,X$6/((1+Simulador!$C$34)^((O328-O$6)/12)))*(1+AA328)","v":0},0,null,{"$f":"IF(Simulador!$C$54=12,0,IF(O328/12=INT(O328/12),1,0))","v":0}]
[{"$f":"IF(OR(A328+1>Simulador!$C$46,A328=0),0,A328+1)","v":0},0,0,0,{"$f":"IF($A329=0,0,(E328-D328)*((1+Simulador!$C$34)^(1/12)))","v":0},null,1,0,0,{"$f":"IF(A329=0,0,J$6/((1+Simulador!$C$34)^((A329-A$6)/12)))*(1+M329)","v":0},0,null,{"$f":"IF(Simulador!$C$47=12,0,IF(A329/12=INT(A329/12),1,0))","v":1},null,{"$f":"IF(OR(O328+1>Simulador!$C$53,O328=0),0,O328+1)","v":0},0,0,0,{"$f":"IF($O329=0,0,(S328-R328)*((1+Simulador!$C$34)^(1/12)))","v":0},null,1,0,0,{"$f":"IF(O329=0,0,X$6/((1+Simulador!$C$34)^((O329-O$6)/12)))*(1+AA329)","v":0},0,null,{"$f":"IF(Simulador!$C$54=12,0,IF(O329/12=INT(O329/12),1,0))","v":0}]
[{"$f":"IF(OR(A329+1>Simulador!$C$46,A329=0),0,A329+1)","v":0},0,0,0,{"$f":"IF($A330=0,0,(E329-D329)*((1+Simulador!$C$34)^(1/12)))","v":0},null,1,0,0,{"$f":"IF(A330=0,0,J$6/((1+Simulador!$C$34)^((A330-A$6)/12)))*(1+M330)","v":0},0,null,{"$f":"IF(Simulador!$C$47=12,0,IF(A330/12=INT(A330/12),1,0))","v":1},null,{"$f":"IF(OR(O329+1>Simulador!$C$53,O329=0),0,O329+1)","v":0},0,0,0,{"$f":"IF($O330=0,0,(S329-R329)*((1+Simulador!$C$34)^(1/12)))","v":0},null,1,0,0,{"$f":"IF(O330=0,0,X$6/((1+Simulador!$C$34)^((O330-O$6)/12)))*(1+AA330)","v":0},0,null,{"$f":"IF(Simulador!$C$54=12,0,IF(O330/12=INT(O330/12),1,0))","v":0}]
[{"$f":"IF(OR(A330+1>Simulador!$C$46,A330=0),0,A330+1)","v":0},0,0,0,{"$f":"IF($A331=0,0,(E330-D330)*((1+Simulador!$C$34)^(1/12)))","v":0},null,1,0,0,{"$f":"IF(A331=0,0,J$6/((1+Simulador!$C$34)^((A331-A$6)/12)))*(1+M331)","v":0},0,null,{"$f":"IF(Simulador!$C$47=12,0,IF(A331/12=INT(A331/12),1,0))","v":1},null,{"$f":"IF(OR(O330+1>Simulador!$C$53,O330=0),0,O330+1)","v":0},0,0,0,{"$f":"IF($O331=0,0,(S330-R330)*((1+Simulador!$C$34)^(1/12)))","v":0},null,1,0,0,{"$f":"IF(O331=0,0,X$6/((1+Simulador!$C$34)^((O331-O$6)/12)))*(1+AA331)","v":0},0,null,{"$f":"IF(Simulador!$C$54=12,0,IF(O331/12=INT(O331/12),1,0))","v":0}]
[{"$f":"IF(OR(A331+1>Simulador!$C$46,A331=0),0,A331+1)","v":0},0,0,0,{"$f":"IF($A332=0,0,(E331-D331)*((1+Simulador!$C$34)^(1/12)))","v":0},null,1,0,0,{"$f":"IF(A332=0,0,J$6/((1+Simulador!$C$34)^((A332-A$6)/12)))*(1+M332)","v":0},0,null,{"$f":"IF(Simulador!$C$47=12,0,IF(A332/12=INT(A332/12),1,0))","v":1},null,{"$f":"IF(OR(O331+1>Simulador!$C$53,O331=0),0,O331+1)","v":0},0,0,0,{"$f":"IF($O332=0,0,(S331-R331)*((1+Simulador!$C$34)^(1/12)))","v":0},null,1,0,0,{"$f":"IF(O332=0,0,X$6/((1+Simulador!$C$34)^((O332-O$6)/12)))*(1+AA332)","v":0},0,null,{"$f":"IF(Simulador!$C$54=12,0,IF(O332/12=INT(O332/12),1,0))","v":0}]
[{"$f":"IF(OR(A332+1>Simulador!$C$46,A332=0),0,A332+1)","v":0},0,0,0,{"$f":"IF($A333=0,0,(E332-D332)*((1+Simulador!$C$34)^(1/12)))","v":0},null,1,0,0,{"$f":"IF(A333=0,0,J$6/((1+Simulador!$C$34)^((A333-A$6)/12)))*(1+M333)","v":0},0,null,{"$f":"IF(Simulador!$C$47=12,0,IF(A333/12=INT(A333/12),1,0))","v":1},null,{"$f":"IF(OR(O332+1>Simulador!$C$53,O332=0),0,O332+1)","v":0},0,0,0,{"$f":"IF($O333=0,0,(S332-R332)*((1+Simulador!$C$34)^(1/12)))","v":0},null,1,0,0,{"$f":"IF(O333=0,0,X$6/((1+Simulador!$C$34)^((O333-O$6)/12)))*(1+AA333)","v":0},0,null,{"$f":"IF(Simulador!$C$54=12,0,IF(O333/12=INT(O333/12),1,0))","v":0}]
[{"$f":"IF(OR(A333+1>Simulador!$C$46,A333=0),0,A333+1)","v":0},0,0,0,{"$f":"IF($A334=0,0,(E333-D333)*((1+Simulador!$C$34)^(1/12)))","v":0},null,1,0,0,{"$f":"IF(A334=0,0,J$6/((1+Simulador!$C$34)^((A334-A$6)/12)))*(1+M334)","v":0},0,null,{"$f":"IF(Simulador!$C$47=12,0,IF(A334/12=INT(A334/12),1,0))","v":1},null,{"$f":"IF(OR(O333+1>Simulador!$C$53,O333=0),0,O333+1)","v":0},0,0,0,{"$f":"IF($O334=0,0,(S333-R333)*((1+Simulador!$C$34)^(1/12)))","v":0},null,1,0,0,{"$f":"IF(O334=0,0,X$6/((1+Simulador!$C$34)^((O334-O$6)/12)))*(1+AA334)","v":0},0,null,{"$f":"IF(Simulador!$C$54=12,0,IF(O334/12=INT(O334/12),1,0))","v":0}]
[{"$f":"IF(OR(A334+1>Simulador!$C$46,A334=0),0,A334+1)","v":0},0,0,0,{"$f":"IF($A335=0,0,(E334-D334)*((1+Simulador!$C$34)^(1/12)))","v":0},null,1,0,0,{"$f":"IF(A335=0,0,J$6/((1+Simulador!$C$34)^((A335-A$6)/12)))*(1+M335)","v":0},0,null,{"$f":"IF(Simulador!$C$47=12,0,IF(A335/12=INT(A335/12),1,0))","v":1},null,{"$f":"IF(OR(O334+1>Simulador!$C$53,O334=0),0,O334+1)","v":0},0,0,0,{"$f":"IF($O335=0,0,(S334-R334)*((1+Simulador!$C$34)^(1/12)))","v":0},null,1,0,0,{"$f":"IF(O335=0,0,X$6/((1+Simulador!$C$34)^((O335-O$6)/12)))*(1+AA335)","v":0},0,null,{"$f":"IF(Simulador!$C$54=12,0,IF(O335/12=INT(O335/12),1,0))","v":0}]
[{"$f":"IF(OR(A335+1>Simulador!$C$46,A335=0),0,A335+1)","v":0},0,0,0,{"$f":"IF($A336=0,0,(E335-D335)*((1+Simulador!$C$34)^(1/12)))","v":0},null,1,0,0,{"$f":"IF(A336=0,0,J$6/((1+Simulador!$C$34)^((A336-A$6)/12)))*(1+M336)","v":0},0,null,{"$f":"IF(Simulador!$C$47=12,0,IF(A336/12=INT(A336/12),1,0))","v":1},null,{"$f":"IF(OR(O335+1>Simulador!$C$53,O335=0),0,O335+1)","v":0},0,0,0,{"$f":"IF($O336=0,0,(S335-R335)*((1+Simulador!$C$34)^(1/12)))","v":0},null,1,0,0,{"$f":"IF(O336=0,0,X$6/((1+Simulador!$C$34)^((O336-O$6)/12)))*(1+AA336)","v":0},0,null,{"$f":"IF(Simulador!$C$54=12,0,IF(O336/12=INT(O336/12),1,0))","v":0}]
[{"$f":"IF(OR(A336+1>Simulador!$C$46,A336=0),0,A336+1)","v":0},0,0,0,{"$f":"IF($A337=0,0,(E336-D336)*((1+Simulador!$C$34)^(1/12)))","v":0},null,1,0,0,{"$f":"IF(A337=0,0,J$6/((1+Simulador!$C$34)^((A337-A$6)/12)))*(1+M337)","v":0},0,null,{"$f":"IF(Simulador!$C$47=12,0,IF(A337/12=INT(A337/12),1,0))","v":1},null,{"$f":"IF(OR(O336+1>Simulador!$C$53,O336=0),0,O336+1)","v":0},0,0,0,{"$f":"IF($O337=0,0,(S336-R336)*((1+Simulador!$C$34)^(1/12)))","v":0},null,1,0,0,{"$f":"IF(O337=0,0,X$6/((1+Simulador!$C$34)^((O337-O$6)/12)))*(1+AA337)","v":0},0,null,{"$f":"IF(Simulador!$C$54=12,0,IF(O337/12=INT(O337/12),1,0))","v":0}]
[{"$f":"IF(OR(A337+1>Simulador!$C$46,A337=0),0,A337+1)","v":0},0,0,0,{"$f":"IF($A338=0,0,(E337-D337)*((1+Simulador!$C$34)^(1/12)))","v":0},null,1,0,0,{"$f":"IF(A338=0,0,J$6/((1+Simulador!$C$34)^((A338-A$6)/12)))*(1+M338)","v":0},0,null,{"$f":"IF(Simulador!$C$47=12,0,IF(A338/12=INT(A338/12),1,0))","v":1},null,{"$f":"IF(OR(O337+1>Simulador!$C$53,O337=0),0,O337+1)","v":0},0,0,0,{"$f":"IF($O338=0,0,(S337-R337)*((1+Simulador!$C$34)^(1/12)))","v":0},null,1,0,0,{"$f":"IF(O338=0,0,X$6/((1+Simulador!$C$34)^((O338-O$6)/12)))*(1+AA338)","v":0},0,null,{"$f":"IF(Simulador!$C$54=12,0,IF(O338/12=INT(O338/12),1,0))","v":0}]
[{"$f":"IF(OR(A338+1>Simulador!$C$46,A338=0),0,A338+1)","v":0},0,0,0,{"$f":"IF($A339=0,0,(E338-D338)*((1+Simulador!$C$34)^(1/12)))","v":0},null,1,0,0,{"$f":"IF(A339=0,0,J$6/((1+Simulador!$C$34)^((A339-A$6)/12)))*(1+M339)","v":0},0,null,{"$f":"IF(Simulador!$C$47=12,0,IF(A339/12=INT(A339/12),1,0))","v":1},null,{"$f":"IF(OR(O338+1>Simulador!$C$53,O338=0),0,O338+1)","v":0},0,0,0,{"$f":"IF($O339=0,0,(S338-R338)*((1+Simulador!$C$34)^(1/12)))","v":0},null,1,0,0,{"$f":"IF(O339=0,0,X$6/((1+Simulador!$C$34)^((O339-O$6)/12)))*(1+AA339)","v":0},0,null,{"$f":"IF(Simulador!$C$54=12,0,IF(O339/12=INT(O339/12),1,0))","v":0}]
[{"$f":"IF(OR(A339+1>Simulador!$C$46,A339=0),0,A339+1)","v":0},0,0,0,{"$f":"IF($A340=0,0,(E339-D339)*((1+Simulador!$C$34)^(1/12)))","v":0},null,1,0,0,{"$f":"IF(A340=0,0,J$6/((1+Simulador!$C$34)^((A340-A$6)/12)))*(1+M340)","v":0},0,null,{"$f":"IF(Simulador!$C$47=12,0,IF(A340/12=INT(A340/12),1,0))","v":1},null,{"$f":"IF(OR(O339+1>Simulador!$C$53,O339=0),0,O339+1)","v":0},0,0,0,{"$f":"IF($O340=0,0,(S339-R339)*((1+Simulador!$C$34)^(1/12)))","v":0},null,1,0,0,{"$f":"IF(O340=0,0,X$6/((1+Simulador!$C$34)^((O340-O$6)/12)))*(1+AA340)","v":0},0,null,{"$f":"IF(Simulador!$C$54=12,0,IF(O340/12=INT(O340/12),1,0))","v":0}]
[{"$f":"IF(OR(A340+1>Simulador!$C$46,A340=0),0,A340+1)","v":0},0,0,0,{"$f":"IF($A341=0,0,(E340-D340)*((1+Simulador!$C$34)^(1/12)))","v":0},null,1,0,0,{"$f":"IF(A341=0,0,J$6/((1+Simulador!$C$34)^((A341-A$6)/12)))*(1+M341)","v":0},0,null,{"$f":"IF(Simulador!$C$47=12,0,IF(A341/12=INT(A341/12),1,0))","v":1},null,{"$f":"IF(OR(O340+1>Simulador!$C$53,O340=0),0,O340+1)","v":0},0,0,0,{"$f":"IF($O341=0,0,(S340-R340)*((1+Simulador!$C$34)^(1/12)))","v":0},null,1,0,0,{"$f":"IF(O341=0,0,X$6/((1+Simulador!$C$34)^((O341-O$6)/12)))*(1+AA341)","v":0},0,null,{"$f":"IF(Simulador!$C$54=12,0,IF(O341/12=INT(O341/12),1,0))","v":0}]
[{"$f":"IF(OR(A341+1>Simulador!$C$46,A341=0),0,A341+1)","v":0},0,0,0,{"$f":"IF($A342=0,0,(E341-D341)*((1+Simulador!$C$34)^(1/12)))","v":0},null,1,0,0,{"$f":"IF(A342=0,0,J$6/((1+Simulador!$C$34)^((A342-A$6)/12)))*(1+M342)","v":0},0,null,{"$f":"IF(Simulador!$C$47=12,0,IF(A342/12=INT(A342/12),1,0))","v":1},null,{"$f":"IF(OR(O341+1>Simulador!$C$53,O341=0),0,O341+1)","v":0},0,0,0,{"$f":"IF($O342=0,0,(S341-R341)*((1+Simulador!$C$34)^(1/12)))","v":0},null,1,0,0,{"$f":"IF(O342=0,0,X$6/((1+Simulador!$C$34)^((O342-O$6)/12)))*(1+AA342)","v":0},0,null,{"$f":"IF(Simulador!$C$54=12,0,IF(O342/12=INT(O342/12),1,0))","v":0}]
[{"$f":"IF(OR(A342+1>Simulador!$C$46,A342=0),0,A342+1)","v":0},0,0,0,{"$f":"IF($A343=0,0,(E342-D342)*((1+Simulador!$C$34)^(1/12)))","v":0},null,1,0,0,{"$f":"IF(A343=0,0,J$6/((1+Simulador!$C$34)^((A343-A$6)/12)))*(1+M343)","v":0},0,null,{"$f":"IF(Simulador!$C$47=12,0,IF(A343/12=INT(A343/12),1,0))","v":1},null,{"$f":"IF(OR(O342+1>Simulador!$C$53,O342=0),0,O342+1)","v":0},0,0,0,{"$f":"IF($O343=0,0,(S342-R342)*((1+Simulador!$C$34)^(1/12)))","v":0},null,1,0,0,{"$f":"IF(O343=0,0,X$6/((1+Simulador!$C$34)^((O343-O$6)/12)))*(1+AA343)","v":0},0,null,{"$f":"IF(Simulador!$C$54=12,0,IF(O343/12=INT(O343/12),1,0))","v":0}]
[{"$f":"IF(OR(A343+1>Simulador!$C$46,A343=0),0,A343+1)","v":0},0,0,0,{"$f":"IF($A344=0,0,(E343-D343)*((1+Simulador!$C$34)^(1/12)))","v":0},null,1,0,0,{"$f":"IF(A344=0,0,J$6/((1+Simulador!$C$34)^((A344-A$6)/12)))*(1+M344)","v":0},0,null,{"$f":"IF(Simulador!$C$47=12,0,IF(A344/12=INT(A344/12),1,0))","v":1},null,{"$f":"IF(OR(O343+1>Simulador!$C$53,O343=0),0,O343+1)","v":0},0,0,0,{"$f":"IF($O344=0,0,(S343-R343)*((1+Simulador!$C$34)^(1/12)))","v":0},null,1,0,0,{"$f":"IF(O344=0,0,X$6/((1+Simulador!$C$34)^((O344-O$6)/12)))*(1+AA344)","v":0},0,null,{"$f":"IF(Simulador!$C$54=12,0,IF(O344/12=INT(O344/12),1,0))","v":0}]
[{"$f":"IF(OR(A344+1>Simulador!$C$46,A344=0),0,A344+1)","v":0},0,0,0,{"$f":"IF($A345=0,0,(E344-D344)*((1+Simulador!$C$34)^(1/12)))","v":0},null,1,0,0,{"$f":"IF(A345=0,0,J$6/((1+Simulador!$C$34)^((A345-A$6)/12)))*(1+M345)","v":0},0,null,{"$f":"IF(Simulador!$C$47=12,0,IF(A345/12=INT(A345/12),1,0))","v":1},null,{"$f":"IF(OR(O344+1>Simulador!$C$53,O344=0),0,O344+1)","v":0},0,0,0,{"$f":"IF($O345=0,0,(S344-R344)*((1+Simulador!$C$34)^(1/12)))","v":0},null,1,0,0,{"$f":"IF(O345=0,0,X$6/((1+Simulador!$C$34)^((O345-O$6)/12)))*(1+AA345)","v":0},0,null,{"$f":"IF(Simulador!$C$54=12,0,IF(O345/12=INT(O345/12),1,0))","v":0}]
[{"$f":"IF(OR(A345+1>Simulador!$C$46,A345=0),0,A345+1)","v":0},0,0,0,{"$f":"IF($A346=0,0,(E345-D345)*((1+Simulador!$C$34)^(1/12)))","v":0},null,1,0,0,{"$f":"IF(A346=0,0,J$6/((1+Simulador!$C$34)^((A346-A$6)/12)))*(1+M346)","v":0},0,null,{"$f":"IF(Simulador!$C$47=12,0,IF(A346/12=INT(A346/12),1,0))","v":1},null,{"$f":"IF(OR(O345+1>Simulador!$C$53,O345=0),0,O345+1)","v":0},0,0,0,{"$f":"IF($O346=0,0,(S345-R345)*((1+Simulador!$C$34)^(1/12)))","v":0},null,1,0,0,{"$f":"IF(O346=0,0,X$6/((1+Simulador!$C$34)^((O346-O$6)/12)))*(1+AA346)","v":0},0,null,{"$f":"IF(Simulador!$C$54=12,0,IF(O346/12=INT(O346/12),1,0))","v":0}]
[{"$f":"IF(OR(A346+1>Simulador!$C$46,A346=0),0,A346+1)","v":0},0,0,0,{"$f":"IF($A347=0,0,(E346-D346)*((1+Simulador!$C$34)^(1/12)))","v":0},null,1,0,0,{"$f":"IF(A347=0,0,J$6/((1+Simulador!$C$34)^((A347-A$6)/12)))*(1+M347)","v":0},0,null,{"$f":"IF(Simulador!$C$47=12,0,IF(A347/12=INT(A347/12),1,0))","v":1},null,{"$f":"IF(OR(O346+1>Simulador!$C$53,O346=0),0,O346+1)","v":0},0,0,0,{"$f":"IF($O347=0,0,(S346-R346)*((1+Simulador!$C$34)^(1/12)))","v":0},null,1,0,0,{"$f":"IF(O347=0,0,X$6/((1+Simulador!$C$34)^((O347-O$6)/12)))*(1+AA347)","v":0},0,null,{"$f":"IF(Simulador!$C$54=12,0,IF(O347/12=INT(O347/12),1,0))","v":0}]
[{"$f":"IF(OR(A347+1>Simulador!$C$46,A347=0),0,A347+1)","v":0},0,0,0,{"$f":"IF($A348=0,0,(E347-D347)*((1+Simulador!$C$34)^(1/12)))","v":0},null,1,0,0,{"$f":"IF(A348=0,0,J$6/((1+Simulador!$C$34)^((A348-A$6)/12)))*(1+M348)","v":0},0,null,{"$f":"IF(Simulador!$C$47=12,0,IF(A348/12=INT(A348/12),1,0))","v":1},null,{"$f":"IF(OR(O347+1>Simulador!$C$53,O347=0),0,O347+1)","v":0},0,0,0,{"$f":"IF($O348=0,0,(S347-R347)*((1+Simulador!$C$34)^(1/12)))","v":0},null,1,0,0,{"$f":"IF(O348=0,0,X$6/((1+Simulador!$C$34)^((O348-O$6)/12)))*(1+AA348)","v":0},0,null,{"$f":"IF(Simulador!$C$54=12,0,IF(O348/12=INT(O348/12),1,0))","v":0}]
[{"$f":"IF(OR(A348+1>Simulador!$C$46,A348=0),0,A348+1)","v":0},0,0,0,{"$f":"IF($A349=0,0,(E348-D348)*((1+Simulador!$C$34)^(1/12)))","v":0},null,1,0,0,{"$f":"IF(A349=0,0,J$6/((1+Simulador!$C$34)^((A349-A$6)/12)))*(1+M349)","v":0},0,null,{"$f":"IF(Simulador!$C$47=12,0,IF(A349/12=INT(A349/12),1,0))","v":1},null,{"$f":"IF(OR(O348+1>Simulador!$C$53,O348=0),0,O348+1)","v":0},0,0,0,{"$f":"IF($O349=0,0,(S348-R348)*((1+Simulador!$C$34)^(1/12)))","v":0},null,1,0,0,{"$f":"IF(O349=0,0,X$6/((1+Simulador!$C$34)^((O349-O$6)/12)))*(1+AA349)","v":0},0,null,{"$f":"IF(Simulador!$C$54=12,0,IF(O349/12=INT(O349/12),1,0))","v":0}]
[{"$f":"IF(OR(A349+1>Simulador!$C$46,A349=0),0,A349+1)","v":0},0,0,0,{"$f":"IF($A350=0,0,(E349-D349)*((1+Simulador!$C$34)^(1/12)))","v":0},null,1,0,0,{"$f":"IF(A350=0,0,J$6/((1+Simulador!$C$34)^((A350-A$6)/12)))*(1+M350)","v":0},0,null,{"$f":"IF(Simulador!$C$47=12,0,IF(A350/12=INT(A350/12),1,0))","v":1},null,{"$f":"IF(OR(O349+1>Simulador!$C$53,O349=0),0,O349+1)","v":0},0,0,0,{"$f":"IF($O350=0,0,(S349-R349)*((1+Simulador!$C$34)^(1/12)))","v":0},null,1,0,0,{"$f":"IF(O350=0,0,X$6/((1+Simulador!$C$34)^((O350-O$6)/12)))*(1+AA350)","v":0},0,null,{"$f":"IF(Simulador!$C$54=12,0,IF(O350/12=INT(O350/12),1,0))","v":0}]
[{"$f":"IF(OR(A350+1>Simulador!$C$46,A350=0),0,A350+1)","v":0},0,0,0,{"$f":"IF($A351=0,0,(E350-D350)*((1+Simulador!$C$34)^(1/12)))","v":0},null,1,0,0,{"$f":"IF(A351=0,0,J$6/((1+Simulador!$C$34)^((A351-A$6)/12)))*(1+M351)","v":0},0,null,{"$f":"IF(Simulador!$C$47=12,0,IF(A351/12=INT(A351/12),1,0))","v":1},null,{"$f":"IF(OR(O350+1>Simulador!$C$53,O350=0),0,O350+1)","v":0},0,0,0,{"$f":"IF($O351=0,0,(S350-R350)*((1+Simulador!$C$34)^(1/12)))","v":0},null,1,0,0,{"$f":"IF(O351=0,0,X$6/((1+Simulador!$C$34)^((O351-O$6)/12)))*(1+AA351)","v":0},0,null,{"$f":"IF(Simulador!$C$54=12,0,IF(O351/12=INT(O351/12),1,0))","v":0}]
[{"$f":"IF(OR(A351+1>Simulador!$C$46,A351=0),0,A351+1)","v":0},0,0,0,{"$f":"IF($A352=0,0,(E351-D351)*((1+Simulador!$C$34)^(1/12)))","v":0},null,1,0,0,{"$f":"IF(A352=0,0,J$6/((1+Simulador!$C$34)^((A352-A$6)/12)))*(1+M352)","v":0},0,null,{"$f":"IF(Simulador!$C$47=12,0,IF(A352/12=INT(A352/12),1,0))","v":1},null,{"$f":"IF(OR(O351+1>Simulador!$C$53,O351=0),0,O351+1)","v":0},0,0,0,{"$f":"IF($O352=0,0,(S351-R351)*((1+Simulador!$C$34)^(1/12)))","v":0},null,1,0,0,{"$f":"IF(O352=0,0,X$6/((1+Simulador!$C$34)^((O352-O$6)/12)))*(1+AA352)","v":0},0,null,{"$f":"IF(Simulador!$C$54=12,0,IF(O352/12=INT(O352/12),1,0))","v":0}]
[{"$f":"IF(OR(A352+1>Simulador!$C$46,A352=0),0,A352+1)","v":0},0,0,0,{"$f":"IF($A353=0,0,(E352-D352)*((1+Simulador!$C$34)^(1/12)))","v":0},null,1,0,0,{"$f":"IF(A353=0,0,J$6/((1+Simulador!$C$34)^((A353-A$6)/12)))*(1+M353)","v":0},0,null,{"$f":"IF(Simulador!$C$47=12,0,IF(A353/12=INT(A353/12),1,0))","v":1},null,{"$f":"IF(OR(O352+1>Simulador!$C$53,O352=0),0,O352+1)","v":0},0,0,0,{"$f":"IF($O353=0,0,(S352-R352)*((1+Simulador!$C$34)^(1/12)))","v":0},null,1,0,0,{"$f":"IF(O353=0,0,X$6/((1+Simulador!$C$34)^((O353-O$6)/12)))*(1+AA353)","v":0},0,null,{"$f":"IF(Simulador!$C$54=12,0,IF(O353/12=INT(O353/12),1,0))","v":0}]
[{"$f":"IF(OR(A353+1>Simulador!$C$46,A353=0),0,A353+1)","v":0},0,0,0,{"$f":"IF($A354=0,0,(E353-D353)*((1+Simulador!$C$34)^(1/12)))","v":0},null,1,0,0,{"$f":"IF(A354=0,0,J$6/((1+Simulador!$C$34)^((A354-A$6)/12)))*(1+M354)","v":0},0,null,{"$f":"IF(Simulador!$C$47=12,0,IF(A354/12=INT(A354/12),1,0))","v":1},null,{"$f":"IF(OR(O353+1>Simulador!$C$53,O353=0),0,O353+1)","v":0},0,0,0,{"$f":"IF($O354=0,0,(S353-R353)*((1+Simulador!$C$34)^(1/12)))","v":0},null,1,0,0,{"$f":"IF(O354=0,0,X$6/((1+Simulador!$C$34)^((O354-O$6)/12)))*(1+AA354)","v":0},0,null,{"$f":"IF(Simulador!$C$54=12,0,IF(O354/12=INT(O354/12),1,0))","v":0}]
[{"$f":"IF(OR(A354+1>Simulador!$C$46,A354=0),0,A354+1)","v":0},0,0,0,{"$f":"IF($A355=0,0,(E354-D354)*((1+Simulador!$C$34)^(1/12)))","v":0},null,1,0,0,{"$f":"IF(A355=0,0,J$6/((1+Simulador!$C$34)^((A355-A$6)/12)))*(1+M355)","v":0},0,null,{"$f":"IF(Simulador!$C$47=12,0,IF(A355/12=INT(A355/12),1,0))","v":1},null,{"$f":"IF(OR(O354+1>Simulador!$C$53,O354=0),0,O354+1)","v":0},0,0,0,{"$f":"IF($O355=0,0,(S354-R354)*((1+Simulador!$C$34)^(1/12)))","v":0},null,1,0,0,{"$f":"IF(O355=0,0,X$6/((1+Simulador!$C$34)^((O355-O$6)/12)))*(1+AA355)","v":0},0,null,{"$f":"IF(Simulador!$C$54=12,0,IF(O355/12=INT(O355/12),1,0))","v":0}]
[{"$f":"IF(OR(A355+1>Simulador!$C$46,A355=0),0,A355+1)","v":0},0,0,0,{"$f":"IF($A356=0,0,(E355-D355)*((1+Simulador!$C$34)^(1/12)))","v":0},null,1,0,0,{"$f":"IF(A356=0,0,J$6/((1+Simulador!$C$34)^((A356-A$6)/12)))*(1+M356)","v":0},0,null,{"$f":"IF(Simulador!$C$47=12,0,IF(A356/12=INT(A356/12),1,0))","v":1},null,{"$f":"IF(OR(O355+1>Simulador!$C$53,O355=0),0,O355+1)","v":0},0,0,0,{"$f":"IF($O356=0,0,(S355-R355)*((1+Simulador!$C$34)^(1/12)))","v":0},null,1,0,0,{"$f":"IF(O356=0,0,X$6/((1+Simulador!$C$34)^((O356-O$6)/12)))*(1+AA356)","v":0},0,null,{"$f":"IF(Simulador!$C$54=12,0,IF(O356/12=INT(O356/12),1,0))","v":0}]
[{"$f":"IF(OR(A356+1>Simulador!$C$46,A356=0),0,A356+1)","v":0},0,0,0,{"$f":"IF($A357=0,0,(E356-D356)*((1+Simulador!$C$34)^(1/12)))","v":0},null,1,0,0,{"$f":"IF(A357=0,0,J$6/((1+Simulador!$C$34)^((A357-A$6)/12)))*(1+M357)","v":0},0,null,{"$f":"IF(Simulador!$C$47=12,0,IF(A357/12=INT(A357/12),1,0))","v":1},null,{"$f":"IF(OR(O356+1>Simulador!$C$53,O356=0),0,O356+1)","v":0},0,0,0,{"$f":"IF($O357=0,0,(S356-R356)*((1+Simulador!$C$34)^(1/12)))","v":0},null,1,0,0,{"$f":"IF(O357=0,0,X$6/((1+Simulador!$C$34)^((O357-O$6)/12)))*(1+AA357)","v":0},0,null,{"$f":"IF(Simulador!$C$54=12,0,IF(O357/12=INT(O357/12),1,0))","v":0}]
[{"$f":"IF(OR(A357+1>Simulador!$C$46,A357=0),0,A357+1)","v":0},0,0,0,{"$f":"IF($A358=0,0,(E357-D357)*((1+Simulador!$C$34)^(1/12)))","v":0},null,1,0,0,{"$f":"IF(A358=0,0,J$6/((1+Simulador!$C$34)^((A358-A$6)/12)))*(1+M358)","v":0},0,null,{"$f":"IF(Simulador!$C$47=12,0,IF(A358/12=INT(A358/12),1,0))","v":1},null,{"$f":"IF(OR(O357+1>Simulador!$C$53,O357=0),0,O357+1)","v":0},0,0,0,{"$f":"IF($O358=0,0,(S357-R357)*((1+Simulador!$C$34)^(1/12)))","v":0},null,1,0,0,{"$f":"IF(O358=0,0,X$6/((1+Simulador!$C$34)^((O358-O$6)/12)))*(1+AA358)","v":0},0,null,{"$f":"IF(Simulador!$C$54=12,0,IF(O358/12=INT(O358/12),1,0))","v":0}]
[{"$f":"IF(OR(A358+1>Simulador!$C$46,A358=0),0,A358+1)","v":0},0,0,0,{"$f":"IF($A359=0,0,(E358-D358)*((1+Simulador!$C$34)^(1/12)))","v":0},null,1,0,0,{"$f":"IF(A359=0,0,J$6/((1+Simulador!$C$34)^((A359-A$6)/12)))*(1+M359)","v":0},0,null,{"$f":"IF(Simulador!$C$47=12,0,IF(A359/12=INT(A359/12),1,0))","v":1},null,{"$f":"IF(OR(O358+1>Simulador!$C$53,O358=0),0,O358+1)","v":0},0,0,0,{"$f":"IF($O359=0,0,(S358-R358)*((1+Simulador!$C$34)^(1/12)))","v":0},null,1,0,0,{"$f":"IF(O359=0,0,X$6/((1+Simulador!$C$34)^((O359-O$6)/12)))*(1+AA359)","v":0},0,null,{"$f":"IF(Simulador!$C$54=12,0,IF(O359/12=INT(O359/12),1,0))","v":0}]
[{"$f":"IF(OR(A359+1>Simulador!$C$46,A359=0),0,A359+1)","v":0},0,0,0,{"$f":"IF($A360=0,0,(E359-D359)*((1+Simulador!$C$34)^(1/12)))","v":0},null,1,0,0,{"$f":"IF(A360=0,0,J$6/((1+Simulador!$C$34)^((A360-A$6)/12)))*(1+M360)","v":0},0,null,{"$f":"IF(Simulador!$C$47=12,0,IF(A360/12=INT(A360/12),1,0))","v":1},null,{"$f":"IF(OR(O359+1>Simulador!$C$53,O359=0),0,O359+1)","v":0},0,0,0,{"$f":"IF($O360=0,0,(S359-R359)*((1+Simulador!$C$34)^(1/12)))","v":0},null,1,0,0,{"$f":"IF(O360=0,0,X$6/((1+Simulador!$C$34)^((O360-O$6)/12)))*(1+AA360)","v":0},0,null,{"$f":"IF(Simulador!$C$54=12,0,IF(O360/12=INT(O360/12),1,0))","v":0}]
[{"$f":"IF(OR(A360+1>Simulador!$C$46,A360=0),0,A360+1)","v":0},0,0,0,{"$f":"IF($A361=0,0,(E360-D360)*((1+Simulador!$C$34)^(1/12)))","v":0},null,1,0,0,{"$f":"IF(A361=0,0,J$6/((1+Simulador!$C$34)^((A361-A$6)/12)))*(1+M361)","v":0},0,null,{"$f":"IF(Simulador!$C$47=12,0,IF(A361/12=INT(A361/12),1,0))","v":1},null,{"$f":"IF(OR(O360+1>Simulador!$C$53,O360=0),0,O360+1)","v":0},0,0,0,{"$f":"IF($O361=0,0,(S360-R360)*((1+Simulador!$C$34)^(1/12)))","v":0},null,1,0,0,{"$f":"IF(O361=0,0,X$6/((1+Simulador!$C$34)^((O361-O$6)/12)))*(1+AA361)","v":0},0,null,{"$f":"IF(Simulador!$C$54=12,0,IF(O361/12=INT(O361/12),1,0))","v":0}]
[{"$f":"IF(OR(A361+1>Simulador!$C$46,A361=0),0,A361+1)","v":0},0,0,0,{"$f":"IF($A362=0,0,(E361-D361)*((1+Simulador!$C$34)^(1/12)))","v":0},null,1,0,0,{"$f":"IF(A362=0,0,J$6/((1+Simulador!$C$34)^((A362-A$6)/12)))*(1+M362)","v":0},0,null,{"$f":"IF(Simulador!$C$47=12,0,IF(A362/12=INT(A362/12),1,0))","v":1},null,{"$f":"IF(OR(O361+1>Simulador!$C$53,O361=0),0,O361+1)","v":0},0,0,0,{"$f":"IF($O362=0,0,(S361-R361)*((1+Simulador!$C$34)^(1/12)))","v":0},null,1,0,0,{"$f":"IF(O362=0,0,X$6/((1+Simulador!$C$34)^((O362-O$6)/12)))*(1+AA362)","v":0},0,null,{"$f":"IF(Simulador!$C$54=12,0,IF(O362/12=INT(O362/12),1,0))","v":0}]
[{"$f":"IF(OR(A362+1>Simulador!$C$46,A362=0),0,A362+1)","v":0},0,0,0,{"$f":"IF($A363=0,0,(E362-D362)*((1+Simulador!$C$34)^(1/12)))","v":0},null,1,0,0,{"$f":"IF(A363=0,0,J$6/((1+Simulador!$C$34)^((A363-A$6)/12)))*(1+M363)","v":0},0,null,{"$f":"IF(Simulador!$C$47=12,0,IF(A363/12=INT(A363/12),1,0))","v":1},null,{"$f":"IF(OR(O362+1>Simulador!$C$53,O362=0),0,O362+1)","v":0},0,0,0,{"$f":"IF($O363=0,0,(S362-R362)*((1+Simulador!$C$34)^(1/12)))","v":0},null,1,0,0,{"$f":"IF(O363=0,0,X$6/((1+Simulador!$C$34)^((O363-O$6)/12)))*(1+AA363)","v":0},0,null,{"$f":"IF(Simulador!$C$54=12,0,IF(O363/12=INT(O363/12),1,0))","v":0}]
[{"$f":"IF(OR(A363+1>Simulador!$C$46,A363=0),0,A363+1)","v":0},0,0,0,{"$f":"IF($A364=0,0,(E363-D363)*((1+Simulador!$C$34)^(1/12)))","v":0},null,1,0,0,{"$f":"IF(A364=0,0,J$6/((1+Simulador!$C$34)^((A364-A$6)/12)))*(1+M364)","v":0},0,null,{"$f":"IF(Simulador!$C$47=12,0,IF(A364/12=INT(A364/12),1,0))","v":1},null,{"$f":"IF(OR(O363+1>Simulador!$C$53,O363=0),0,O363+1)","v":0},0,0,0,{"$f":"IF($O364=0,0,(S363-R363)*((1+Simulador!$C$34)^(1/12)))","v":0},null,1,0,0,{"$f":"IF(O364=0,0,X$6/((1+Simulador!$C$34)^((O364-O$6)/12)))*(1+AA364)","v":0},0,null,{"$f":"IF(Simulador!$C$54=12,0,IF(O364/12=INT(O364/12),1,0))","v":0}]
[{"$f":"IF(OR(A364+1>Simulador!$C$46,A364=0),0,A364+1)","v":0},0,0,0,{"$f":"IF($A365=0,0,(E364-D364)*((1+Simulador!$C$34)^(1/12)))","v":0},null,1,0,0,{"$f":"IF(A365=0,0,J$6/((1+Simulador!$C$34)^((A365-A$6)/12)))*(1+M365)","v":0},0,null,{"$f":"IF(Simulador!$C$47=12,0,IF(A365/12=INT(A365/12),1,0))","v":1},null,{"$f":"IF(OR(O364+1>Simulador!$C$53,O364=0),0,O364+1)","v":0},0,0,0,{"$f":"IF($O365=0,0,(S364-R364)*((1+Simulador!$C$34)^(1/12)))","v":0},null,1,0,0,{"$f":"IF(O365=0,0,X$6/((1+Simulador!$C$34)^((O365-O$6)/12)))*(1+AA365)","v":0},0,null,{"$f":"IF(Simulador!$C$54=12,0,IF(O365/12=INT(O365/12),1,0))","v":0}]
[{"$f":"IF(OR(A365+1>Simulador!$C$46,A365=0),0,A365+1)","v":0},0,0,0,{"$f":"IF($A366=0,0,(E365-D365)*((1+Simulador!$C$34)^(1/12)))","v":0},null,1,0,0,{"$f":"IF(A366=0,0,J$6/((1+Simulador!$C$34)^((A366-A$6)/12)))*(1+M366)","v":0},0,null,{"$f":"IF(Simulador!$C$47=12,0,IF(A366/12=INT(A366/12),1,0))","v":1},null,{"$f":"IF(OR(O365+1>Simulador!$C$53,O365=0),0,O365+1)","v":0},0,0,0,{"$f":"IF($O366=0,0,(S365-R365)*((1+Simulador!$C$34)^(1/12)))","v":0},null,1,0,0,{"$f":"IF(O366=0,0,X$6/((1+Simulador!$C$34)^((O366-O$6)/12)))*(1+AA366)","v":0},0,null,{"$f":"IF(Simulador!$C$54=12,0,IF(O366/12=INT(O366/12),1,0))","v":0}]
[{"$f":"IF(OR(A366+1>Simulador!$C$46,A366=0),0,A366+1)","v":0},0,0,0,{"$f":"IF($A367=0,0,(E366-D366)*((1+Simulador!$C$34)^(1/12)))","v":0},null,1,0,0,{"$f":"IF(A367=0,0,J$6/((1+Simulador!$C$34)^((A367-A$6)/12)))*(1+M367)","v":0},0,null,{"$f":"IF(Simulador!$C$47=12,0,IF(A367/12=INT(A367/12),1,0))","v":1},null,{"$f":"IF(OR(O366+1>Simulador!$C$53,O366=0),0,O366+1)","v":0},0,0,0,{"$f":"IF($O367=0,0,(S366-R366)*((1+Simulador!$C$34)^(1/12)))","v":0},null,1,0,0,{"$f":"IF(O367=0,0,X$6/((1+Simulador!$C$34)^((O367-O$6)/12)))*(1+AA367)","v":0},0,null,{"$f":"IF(Simulador!$C$54=12,0,IF(O367/12=INT(O367/12),1,0))","v":0}]
[{"$f":"IF(OR(A367+1>Simulador!$C$46,A367=0),0,A367+1)","v":0},0,0,0,{"$f":"IF($A368=0,0,(E367-D367)*((1+Simulador!$C$34)^(1/12)))","v":0},null,1,0,0,{"$f":"IF(A368=0,0,J$6/((1+Simulador!$C$34)^((A368-A$6)/12)))*(1+M368)","v":0},0,null,{"$f":"IF(Simulador!$C$47=12,0,IF(A368/12=INT(A368/12),1,0))","v":1},null,{"$f":"IF(OR(O367+1>Simulador!$C$53,O367=0),0,O367+1)","v":0},0,0,0,{"$f":"IF($O368=0,0,(S367-R367)*((1+Simulador!$C$34)^(1/12)))","v":0},null,1,0,0,{"$f":"IF(O368=0,0,X$6/((1+Simulador!$C$34)^((O368-O$6)/12)))*(1+AA368)","v":0},0,null,{"$f":"IF(Simulador!$C$54=12,0,IF(O368/12=INT(O368/12),1,0))","v":0}]
[{"$f":"IF(OR(A368+1>Simulador!$C$46,A368=0),0,A368+1)","v":0},0,0,0,{"$f":"IF($A369=0,0,(E368-D368)*((1+Simulador!$C$34)^(1/12)))","v":0},null,1,0,0,{"$f":"IF(A369=0,0,J$6/((1+Simulador!$C$34)^((A369-A$6)/12)))*(1+M369)","v":0},0,null,{"$f":"IF(Simulador!$C$47=12,0,IF(A369/12=INT(A369/12),1,0))","v":1},null,{"$f":"IF(OR(O368+1>Simulador!$C$53,O368=0),0,O368+1)","v":0},0,0,0,{"$f":"IF($O369=0,0,(S368-R368)*((1+Simulador!$C$34)^(1/12)))","v":0},null,1,0,0,{"$f":"IF(O369=0,0,X$6/((1+Simulador!$C$34)^((O369-O$6)/12)))*(1+AA369)","v":0},0,null,{"$f":"IF(Simulador!$C$54=12,0,IF(O369/12=INT(O369/12),1,0))","v":0}]
[{"$f":"IF(OR(A369+1>Simulador!$C$46,A369=0),0,A369+1)","v":0},0,0,0,{"$f":"IF($A370=0,0,(E369-D369)*((1+Simulador!$C$34)^(1/12)))","v":0},null,1,0,0,{"$f":"IF(A370=0,0,J$6/((1+Simulador!$C$34)^((A370-A$6)/12)))*(1+M370)","v":0},0,null,{"$f":"IF(Simulador!$C$47=12,0,IF(A370/12=INT(A370/12),1,0))","v":1},null,{"$f":"IF(OR(O369+1>Simulador!$C$53,O369=0),0,O369+1)","v":0},0,0,0,{"$f":"IF($O370=0,0,(S369-R369)*((1+Simulador!$C$34)^(1/12)))","v":0},null,1,0,0,{"$f":"IF(O370=0,0,X$6/((1+Simulador!$C$34)^((O370-O$6)/12)))*(1+AA370)","v":0},0,null,{"$f":"IF(Simulador!$C$54=12,0,IF(O370/12=INT(O370/12),1,0))","v":0}]
[{"$f":"IF(OR(A370+1>Simulador!$C$46,A370=0),0,A370+1)","v":0},0,0,0,{"$f":"IF($A371=0,0,(E370-D370)*((1+Simulador!$C$34)^(1/12)))","v":0},null,1,0,0,{"$f":"IF(A371=0,0,J$6/((1+Simulador!$C$34)^((A371-A$6)/12)))*(1+M371)","v":0},0,null,{"$f":"IF(Simulador!$C$47=12,0,IF(A371/12=INT(A371/12),1,0))","v":1},null,{"$f":"IF(OR(O370+1>Simulador!$C$53,O370=0),0,O370+1)","v":0},0,0,0,{"$f":"IF($O371=0,0,(S370-R370)*((1+Simulador!$C$34)^(1/12)))","v":0},null,1,0,0,{"$f":"IF(O371=0,0,X$6/((1+Simulador!$C$34)^((O371-O$6)/12)))*(1+AA371)","v":0},0,null,{"$f":"IF(Simulador!$C$54=12,0,IF(O371/12=INT(O371/12),1,0))","v":0}]
[{"$f":"IF(OR(A371+1>Simulador!$C$46,A371=0),0,A371+1)","v":0},0,0,0,{"$f":"IF($A372=0,0,(E371-D371)*((1+Simulador!$C$34)^(1/12)))","v":0},null,1,0,0,{"$f":"IF(A372=0,0,J$6/((1+Simulador!$C$34)^((A372-A$6)/12)))*(1+M372)","v":0},0,null,{"$f":"IF(Simulador!$C$47=12,0,IF(A372/12=INT(A372/12),1,0))","v":1},null,{"$f":"IF(OR(O371+1>Simulador!$C$53,O371=0),0,O371+1)","v":0},0,0,0,{"$f":"IF($O372=0,0,(S371-R371)*((1+Simulador!$C$34)^(1/12)))","v":0},null,1,0,0,{"$f":"IF(O372=0,0,X$6/((1+Simulador!$C$34)^((O372-O$6)/12)))*(1+AA372)","v":0},0,null,{"$f":"IF(Simulador!$C$54=12,0,IF(O372/12=INT(O372/12),1,0))","v":0}]
[{"$f":"IF(OR(A372+1>Simulador!$C$46,A372=0),0,A372+1)","v":0},0,0,0,{"$f":"IF($A373=0,0,(E372-D372)*((1+Simulador!$C$34)^(1/12)))","v":0},null,1,0,0,{"$f":"IF(A373=0,0,J$6/((1+Simulador!$C$34)^((A373-A$6)/12)))*(1+M373)","v":0},0,null,{"$f":"IF(Simulador!$C$47=12,0,IF(A373/12=INT(A373/12),1,0))","v":1},null,{"$f":"IF(OR(O372+1>Simulador!$C$53,O372=0),0,O372+1)","v":0},0,0,0,{"$f":"IF($O373=0,0,(S372-R372)*((1+Simulador!$C$34)^(1/12)))","v":0},null,1,0,0,{"$f":"IF(O373=0,0,X$6/((1+Simulador!$C$34)^((O373-O$6)/12)))*(1+AA373)","v":0},0,null,{"$f":"IF(Simulador!$C$54=12,0,IF(O373/12=INT(O373/12),1,0))","v":0}]
[{"$f":"IF(OR(A373+1>Simulador!$C$46,A373=0),0,A373+1)","v":0},0,0,0,{"$f":"IF($A374=0,0,(E373-D373)*((1+Simulador!$C$34)^(1/12)))","v":0},null,1,0,0,{"$f":"IF(A374=0,0,J$6/((1+Simulador!$C$34)^((A374-A$6)/12)))*(1+M374)","v":0},0,null,{"$f":"IF(Simulador!$C$47=12,0,IF(A374/12=INT(A374/12),1,0))","v":1},null,{"$f":"IF(OR(O373+1>Simulador!$C$53,O373=0),0,O373+1)","v":0},0,0,0,{"$f":"IF($O374=0,0,(S373-R373)*((1+Simulador!$C$34)^(1/12)))","v":0},null,1,0,0,{"$f":"IF(O374=0,0,X$6/((1+Simulador!$C$34)^((O374-O$6)/12)))*(1+AA374)","v":0},0,null,{"$f":"IF(Simulador!$C$54=12,0,IF(O374/12=INT(O374/12),1,0))","v":0}]
[{"$f":"IF(OR(A374+1>Simulador!$C$46,A374=0),0,A374+1)","v":0},0,0,0,{"$f":"IF($A375=0,0,(E374-D374)*((1+Simulador!$C$34)^(1/12)))","v":0},null,1,0,0,{"$f":"IF(A375=0,0,J$6/((1+Simulador!$C$34)^((A375-A$6)/12)))*(1+M375)","v":0},0,null,{"$f":"IF(Simulador!$C$47=12,0,IF(A375/12=INT(A375/12),1,0))","v":1},null,{"$f":"IF(OR(O374+1>Simulador!$C$53,O374=0),0,O374+1)","v":0},0,0,0,{"$f":"IF($O375=0,0,(S374-R374)*((1+Simulador!$C$34)^(1/12)))","v":0},null,1,0,0,{"$f":"IF(O375=0,0,X$6/((1+Simulador!$C$34)^((O375-O$6)/12)))*(1+AA375)","v":0},0,null,{"$f":"IF(Simulador!$C$54=12,0,IF(O375/12=INT(O375/12),1,0))","v":0}]
[{"$f":"IF(OR(A375+1>Simulador!$C$46,A375=0),0,A375+1)","v":0},0,0,0,{"$f":"IF($A376=0,0,(E375-D375)*((1+Simulador!$C$34)^(1/12)))","v":0},null,1,0,0,{"$f":"IF(A376=0,0,J$6/((1+Simulador!$C$34)^((A376-A$6)/12)))*(1+M376)","v":0},0,null,{"$f":"IF(Simulador!$C$47=12,0,IF(A376/12=INT(A376/12),1,0))","v":1},null,{"$f":"IF(OR(O375+1>Simulador!$C$53,O375=0),0,O375+1)","v":0},0,0,0,{"$f":"IF($O376=0,0,(S375-R375)*((1+Simulador!$C$34)^(1/12)))","v":0},null,1,0,0,{"$f":"IF(O376=0,0,X$6/((1+Simulador!$C$34)^((O376-O$6)/12)))*(1+AA376)","v":0},0,null,{"$f":"IF(Simulador!$C$54=12,0,IF(O376/12=INT(O376/12),1,0))","v":0}]
[{"$f":"IF(OR(A376+1>Simulador!$C$46,A376=0),0,A376+1)","v":0},0,0,0,{"$f":"IF($A377=0,0,(E376-D376)*((1+Simulador!$C$34)^(1/12)))","v":0},null,1,0,0,{"$f":"IF(A377=0,0,J$6/((1+Simulador!$C$34)^((A377-A$6)/12)))*(1+M377)","v":0},0,null,{"$f":"IF(Simulador!$C$47=12,0,IF(A377/12=INT(A377/12),1,0))","v":1},null,{"$f":"IF(OR(O376+1>Simulador!$C$53,O376=0),0,O376+1)","v":0},0,0,0,{"$f":"IF($O377=0,0,(S376-R376)*((1+Simulador!$C$34)^(1/12)))","v":0},null,1,0,0,{"$f":"IF(O377=0,0,X$6/((1+Simulador!$C$34)^((O377-O$6)/12)))*(1+AA377)","v":0},0,null,{"$f":"IF(Simulador!$C$54=12,0,IF(O377/12=INT(O377/12),1,0))","v":0}]
[{"$f":"IF(OR(A377+1>Simulador!$C$46,A377=0),0,A377+1)","v":0},0,0,0,{"$f":"IF($A378=0,0,(E377-D377)*((1+Simulador!$C$34)^(1/12)))","v":0},null,1,0,0,{"$f":"IF(A378=0,0,J$6/((1+Simulador!$C$34)^((A378-A$6)/12)))*(1+M378)","v":0},0,null,{"$f":"IF(Simulador!$C$47=12,0,IF(A378/12=INT(A378/12),1,0))","v":1},null,{"$f":"IF(OR(O377+1>Simulador!$C$53,O377=0),0,O377+1)","v":0},0,0,0,{"$f":"IF($O378=0,0,(S377-R377)*((1+Simulador!$C$34)^(1/12)))","v":0},null,1,0,0,{"$f":"IF(O378=0,0,X$6/((1+Simulador!$C$34)^((O378-O$6)/12)))*(1+AA378)","v":0},0,null,{"$f":"IF(Simulador!$C$54=12,0,IF(O378/12=INT(O378/12),1,0))","v":0}]
[{"$f":"IF(OR(A378+1>Simulador!$C$46,A378=0),0,A378+1)","v":0},0,0,0,{"$f":"IF($A379=0,0,(E378-D378)*((1+Simulador!$C$34)^(1/12)))","v":0},null,1,0,0,{"$f":"IF(A379=0,0,J$6/((1+Simulador!$C$34)^((A379-A$6)/12)))*(1+M379)","v":0},0,null,{"$f":"IF(Simulador!$C$47=12,0,IF(A379/12=INT(A379/12),1,0))","v":1},null,{"$f":"IF(OR(O378+1>Simulador!$C$53,O378=0),0,O378+1)","v":0},0,0,0,{"$f":"IF($O379=0,0,(S378-R378)*((1+Simulador!$C$34)^(1/12)))","v":0},null,1,0,0,{"$f":"IF(O379=0,0,X$6/((1+Simulador!$C$34)^((O379-O$6)/12)))*(1+AA379)","v":0},0,null,{"$f":"IF(Simulador!$C$54=12,0,IF(O379/12=INT(O379/12),1,0))","v":0}]
[{"$f":"IF(OR(A379+1>Simulador!$C$46,A379=0),0,A379+1)","v":0},0,0,0,{"$f":"IF($A380=0,0,(E379-D379)*((1+Simulador!$C$34)^(1/12)))","v":0},null,1,0,0,{"$f":"IF(A380=0,0,J$6/((1+Simulador!$C$34)^((A380-A$6)/12)))*(1+M380)","v":0},0,null,{"$f":"IF(Simulador!$C$47=12,0,IF(A380/12=INT(A380/12),1,0))","v":1},null,{"$f":"IF(OR(O379+1>Simulador!$C$53,O379=0),0,O379+1)","v":0},0,0,0,{"$f":"IF($O380=0,0,(S379-R379)*((1+Simulador!$C$34)^(1/12)))","v":0},null,1,0,0,{"$f":"IF(O380=0,0,X$6/((1+Simulador!$C$34)^((O380-O$6)/12)))*(1+AA380)","v":0},0,null,{"$f":"IF(Simulador!$C$54=12,0,IF(O380/12=INT(O380/12),1,0))","v":0}]
[{"$f":"IF(OR(A380+1>Simulador!$C$46,A380=0),0,A380+1)","v":0},0,0,0,{"$f":"IF($A381=0,0,(E380-D380)*((1+Simulador!$C$34)^(1/12)))","v":0},null,1,0,0,{"$f":"IF(A381=0,0,J$6/((1+Simulador!$C$34)^((A381-A$6)/12)))*(1+M381)","v":0},0,null,{"$f":"IF(Simulador!$C$47=12,0,IF(A381/12=INT(A381/12),1,0))","v":1},null,{"$f":"IF(OR(O380+1>Simulador!$C$53,O380=0),0,O380+1)","v":0},0,0,0,{"$f":"IF($O381=0,0,(S380-R380)*((1+Simulador!$C$34)^(1/12)))","v":0},null,1,0,0,{"$f":"IF(O381=0,0,X$6/((1+Simulador!$C$34)^((O381-O$6)/12)))*(1+AA381)","v":0},0,null,{"$f":"IF(Simulador!$C$54=12,0,IF(O381/12=INT(O381/12),1,0))","v":0}]
[{"$f":"IF(OR(A381+1>Simulador!$C$46,A381=0),0,A381+1)","v":0},0,0,0,{"$f":"IF($A382=0,0,(E381-D381)*((1+Simulador!$C$34)^(1/12)))","v":0},null,1,0,0,{"$f":"IF(A382=0,0,J$6/((1+Simulador!$C$34)^((A382-A$6)/12)))*(1+M382)","v":0},0,null,{"$f":"IF(Simulador!$C$47=12,0,IF(A382/12=INT(A382/12),1,0))","v":1},null,{"$f":"IF(OR(O381+1>Simulador!$C$53,O381=0),0,O381+1)","v":0},0,0,0,{"$f":"IF($O382=0,0,(S381-R381)*((1+Simulador!$C$34)^(1/12)))","v":0},null,1,0,0,{"$f":"IF(O382=0,0,X$6/((1+Simulador!$C$34)^((O382-O$6)/12)))*(1+AA382)","v":0},0,null,{"$f":"IF(Simulador!$C$54=12,0,IF(O382/12=INT(O382/12),1,0))","v":0}]
[{"$f":"IF(OR(A382+1>Simulador!$C$46,A382=0),0,A382+1)","v":0},0,0,0,{"$f":"IF($A383=0,0,(E382-D382)*((1+Simulador!$C$34)^(1/12)))","v":0},null,1,0,0,{"$f":"IF(A383=0,0,J$6/((1+Simulador!$C$34)^((A383-A$6)/12)))*(1+M383)","v":0},0,null,{"$f":"IF(Simulador!$C$47=12,0,IF(A383/12=INT(A383/12),1,0))","v":1},null,{"$f":"IF(OR(O382+1>Simulador!$C$53,O382=0),0,O382+1)","v":0},0,0,0,{"$f":"IF($O383=0,0,(S382-R382)*((1+Simulador!$C$34)^(1/12)))","v":0},null,1,0,0,{"$f":"IF(O383=0,0,X$6/((1+Simulador!$C$34)^((O383-O$6)/12)))*(1+AA383)","v":0},0,null,{"$f":"IF(Simulador!$C$54=12,0,IF(O383/12=INT(O383/12),1,0))","v":0}]
[{"$f":"IF(OR(A383+1>Simulador!$C$46,A383=0),0,A383+1)","v":0},0,0,0,{"$f":"IF($A384=0,0,(E383-D383)*((1+Simulador!$C$34)^(1/12)))","v":0},null,1,0,0,{"$f":"IF(A384=0,0,J$6/((1+Simulador!$C$34)^((A384-A$6)/12)))*(1+M384)","v":0},0,null,{"$f":"IF(Simulador!$C$47=12,0,IF(A384/12=INT(A384/12),1,0))","v":1},null,{"$f":"IF(OR(O383+1>Simulador!$C$53,O383=0),0,O383+1)","v":0},0,0,0,{"$f":"IF($O384=0,0,(S383-R383)*((1+Simulador!$C$34)^(1/12)))","v":0},null,1,0,0,{"$f":"IF(O384=0,0,X$6/((1+Simulador!$C$34)^((O384-O$6)/12)))*(1+AA384)","v":0},0,null,{"$f":"IF(Simulador!$C$54=12,0,IF(O384/12=INT(O384/12),1,0))","v":0}]
[{"$f":"IF(OR(A384+1>Simulador!$C$46,A384=0),0,A384+1)","v":0},0,0,0,{"$f":"IF($A385=0,0,(E384-D384)*((1+Simulador!$C$34)^(1/12)))","v":0},null,1,0,0,{"$f":"IF(A385=0,0,J$6/((1+Simulador!$C$34)^((A385-A$6)/12)))*(1+M385)","v":0},0,null,{"$f":"IF(Simulador!$C$47=12,0,IF(A385/12=INT(A385/12),1,0))","v":1},null,{"$f":"IF(OR(O384+1>Simulador!$C$53,O384=0),0,O384+1)","v":0},0,0,0,{"$f":"IF($O385=0,0,(S384-R384)*((1+Simulador!$C$34)^(1/12)))","v":0},null,1,0,0,{"$f":"IF(O385=0,0,X$6/((1+Simulador!$C$34)^((O385-O$6)/12)))*(1+AA385)","v":0},0,null,{"$f":"IF(Simulador!$C$54=12,0,IF(O385/12=INT(O385/12),1,0))","v":0}]
[{"$f":"IF(OR(A385+1>Simulador!$C$46,A385=0),0,A385+1)","v":0},0,0,0,{"$f":"IF($A386=0,0,(E385-D385)*((1+Simulador!$C$34)^(1/12)))","v":0},null,1,0,0,{"$f":"IF(A386=0,0,J$6/((1+Simulador!$C$34)^((A386-A$6)/12)))*(1+M386)","v":0},0,null,{"$f":"IF(Simulador!$C$47=12,0,IF(A386/12=INT(A386/12),1,0))","v":1},null,{"$f":"IF(OR(O385+1>Simulador!$C$53,O385=0),0,O385+1)","v":0},0,0,0,{"$f":"IF($O386=0,0,(S385-R385)*((1+Simulador!$C$34)^(1/12)))","v":0},null,1,0,0,{"$f":"IF(O386=0,0,X$6/((1+Simulador!$C$34)^((O386-O$6)/12)))*(1+AA386)","v":0},0,null,{"$f":"IF(Simulador!$C$54=12,0,IF(O386/12=INT(O386/12),1,0))","v":0}]
[{"$f":"IF(OR(A386+1>Simulador!$C$46,A386=0),0,A386+1)","v":0},0,0,0,{"$f":"IF($A387=0,0,(E386-D386)*((1+Simulador!$C$34)^(1/12)))","v":0},null,1,0,0,{"$f":"IF(A387=0,0,J$6/((1+Simulador!$C$34)^((A387-A$6)/12)))*(1+M387)","v":0},0,null,{"$f":"IF(Simulador!$C$47=12,0,IF(A387/12=INT(A387/12),1,0))","v":1},null,{"$f":"IF(OR(O386+1>Simulador!$C$53,O386=0),0,O386+1)","v":0},0,0,0,{"$f":"IF($O387=0,0,(S386-R386)*((1+Simulador!$C$34)^(1/12)))","v":0},null,1,0,0,{"$f":"IF(O387=0,0,X$6/((1+Simulador!$C$34)^((O387-O$6)/12)))*(1+AA387)","v":0},0,null,{"$f":"IF(Simulador!$C$54=12,0,IF(O387/12=INT(O387/12),1,0))","v":0}]
[{"$f":"IF(OR(A387+1>Simulador!$C$46,A387=0),0,A387+1)","v":0},0,0,0,{"$f":"IF($A388=0,0,(E387-D387)*((1+Simulador!$C$34)^(1/12)))","v":0},null,1,0,0,{"$f":"IF(A388=0,0,J$6/((1+Simulador!$C$34)^((A388-A$6)/12)))*(1+M388)","v":0},0,null,{"$f":"IF(Simulador!$C$47=12,0,IF(A388/12=INT(A388/12),1,0))","v":1},null,{"$f":"IF(OR(O387+1>Simulador!$C$53,O387=0),0,O387+1)","v":0},0,0,0,{"$f":"IF($O388=0,0,(S387-R387)*((1+Simulador!$C$34)^(1/12)))","v":0},null,1,0,0,{"$f":"IF(O388=0,0,X$6/((1+Simulador!$C$34)^((O388-O$6)/12)))*(1+AA388)","v":0},0,null,{"$f":"IF(Simulador!$C$54=12,0,IF(O388/12=INT(O388/12),1,0))","v":0}]
[{"$f":"IF(OR(A388+1>Simulador!$C$46,A388=0),0,A388+1)","v":0},0,0,0,{"$f":"IF($A389=0,0,(E388-D388)*((1+Simulador!$C$34)^(1/12)))","v":0},null,1,0,0,{"$f":"IF(A389=0,0,J$6/((1+Simulador!$C$34)^((A389-A$6)/12)))*(1+M389)","v":0},0,null,{"$f":"IF(Simulador!$C$47=12,0,IF(A389/12=INT(A389/12),1,0))","v":1},null,{"$f":"IF(OR(O388+1>Simulador!$C$53,O388=0),0,O388+1)","v":0},0,0,0,{"$f":"IF($O389=0,0,(S388-R388)*((1+Simulador!$C$34)^(1/12)))","v":0},null,1,0,0,{"$f":"IF(O389=0,0,X$6/((1+Simulador!$C$34)^((O389-O$6)/12)))*(1+AA389)","v":0},0,null,{"$f":"IF(Simulador!$C$54=12,0,IF(O389/12=INT(O389/12),1,0))","v":0}]
[{"$f":"IF(OR(A389+1>Simulador!$C$46,A389=0),0,A389+1)","v":0},0,0,0,{"$f":"IF($A390=0,0,(E389-D389)*((1+Simulador!$C$34)^(1/12)))","v":0},null,1,0,0,{"$f":"IF(A390=0,0,J$6/((1+Simulador!$C$34)^((A390-A$6)/12)))*(1+M390)","v":0},0,null,{"$f":"IF(Simulador!$C$47=12,0,IF(A390/12=INT(A390/12),1,0))","v":1},null,{"$f":"IF(OR(O389+1>Simulador!$C$53,O389=0),0,O389+1)","v":0},0,0,0,{"$f":"IF($O390=0,0,(S389-R389)*((1+Simulador!$C$34)^(1/12)))","v":0},null,1,0,0,{"$f":"IF(O390=0,0,X$6/((1+Simulador!$C$34)^((O390-O$6)/12)))*(1+AA390)","v":0},0,null,{"$f":"IF(Simulador!$C$54=12,0,IF(O390/12=INT(O390/12),1,0))","v":0}]
[{"$f":"IF(OR(A390+1>Simulador!$C$46,A390=0),0,A390+1)","v":0},{"$f":"IF($A391=0,0,G391*H391)","v":0},{"$f":"IF($A391=0,0,G391*I391)","v":0},{"$f":"IF($A391=0,0,G391*J391)","v":0},{"$f":"IF($A391=0,0,(E390-D390)*((1+Simulador!$C$34)^(1/12)))","v":0},null,{"$f":"G390*((1+$I$2)^(1/12))","v":1},{"$f":"IF($A391=0,0,$H$6)*(1+M391)","v":0},{"$f":"IF($A391=0,0,I390-H390)","v":0},{"$f":"IF(A391=0,0,J$6/((1+Simulador!$C$34)^((A391-A$6)/12)))*(1+M391)","v":0},{"$f":"IF($A391=0,0,K390-J390)","v":0},null,{"$f":"IF(Simulador!$C$47=12,0,IF(A391/12=INT(A391/12),1,0))","v":1},null,{"$f":"IF(OR(O390+1>Simulador!$C$53,O390=0),0,O390+1)","v":0},{"$f":"IF($A391=0,0,U391*V391)","v":0},{"$f":"IF($O391=0,0,U391*W391)","v":0},{"$f":"IF($A391=0,0,U391*X391)","v":0},{"$f":"IF($O391=0,0,(S390-R390)*((1+Simulador!$C$34)^(1/12)))","v":0},null,{"$f":"U390*((1+$I$2)^(1/12))","v":1},{"$f":"IF($O391=0,0,$V$6)*(1+AA391)","v":0},{"$f":"IF($O391=0,0,W390-V390)","v":0},{"$f":"IF(O391=0,0,X$6/((1+Simulador!$C$34)^((O391-O$6)/12)))*(1+AA391)","v":0},{"$f":"IF($O391=0,0,Y390-X390)","v":0},null,{"$f":"IF(Simulador!$C$54=12,0,IF(O391/12=INT(O391/12),1,0))","v":0}]
[{"$f":"IF(OR(A391+1>Simulador!$C$46,A391=0),0,A391+1)","v":0},0,0,0,{"$f":"IF($A392=0,0,(E391-D391)*((1+Simulador!$C$34)^(1/12)))","v":0},null,1,0,0,{"$f":"IF(A392=0,0,J$6/((1+Simulador!$C$34)^((A392-A$6)/12)))*(1+M392)","v":0},0,null,{"$f":"IF(Simulador!$C$47=12,0,IF(A392/12=INT(A392/12),1,0))","v":1},null,{"$f":"IF(OR(O391+1>Simulador!$C$53,O391=0),0,O391+1)","v":0},0,0,0,{"$f":"IF($O392=0,0,(S391-R391)*((1+Simulador!$C$34)^(1/12)))","v":0},null,1,0,0,{"$f":"IF(O392=0,0,X$6/((1+Simulador!$C$34)^((O392-O$6)/12)))*(1+AA392)","v":0},0,null,{"$f":"IF(Simulador!$C$54=12,0,IF(O392/12=INT(O392/12),1,0))","v":0}]
[{"$f":"IF(OR(A392+1>Simulador!$C$46,A392=0),0,A392+1)","v":0},0,0,0,{"$f":"IF($A393=0,0,(E392-D392)*((1+Simulador!$C$34)^(1/12)))","v":0},null,1,0,0,{"$f":"IF(A393=0,0,J$6/((1+Simulador!$C$34)^((A393-A$6)/12)))*(1+M393)","v":0},0,null,{"$f":"IF(Simulador!$C$47=12,0,IF(A393/12=INT(A393/12),1,0))","v":1},null,{"$f":"IF(OR(O392+1>Simulador!$C$53,O392=0),0,O392+1)","v":0},0,0,0,{"$f":"IF($O393=0,0,(S392-R392)*((1+Simulador!$C$34)^(1/12)))","v":0},null,1,0,0,{"$f":"IF(O393=0,0,X$6/((1+Simulador!$C$34)^((O393-O$6)/12)))*(1+AA393)","v":0},0,null,{"$f":"IF(Simulador!$C$54=12,0,IF(O393/12=INT(O393/12),1,0))","v":0}]
[{"$f":"IF(OR(A393+1>Simulador!$C$46,A393=0),0,A393+1)","v":0},0,0,0,{"$f":"IF($A394=0,0,(E393-D393)*((1+Simulador!$C$34)^(1/12)))","v":0},null,1,0,0,{"$f":"IF(A394=0,0,J$6/((1+Simulador!$C$34)^((A394-A$6)/12)))*(1+M394)","v":0},0,null,{"$f":"IF(Simulador!$C$47=12,0,IF(A394/12=INT(A394/12),1,0))","v":1},null,{"$f":"IF(OR(O393+1>Simulador!$C$53,O393=0),0,O393+1)","v":0},0,0,0,{"$f":"IF($O394=0,0,(S393-R393)*((1+Simulador!$C$34)^(1/12)))","v":0},null,1,0,0,{"$f":"IF(O394=0,0,X$6/((1+Simulador!$C$34)^((O394-O$6)/12)))*(1+AA394)","v":0},0,null,{"$f":"IF(Simulador!$C$54=12,0,IF(O394/12=INT(O394/12),1,0))","v":0}]
[{"$f":"IF(OR(A394+1>Simulador!$C$46,A394=0),0,A394+1)","v":0},0,0,0,{"$f":"IF($A395=0,0,(E394-D394)*((1+Simulador!$C$34)^(1/12)))","v":0},null,1,0,0,{"$f":"IF(A395=0,0,J$6/((1+Simulador!$C$34)^((A395-A$6)/12)))*(1+M395)","v":0},0,null,{"$f":"IF(Simulador!$C$47=12,0,IF(A395/12=INT(A395/12),1,0))","v":1},null,{"$f":"IF(OR(O394+1>Simulador!$C$53,O394=0),0,O394+1)","v":0},0,0,0,{"$f":"IF($O395=0,0,(S394-R394)*((1+Simulador!$C$34)^(1/12)))","v":0},null,1,0,0,{"$f":"IF(O395=0,0,X$6/((1+Simulador!$C$34)^((O395-O$6)/12)))*(1+AA395)","v":0},0,null,{"$f":"IF(Simulador!$C$54=12,0,IF(O395/12=INT(O395/12),1,0))","v":0}]
[{"$f":"IF(OR(A395+1>Simulador!$C$46,A395=0),0,A395+1)","v":0},0,0,0,{"$f":"IF($A396=0,0,(E395-D395)*((1+Simulador!$C$34)^(1/12)))","v":0},null,1,0,0,{"$f":"IF(A396=0,0,J$6/((1+Simulador!$C$34)^((A396-A$6)/12)))*(1+M396)","v":0},0,null,{"$f":"IF(Simulador!$C$47=12,0,IF(A396/12=INT(A396/12),1,0))","v":1},null,{"$f":"IF(OR(O395+1>Simulador!$C$53,O395=0),0,O395+1)","v":0},0,0,0,{"$f":"IF($O396=0,0,(S395-R395)*((1+Simulador!$C$34)^(1/12)))","v":0},null,1,0,0,{"$f":"IF(O396=0,0,X$6/((1+Simulador!$C$34)^((O396-O$6)/12)))*(1+AA396)","v":0},0,null,{"$f":"IF(Simulador!$C$54=12,0,IF(O396/12=INT(O396/12),1,0))","v":0}]
[{"$f":"IF(OR(A396+1>Simulador!$C$46,A396=0),0,A396+1)","v":0},0,0,0,{"$f":"IF($A397=0,0,(E396-D396)*((1+Simulador!$C$34)^(1/12)))","v":0},null,1,0,0,{"$f":"IF(A397=0,0,J$6/((1+Simulador!$C$34)^((A397-A$6)/12)))*(1+M397)","v":0},0,null,{"$f":"IF(Simulador!$C$47=12,0,IF(A397/12=INT(A397/12),1,0))","v":1},null,{"$f":"IF(OR(O396+1>Simulador!$C$53,O396=0),0,O396+1)","v":0},0,0,0,{"$f":"IF($O397=0,0,(S396-R396)*((1+Simulador!$C$34)^(1/12)))","v":0},null,1,0,0,{"$f":"IF(O397=0,0,X$6/((1+Simulador!$C$34)^((O397-O$6)/12)))*(1+AA397)","v":0},0,null,{"$f":"IF(Simulador!$C$54=12,0,IF(O397/12=INT(O397/12),1,0))","v":0}]
[{"$f":"IF(OR(A397+1>Simulador!$C$46,A397=0),0,A397+1)","v":0},0,0,0,{"$f":"IF($A398=0,0,(E397-D397)*((1+Simulador!$C$34)^(1/12)))","v":0},null,1,0,0,{"$f":"IF(A398=0,0,J$6/((1+Simulador!$C$34)^((A398-A$6)/12)))*(1+M398)","v":0},0,null,{"$f":"IF(Simulador!$C$47=12,0,IF(A398/12=INT(A398/12),1,0))","v":1},null,{"$f":"IF(OR(O397+1>Simulador!$C$53,O397=0),0,O397+1)","v":0},0,0,0,{"$f":"IF($O398=0,0,(S397-R397)*((1+Simulador!$C$34)^(1/12)))","v":0},null,1,0,0,{"$f":"IF(O398=0,0,X$6/((1+Simulador!$C$34)^((O398-O$6)/12)))*(1+AA398)","v":0},0,null,{"$f":"IF(Simulador!$C$54=12,0,IF(O398/12=INT(O398/12),1,0))","v":0}]
[{"$f":"IF(OR(A398+1>Simulador!$C$46,A398=0),0,A398+1)","v":0},0,0,0,{"$f":"IF($A399=0,0,(E398-D398)*((1+Simulador!$C$34)^(1/12)))","v":0},null,1,0,0,{"$f":"IF(A399=0,0,J$6/((1+Simulador!$C$34)^((A399-A$6)/12)))*(1+M399)","v":0},0,null,{"$f":"IF(Simulador!$C$47=12,0,IF(A399/12=INT(A399/12),1,0))","v":1},null,{"$f":"IF(OR(O398+1>Simulador!$C$53,O398=0),0,O398+1)","v":0},0,0,0,{"$f":"IF($O399=0,0,(S398-R398)*((1+Simulador!$C$34)^(1/12)))","v":0},null,1,0,0,{"$f":"IF(O399=0,0,X$6/((1+Simulador!$C$34)^((O399-O$6)/12)))*(1+AA399)","v":0},0,null,{"$f":"IF(Simulador!$C$54=12,0,IF(O399/12=INT(O399/12),1,0))","v":0}]
[{"$f":"IF(OR(A399+1>Simulador!$C$46,A399=0),0,A399+1)","v":0},0,0,0,{"$f":"IF($A400=0,0,(E399-D399)*((1+Simulador!$C$34)^(1/12)))","v":0},null,1,0,0,{"$f":"IF(A400=0,0,J$6/((1+Simulador!$C$34)^((A400-A$6)/12)))*(1+M400)","v":0},0,null,{"$f":"IF(Simulador!$C$47=12,0,IF(A400/12=INT(A400/12),1,0))","v":1},null,{"$f":"IF(OR(O399+1>Simulador!$C$53,O399=0),0,O399+1)","v":0},0,0,0,{"$f":"IF($O400=0,0,(S399-R399)*((1+Simulador!$C$34)^(1/12)))","v":0},null,1,0,0,{"$f":"IF(O400=0,0,X$6/((1+Simulador!$C$34)^((O400-O$6)/12)))*(1+AA400)","v":0},0,null,{"$f":"IF(Simulador!$C$54=12,0,IF(O400/12=INT(O400/12),1,0))","v":0}]
[{"$f":"IF(OR(A400+1>Simulador!$C$46,A400=0),0,A400+1)","v":0},0,0,0,{"$f":"IF($A401=0,0,(E400-D400)*((1+Simulador!$C$34)^(1/12)))","v":0},null,1,0,0,{"$f":"IF(A401=0,0,J$6/((1+Simulador!$C$34)^((A401-A$6)/12)))*(1+M401)","v":0},0,null,{"$f":"IF(Simulador!$C$47=12,0,IF(A401/12=INT(A401/12),1,0))","v":1},null,{"$f":"IF(OR(O400+1>Simulador!$C$53,O400=0),0,O400+1)","v":0},0,0,0,{"$f":"IF($O401=0,0,(S400-R400)*((1+Simulador!$C$34)^(1/12)))","v":0},null,1,0,0,{"$f":"IF(O401=0,0,X$6/((1+Simulador!$C$34)^((O401-O$6)/12)))*(1+AA401)","v":0},0,null,{"$f":"IF(Simulador!$C$54=12,0,IF(O401/12=INT(O401/12),1,0))","v":0}]
[{"$f":"IF(OR(A401+1>Simulador!$C$46,A401=0),0,A401+1)","v":0},0,0,0,{"$f":"IF($A402=0,0,(E401-D401)*((1+Simulador!$C$34)^(1/12)))","v":0},null,1,0,0,{"$f":"IF(A402=0,0,J$6/((1+Simulador!$C$34)^((A402-A$6)/12)))*(1+M402)","v":0},0,null,{"$f":"IF(Simulador!$C$47=12,0,IF(A402/12=INT(A402/12),1,0))","v":1},null,{"$f":"IF(OR(O401+1>Simulador!$C$53,O401=0),0,O401+1)","v":0},0,0,0,{"$f":"IF($O402=0,0,(S401-R401)*((1+Simulador!$C$34)^(1/12)))","v":0},null,1,0,0,{"$f":"IF(O402=0,0,X$6/((1+Simulador!$C$34)^((O402-O$6)/12)))*(1+AA402)","v":0},0,null,{"$f":"IF(Simulador!$C$54=12,0,IF(O402/12=INT(O402/12),1,0))","v":0}]
[{"$f":"IF(OR(A402+1>Simulador!$C$46,A402=0),0,A402+1)","v":0},0,0,0,{"$f":"IF($A403=0,0,(E402-D402)*((1+Simulador!$C$34)^(1/12)))","v":0},null,1,0,0,{"$f":"IF(A403=0,0,J$6/((1+Simulador!$C$34)^((A403-A$6)/12)))*(1+M403)","v":0},0,null,{"$f":"IF(Simulador!$C$47=12,0,IF(A403/12=INT(A403/12),1,0))","v":1},null,{"$f":"IF(OR(O402+1>Simulador!$C$53,O402=0),0,O402+1)","v":0},0,0,0,{"$f":"IF($O403=0,0,(S402-R402)*((1+Simulador!$C$34)^(1/12)))","v":0},null,1,0,0,{"$f":"IF(O403=0,0,X$6/((1+Simulador!$C$34)^((O403-O$6)/12)))*(1+AA403)","v":0},0,null,{"$f":"IF(Simulador!$C$54=12,0,IF(O403/12=INT(O403/12),1,0))","v":0}]
[{"$f":"IF(OR(A403+1>Simulador!$C$46,A403=0),0,A403+1)","v":0},0,0,0,{"$f":"IF($A404=0,0,(E403-D403)*((1+Simulador!$C$34)^(1/12)))","v":0},null,1,0,0,{"$f":"IF(A404=0,0,J$6/((1+Simulador!$C$34)^((A404-A$6)/12)))*(1+M404)","v":0},0,null,{"$f":"IF(Simulador!$C$47=12,0,IF(A404/12=INT(A404/12),1,0))","v":1},null,{"$f":"IF(OR(O403+1>Simulador!$C$53,O403=0),0,O403+1)","v":0},0,0,0,{"$f":"IF($O404=0,0,(S403-R403)*((1+Simulador!$C$34)^(1/12)))","v":0},null,1,0,0,{"$f":"IF(O404=0,0,X$6/((1+Simulador!$C$34)^((O404-O$6)/12)))*(1+AA404)","v":0},0,null,{"$f":"IF(Simulador!$C$54=12,0,IF(O404/12=INT(O404/12),1,0))","v":0}]
[{"$f":"IF(OR(A404+1>Simulador!$C$46,A404=0),0,A404+1)","v":0},0,0,0,{"$f":"IF($A405=0,0,(E404-D404)*((1+Simulador!$C$34)^(1/12)))","v":0},null,1,0,0,{"$f":"IF(A405=0,0,J$6/((1+Simulador!$C$34)^((A405-A$6)/12)))*(1+M405)","v":0},0,null,{"$f":"IF(Simulador!$C$47=12,0,IF(A405/12=INT(A405/12),1,0))","v":1},null,{"$f":"IF(OR(O404+1>Simulador!$C$53,O404=0),0,O404+1)","v":0},0,0,0,{"$f":"IF($O405=0,0,(S404-R404)*((1+Simulador!$C$34)^(1/12)))","v":0},null,1,0,0,{"$f":"IF(O405=0,0,X$6/((1+Simulador!$C$34)^((O405-O$6)/12)))*(1+AA405)","v":0},0,null,{"$f":"IF(Simulador!$C$54=12,0,IF(O405/12=INT(O405/12),1,0))","v":0}]
[{"$f":"IF(OR(A405+1>Simulador!$C$46,A405=0),0,A405+1)","v":0},0,0,0,{"$f":"IF($A406=0,0,(E405-D405)*((1+Simulador!$C$34)^(1/12)))","v":0},null,1,0,0,{"$f":"IF(A406=0,0,J$6/((1+Simulador!$C$34)^((A406-A$6)/12)))*(1+M406)","v":0},0,null,{"$f":"IF(Simulador!$C$47=12,0,IF(A406/12=INT(A406/12),1,0))","v":1},null,{"$f":"IF(OR(O405+1>Simulador!$C$53,O405=0),0,O405+1)","v":0},0,0,0,{"$f":"IF($O406=0,0,(S405-R405)*((1+Simulador!$C$34)^(1/12)))","v":0},null,1,0,0,{"$f":"IF(O406=0,0,X$6/((1+Simulador!$C$34)^((O406-O$6)/12)))*(1+AA406)","v":0},0,null,{"$f":"IF(Simulador!$C$54=12,0,IF(O406/12=INT(O406/12),1,0))","v":0}]
[{"$f":"IF(OR(A406+1>Simulador!$C$46,A406=0),0,A406+1)","v":0},0,0,0,{"$f":"IF($A407=0,0,(E406-D406)*((1+Simulador!$C$34)^(1/12)))","v":0},null,1,0,0,{"$f":"IF(A407=0,0,J$6/((1+Simulador!$C$34)^((A407-A$6)/12)))*(1+M407)","v":0},0,null,{"$f":"IF(Simulador!$C$47=12,0,IF(A407/12=INT(A407/12),1,0))","v":1},null,{"$f":"IF(OR(O406+1>Simulador!$C$53,O406=0),0,O406+1)","v":0},0,0,0,{"$f":"IF($O407=0,0,(S406-R406)*((1+Simulador!$C$34)^(1/12)))","v":0},null,1,0,0,{"$f":"IF(O407=0,0,X$6/((1+Simulador!$C$34)^((O407-O$6)/12)))*(1+AA407)","v":0},0,null,{"$f":"IF(Simulador!$C$54=12,0,IF(O407/12=INT(O407/12),1,0))","v":0}]
[{"$f":"IF(OR(A407+1>Simulador!$C$46,A407=0),0,A407+1)","v":0},0,0,0,{"$f":"IF($A408=0,0,(E407-D407)*((1+Simulador!$C$34)^(1/12)))","v":0},null,1,0,0,{"$f":"IF(A408=0,0,J$6/((1+Simulador!$C$34)^((A408-A$6)/12)))*(1+M408)","v":0},0,null,{"$f":"IF(Simulador!$C$47=12,0,IF(A408/12=INT(A408/12),1,0))","v":1},null,{"$f":"IF(OR(O407+1>Simulador!$C$53,O407=0),0,O407+1)","v":0},0,0,0,{"$f":"IF($O408=0,0,(S407-R407)*((1+Simulador!$C$34)^(1/12)))","v":0},null,1,0,0,{"$f":"IF(O408=0,0,X$6/((1+Simulador!$C$34)^((O408-O$6)/12)))*(1+AA408)","v":0},0,null,{"$f":"IF(Simulador!$C$54=12,0,IF(O408/12=INT(O408/12),1,0))","v":0}]
[{"$f":"IF(OR(A408+1>Simulador!$C$46,A408=0),0,A408+1)","v":0},0,0,0,{"$f":"IF($A409=0,0,(E408-D408)*((1+Simulador!$C$34)^(1/12)))","v":0},null,1,0,0,{"$f":"IF(A409=0,0,J$6/((1+Simulador!$C$34)^((A409-A$6)/12)))*(1+M409)","v":0},0,null,{"$f":"IF(Simulador!$C$47=12,0,IF(A409/12=INT(A409/12),1,0))","v":1},null,{"$f":"IF(OR(O408+1>Simulador!$C$53,O408=0),0,O408+1)","v":0},0,0,0,{"$f":"IF($O409=0,0,(S408-R408)*((1+Simulador!$C$34)^(1/12)))","v":0},null,1,0,0,{"$f":"IF(O409=0,0,X$6/((1+Simulador!$C$34)^((O409-O$6)/12)))*(1+AA409)","v":0},0,null,{"$f":"IF(Simulador!$C$54=12,0,IF(O409/12=INT(O409/12),1,0))","v":0}]
[{"$f":"IF(OR(A409+1>Simulador!$C$46,A409=0),0,A409+1)","v":0},0,0,0,{"$f":"IF($A410=0,0,(E409-D409)*((1+Simulador!$C$34)^(1/12)))","v":0},null,1,0,0,{"$f":"IF(A410=0,0,J$6/((1+Simulador!$C$34)^((A410-A$6)/12)))*(1+M410)","v":0},0,null,{"$f":"IF(Simulador!$C$47=12,0,IF(A410/12=INT(A410/12),1,0))","v":1},null,{"$f":"IF(OR(O409+1>Simulador!$C$53,O409=0),0,O409+1)","v":0},0,0,0,{"$f":"IF($O410=0,0,(S409-R409)*((1+Simulador!$C$34)^(1/12)))","v":0},null,1,0,0,{"$f":"IF(O410=0,0,X$6/((1+Simulador!$C$34)^((O410-O$6)/12)))*(1+AA410)","v":0},0,null,{"$f":"IF(Simulador!$C$54=12,0,IF(O410/12=INT(O410/12),1,0))","v":0}]
[{"$f":"IF(OR(A410+1>Simulador!$C$46,A410=0),0,A410+1)","v":0},0,0,0,{"$f":"IF($A411=0,0,(E410-D410)*((1+Simulador!$C$34)^(1/12)))","v":0},null,1,0,0,{"$f":"IF(A411=0,0,J$6/((1+Simulador!$C$34)^((A411-A$6)/12)))*(1+M411)","v":0},0,null,{"$f":"IF(Simulador!$C$47=12,0,IF(A411/12=INT(A411/12),1,0))","v":1},null,{"$f":"IF(OR(O410+1>Simulador!$C$53,O410=0),0,O410+1)","v":0},0,0,0,{"$f":"IF($O411=0,0,(S410-R410)*((1+Simulador!$C$34)^(1/12)))","v":0},null,1,0,0,{"$f":"IF(O411=0,0,X$6/((1+Simulador!$C$34)^((O411-O$6)/12)))*(1+AA411)","v":0},0,null,{"$f":"IF(Simulador!$C$54=12,0,IF(O411/12=INT(O411/12),1,0))","v":0}]
[{"$f":"IF(OR(A411+1>Simulador!$C$46,A411=0),0,A411+1)","v":0},0,0,0,{"$f":"IF($A412=0,0,(E411-D411)*((1+Simulador!$C$34)^(1/12)))","v":0},null,1,0,0,{"$f":"IF(A412=0,0,J$6/((1+Simulador!$C$34)^((A412-A$6)/12)))*(1+M412)","v":0},0,null,{"$f":"IF(Simulador!$C$47=12,0,IF(A412/12=INT(A412/12),1,0))","v":1},null,{"$f":"IF(OR(O411+1>Simulador!$C$53,O411=0),0,O411+1)","v":0},0,0,0,{"$f":"IF($O412=0,0,(S411-R411)*((1+Simulador!$C$34)^(1/12)))","v":0},null,1,0,0,{"$f":"IF(O412=0,0,X$6/((1+Simulador!$C$34)^((O412-O$6)/12)))*(1+AA412)","v":0},0,null,{"$f":"IF(Simulador!$C$54=12,0,IF(O412/12=INT(O412/12),1,0))","v":0}]
[{"$f":"IF(OR(A412+1>Simulador!$C$46,A412=0),0,A412+1)","v":0},0,0,0,{"$f":"IF($A413=0,0,(E412-D412)*((1+Simulador!$C$34)^(1/12)))","v":0},null,1,0,0,{"$f":"IF(A413=0,0,J$6/((1+Simulador!$C$34)^((A413-A$6)/12)))*(1+M413)","v":0},0,null,{"$f":"IF(Simulador!$C$47=12,0,IF(A413/12=INT(A413/12),1,0))","v":1},null,{"$f":"IF(OR(O412+1>Simulador!$C$53,O412=0),0,O412+1)","v":0},0,0,0,{"$f":"IF($O413=0,0,(S412-R412)*((1+Simulador!$C$34)^(1/12)))","v":0},null,1,0,0,{"$f":"IF(O413=0,0,X$6/((1+Simulador!$C$34)^((O413-O$6)/12)))*(1+AA413)","v":0},0,null,{"$f":"IF(Simulador!$C$54=12,0,IF(O413/12=INT(O413/12),1,0))","v":0}]
[{"$f":"IF(OR(A413+1>Simulador!$C$46,A413=0),0,A413+1)","v":0},0,0,0,{"$f":"IF($A414=0,0,(E413-D413)*((1+Simulador!$C$34)^(1/12)))","v":0},null,1,0,0,{"$f":"IF(A414=0,0,J$6/((1+Simulador!$C$34)^((A414-A$6)/12)))*(1+M414)","v":0},0,null,{"$f":"IF(Simulador!$C$47=12,0,IF(A414/12=INT(A414/12),1,0))","v":1},null,{"$f":"IF(OR(O413+1>Simulador!$C$53,O413=0),0,O413+1)","v":0},0,0,0,{"$f":"IF($O414=0,0,(S413-R413)*((1+Simulador!$C$34)^(1/12)))","v":0},null,1,0,0,{"$f":"IF(O414=0,0,X$6/((1+Simulador!$C$34)^((O414-O$6)/12)))*(1+AA414)","v":0},0,null,{"$f":"IF(Simulador!$C$54=12,0,IF(O414/12=INT(O414/12),1,0))","v":0}]
[{"$f":"IF(OR(A414+1>Simulador!$C$46,A414=0),0,A414+1)","v":0},0,0,0,{"$f":"IF($A415=0,0,(E414-D414)*((1+Simulador!$C$34)^(1/12)))","v":0},null,1,0,0,{"$f":"IF(A415=0,0,J$6/((1+Simulador!$C$34)^((A415-A$6)/12)))*(1+M415)","v":0},0,null,{"$f":"IF(Simulador!$C$47=12,0,IF(A415/12=INT(A415/12),1,0))","v":1},null,{"$f":"IF(OR(O414+1>Simulador!$C$53,O414=0),0,O414+1)","v":0},0,0,0,{"$f":"IF($O415=0,0,(S414-R414)*((1+Simulador!$C$34)^(1/12)))","v":0},null,1,0,0,{"$f":"IF(O415=0,0,X$6/((1+Simulador!$C$34)^((O415-O$6)/12)))*(1+AA415)","v":0},0,null,{"$f":"IF(Simulador!$C$54=12,0,IF(O415/12=INT(O415/12),1,0))","v":0}]
[{"$f":"IF(OR(A415+1>Simulador!$C$46,A415=0),0,A415+1)","v":0},0,0,0,{"$f":"IF($A416=0,0,(E415-D415)*((1+Simulador!$C$34)^(1/12)))","v":0},null,1,0,0,{"$f":"IF(A416=0,0,J$6/((1+Simulador!$C$34)^((A416-A$6)/12)))*(1+M416)","v":0},0,null,{"$f":"IF(Simulador!$C$47=12,0,IF(A416/12=INT(A416/12),1,0))","v":1},null,{"$f":"IF(OR(O415+1>Simulador!$C$53,O415=0),0,O415+1)","v":0},0,0,0,{"$f":"IF($O416=0,0,(S415-R415)*((1+Simulador!$C$34)^(1/12)))","v":0},null,1,0,0,{"$f":"IF(O416=0,0,X$6/((1+Simulador!$C$34)^((O416-O$6)/12)))*(1+AA416)","v":0},0,null,{"$f":"IF(Simulador!$C$54=12,0,IF(O416/12=INT(O416/12),1,0))","v":0}]
[{"$f":"IF(OR(A416+1>Simulador!$C$46,A416=0),0,A416+1)","v":0},0,0,0,{"$f":"IF($A417=0,0,(E416-D416)*((1+Simulador!$C$34)^(1/12)))","v":0},null,1,0,0,{"$f":"IF(A417=0,0,J$6/((1+Simulador!$C$34)^((A417-A$6)/12)))*(1+M417)","v":0},0,null,{"$f":"IF(Simulador!$C$47=12,0,IF(A417/12=INT(A417/12),1,0))","v":1},null,{"$f":"IF(OR(O416+1>Simulador!$C$53,O416=0),0,O416+1)","v":0},0,0,0,{"$f":"IF($O417=0,0,(S416-R416)*((1+Simulador!$C$34)^(1/12)))","v":0},null,1,0,0,{"$f":"IF(O417=0,0,X$6/((1+Simulador!$C$34)^((O417-O$6)/12)))*(1+AA417)","v":0},0,null,{"$f":"IF(Simulador!$C$54=12,0,IF(O417/12=INT(O417/12),1,0))","v":0}]
[{"$f":"IF(OR(A417+1>Simulador!$C$46,A417=0),0,A417+1)","v":0},0,0,0,{"$f":"IF($A418=0,0,(E417-D417)*((1+Simulador!$C$34)^(1/12)))","v":0},null,1,0,0,{"$f":"IF(A418=0,0,J$6/((1+Simulador!$C$34)^((A418-A$6)/12)))*(1+M418)","v":0},0,null,{"$f":"IF(Simulador!$C$47=12,0,IF(A418/12=INT(A418/12),1,0))","v":1},null,{"$f":"IF(OR(O417+1>Simulador!$C$53,O417=0),0,O417+1)","v":0},0,0,0,{"$f":"IF($O418=0,0,(S417-R417)*((1+Simulador!$C$34)^(1/12)))","v":0},null,1,0,0,{"$f":"IF(O418=0,0,X$6/((1+Simulador!$C$34)^((O418-O$6)/12)))*(1+AA418)","v":0},0,null,{"$f":"IF(Simulador!$C$54=12,0,IF(O418/12=INT(O418/12),1,0))","v":0}]
[{"$f":"IF(OR(A418+1>Simulador!$C$46,A418=0),0,A418+1)","v":0},0,0,0,{"$f":"IF($A419=0,0,(E418-D418)*((1+Simulador!$C$34)^(1/12)))","v":0},null,1,0,0,{"$f":"IF(A419=0,0,J$6/((1+Simulador!$C$34)^((A419-A$6)/12)))*(1+M419)","v":0},0,null,{"$f":"IF(Simulador!$C$47=12,0,IF(A419/12=INT(A419/12),1,0))","v":1},null,{"$f":"IF(OR(O418+1>Simulador!$C$53,O418=0),0,O418+1)","v":0},0,0,0,{"$f":"IF($O419=0,0,(S418-R418)*((1+Simulador!$C$34)^(1/12)))","v":0},null,1,0,0,{"$f":"IF(O419=0,0,X$6/((1+Simulador!$C$34)^((O419-O$6)/12)))*(1+AA419)","v":0},0,null,{"$f":"IF(Simulador!$C$54=12,0,IF(O419/12=INT(O419/12),1,0))","v":0}]
[{"$f":"IF(OR(A419+1>Simulador!$C$46,A419=0),0,A419+1)","v":0},0,0,0,{"$f":"IF($A420=0,0,(E419-D419)*((1+Simulador!$C$34)^(1/12)))","v":0},null,1,0,0,{"$f":"IF(A420=0,0,J$6/((1+Simulador!$C$34)^((A420-A$6)/12)))*(1+M420)","v":0},0,null,{"$f":"IF(Simulador!$C$47=12,0,IF(A420/12=INT(A420/12),1,0))","v":1},null,{"$f":"IF(OR(O419+1>Simulador!$C$53,O419=0),0,O419+1)","v":0},0,0,0,{"$f":"IF($O420=0,0,(S419-R419)*((1+Simulador!$C$34)^(1/12)))","v":0},null,1,0,0,{"$f":"IF(O420=0,0,X$6/((1+Simulador!$C$34)^((O420-O$6)/12)))*(1+AA420)","v":0},0,null,{"$f":"IF(Simulador!$C$54=12,0,IF(O420/12=INT(O420/12),1,0))","v":0}]
[{"$f":"IF(OR(A420+1>Simulador!$C$46,A420=0),0,A420+1)","v":0},0,0,0,{"$f":"IF($A421=0,0,(E420-D420)*((1+Simulador!$C$34)^(1/12)))","v":0},null,1,0,0,{"$f":"IF(A421=0,0,J$6/((1+Simulador!$C$34)^((A421-A$6)/12)))*(1+M421)","v":0},0,null,{"$f":"IF(Simulador!$C$47=12,0,IF(A421/12=INT(A421/12),1,0))","v":1},null,{"$f":"IF(OR(O420+1>Simulador!$C$53,O420=0),0,O420+1)","v":0},0,0,0,{"$f":"IF($O421=0,0,(S420-R420)*((1+Simulador!$C$34)^(1/12)))","v":0},null,1,0,0,{"$f":"IF(O421=0,0,X$6/((1+Simulador!$C$34)^((O421-O$6)/12)))*(1+AA421)","v":0},0,null,{"$f":"IF(Simulador!$C$54=12,0,IF(O421/12=INT(O421/12),1,0))","v":0}]
[{"$f":"IF(OR(A421+1>Simulador!$C$46,A421=0),0,A421+1)","v":0},0,0,0,{"$f":"IF($A422=0,0,(E421-D421)*((1+Simulador!$C$34)^(1/12)))","v":0},null,1,0,0,{"$f":"IF(A422=0,0,J$6/((1+Simulador!$C$34)^((A422-A$6)/12)))*(1+M422)","v":0},0,null,{"$f":"IF(Simulador!$C$47=12,0,IF(A422/12=INT(A422/12),1,0))","v":1},null,{"$f":"IF(OR(O421+1>Simulador!$C$53,O421=0),0,O421+1)","v":0},0,0,0,{"$f":"IF($O422=0,0,(S421-R421)*((1+Simulador!$C$34)^(1/12)))","v":0},null,1,0,0,{"$f":"IF(O422=0,0,X$6/((1+Simulador!$C$34)^((O422-O$6)/12)))*(1+AA422)","v":0},0,null,{"$f":"IF(Simulador!$C$54=12,0,IF(O422/12=INT(O422/12),1,0))","v":0}]
[{"$f":"IF(OR(A422+1>Simulador!$C$46,A422=0),0,A422+1)","v":0},0,0,0,{"$f":"IF($A423=0,0,(E422-D422)*((1+Simulador!$C$34)^(1/12)))","v":0},null,1,0,0,{"$f":"IF(A423=0,0,J$6/((1+Simulador!$C$34)^((A423-A$6)/12)))*(1+M423)","v":0},0,null,{"$f":"IF(Simulador!$C$47=12,0,IF(A423/12=INT(A423/12),1,0))","v":1},null,{"$f":"IF(OR(O422+1>Simulador!$C$53,O422=0),0,O422+1)","v":0},0,0,0,{"$f":"IF($O423=0,0,(S422-R422)*((1+Simulador!$C$34)^(1/12)))","v":0},null,1,0,0,{"$f":"IF(O423=0,0,X$6/((1+Simulador!$C$34)^((O423-O$6)/12)))*(1+AA423)","v":0},0,null,{"$f":"IF(Simulador!$C$54=12,0,IF(O423/12=INT(O423/12),1,0))","v":0}]
[{"$f":"IF(OR(A423+1>Simulador!$C$46,A423=0),0,A423+1)","v":0},0,0,0,{"$f":"IF($A424=0,0,(E423-D423)*((1+Simulador!$C$34)^(1/12)))","v":0},null,1,0,0,{"$f":"IF(A424=0,0,J$6/((1+Simulador!$C$34)^((A424-A$6)/12)))*(1+M424)","v":0},0,null,{"$f":"IF(Simulador!$C$47=12,0,IF(A424/12=INT(A424/12),1,0))","v":1},null,{"$f":"IF(OR(O423+1>Simulador!$C$53,O423=0),0,O423+1)","v":0},0,0,0,{"$f":"IF($O424=0,0,(S423-R423)*((1+Simulador!$C$34)^(1/12)))","v":0},null,1,0,0,{"$f":"IF(O424=0,0,X$6/((1+Simulador!$C$34)^((O424-O$6)/12)))*(1+AA424)","v":0},0,null,{"$f":"IF(Simulador!$C$54=12,0,IF(O424/12=INT(O424/12),1,0))","v":0}]
[{"$f":"IF(OR(A424+1>Simulador!$C$46,A424=0),0,A424+1)","v":0},0,0,0,{"$f":"IF($A425=0,0,(E424-D424)*((1+Simulador!$C$34)^(1/12)))","v":0},null,1,0,0,{"$f":"IF(A425=0,0,J$6/((1+Simulador!$C$34)^((A425-A$6)/12)))*(1+M425)","v":0},0,null,{"$f":"IF(Simulador!$C$47=12,0,IF(A425/12=INT(A425/12),1,0))","v":1},null,{"$f":"IF(OR(O424+1>Simulador!$C$53,O424=0),0,O424+1)","v":0},0,0,0,{"$f":"IF($O425=0,0,(S424-R424)*((1+Simulador!$C$34)^(1/12)))","v":0},null,1,0,0,{"$f":"IF(O425=0,0,X$6/((1+Simulador!$C$34)^((O425-O$6)/12)))*(1+AA425)","v":0},0,null,{"$f":"IF(Simulador!$C$54=12,0,IF(O425/12=INT(O425/12),1,0))","v":0}]
[{"$f":"IF(OR(A425+1>Simulador!$C$46,A425=0),0,A425+1)","v":0},0,0,0,{"$f":"IF($A426=0,0,(E425-D425)*((1+Simulador!$C$34)^(1/12)))","v":0},null,1,0,0,{"$f":"IF(A426=0,0,J$6/((1+Simulador!$C$34)^((A426-A$6)/12)))*(1+M426)","v":0},0,null,{"$f":"IF(Simulador!$C$47=12,0,IF(A426/12=INT(A426/12),1,0))","v":1},null,{"$f":"IF(OR(O425+1>Simulador!$C$53,O425=0),0,O425+1)","v":0},0,0,0,{"$f":"IF($O426=0,0,(S425-R425)*((1+Simulador!$C$34)^(1/12)))","v":0},null,1,0,0,{"$f":"IF(O426=0,0,X$6/((1+Simulador!$C$34)^((O426-O$6)/12)))*(1+AA426)","v":0},0,null,{"$f":"IF(Simulador!$C$54=12,0,IF(O426/12=INT(O426/12),1,0))","v":0}]
[{"$f":"IF(OR(A426+1>Simulador!$C$46,A426=0),0,A426+1)","v":0},0,0,0,{"$f":"IF($A427=0,0,(E426-D426)*((1+Simulador!$C$34)^(1/12)))","v":0},null,1,0,0,{"$f":"IF(A427=0,0,J$6/((1+Simulador!$C$34)^((A427-A$6)/12)))*(1+M427)","v":0},0,null,{"$f":"IF(Simulador!$C$47=12,0,IF(A427/12=INT(A427/12),1,0))","v":1},null,{"$f":"IF(OR(O426+1>Simulador!$C$53,O426=0),0,O426+1)","v":0},0,0,0,{"$f":"IF($O427=0,0,(S426-R426)*((1+Simulador!$C$34)^(1/12)))","v":0},null,1,0,0,{"$f":"IF(O427=0,0,X$6/((1+Simulador!$C$34)^((O427-O$6)/12)))*(1+AA427)","v":0},0,null,{"$f":"IF(Simulador!$C$54=12,0,IF(O427/12=INT(O427/12),1,0))","v":0}]
[{"$f":"IF(OR(A427+1>Simulador!$C$46,A427=0),0,A427+1)","v":0},0,0,0,{"$f":"IF($A428=0,0,(E427-D427)*((1+Simulador!$C$34)^(1/12)))","v":0},null,1,0,0,{"$f":"IF(A428=0,0,J$6/((1+Simulador!$C$34)^((A428-A$6)/12)))*(1+M428)","v":0},0,null,{"$f":"IF(Simulador!$C$47=12,0,IF(A428/12=INT(A428/12),1,0))","v":1},null,{"$f":"IF(OR(O427+1>Simulador!$C$53,O427=0),0,O427+1)","v":0},0,0,0,{"$f":"IF($O428=0,0,(S427-R427)*((1+Simulador!$C$34)^(1/12)))","v":0},null,1,0,0,{"$f":"IF(O428=0,0,X$6/((1+Simulador!$C$34)^((O428-O$6)/12)))*(1+AA428)","v":0},0,null,{"$f":"IF(Simulador!$C$54=12,0,IF(O428/12=INT(O428/12),1,0))","v":0}]
[{"$f":"IF(OR(A428+1>Simulador!$C$46,A428=0),0,A428+1)","v":0},0,0,0,{"$f":"IF($A429=0,0,(E428-D428)*((1+Simulador!$C$34)^(1/12)))","v":0},null,1,0,0,{"$f":"IF(A429=0,0,J$6/((1+Simulador!$C$34)^((A429-A$6)/12)))*(1+M429)","v":0},0,null,{"$f":"IF(Simulador!$C$47=12,0,IF(A429/12=INT(A429/12),1,0))","v":1},null,{"$f":"IF(OR(O428+1>Simulador!$C$53,O428=0),0,O428+1)","v":0},0,0,0,{"$f":"IF($O429=0,0,(S428-R428)*((1+Simulador!$C$34)^(1/12)))","v":0},null,1,0,0,{"$f":"IF(O429=0,0,X$6/((1+Simulador!$C$34)^((O429-O$6)/12)))*(1+AA429)","v":0},0,null,{"$f":"IF(Simulador!$C$54=12,0,IF(O429/12=INT(O429/12),1,0))","v":0}]
[{"$f":"IF(OR(A429+1>Simulador!$C$46,A429=0),0,A429+1)","v":0},0,0,0,{"$f":"IF($A430=0,0,(E429-D429)*((1+Simulador!$C$34)^(1/12)))","v":0},null,1,0,0,{"$f":"IF(A430=0,0,J$6/((1+Simulador!$C$34)^((A430-A$6)/12)))*(1+M430)","v":0},0,null,{"$f":"IF(Simulador!$C$47=12,0,IF(A430/12=INT(A430/12),1,0))","v":1},null,{"$f":"IF(OR(O429+1>Simulador!$C$53,O429=0),0,O429+1)","v":0},0,0,0,{"$f":"IF($O430=0,0,(S429-R429)*((1+Simulador!$C$34)^(1/12)))","v":0},null,1,0,0,{"$f":"IF(O430=0,0,X$6/((1+Simulador!$C$34)^((O430-O$6)/12)))*(1+AA430)","v":0},0,null,{"$f":"IF(Simulador!$C$54=12,0,IF(O430/12=INT(O430/12),1,0))","v":0}]
[{"$f":"IF(OR(A430+1>Simulador!$C$46,A430=0),0,A430+1)","v":0},0,0,0,{"$f":"IF($A431=0,0,(E430-D430)*((1+Simulador!$C$34)^(1/12)))","v":0},null,1,0,0,{"$f":"IF(A431=0,0,J$6/((1+Simulador!$C$34)^((A431-A$6)/12)))*(1+M431)","v":0},0,null,{"$f":"IF(Simulador!$C$47=12,0,IF(A431/12=INT(A431/12),1,0))","v":1},null,{"$f":"IF(OR(O430+1>Simulador!$C$53,O430=0),0,O430+1)","v":0},0,0,0,{"$f":"IF($O431=0,0,(S430-R430)*((1+Simulador!$C$34)^(1/12)))","v":0},null,1,0,0,{"$f":"IF(O431=0,0,X$6/((1+Simulador!$C$34)^((O431-O$6)/12)))*(1+AA431)","v":0},0,null,{"$f":"IF(Simulador!$C$54=12,0,IF(O431/12=INT(O431/12),1,0))","v":0}]
[{"$f":"IF(OR(A431+1>Simulador!$C$46,A431=0),0,A431+1)","v":0},0,0,0,{"$f":"IF($A432=0,0,(E431-D431)*((1+Simulador!$C$34)^(1/12)))","v":0},null,1,0,0,{"$f":"IF(A432=0,0,J$6/((1+Simulador!$C$34)^((A432-A$6)/12)))*(1+M432)","v":0},0,null,{"$f":"IF(Simulador!$C$47=12,0,IF(A432/12=INT(A432/12),1,0))","v":1},null,{"$f":"IF(OR(O431+1>Simulador!$C$53,O431=0),0,O431+1)","v":0},0,0,0,{"$f":"IF($O432=0,0,(S431-R431)*((1+Simulador!$C$34)^(1/12)))","v":0},null,1,0,0,{"$f":"IF(O432=0,0,X$6/((1+Simulador!$C$34)^((O432-O$6)/12)))*(1+AA432)","v":0},0,null,{"$f":"IF(Simulador!$C$54=12,0,IF(O432/12=INT(O432/12),1,0))","v":0}]
[{"$f":"IF(OR(A432+1>Simulador!$C$46,A432=0),0,A432+1)","v":0},0,0,0,{"$f":"IF($A433=0,0,(E432-D432)*((1+Simulador!$C$34)^(1/12)))","v":0},null,1,0,0,{"$f":"IF(A433=0,0,J$6/((1+Simulador!$C$34)^((A433-A$6)/12)))*(1+M433)","v":0},0,null,{"$f":"IF(Simulador!$C$47=12,0,IF(A433/12=INT(A433/12),1,0))","v":1},null,{"$f":"IF(OR(O432+1>Simulador!$C$53,O432=0),0,O432+1)","v":0},0,0,0,{"$f":"IF($O433=0,0,(S432-R432)*((1+Simulador!$C$34)^(1/12)))","v":0},null,1,0,0,{"$f":"IF(O433=0,0,X$6/((1+Simulador!$C$34)^((O433-O$6)/12)))*(1+AA433)","v":0},0,null,{"$f":"IF(Simulador!$C$54=12,0,IF(O433/12=INT(O433/12),1,0))","v":0}]
[{"$f":"IF(OR(A433+1>Simulador!$C$46,A433=0),0,A433+1)","v":0},0,0,0,{"$f":"IF($A434=0,0,(E433-D433)*((1+Simulador!$C$34)^(1/12)))","v":0},null,1,0,0,{"$f":"IF(A434=0,0,J$6/((1+Simulador!$C$34)^((A434-A$6)/12)))*(1+M434)","v":0},0,null,{"$f":"IF(Simulador!$C$47=12,0,IF(A434/12=INT(A434/12),1,0))","v":1},null,{"$f":"IF(OR(O433+1>Simulador!$C$53,O433=0),0,O433+1)","v":0},0,0,0,{"$f":"IF($O434=0,0,(S433-R433)*((1+Simulador!$C$34)^(1/12)))","v":0},null,1,0,0,{"$f":"IF(O434=0,0,X$6/((1+Simulador!$C$34)^((O434-O$6)/12)))*(1+AA434)","v":0},0,null,{"$f":"IF(Simulador!$C$54=12,0,IF(O434/12=INT(O434/12),1,0))","v":0}]
[{"$f":"IF(OR(A434+1>Simulador!$C$46,A434=0),0,A434+1)","v":0},0,0,0,{"$f":"IF($A435=0,0,(E434-D434)*((1+Simulador!$C$34)^(1/12)))","v":0},null,1,0,0,{"$f":"IF(A435=0,0,J$6/((1+Simulador!$C$34)^((A435-A$6)/12)))*(1+M435)","v":0},0,null,{"$f":"IF(Simulador!$C$47=12,0,IF(A435/12=INT(A435/12),1,0))","v":1},null,{"$f":"IF(OR(O434+1>Simulador!$C$53,O434=0),0,O434+1)","v":0},0,0,0,{"$f":"IF($O435=0,0,(S434-R434)*((1+Simulador!$C$34)^(1/12)))","v":0},null,1,0,0,{"$f":"IF(O435=0,0,X$6/((1+Simulador!$C$34)^((O435-O$6)/12)))*(1+AA435)","v":0},0,null,{"$f":"IF(Simulador!$C$54=12,0,IF(O435/12=INT(O435/12),1,0))","v":0}]
[{"$f":"IF(OR(A435+1>Simulador!$C$46,A435=0),0,A435+1)","v":0},0,0,0,{"$f":"IF($A436=0,0,(E435-D435)*((1+Simulador!$C$34)^(1/12)))","v":0},null,1,0,0,{"$f":"IF(A436=0,0,J$6/((1+Simulador!$C$34)^((A436-A$6)/12)))*(1+M436)","v":0},0,null,{"$f":"IF(Simulador!$C$47=12,0,IF(A436/12=INT(A436/12),1,0))","v":1},null,{"$f":"IF(OR(O435+1>Simulador!$C$53,O435=0),0,O435+1)","v":0},0,0,0,{"$f":"IF($O436=0,0,(S435-R435)*((1+Simulador!$C$34)^(1/12)))","v":0},null,1,0,0,{"$f":"IF(O436=0,0,X$6/((1+Simulador!$C$34)^((O436-O$6)/12)))*(1+AA436)","v":0},0,null,{"$f":"IF(Simulador!$C$54=12,0,IF(O436/12=INT(O436/12),1,0))","v":0}]
[{"$f":"IF(OR(A436+1>Simulador!$C$46,A436=0),0,A436+1)","v":0},0,0,0,{"$f":"IF($A437=0,0,(E436-D436)*((1+Simulador!$C$34)^(1/12)))","v":0},null,1,0,0,{"$f":"IF(A437=0,0,J$6/((1+Simulador!$C$34)^((A437-A$6)/12)))*(1+M437)","v":0},0,null,{"$f":"IF(Simulador!$C$47=12,0,IF(A437/12=INT(A437/12),1,0))","v":1},null,{"$f":"IF(OR(O436+1>Simulador!$C$53,O436=0),0,O436+1)","v":0},0,0,0,{"$f":"IF($O437=0,0,(S436-R436)*((1+Simulador!$C$34)^(1/12)))","v":0},null,1,0,0,{"$f":"IF(O437=0,0,X$6/((1+Simulador!$C$34)^((O437-O$6)/12)))*(1+AA437)","v":0},0,null,{"$f":"IF(Simulador!$C$54=12,0,IF(O437/12=INT(O437/12),1,0))","v":0}]
[{"$f":"IF(OR(A437+1>Simulador!$C$46,A437=0),0,A437+1)","v":0},0,0,0,{"$f":"IF($A438=0,0,(E437-D437)*((1+Simulador!$C$34)^(1/12)))","v":0},null,1,0,0,{"$f":"IF(A438=0,0,J$6/((1+Simulador!$C$34)^((A438-A$6)/12)))*(1+M438)","v":0},0,null,{"$f":"IF(Simulador!$C$47=12,0,IF(A438/12=INT(A438/12),1,0))","v":1},null,{"$f":"IF(OR(O437+1>Simulador!$C$53,O437=0),0,O437+1)","v":0},0,0,0,{"$f":"IF($O438=0,0,(S437-R437)*((1+Simulador!$C$34)^(1/12)))","v":0},null,1,0,0,{"$f":"IF(O438=0,0,X$6/((1+Simulador!$C$34)^((O438-O$6)/12)))*(1+AA438)","v":0},0,null,{"$f":"IF(Simulador!$C$54=12,0,IF(O438/12=INT(O438/12),1,0))","v":0}]
[{"$f":"IF(OR(A438+1>Simulador!$C$46,A438=0),0,A438+1)","v":0},0,0,0,{"$f":"IF($A439=0,0,(E438-D438)*((1+Simulador!$C$34)^(1/12)))","v":0},null,1,0,0,{"$f":"IF(A439=0,0,J$6/((1+Simulador!$C$34)^((A439-A$6)/12)))*(1+M439)","v":0},0,null,{"$f":"IF(Simulador!$C$47=12,0,IF(A439/12=INT(A439/12),1,0))","v":1},null,{"$f":"IF(OR(O438+1>Simulador!$C$53,O438=0),0,O438+1)","v":0},0,0,0,{"$f":"IF($O439=0,0,(S438-R438)*((1+Simulador!$C$34)^(1/12)))","v":0},null,1,0,0,{"$f":"IF(O439=0,0,X$6/((1+Simulador!$C$34)^((O439-O$6)/12)))*(1+AA439)","v":0},0,null,{"$f":"IF(Simulador!$C$54=12,0,IF(O439/12=INT(O439/12),1,0))","v":0}]
[{"$f":"IF(OR(A439+1>Simulador!$C$46,A439=0),0,A439+1)","v":0},0,0,0,{"$f":"IF($A440=0,0,(E439-D439)*((1+Simulador!$C$34)^(1/12)))","v":0},null,1,0,0,{"$f":"IF(A440=0,0,J$6/((1+Simulador!$C$34)^((A440-A$6)/12)))*(1+M440)","v":0},0,null,{"$f":"IF(Simulador!$C$47=12,0,IF(A440/12=INT(A440/12),1,0))","v":1},null,{"$f":"IF(OR(O439+1>Simulador!$C$53,O439=0),0,O439+1)","v":0},0,0,0,{"$f":"IF($O440=0,0,(S439-R439)*((1+Simulador!$C$34)^(1/12)))","v":0},null,1,0,0,{"$f":"IF(O440=0,0,X$6/((1+Simulador!$C$34)^((O440-O$6)/12)))*(1+AA440)","v":0},0,null,{"$f":"IF(Simulador!$C$54=12,0,IF(O440/12=INT(O440/12),1,0))","v":0}]
[{"$f":"IF(OR(A440+1>Simulador!$C$46,A440=0),0,A440+1)","v":0},0,0,0,{"$f":"IF($A441=0,0,(E440-D440)*((1+Simulador!$C$34)^(1/12)))","v":0},null,1,0,0,{"$f":"IF(A441=0,0,J$6/((1+Simulador!$C$34)^((A441-A$6)/12)))*(1+M441)","v":0},0,null,{"$f":"IF(Simulador!$C$47=12,0,IF(A441/12=INT(A441/12),1,0))","v":1},null,{"$f":"IF(OR(O440+1>Simulador!$C$53,O440=0),0,O440+1)","v":0},0,0,0,{"$f":"IF($O441=0,0,(S440-R440)*((1+Simulador!$C$34)^(1/12)))","v":0},null,1,0,0,{"$f":"IF(O441=0,0,X$6/((1+Simulador!$C$34)^((O441-O$6)/12)))*(1+AA441)","v":0},0,null,{"$f":"IF(Simulador!$C$54=12,0,IF(O441/12=INT(O441/12),1,0))","v":0}]
[{"$f":"IF(OR(A441+1>Simulador!$C$46,A441=0),0,A441+1)","v":0},0,0,0,{"$f":"IF($A442=0,0,(E441-D441)*((1+Simulador!$C$34)^(1/12)))","v":0},null,1,0,0,{"$f":"IF(A442=0,0,J$6/((1+Simulador!$C$34)^((A442-A$6)/12)))*(1+M442)","v":0},0,null,{"$f":"IF(Simulador!$C$47=12,0,IF(A442/12=INT(A442/12),1,0))","v":1},null,{"$f":"IF(OR(O441+1>Simulador!$C$53,O441=0),0,O441+1)","v":0},0,0,0,{"$f":"IF($O442=0,0,(S441-R441)*((1+Simulador!$C$34)^(1/12)))","v":0},null,1,0,0,{"$f":"IF(O442=0,0,X$6/((1+Simulador!$C$34)^((O442-O$6)/12)))*(1+AA442)","v":0},0,null,{"$f":"IF(Simulador!$C$54=12,0,IF(O442/12=INT(O442/12),1,0))","v":0}]
[{"$f":"IF(OR(A442+1>Simulador!$C$46,A442=0),0,A442+1)","v":0},0,0,0,{"$f":"IF($A443=0,0,(E442-D442)*((1+Simulador!$C$34)^(1/12)))","v":0},null,1,0,0,{"$f":"IF(A443=0,0,J$6/((1+Simulador!$C$34)^((A443-A$6)/12)))*(1+M443)","v":0},0,null,{"$f":"IF(Simulador!$C$47=12,0,IF(A443/12=INT(A443/12),1,0))","v":1},null,{"$f":"IF(OR(O442+1>Simulador!$C$53,O442=0),0,O442+1)","v":0},0,0,0,{"$f":"IF($O443=0,0,(S442-R442)*((1+Simulador!$C$34)^(1/12)))","v":0},null,1,0,0,{"$f":"IF(O443=0,0,X$6/((1+Simulador!$C$34)^((O443-O$6)/12)))*(1+AA443)","v":0},0,null,{"$f":"IF(Simulador!$C$54=12,0,IF(O443/12=INT(O443/12),1,0))","v":0}]
[{"$f":"IF(OR(A443+1>Simulador!$C$46,A443=0),0,A443+1)","v":0},0,0,0,{"$f":"IF($A444=0,0,(E443-D443)*((1+Simulador!$C$34)^(1/12)))","v":0},null,1,0,0,{"$f":"IF(A444=0,0,J$6/((1+Simulador!$C$34)^((A444-A$6)/12)))*(1+M444)","v":0},0,null,{"$f":"IF(Simulador!$C$47=12,0,IF(A444/12=INT(A444/12),1,0))","v":1},null,{"$f":"IF(OR(O443+1>Simulador!$C$53,O443=0),0,O443+1)","v":0},0,0,0,{"$f":"IF($O444=0,0,(S443-R443)*((1+Simulador!$C$34)^(1/12)))","v":0},null,1,0,0,{"$f":"IF(O444=0,0,X$6/((1+Simulador!$C$34)^((O444-O$6)/12)))*(1+AA444)","v":0},0,null,{"$f":"IF(Simulador!$C$54=12,0,IF(O444/12=INT(O444/12),1,0))","v":0}]
[{"$f":"IF(OR(A444+1>Simulador!$C$46,A444=0),0,A444+1)","v":0},0,0,0,{"$f":"IF($A445=0,0,(E444-D444)*((1+Simulador!$C$34)^(1/12)))","v":0},null,1,0,0,{"$f":"IF(A445=0,0,J$6/((1+Simulador!$C$34)^((A445-A$6)/12)))*(1+M445)","v":0},0,null,{"$f":"IF(Simulador!$C$47=12,0,IF(A445/12=INT(A445/12),1,0))","v":1},null,{"$f":"IF(OR(O444+1>Simulador!$C$53,O444=0),0,O444+1)","v":0},0,0,0,{"$f":"IF($O445=0,0,(S444-R444)*((1+Simulador!$C$34)^(1/12)))","v":0},null,1,0,0,{"$f":"IF(O445=0,0,X$6/((1+Simulador!$C$34)^((O445-O$6)/12)))*(1+AA445)","v":0},0,null,{"$f":"IF(Simulador!$C$54=12,0,IF(O445/12=INT(O445/12),1,0))","v":0}]
[{"$f":"IF(OR(A445+1>Simulador!$C$46,A445=0),0,A445+1)","v":0},0,0,0,{"$f":"IF($A446=0,0,(E445-D445)*((1+Simulador!$C$34)^(1/12)))","v":0},null,1,0,0,{"$f":"IF(A446=0,0,J$6/((1+Simulador!$C$34)^((A446-A$6)/12)))*(1+M446)","v":0},0,null,{"$f":"IF(Simulador!$C$47=12,0,IF(A446/12=INT(A446/12),1,0))","v":1},null,{"$f":"IF(OR(O445+1>Simulador!$C$53,O445=0),0,O445+1)","v":0},0,0,0,{"$f":"IF($O446=0,0,(S445-R445)*((1+Simulador!$C$34)^(1/12)))","v":0},null,1,0,0,{"$f":"IF(O446=0,0,X$6/((1+Simulador!$C$34)^((O446-O$6)/12)))*(1+AA446)","v":0},0,null,{"$f":"IF(Simulador!$C$54=12,0,IF(O446/12=INT(O446/12),1,0))","v":0}]
[{"$f":"IF(OR(A446+1>Simulador!$C$46,A446=0),0,A446+1)","v":0},0,0,0,{"$f":"IF($A447=0,0,(E446-D446)*((1+Simulador!$C$34)^(1/12)))","v":0},null,1,0,0,{"$f":"IF(A447=0,0,J$6/((1+Simulador!$C$34)^((A447-A$6)/12)))*(1+M447)","v":0},0,null,{"$f":"IF(Simulador!$C$47=12,0,IF(A447/12=INT(A447/12),1,0))","v":1},null,{"$f":"IF(OR(O446+1>Simulador!$C$53,O446=0),0,O446+1)","v":0},0,0,0,{"$f":"IF($O447=0,0,(S446-R446)*((1+Simulador!$C$34)^(1/12)))","v":0},null,1,0,0,{"$f":"IF(O447=0,0,X$6/((1+Simulador!$C$34)^((O447-O$6)/12)))*(1+AA447)","v":0},0,null,{"$f":"IF(Simulador!$C$54=12,0,IF(O447/12=INT(O447/12),1,0))","v":0}]
[{"$f":"IF(OR(A447+1>Simulador!$C$46,A447=0),0,A447+1)","v":0},0,0,0,{"$f":"IF($A448=0,0,(E447-D447)*((1+Simulador!$C$34)^(1/12)))","v":0},null,1,0,0,{"$f":"IF(A448=0,0,J$6/((1+Simulador!$C$34)^((A448-A$6)/12)))*(1+M448)","v":0},0,null,{"$f":"IF(Simulador!$C$47=12,0,IF(A448/12=INT(A448/12),1,0))","v":1},null,{"$f":"IF(OR(O447+1>Simulador!$C$53,O447=0),0,O447+1)","v":0},0,0,0,{"$f":"IF($O448=0,0,(S447-R447)*((1+Simulador!$C$34)^(1/12)))","v":0},null,1,0,0,{"$f":"IF(O448=0,0,X$6/((1+Simulador!$C$34)^((O448-O$6)/12)))*(1+AA448)","v":0},0,null,{"$f":"IF(Simulador!$C$54=12,0,IF(O448/12=INT(O448/12),1,0))","v":0}]
[{"$f":"IF(OR(A448+1>Simulador!$C$46,A448=0),0,A448+1)","v":0},0,0,0,{"$f":"IF($A449=0,0,(E448-D448)*((1+Simulador!$C$34)^(1/12)))","v":0},null,1,0,0,{"$f":"IF(A449=0,0,J$6/((1+Simulador!$C$34)^((A449-A$6)/12)))*(1+M449)","v":0},0,null,{"$f":"IF(Simulador!$C$47=12,0,IF(A449/12=INT(A449/12),1,0))","v":1},null,{"$f":"IF(OR(O448+1>Simulador!$C$53,O448=0),0,O448+1)","v":0},0,0,0,{"$f":"IF($O449=0,0,(S448-R448)*((1+Simulador!$C$34)^(1/12)))","v":0},null,1,0,0,{"$f":"IF(O449=0,0,X$6/((1+Simulador!$C$34)^((O449-O$6)/12)))*(1+AA449)","v":0},0,null,{"$f":"IF(Simulador!$C$54=12,0,IF(O449/12=INT(O449/12),1,0))","v":0}]
[{"$f":"IF(OR(A449+1>Simulador!$C$46,A449=0),0,A449+1)","v":0},0,0,0,{"$f":"IF($A450=0,0,(E449-D449)*((1+Simulador!$C$34)^(1/12)))","v":0},null,1,0,0,{"$f":"IF(A450=0,0,J$6/((1+Simulador!$C$34)^((A450-A$6)/12)))*(1+M450)","v":0},0,null,{"$f":"IF(Simulador!$C$47=12,0,IF(A450/12=INT(A450/12),1,0))","v":1},null,{"$f":"IF(OR(O449+1>Simulador!$C$53,O449=0),0,O449+1)","v":0},0,0,0,{"$f":"IF($O450=0,0,(S449-R449)*((1+Simulador!$C$34)^(1/12)))","v":0},null,1,0,0,{"$f":"IF(O450=0,0,X$6/((1+Simulador!$C$34)^((O450-O$6)/12)))*(1+AA450)","v":0},0,null,{"$f":"IF(Simulador!$C$54=12,0,IF(O450/12=INT(O450/12),1,0))","v":0}]
[{"$f":"IF(OR(A450+1>Simulador!$C$46,A450=0),0,A450+1)","v":0},0,0,0,{"$f":"IF($A451=0,0,(E450-D450)*((1+Simulador!$C$34)^(1/12)))","v":0},null,1,0,0,{"$f":"IF(A451=0,0,J$6/((1+Simulador!$C$34)^((A451-A$6)/12)))*(1+M451)","v":0},0,null,{"$f":"IF(Simulador!$C$47=12,0,IF(A451/12=INT(A451/12),1,0))","v":1},null,{"$f":"IF(OR(O450+1>Simulador!$C$53,O450=0),0,O450+1)","v":0},0,0,0,{"$f":"IF($O451=0,0,(S450-R450)*((1+Simulador!$C$34)^(1/12)))","v":0},null,1,0,0,{"$f":"IF(O451=0,0,X$6/((1+Simulador!$C$34)^((O451-O$6)/12)))*(1+AA451)","v":0},0,null,{"$f":"IF(Simulador!$C$54=12,0,IF(O451/12=INT(O451/12),1,0))","v":0}]
[{"$f":"IF(OR(A451+1>Simulador!$C$46,A451=0),0,A451+1)","v":0},0,0,0,{"$f":"IF($A452=0,0,(E451-D451)*((1+Simulador!$C$34)^(1/12)))","v":0},null,1,0,0,{"$f":"IF(A452=0,0,J$6/((1+Simulador!$C$34)^((A452-A$6)/12)))*(1+M452)","v":0},0,null,{"$f":"IF(Simulador!$C$47=12,0,IF(A452/12=INT(A452/12),1,0))","v":1},null,{"$f":"IF(OR(O451+1>Simulador!$C$53,O451=0),0,O451+1)","v":0},0,0,0,{"$f":"IF($O452=0,0,(S451-R451)*((1+Simulador!$C$34)^(1/12)))","v":0},null,1,0,0,{"$f":"IF(O452=0,0,X$6/((1+Simulador!$C$34)^((O452-O$6)/12)))*(1+AA452)","v":0},0,null,{"$f":"IF(Simulador!$C$54=12,0,IF(O452/12=INT(O452/12),1,0))","v":0}]
[{"$f":"IF(OR(A452+1>Simulador!$C$46,A452=0),0,A452+1)","v":0},0,0,0,{"$f":"IF($A453=0,0,(E452-D452)*((1+Simulador!$C$34)^(1/12)))","v":0},null,1,0,0,{"$f":"IF(A453=0,0,J$6/((1+Simulador!$C$34)^((A453-A$6)/12)))*(1+M453)","v":0},0,null,{"$f":"IF(Simulador!$C$47=12,0,IF(A453/12=INT(A453/12),1,0))","v":1},null,{"$f":"IF(OR(O452+1>Simulador!$C$53,O452=0),0,O452+1)","v":0},0,0,0,{"$f":"IF($O453=0,0,(S452-R452)*((1+Simulador!$C$34)^(1/12)))","v":0},null,1,0,0,{"$f":"IF(O453=0,0,X$6/((1+Simulador!$C$34)^((O453-O$6)/12)))*(1+AA453)","v":0},0,null,{"$f":"IF(Simulador!$C$54=12,0,IF(O453/12=INT(O453/12),1,0))","v":0}]
[{"$f":"IF(OR(A453+1>Simulador!$C$46,A453=0),0,A453+1)","v":0},0,0,0,{"$f":"IF($A454=0,0,(E453-D453)*((1+Simulador!$C$34)^(1/12)))","v":0},null,1,0,0,{"$f":"IF(A454=0,0,J$6/((1+Simulador!$C$34)^((A454-A$6)/12)))*(1+M454)","v":0},0,null,{"$f":"IF(Simulador!$C$47=12,0,IF(A454/12=INT(A454/12),1,0))","v":1},null,{"$f":"IF(OR(O453+1>Simulador!$C$53,O453=0),0,O453+1)","v":0},0,0,0,{"$f":"IF($O454=0,0,(S453-R453)*((1+Simulador!$C$34)^(1/12)))","v":0},null,1,0,0,{"$f":"IF(O454=0,0,X$6/((1+Simulador!$C$34)^((O454-O$6)/12)))*(1+AA454)","v":0},0,null,{"$f":"IF(Simulador!$C$54=12,0,IF(O454/12=INT(O454/12),1,0))","v":0}]
[{"$f":"IF(OR(A454+1>Simulador!$C$46,A454=0),0,A454+1)","v":0},{"$f":"IF($A455=0,0,G455*H455)","v":0},{"$f":"IF($A455=0,0,G455*I455)","v":0},{"$f":"IF($A455=0,0,G455*J455)","v":0},{"$f":"IF($A455=0,0,(E454-D454)*((1+Simulador!$C$34)^(1/12)))","v":0},null,{"$f":"G454*((1+$I$2)^(1/12))","v":1},{"$f":"IF($A455=0,0,$H$6)*(1+M455)","v":0},{"$f":"IF($A455=0,0,I454-H454)","v":0},{"$f":"IF(A455=0,0,J$6/((1+Simulador!$C$34)^((A455-A$6)/12)))*(1+M455)","v":0},{"$f":"IF($A455=0,0,K454-J454)","v":0},null,{"$f":"IF(Simulador!$C$47=12,0,IF(A455/12=INT(A455/12),1,0))","v":1},null,{"$f":"IF(OR(O454+1>Simulador!$C$53,O454=0),0,O454+1)","v":0},{"$f":"IF($A455=0,0,U455*V455)","v":0},{"$f":"IF($O455=0,0,U455*W455)","v":0},{"$f":"IF($A455=0,0,U455*X455)","v":0},{"$f":"IF($O455=0,0,(S454-R454)*((1+Simulador!$C$34)^(1/12)))","v":0},null,{"$f":"U454*((1+$I$2)^(1/12))","v":1},{"$f":"IF($O455=0,0,$V$6)*(1+AA455)","v":0},{"$f":"IF($O455=0,0,W454-V454)","v":0},{"$f":"IF(O455=0,0,X$6/((1+Simulador!$C$34)^((O455-O$6)/12)))*(1+AA455)","v":0},{"$f":"IF($O455=0,0,Y454-X454)","v":0},null,{"$f":"IF(Simulador!$C$54=12,0,IF(O455/12=INT(O455/12),1,0))","v":0}]
[{"$f":"IF(OR(A455+1>Simulador!$C$46,A455=0),0,A455+1)","v":0},0,0,0,{"$f":"IF($A456=0,0,(E455-D455)*((1+Simulador!$C$34)^(1/12)))","v":0},null,1,0,0,{"$f":"IF(A456=0,0,J$6/((1+Simulador!$C$34)^((A456-A$6)/12)))*(1+M456)","v":0},0,null,{"$f":"IF(Simulador!$C$47=12,0,IF(A456/12=INT(A456/12),1,0))","v":1},null,{"$f":"IF(OR(O455+1>Simulador!$C$53,O455=0),0,O455+1)","v":0},0,0,0,{"$f":"IF($O456=0,0,(S455-R455)*((1+Simulador!$C$34)^(1/12)))","v":0},null,1,0,0,{"$f":"IF(O456=0,0,X$6/((1+Simulador!$C$34)^((O456-O$6)/12)))*(1+AA456)","v":0},0,null,{"$f":"IF(Simulador!$C$54=12,0,IF(O456/12=INT(O456/12),1,0))","v":0}]
[{"$f":"IF(OR(A456+1>Simulador!$C$46,A456=0),0,A456+1)","v":0},0,0,0,{"$f":"IF($A457=0,0,(E456-D456)*((1+Simulador!$C$34)^(1/12)))","v":0},null,1,0,0,{"$f":"IF(A457=0,0,J$6/((1+Simulador!$C$34)^((A457-A$6)/12)))*(1+M457)","v":0},0,null,{"$f":"IF(Simulador!$C$47=12,0,IF(A457/12=INT(A457/12),1,0))","v":1},null,{"$f":"IF(OR(O456+1>Simulador!$C$53,O456=0),0,O456+1)","v":0},0,0,0,{"$f":"IF($O457=0,0,(S456-R456)*((1+Simulador!$C$34)^(1/12)))","v":0},null,1,0,0,{"$f":"IF(O457=0,0,X$6/((1+Simulador!$C$34)^((O457-O$6)/12)))*(1+AA457)","v":0},0,null,{"$f":"IF(Simulador!$C$54=12,0,IF(O457/12=INT(O457/12),1,0))","v":0}]
[{"$f":"IF(OR(A457+1>Simulador!$C$46,A457=0),0,A457+1)","v":0},0,0,0,{"$f":"IF($A458=0,0,(E457-D457)*((1+Simulador!$C$34)^(1/12)))","v":0},null,1,0,0,{"$f":"IF(A458=0,0,J$6/((1+Simulador!$C$34)^((A458-A$6)/12)))*(1+M458)","v":0},0,null,{"$f":"IF(Simulador!$C$47=12,0,IF(A458/12=INT(A458/12),1,0))","v":1},null,{"$f":"IF(OR(O457+1>Simulador!$C$53,O457=0),0,O457+1)","v":0},0,0,0,{"$f":"IF($O458=0,0,(S457-R457)*((1+Simulador!$C$34)^(1/12)))","v":0},null,1,0,0,{"$f":"IF(O458=0,0,X$6/((1+Simulador!$C$34)^((O458-O$6)/12)))*(1+AA458)","v":0},0,null,{"$f":"IF(Simulador!$C$54=12,0,IF(O458/12=INT(O458/12),1,0))","v":0}]
[{"$f":"IF(OR(A458+1>Simulador!$C$46,A458=0),0,A458+1)","v":0},0,0,0,{"$f":"IF($A459=0,0,(E458-D458)*((1+Simulador!$C$34)^(1/12)))","v":0},null,1,0,0,{"$f":"IF(A459=0,0,J$6/((1+Simulador!$C$34)^((A459-A$6)/12)))*(1+M459)","v":0},0,null,{"$f":"IF(Simulador!$C$47=12,0,IF(A459/12=INT(A459/12),1,0))","v":1},null,{"$f":"IF(OR(O458+1>Simulador!$C$53,O458=0),0,O458+1)","v":0},0,0,0,{"$f":"IF($O459=0,0,(S458-R458)*((1+Simulador!$C$34)^(1/12)))","v":0},null,1,0,0,{"$f":"IF(O459=0,0,X$6/((1+Simulador!$C$34)^((O459-O$6)/12)))*(1+AA459)","v":0},0,null,{"$f":"IF(Simulador!$C$54=12,0,IF(O459/12=INT(O459/12),1,0))","v":0}]
[{"$f":"IF(OR(A459+1>Simulador!$C$46,A459=0),0,A459+1)","v":0},0,0,0,{"$f":"IF($A460=0,0,(E459-D459)*((1+Simulador!$C$34)^(1/12)))","v":0},null,1,0,0,{"$f":"IF(A460=0,0,J$6/((1+Simulador!$C$34)^((A460-A$6)/12)))*(1+M460)","v":0},0,null,{"$f":"IF(Simulador!$C$47=12,0,IF(A460/12=INT(A460/12),1,0))","v":1},null,{"$f":"IF(OR(O459+1>Simulador!$C$53,O459=0),0,O459+1)","v":0},0,0,0,{"$f":"IF($O460=0,0,(S459-R459)*((1+Simulador!$C$34)^(1/12)))","v":0},null,1,0,0,{"$f":"IF(O460=0,0,X$6/((1+Simulador!$C$34)^((O460-O$6)/12)))*(1+AA460)","v":0},0,null,{"$f":"IF(Simulador!$C$54=12,0,IF(O460/12=INT(O460/12),1,0))","v":0}]
[{"$f":"IF(OR(A460+1>Simulador!$C$46,A460=0),0,A460+1)","v":0},0,0,0,{"$f":"IF($A461=0,0,(E460-D460)*((1+Simulador!$C$34)^(1/12)))","v":0},null,1,0,0,{"$f":"IF(A461=0,0,J$6/((1+Simulador!$C$34)^((A461-A$6)/12)))*(1+M461)","v":0},0,null,{"$f":"IF(Simulador!$C$47=12,0,IF(A461/12=INT(A461/12),1,0))","v":1},null,{"$f":"IF(OR(O460+1>Simulador!$C$53,O460=0),0,O460+1)","v":0},0,0,0,{"$f":"IF($O461=0,0,(S460-R460)*((1+Simulador!$C$34)^(1/12)))","v":0},null,1,0,0,{"$f":"IF(O461=0,0,X$6/((1+Simulador!$C$34)^((O461-O$6)/12)))*(1+AA461)","v":0},0,null,{"$f":"IF(Simulador!$C$54=12,0,IF(O461/12=INT(O461/12),1,0))","v":0}]
[{"$f":"IF(OR(A461+1>Simulador!$C$46,A461=0),0,A461+1)","v":0},0,0,0,{"$f":"IF($A462=0,0,(E461-D461)*((1+Simulador!$C$34)^(1/12)))","v":0},null,1,0,0,{"$f":"IF(A462=0,0,J$6/((1+Simulador!$C$34)^((A462-A$6)/12)))*(1+M462)","v":0},0,null,{"$f":"IF(Simulador!$C$47=12,0,IF(A462/12=INT(A462/12),1,0))","v":1},null,{"$f":"IF(OR(O461+1>Simulador!$C$53,O461=0),0,O461+1)","v":0},0,0,0,{"$f":"IF($O462=0,0,(S461-R461)*((1+Simulador!$C$34)^(1/12)))","v":0},null,1,0,0,{"$f":"IF(O462=0,0,X$6/((1+Simulador!$C$34)^((O462-O$6)/12)))*(1+AA462)","v":0},0,null,{"$f":"IF(Simulador!$C$54=12,0,IF(O462/12=INT(O462/12),1,0))","v":0}]
[{"$f":"IF(OR(A462+1>Simulador!$C$46,A462=0),0,A462+1)","v":0},0,0,0,{"$f":"IF($A463=0,0,(E462-D462)*((1+Simulador!$C$34)^(1/12)))","v":0},null,1,0,0,{"$f":"IF(A463=0,0,J$6/((1+Simulador!$C$34)^((A463-A$6)/12)))*(1+M463)","v":0},0,null,{"$f":"IF(Simulador!$C$47=12,0,IF(A463/12=INT(A463/12),1,0))","v":1},null,{"$f":"IF(OR(O462+1>Simulador!$C$53,O462=0),0,O462+1)","v":0},0,0,0,{"$f":"IF($O463=0,0,(S462-R462)*((1+Simulador!$C$34)^(1/12)))","v":0},null,1,0,0,{"$f":"IF(O463=0,0,X$6/((1+Simulador!$C$34)^((O463-O$6)/12)))*(1+AA463)","v":0},0,null,{"$f":"IF(Simulador!$C$54=12,0,IF(O463/12=INT(O463/12),1,0))","v":0}]
[{"$f":"IF(OR(A463+1>Simulador!$C$46,A463=0),0,A463+1)","v":0},0,0,0,{"$f":"IF($A464=0,0,(E463-D463)*((1+Simulador!$C$34)^(1/12)))","v":0},null,1,0,0,{"$f":"IF(A464=0,0,J$6/((1+Simulador!$C$34)^((A464-A$6)/12)))*(1+M464)","v":0},0,null,{"$f":"IF(Simulador!$C$47=12,0,IF(A464/12=INT(A464/12),1,0))","v":1},null,{"$f":"IF(OR(O463+1>Simulador!$C$53,O463=0),0,O463+1)","v":0},0,0,0,{"$f":"IF($O464=0,0,(S463-R463)*((1+Simulador!$C$34)^(1/12)))","v":0},null,1,0,0,{"$f":"IF(O464=0,0,X$6/((1+Simulador!$C$34)^((O464-O$6)/12)))*(1+AA464)","v":0},0,null,{"$f":"IF(Simulador!$C$54=12,0,IF(O464/12=INT(O464/12),1,0))","v":0}]
[{"$f":"IF(OR(A464+1>Simulador!$C$46,A464=0),0,A464+1)","v":0},0,0,0,{"$f":"IF($A465=0,0,(E464-D464)*((1+Simulador!$C$34)^(1/12)))","v":0},null,1,0,0,{"$f":"IF(A465=0,0,J$6/((1+Simulador!$C$34)^((A465-A$6)/12)))*(1+M465)","v":0},0,null,{"$f":"IF(Simulador!$C$47=12,0,IF(A465/12=INT(A465/12),1,0))","v":1},null,{"$f":"IF(OR(O464+1>Simulador!$C$53,O464=0),0,O464+1)","v":0},0,0,0,{"$f":"IF($O465=0,0,(S464-R464)*((1+Simulador!$C$34)^(1/12)))","v":0},null,1,0,0,{"$f":"IF(O465=0,0,X$6/((1+Simulador!$C$34)^((O465-O$6)/12)))*(1+AA465)","v":0},0,null,{"$f":"IF(Simulador!$C$54=12,0,IF(O465/12=INT(O465/12),1,0))","v":0}]
[{"$f":"IF(OR(A465+1>Simulador!$C$46,A465=0),0,A465+1)","v":0},0,0,0,{"$f":"IF($A466=0,0,(E465-D465)*((1+Simulador!$C$34)^(1/12)))","v":0},null,1,0,0,{"$f":"IF(A466=0,0,J$6/((1+Simulador!$C$34)^((A466-A$6)/12)))*(1+M466)","v":0},0,null,{"$f":"IF(Simulador!$C$47=12,0,IF(A466/12=INT(A466/12),1,0))","v":1},null,{"$f":"IF(OR(O465+1>Simulador!$C$53,O465=0),0,O465+1)","v":0},0,0,0,{"$f":"IF($O466=0,0,(S465-R465)*((1+Simulador!$C$34)^(1/12)))","v":0},null,1,0,0,{"$f":"IF(O466=0,0,X$6/((1+Simulador!$C$34)^((O466-O$6)/12)))*(1+AA466)","v":0},0,null,{"$f":"IF(Simulador!$C$54=12,0,IF(O466/12=INT(O466/12),1,0))","v":0}]
[{"$f":"IF(OR(A466+1>Simulador!$C$46,A466=0),0,A466+1)","v":0},0,0,0,{"$f":"IF($A467=0,0,(E466-D466)*((1+Simulador!$C$34)^(1/12)))","v":0},null,1,0,0,{"$f":"IF(A467=0,0,J$6/((1+Simulador!$C$34)^((A467-A$6)/12)))*(1+M467)","v":0},0,null,{"$f":"IF(Simulador!$C$47=12,0,IF(A467/12=INT(A467/12),1,0))","v":1},null,{"$f":"IF(OR(O466+1>Simulador!$C$53,O466=0),0,O466+1)","v":0},0,0,0,{"$f":"IF($O467=0,0,(S466-R466)*((1+Simulador!$C$34)^(1/12)))","v":0},null,1,0,0,{"$f":"IF(O467=0,0,X$6/((1+Simulador!$C$34)^((O467-O$6)/12)))*(1+AA467)","v":0},0,null,{"$f":"IF(Simulador!$C$54=12,0,IF(O467/12=INT(O467/12),1,0))","v":0}]
[{"$f":"IF(OR(A467+1>Simulador!$C$46,A467=0),0,A467+1)","v":0},0,0,0,{"$f":"IF($A468=0,0,(E467-D467)*((1+Simulador!$C$34)^(1/12)))","v":0},null,1,0,0,{"$f":"IF(A468=0,0,J$6/((1+Simulador!$C$34)^((A468-A$6)/12)))*(1+M468)","v":0},0,null,{"$f":"IF(Simulador!$C$47=12,0,IF(A468/12=INT(A468/12),1,0))","v":1},null,{"$f":"IF(OR(O467+1>Simulador!$C$53,O467=0),0,O467+1)","v":0},0,0,0,{"$f":"IF($O468=0,0,(S467-R467)*((1+Simulador!$C$34)^(1/12)))","v":0},null,1,0,0,{"$f":"IF(O468=0,0,X$6/((1+Simulador!$C$34)^((O468-O$6)/12)))*(1+AA468)","v":0},0,null,{"$f":"IF(Simulador!$C$54=12,0,IF(O468/12=INT(O468/12),1,0))","v":0}]
[{"$f":"IF(OR(A468+1>Simulador!$C$46,A468=0),0,A468+1)","v":0},0,0,0,{"$f":"IF($A469=0,0,(E468-D468)*((1+Simulador!$C$34)^(1/12)))","v":0},null,1,0,0,{"$f":"IF(A469=0,0,J$6/((1+Simulador!$C$34)^((A469-A$6)/12)))*(1+M469)","v":0},0,null,{"$f":"IF(Simulador!$C$47=12,0,IF(A469/12=INT(A469/12),1,0))","v":1},null,{"$f":"IF(OR(O468+1>Simulador!$C$53,O468=0),0,O468+1)","v":0},0,0,0,{"$f":"IF($O469=0,0,(S468-R468)*((1+Simulador!$C$34)^(1/12)))","v":0},null,1,0,0,{"$f":"IF(O469=0,0,X$6/((1+Simulador!$C$34)^((O469-O$6)/12)))*(1+AA469)","v":0},0,null,{"$f":"IF(Simulador!$C$54=12,0,IF(O469/12=INT(O469/12),1,0))","v":0}]
[{"$f":"IF(OR(A469+1>Simulador!$C$46,A469=0),0,A469+1)","v":0},0,0,0,{"$f":"IF($A470=0,0,(E469-D469)*((1+Simulador!$C$34)^(1/12)))","v":0},null,1,0,0,{"$f":"IF(A470=0,0,J$6/((1+Simulador!$C$34)^((A470-A$6)/12)))*(1+M470)","v":0},0,null,{"$f":"IF(Simulador!$C$47=12,0,IF(A470/12=INT(A470/12),1,0))","v":1},null,{"$f":"IF(OR(O469+1>Simulador!$C$53,O469=0),0,O469+1)","v":0},0,0,0,{"$f":"IF($O470=0,0,(S469-R469)*((1+Simulador!$C$34)^(1/12)))","v":0},null,1,0,0,{"$f":"IF(O470=0,0,X$6/((1+Simulador!$C$34)^((O470-O$6)/12)))*(1+AA470)","v":0},0,null,{"$f":"IF(Simulador!$C$54=12,0,IF(O470/12=INT(O470/12),1,0))","v":0}]
[{"$f":"IF(OR(A470+1>Simulador!$C$46,A470=0),0,A470+1)","v":0},0,0,0,{"$f":"IF($A471=0,0,(E470-D470)*((1+Simulador!$C$34)^(1/12)))","v":0},null,1,0,0,{"$f":"IF(A471=0,0,J$6/((1+Simulador!$C$34)^((A471-A$6)/12)))*(1+M471)","v":0},0,null,{"$f":"IF(Simulador!$C$47=12,0,IF(A471/12=INT(A471/12),1,0))","v":1},null,{"$f":"IF(OR(O470+1>Simulador!$C$53,O470=0),0,O470+1)","v":0},0,0,0,{"$f":"IF($O471=0,0,(S470-R470)*((1+Simulador!$C$34)^(1/12)))","v":0},null,1,0,0,{"$f":"IF(O471=0,0,X$6/((1+Simulador!$C$34)^((O471-O$6)/12)))*(1+AA471)","v":0},0,null,{"$f":"IF(Simulador!$C$54=12,0,IF(O471/12=INT(O471/12),1,0))","v":0}]
[{"$f":"IF(OR(A471+1>Simulador!$C$46,A471=0),0,A471+1)","v":0},0,0,0,{"$f":"IF($A472=0,0,(E471-D471)*((1+Simulador!$C$34)^(1/12)))","v":0},null,1,0,0,{"$f":"IF(A472=0,0,J$6/((1+Simulador!$C$34)^((A472-A$6)/12)))*(1+M472)","v":0},0,null,{"$f":"IF(Simulador!$C$47=12,0,IF(A472/12=INT(A472/12),1,0))","v":1},null,{"$f":"IF(OR(O471+1>Simulador!$C$53,O471=0),0,O471+1)","v":0},0,0,0,{"$f":"IF($O472=0,0,(S471-R471)*((1+Simulador!$C$34)^(1/12)))","v":0},null,1,0,0,{"$f":"IF(O472=0,0,X$6/((1+Simulador!$C$34)^((O472-O$6)/12)))*(1+AA472)","v":0},0,null,{"$f":"IF(Simulador!$C$54=12,0,IF(O472/12=INT(O472/12),1,0))","v":0}]
[{"$f":"IF(OR(A472+1>Simulador!$C$46,A472=0),0,A472+1)","v":0},0,0,0,{"$f":"IF($A473=0,0,(E472-D472)*((1+Simulador!$C$34)^(1/12)))","v":0},null,1,0,0,{"$f":"IF(A473=0,0,J$6/((1+Simulador!$C$34)^((A473-A$6)/12)))*(1+M473)","v":0},0,null,{"$f":"IF(Simulador!$C$47=12,0,IF(A473/12=INT(A473/12),1,0))","v":1},null,{"$f":"IF(OR(O472+1>Simulador!$C$53,O472=0),0,O472+1)","v":0},0,0,0,{"$f":"IF($O473=0,0,(S472-R472)*((1+Simulador!$C$34)^(1/12)))","v":0},null,1,0,0,{"$f":"IF(O473=0,0,X$6/((1+Simulador!$C$34)^((O473-O$6)/12)))*(1+AA473)","v":0},0,null,{"$f":"IF(Simulador!$C$54=12,0,IF(O473/12=INT(O473/12),1,0))","v":0}]
[{"$f":"IF(OR(A473+1>Simulador!$C$46,A473=0),0,A473+1)","v":0},0,0,0,{"$f":"IF($A474=0,0,(E473-D473)*((1+Simulador!$C$34)^(1/12)))","v":0},null,1,0,0,{"$f":"IF(A474=0,0,J$6/((1+Simulador!$C$34)^((A474-A$6)/12)))*(1+M474)","v":0},0,null,{"$f":"IF(Simulador!$C$47=12,0,IF(A474/12=INT(A474/12),1,0))","v":1},null,{"$f":"IF(OR(O473+1>Simulador!$C$53,O473=0),0,O473+1)","v":0},0,0,0,{"$f":"IF($O474=0,0,(S473-R473)*((1+Simulador!$C$34)^(1/12)))","v":0},null,1,0,0,{"$f":"IF(O474=0,0,X$6/((1+Simulador!$C$34)^((O474-O$6)/12)))*(1+AA474)","v":0},0,null,{"$f":"IF(Simulador!$C$54=12,0,IF(O474/12=INT(O474/12),1,0))","v":0}]
[{"$f":"IF(OR(A474+1>Simulador!$C$46,A474=0),0,A474+1)","v":0},0,0,0,{"$f":"IF($A475=0,0,(E474-D474)*((1+Simulador!$C$34)^(1/12)))","v":0},null,1,0,0,{"$f":"IF(A475=0,0,J$6/((1+Simulador!$C$34)^((A475-A$6)/12)))*(1+M475)","v":0},0,null,{"$f":"IF(Simulador!$C$47=12,0,IF(A475/12=INT(A475/12),1,0))","v":1},null,{"$f":"IF(OR(O474+1>Simulador!$C$53,O474=0),0,O474+1)","v":0},0,0,0,{"$f":"IF($O475=0,0,(S474-R474)*((1+Simulador!$C$34)^(1/12)))","v":0},null,1,0,0,{"$f":"IF(O475=0,0,X$6/((1+Simulador!$C$34)^((O475-O$6)/12)))*(1+AA475)","v":0},0,null,{"$f":"IF(Simulador!$C$54=12,0,IF(O475/12=INT(O475/12),1,0))","v":0}]
[{"$f":"IF(OR(A475+1>Simulador!$C$46,A475=0),0,A475+1)","v":0},0,0,0,{"$f":"IF($A476=0,0,(E475-D475)*((1+Simulador!$C$34)^(1/12)))","v":0},null,1,0,0,{"$f":"IF(A476=0,0,J$6/((1+Simulador!$C$34)^((A476-A$6)/12)))*(1+M476)","v":0},0,null,{"$f":"IF(Simulador!$C$47=12,0,IF(A476/12=INT(A476/12),1,0))","v":1},null,{"$f":"IF(OR(O475+1>Simulador!$C$53,O475=0),0,O475+1)","v":0},0,0,0,{"$f":"IF($O476=0,0,(S475-R475)*((1+Simulador!$C$34)^(1/12)))","v":0},null,1,0,0,{"$f":"IF(O476=0,0,X$6/((1+Simulador!$C$34)^((O476-O$6)/12)))*(1+AA476)","v":0},0,null,{"$f":"IF(Simulador!$C$54=12,0,IF(O476/12=INT(O476/12),1,0))","v":0}]
[{"$f":"IF(OR(A476+1>Simulador!$C$46,A476=0),0,A476+1)","v":0},0,0,0,{"$f":"IF($A477=0,0,(E476-D476)*((1+Simulador!$C$34)^(1/12)))","v":0},null,1,0,0,{"$f":"IF(A477=0,0,J$6/((1+Simulador!$C$34)^((A477-A$6)/12)))*(1+M477)","v":0},0,null,{"$f":"IF(Simulador!$C$47=12,0,IF(A477/12=INT(A477/12),1,0))","v":1},null,{"$f":"IF(OR(O476+1>Simulador!$C$53,O476=0),0,O476+1)","v":0},0,0,0,{"$f":"IF($O477=0,0,(S476-R476)*((1+Simulador!$C$34)^(1/12)))","v":0},null,1,0,0,{"$f":"IF(O477=0,0,X$6/((1+Simulador!$C$34)^((O477-O$6)/12)))*(1+AA477)","v":0},0,null,{"$f":"IF(Simulador!$C$54=12,0,IF(O477/12=INT(O477/12),1,0))","v":0}]
[{"$f":"IF(OR(A477+1>Simulador!$C$46,A477=0),0,A477+1)","v":0},0,0,0,{"$f":"IF($A478=0,0,(E477-D477)*((1+Simulador!$C$34)^(1/12)))","v":0},null,1,0,0,{"$f":"IF(A478=0,0,J$6/((1+Simulador!$C$34)^((A478-A$6)/12)))*(1+M478)","v":0},0,null,{"$f":"IF(Simulador!$C$47=12,0,IF(A478/12=INT(A478/12),1,0))","v":1},null,{"$f":"IF(OR(O477+1>Simulador!$C$53,O477=0),0,O477+1)","v":0},0,0,0,{"$f":"IF($O478=0,0,(S477-R477)*((1+Simulador!$C$34)^(1/12)))","v":0},null,1,0,0,{"$f":"IF(O478=0,0,X$6/((1+Simulador!$C$34)^((O478-O$6)/12)))*(1+AA478)","v":0},0,null,{"$f":"IF(Simulador!$C$54=12,0,IF(O478/12=INT(O478/12),1,0))","v":0}]
[{"$f":"IF(OR(A478+1>Simulador!$C$46,A478=0),0,A478+1)","v":0},0,0,0,{"$f":"IF($A479=0,0,(E478-D478)*((1+Simulador!$C$34)^(1/12)))","v":0},null,1,0,0,{"$f":"IF(A479=0,0,J$6/((1+Simulador!$C$34)^((A479-A$6)/12)))*(1+M479)","v":0},0,null,{"$f":"IF(Simulador!$C$47=12,0,IF(A479/12=INT(A479/12),1,0))","v":1},null,{"$f":"IF(OR(O478+1>Simulador!$C$53,O478=0),0,O478+1)","v":0},0,0,0,{"$f":"IF($O479=0,0,(S478-R478)*((1+Simulador!$C$34)^(1/12)))","v":0},null,1,0,0,{"$f":"IF(O479=0,0,X$6/((1+Simulador!$C$34)^((O479-O$6)/12)))*(1+AA479)","v":0},0,null,{"$f":"IF(Simulador!$C$54=12,0,IF(O479/12=INT(O479/12),1,0))","v":0}]
[{"$f":"IF(OR(A479+1>Simulador!$C$46,A479=0),0,A479+1)","v":0},0,0,0,{"$f":"IF($A480=0,0,(E479-D479)*((1+Simulador!$C$34)^(1/12)))","v":0},null,1,0,0,{"$f":"IF(A480=0,0,J$6/((1+Simulador!$C$34)^((A480-A$6)/12)))*(1+M480)","v":0},0,null,{"$f":"IF(Simulador!$C$47=12,0,IF(A480/12=INT(A480/12),1,0))","v":1},null,{"$f":"IF(OR(O479+1>Simulador!$C$53,O479=0),0,O479+1)","v":0},0,0,0,{"$f":"IF($O480=0,0,(S479-R479)*((1+Simulador!$C$34)^(1/12)))","v":0},null,1,0,0,{"$f":"IF(O480=0,0,X$6/((1+Simulador!$C$34)^((O480-O$6)/12)))*(1+AA480)","v":0},0,null,{"$f":"IF(Simulador!$C$54=12,0,IF(O480/12=INT(O480/12),1,0))","v":0}]
[{"$f":"IF(OR(A480+1>Simulador!$C$46,A480=0),0,A480+1)","v":0},0,0,0,{"$f":"IF($A481=0,0,(E480-D480)*((1+Simulador!$C$34)^(1/12)))","v":0},null,1,0,0,{"$f":"IF(A481=0,0,J$6/((1+Simulador!$C$34)^((A481-A$6)/12)))*(1+M481)","v":0},0,null,{"$f":"IF(Simulador!$C$47=12,0,IF(A481/12=INT(A481/12),1,0))","v":1},null,{"$f":"IF(OR(O480+1>Simulador!$C$53,O480=0),0,O480+1)","v":0},0,0,0,{"$f":"IF($O481=0,0,(S480-R480)*((1+Simulador!$C$34)^(1/12)))","v":0},null,1,0,0,{"$f":"IF(O481=0,0,X$6/((1+Simulador!$C$34)^((O481-O$6)/12)))*(1+AA481)","v":0},0,null,{"$f":"IF(Simulador!$C$54=12,0,IF(O481/12=INT(O481/12),1,0))","v":0}]
[{"$f":"IF(OR(A481+1>Simulador!$C$46,A481=0),0,A481+1)","v":0},0,0,0,{"$f":"IF($A482=0,0,(E481-D481)*((1+Simulador!$C$34)^(1/12)))","v":0},null,1,0,0,{"$f":"IF(A482=0,0,J$6/((1+Simulador!$C$34)^((A482-A$6)/12)))*(1+M482)","v":0},0,null,{"$f":"IF(Simulador!$C$47=12,0,IF(A482/12=INT(A482/12),1,0))","v":1},null,{"$f":"IF(OR(O481+1>Simulador!$C$53,O481=0),0,O481+1)","v":0},0,0,0,{"$f":"IF($O482=0,0,(S481-R481)*((1+Simulador!$C$34)^(1/12)))","v":0},null,1,0,0,{"$f":"IF(O482=0,0,X$6/((1+Simulador!$C$34)^((O482-O$6)/12)))*(1+AA482)","v":0},0,null,{"$f":"IF(Simulador!$C$54=12,0,IF(O482/12=INT(O482/12),1,0))","v":0}]
[{"$f":"IF(OR(A482+1>Simulador!$C$46,A482=0),0,A482+1)","v":0},0,0,0,{"$f":"IF($A483=0,0,(E482-D482)*((1+Simulador!$C$34)^(1/12)))","v":0},null,1,0,0,{"$f":"IF(A483=0,0,J$6/((1+Simulador!$C$34)^((A483-A$6)/12)))*(1+M483)","v":0},0,null,{"$f":"IF(Simulador!$C$47=12,0,IF(A483/12=INT(A483/12),1,0))","v":1},null,{"$f":"IF(OR(O482+1>Simulador!$C$53,O482=0),0,O482+1)","v":0},0,0,0,{"$f":"IF($O483=0,0,(S482-R482)*((1+Simulador!$C$34)^(1/12)))","v":0},null,1,0,0,{"$f":"IF(O483=0,0,X$6/((1+Simulador!$C$34)^((O483-O$6)/12)))*(1+AA483)","v":0},0,null,{"$f":"IF(Simulador!$C$54=12,0,IF(O483/12=INT(O483/12),1,0))","v":0}]
[{"$f":"IF(OR(A483+1>Simulador!$C$46,A483=0),0,A483+1)","v":0},0,0,0,{"$f":"IF($A484=0,0,(E483-D483)*((1+Simulador!$C$34)^(1/12)))","v":0},null,1,0,0,{"$f":"IF(A484=0,0,J$6/((1+Simulador!$C$34)^((A484-A$6)/12)))*(1+M484)","v":0},0,null,{"$f":"IF(Simulador!$C$47=12,0,IF(A484/12=INT(A484/12),1,0))","v":1},null,{"$f":"IF(OR(O483+1>Simulador!$C$53,O483=0),0,O483+1)","v":0},0,0,0,{"$f":"IF($O484=0,0,(S483-R483)*((1+Simulador!$C$34)^(1/12)))","v":0},null,1,0,0,{"$f":"IF(O484=0,0,X$6/((1+Simulador!$C$34)^((O484-O$6)/12)))*(1+AA484)","v":0},0,null,{"$f":"IF(Simulador!$C$54=12,0,IF(O484/12=INT(O484/12),1,0))","v":0}]
[{"$f":"IF(OR(A484+1>Simulador!$C$46,A484=0),0,A484+1)","v":0},0,0,0,{"$f":"IF($A485=0,0,(E484-D484)*((1+Simulador!$C$34)^(1/12)))","v":0},null,1,0,0,{"$f":"IF(A485=0,0,J$6/((1+Simulador!$C$34)^((A485-A$6)/12)))*(1+M485)","v":0},0,null,{"$f":"IF(Simulador!$C$47=12,0,IF(A485/12=INT(A485/12),1,0))","v":1},null,{"$f":"IF(OR(O484+1>Simulador!$C$53,O484=0),0,O484+1)","v":0},0,0,0,{"$f":"IF($O485=0,0,(S484-R484)*((1+Simulador!$C$34)^(1/12)))","v":0},null,1,0,0,{"$f":"IF(O485=0,0,X$6/((1+Simulador!$C$34)^((O485-O$6)/12)))*(1+AA485)","v":0},0,null,{"$f":"IF(Simulador!$C$54=12,0,IF(O485/12=INT(O485/12),1,0))","v":0}]
[{"$f":"IF(OR(A485+1>Simulador!$C$46,A485=0),0,A485+1)","v":0},0,0,0,{"$f":"IF($A486=0,0,(E485-D485)*((1+Simulador!$C$34)^(1/12)))","v":0},null,1,0,0,{"$f":"IF(A486=0,0,J$6/((1+Simulador!$C$34)^((A486-A$6)/12)))*(1+M486)","v":0},0,null,{"$f":"IF(Simulador!$C$47=12,0,IF(A486/12=INT(A486/12),1,0))","v":1},null,{"$f":"IF(OR(O485+1>Simulador!$C$53,O485=0),0,O485+1)","v":0},0,0,0,{"$f":"IF($O486=0,0,(S485-R485)*((1+Simulador!$C$34)^(1/12)))","v":0},null,1,0,0,{"$f":"IF(O486=0,0,X$6/((1+Simulador!$C$34)^((O486-O$6)/12)))*(1+AA486)","v":0},0,null,{"$f":"IF(Simulador!$C$54=12,0,IF(O486/12=INT(O486/12),1,0))","v":0}]
[{"$f":"IF(OR(A486+1>Simulador!$C$46,A486=0),0,A486+1)","v":0},0,0,0,{"$f":"IF($A487=0,0,(E486-D486)*((1+Simulador!$C$34)^(1/12)))","v":0},null,1,0,0,{"$f":"IF(A487=0,0,J$6/((1+Simulador!$C$34)^((A487-A$6)/12)))*(1+M487)","v":0},0,null,{"$f":"IF(Simulador!$C$47=12,0,IF(A487/12=INT(A487/12),1,0))","v":1},null,{"$f":"IF(OR(O486+1>Simulador!$C$53,O486=0),0,O486+1)","v":0},0,0,0,{"$f":"IF($O487=0,0,(S486-R486)*((1+Simulador!$C$34)^(1/12)))","v":0},null,1,0,0,{"$f":"IF(O487=0,0,X$6/((1+Simulador!$C$34)^((O487-O$6)/12)))*(1+AA487)","v":0},0,null,{"$f":"IF(Simulador!$C$54=12,0,IF(O487/12=INT(O487/12),1,0))","v":0}]
[{"$f":"IF(OR(A487+1>Simulador!$C$46,A487=0),0,A487+1)","v":0},0,0,0,{"$f":"IF($A488=0,0,(E487-D487)*((1+Simulador!$C$34)^(1/12)))","v":0},null,1,0,0,{"$f":"IF(A488=0,0,J$6/((1+Simulador!$C$34)^((A488-A$6)/12)))*(1+M488)","v":0},0,null,{"$f":"IF(Simulador!$C$47=12,0,IF(A488/12=INT(A488/12),1,0))","v":1},null,{"$f":"IF(OR(O487+1>Simulador!$C$53,O487=0),0,O487+1)","v":0},0,0,0,{"$f":"IF($O488=0,0,(S487-R487)*((1+Simulador!$C$34)^(1/12)))","v":0},null,1,0,0,{"$f":"IF(O488=0,0,X$6/((1+Simulador!$C$34)^((O488-O$6)/12)))*(1+AA488)","v":0},0,null,{"$f":"IF(Simulador!$C$54=12,0,IF(O488/12=INT(O488/12),1,0))","v":0}]
[{"$f":"IF(OR(A488+1>Simulador!$C$46,A488=0),0,A488+1)","v":0},0,0,0,{"$f":"IF($A489=0,0,(E488-D488)*((1+Simulador!$C$34)^(1/12)))","v":0},null,1,0,0,{"$f":"IF(A489=0,0,J$6/((1+Simulador!$C$34)^((A489-A$6)/12)))*(1+M489)","v":0},0,null,{"$f":"IF(Simulador!$C$47=12,0,IF(A489/12=INT(A489/12),1,0))","v":1},null,{"$f":"IF(OR(O488+1>Simulador!$C$53,O488=0),0,O488+1)","v":0},0,0,0,{"$f":"IF($O489=0,0,(S488-R488)*((1+Simulador!$C$34)^(1/12)))","v":0},null,1,0,0,{"$f":"IF(O489=0,0,X$6/((1+Simulador!$C$34)^((O489-O$6)/12)))*(1+AA489)","v":0},0,null,{"$f":"IF(Simulador!$C$54=12,0,IF(O489/12=INT(O489/12),1,0))","v":0}]
[{"$f":"IF(OR(A489+1>Simulador!$C$46,A489=0),0,A489+1)","v":0},0,0,0,{"$f":"IF($A490=0,0,(E489-D489)*((1+Simulador!$C$34)^(1/12)))","v":0},null,1,0,0,{"$f":"IF(A490=0,0,J$6/((1+Simulador!$C$34)^((A490-A$6)/12)))*(1+M490)","v":0},0,null,{"$f":"IF(Simulador!$C$47=12,0,IF(A490/12=INT(A490/12),1,0))","v":1},null,{"$f":"IF(OR(O489+1>Simulador!$C$53,O489=0),0,O489+1)","v":0},0,0,0,{"$f":"IF($O490=0,0,(S489-R489)*((1+Simulador!$C$34)^(1/12)))","v":0},null,1,0,0,{"$f":"IF(O490=0,0,X$6/((1+Simulador!$C$34)^((O490-O$6)/12)))*(1+AA490)","v":0},0,null,{"$f":"IF(Simulador!$C$54=12,0,IF(O490/12=INT(O490/12),1,0))","v":0}]
[{"$f":"IF(OR(A490+1>Simulador!$C$46,A490=0),0,A490+1)","v":0},0,0,0,{"$f":"IF($A491=0,0,(E490-D490)*((1+Simulador!$C$34)^(1/12)))","v":0},null,1,0,0,{"$f":"IF(A491=0,0,J$6/((1+Simulador!$C$34)^((A491-A$6)/12)))*(1+M491)","v":0},0,null,{"$f":"IF(Simulador!$C$47=12,0,IF(A491/12=INT(A491/12),1,0))","v":1},null,{"$f":"IF(OR(O490+1>Simulador!$C$53,O490=0),0,O490+1)","v":0},0,0,0,{"$f":"IF($O491=0,0,(S490-R490)*((1+Simulador!$C$34)^(1/12)))","v":0},null,1,0,0,{"$f":"IF(O491=0,0,X$6/((1+Simulador!$C$34)^((O491-O$6)/12)))*(1+AA491)","v":0},0,null,{"$f":"IF(Simulador!$C$54=12,0,IF(O491/12=INT(O491/12),1,0))","v":0}]
[{"$f":"IF(OR(A491+1>Simulador!$C$46,A491=0),0,A491+1)","v":0},0,0,0,{"$f":"IF($A492=0,0,(E491-D491)*((1+Simulador!$C$34)^(1/12)))","v":0},null,1,0,0,{"$f":"IF(A492=0,0,J$6/((1+Simulador!$C$34)^((A492-A$6)/12)))*(1+M492)","v":0},0,null,{"$f":"IF(Simulador!$C$47=12,0,IF(A492/12=INT(A492/12),1,0))","v":1},null,{"$f":"IF(OR(O491+1>Simulador!$C$53,O491=0),0,O491+1)","v":0},0,0,0,{"$f":"IF($O492=0,0,(S491-R491)*((1+Simulador!$C$34)^(1/12)))","v":0},null,1,0,0,{"$f":"IF(O492=0,0,X$6/((1+Simulador!$C$34)^((O492-O$6)/12)))*(1+AA492)","v":0},0,null,{"$f":"IF(Simulador!$C$54=12,0,IF(O492/12=INT(O492/12),1,0))","v":0}]
[{"$f":"IF(OR(A492+1>Simulador!$C$46,A492=0),0,A492+1)","v":0},0,0,0,{"$f":"IF($A493=0,0,(E492-D492)*((1+Simulador!$C$34)^(1/12)))","v":0},null,1,0,0,{"$f":"IF(A493=0,0,J$6/((1+Simulador!$C$34)^((A493-A$6)/12)))*(1+M493)","v":0},0,null,{"$f":"IF(Simulador!$C$47=12,0,IF(A493/12=INT(A493/12),1,0))","v":1},null,{"$f":"IF(OR(O492+1>Simulador!$C$53,O492=0),0,O492+1)","v":0},0,0,0,{"$f":"IF($O493=0,0,(S492-R492)*((1+Simulador!$C$34)^(1/12)))","v":0},null,1,0,0,{"$f":"IF(O493=0,0,X$6/((1+Simulador!$C$34)^((O493-O$6)/12)))*(1+AA493)","v":0},0,null,{"$f":"IF(Simulador!$C$54=12,0,IF(O493/12=INT(O493/12),1,0))","v":0}]
[{"$f":"IF(OR(A493+1>Simulador!$C$46,A493=0),0,A493+1)","v":0},0,0,0,{"$f":"IF($A494=0,0,(E493-D493)*((1+Simulador!$C$34)^(1/12)))","v":0},null,1,0,0,{"$f":"IF(A494=0,0,J$6/((1+Simulador!$C$34)^((A494-A$6)/12)))*(1+M494)","v":0},0,null,{"$f":"IF(Simulador!$C$47=12,0,IF(A494/12=INT(A494/12),1,0))","v":1},null,{"$f":"IF(OR(O493+1>Simulador!$C$53,O493=0),0,O493+1)","v":0},0,0,0,{"$f":"IF($O494=0,0,(S493-R493)*((1+Simulador!$C$34)^(1/12)))","v":0},null,1,0,0,{"$f":"IF(O494=0,0,X$6/((1+Simulador!$C$34)^((O494-O$6)/12)))*(1+AA494)","v":0},0,null,{"$f":"IF(Simulador!$C$54=12,0,IF(O494/12=INT(O494/12),1,0))","v":0}]
[{"$f":"IF(OR(A494+1>Simulador!$C$46,A494=0),0,A494+1)","v":0},0,0,0,{"$f":"IF($A495=0,0,(E494-D494)*((1+Simulador!$C$34)^(1/12)))","v":0},null,1,0,0,{"$f":"IF(A495=0,0,J$6/((1+Simulador!$C$34)^((A495-A$6)/12)))*(1+M495)","v":0},0,null,{"$f":"IF(Simulador!$C$47=12,0,IF(A495/12=INT(A495/12),1,0))","v":1},null,{"$f":"IF(OR(O494+1>Simulador!$C$53,O494=0),0,O494+1)","v":0},0,0,0,{"$f":"IF($O495=0,0,(S494-R494)*((1+Simulador!$C$34)^(1/12)))","v":0},null,1,0,0,{"$f":"IF(O495=0,0,X$6/((1+Simulador!$C$34)^((O495-O$6)/12)))*(1+AA495)","v":0},0,null,{"$f":"IF(Simulador!$C$54=12,0,IF(O495/12=INT(O495/12),1,0))","v":0}]
[{"$f":"IF(OR(A495+1>Simulador!$C$46,A495=0),0,A495+1)","v":0},0,0,0,{"$f":"IF($A496=0,0,(E495-D495)*((1+Simulador!$C$34)^(1/12)))","v":0},null,1,0,0,{"$f":"IF(A496=0,0,J$6/((1+Simulador!$C$34)^((A496-A$6)/12)))*(1+M496)","v":0},0,null,{"$f":"IF(Simulador!$C$47=12,0,IF(A496/12=INT(A496/12),1,0))","v":1},null,{"$f":"IF(OR(O495+1>Simulador!$C$53,O495=0),0,O495+1)","v":0},0,0,0,{"$f":"IF($O496=0,0,(S495-R495)*((1+Simulador!$C$34)^(1/12)))","v":0},null,1,0,0,{"$f":"IF(O496=0,0,X$6/((1+Simulador!$C$34)^((O496-O$6)/12)))*(1+AA496)","v":0},0,null,{"$f":"IF(Simulador!$C$54=12,0,IF(O496/12=INT(O496/12),1,0))","v":0}]
[{"$f":"IF(OR(A496+1>Simulador!$C$46,A496=0),0,A496+1)","v":0},0,0,0,{"$f":"IF($A497=0,0,(E496-D496)*((1+Simulador!$C$34)^(1/12)))","v":0},null,1,0,0,{"$f":"IF(A497=0,0,J$6/((1+Simulador!$C$34)^((A497-A$6)/12)))*(1+M497)","v":0},0,null,{"$f":"IF(Simulador!$C$47=12,0,IF(A497/12=INT(A497/12),1,0))","v":1},null,{"$f":"IF(OR(O496+1>Simulador!$C$53,O496=0),0,O496+1)","v":0},0,0,0,{"$f":"IF($O497=0,0,(S496-R496)*((1+Simulador!$C$34)^(1/12)))","v":0},null,1,0,0,{"$f":"IF(O497=0,0,X$6/((1+Simulador!$C$34)^((O497-O$6)/12)))*(1+AA497)","v":0},0,null,{"$f":"IF(Simulador!$C$54=12,0,IF(O497/12=INT(O497/12),1,0))","v":0}]
[{"$f":"IF(OR(A497+1>Simulador!$C$46,A497=0),0,A497+1)","v":0},0,0,0,{"$f":"IF($A498=0,0,(E497-D497)*((1+Simulador!$C$34)^(1/12)))","v":0},null,1,0,0,{"$f":"IF(A498=0,0,J$6/((1+Simulador!$C$34)^((A498-A$6)/12)))*(1+M498)","v":0},0,null,{"$f":"IF(Simulador!$C$47=12,0,IF(A498/12=INT(A498/12),1,0))","v":1},null,{"$f":"IF(OR(O497+1>Simulador!$C$53,O497=0),0,O497+1)","v":0},0,0,0,{"$f":"IF($O498=0,0,(S497-R497)*((1+Simulador!$C$34)^(1/12)))","v":0},null,1,0,0,{"$f":"IF(O498=0,0,X$6/((1+Simulador!$C$34)^((O498-O$6)/12)))*(1+AA498)","v":0},0,null,{"$f":"IF(Simulador!$C$54=12,0,IF(O498/12=INT(O498/12),1,0))","v":0}]
[{"$f":"IF(OR(A498+1>Simulador!$C$46,A498=0),0,A498+1)","v":0},0,0,0,{"$f":"IF($A499=0,0,(E498-D498)*((1+Simulador!$C$34)^(1/12)))","v":0},null,1,0,0,{"$f":"IF(A499=0,0,J$6/((1+Simulador!$C$34)^((A499-A$6)/12)))*(1+M499)","v":0},0,null,{"$f":"IF(Simulador!$C$47=12,0,IF(A499/12=INT(A499/12),1,0))","v":1},null,{"$f":"IF(OR(O498+1>Simulador!$C$53,O498=0),0,O498+1)","v":0},0,0,0,{"$f":"IF($O499=0,0,(S498-R498)*((1+Simulador!$C$34)^(1/12)))","v":0},null,1,0,0,{"$f":"IF(O499=0,0,X$6/((1+Simulador!$C$34)^((O499-O$6)/12)))*(1+AA499)","v":0},0,null,{"$f":"IF(Simulador!$C$54=12,0,IF(O499/12=INT(O499/12),1,0))","v":0}]

{"sheet":"Tábua BR-EMS sb. 2015","index":5,"n_rows":122,"n_cols":4,"rows_kept":122,"cut":false,"hidden":true,"merged":[[1,1,2,1],[1,2,1,3]]}
[null,"Expectativa de Vida pelas Tábuas de Mortalidade BR-EMS sb 2015 Masculina e Feminina"]
[null,"Idade","Expectativa de Vida"]
[null,null,"BR-EMS sb 2015 M","BR-EMS sb 2015 F"]
[null,0,82,88]
[null,1,81,87]
[null,2,80,86]
[null,3,79,85]
[null,4,78,84]
[null,5,77,83]
[null,6,76,82]
[null,7,75,81]
[null,8,74,80]
[null,9,73,79]
[null,10,72,78]
[null,11,71,77]
[null,12,70,76]
[null,13,69,75]
[null,14,68,74]
[null,15,67,73]
[null,16,67,72]
[null,17,66,71]
[null,18,65,70]
[null,19,64,69]
[null,20,63,68]
[null,21,62,67]
[null,22,61,66]
[null,23,60,65]
[null,24,59,64]
[null,25,58,63]
[null,26,57,62]
[null,27,56,61]
[null,28,55,60]
[null,29,54,59]
[null,30,53,58]
[null,31,52,57]
[null,32,51,56]
[null,33,50,55]
[null,34,49,54]
[null,35,48,53]
[null,36,47,52]
[null,37,46,51]
[null,38,45,50]
[null,39,44,49]
[null,40,43,48]
[null,41,42,47]
[null,42,42,46]
[null,43,41,45]
[null,44,40,44]
[null,45,39,44]
[null,46,38,43]
[null,47,37,42]
[null,48,36,41]
[null,49,35,40]
[null,50,34,39]
[null,51,33,38]
[null,52,32,37]
[null,53,31,36]
[null,54,30,35]
[null,55,29,34]
[null,56,29,33]
[null,57,28,32]
[null,58,27,31]
[null,59,26,30]
[null,60,25,29]
[null,61,24,29]
[null,62,23,28]
[null,63,23,27]
[null,64,22,26]
[null,65,21,25]
[null,66,20,24]
[null,67,19,23]
[null,68,19,22]
[null,69,18,22]
[null,70,17,21]
[null,71,16,20]
[null,72,16,19]
[null,73,15,18]
[null,74,14,18]
[null,75,13,17]
[null,76,13,16]
[null,77,12,15]
[null,78,12,14]
[null,79,11,14]
[null,80,10,13]
[null,81,10,12]
[null,82,9,12]
[null,83,9,11]
[null,84,8,10]
[null,85,8,10]
[null,86,7,9]
[null,87,7,9]
[null,88,6,8]
[null,89,6,8]
[null,90,6,7]
[null,91,5,7]
[null,92,5,6]
[null,93,5,6]
[null,94,4,6]
[null,95,4,5]
[null,96,4,5]
[null,97,3,5]
[null,98,3,4]
[null,99,3,4]
[null,100,3,4]
[null,101,3,3]
[null,102,2,3]
[null,103,2,3]
[null,104,2,3]
[null,105,2,2]
[null,106,2,2]
[null,107,2,2]
[null,108,1,2]
[null,109,1,2]
[null,110,1,1]
[null,111,1,1]
[null,112,1,1]
[null,113,1,1]
[null,114,1,1]
[null,115,1,1]
[null,116,1,1]
[null,117,1,1]
[null,118,1,1]

{"sheet":"Tabela de Resgate","index":6,"n_rows":18,"n_cols":3,"rows_kept":18,"cut":false,"hidden":true,"merged":[]}
[]
[null,"Tempo de contribuição no Plano até a data do rompimento do Vínculo Funcional","% da Conta Patrocinador a ser incluído no valor do Resgate"]
[0,"até 3 anos",0]
[3,"a partir de 3 anos",0.05]
[6,"a partir de 6 anos",0.1]
[9,"a partir de 9 anos",0.2]
[12,"a partir de 12 anos",0.3]
[15,"a partir de 15 anos",0.4]
[18,"a partir de 18 anos",0.5]
[21,"a partir de 21 anos",0.6]
[24,"a partir de 24 anos",0.7]
[]
[]
[null,"Institutos"]
[null,{"$f":"IF(Simulador!$E$6=\"Não Aplicável\",\"\",\"Autopatrocínio\")","v":"Autopatrocínio"},{"$f":"IF(B15=\"Autopatrocínio\",\"Não impede posterior opção pelo BPD, Resgate ou Portabilidade.\",\"\")","v":"Não impede posterior opção pelo BPD, Resgate ou Portabilidade."}]
[null,{"$f":"IF(Simulador!$E$6=\"Não Aplicável\",\"\",\"Benefício Proporcional Diferido (BPD)\")","v":"Benefício Proporcional Diferido (BPD)"},{"$f":"IF(B16=\"Benefício Proporcional Diferido (BPD)\",\"Não impede posterior opção pelo Autopatrocínio, Resgate ou Portabilidade.\",\"\")","v":"Não impede posterior opção pelo Autopatrocínio, Resgate ou Portabilidade."}]
[null,{"$f":"IF(Simulador!$E$6=\"Não Aplicável\",\"\",\"Portabilidade\")","v":"Portabilidade"},{"$f":"IF(B17=\"Portabilidade\",\"Cessa o compromisso do Plano para com o Participante e seus Beneficiários.\",\"\")","v":"Cessa o compromisso do Plano para com o Participante e seus Beneficiários."}]
[null,{"$f":"IF(Simulador!$E$6=\"Não Aplicável\",\"\",\"Resgate\")","v":"Resgate"},{"$f":"IF(B18=\"Resgate\",\"Cessa o compromisso do Plano, salvo eventuais recursos de Portabilidade não resgatados.\",\"\")","v":"Cessa o compromisso do Plano, salvo eventuais recursos de Portabilidade não resgatados."}]